{"text_format":"1","workbook":"xlsx","n_sheets":57,"sheets":["FB nach BerT","Bedienfeld","Rücklaufquoten","PFB-Konstrukte","PFB-Items","Effektstärken PuP","SFB-Konstrukte","SFB-Items","Effektstärken SuS","EFB-Konstrukte","EFB-Items","Effektstärken Eltern","Ber Führungshandeln","Gr Führungshandeln","PP Führungshandeln","Ber Führung Subkonstrukte","Gr Führung Subkonstrukte","PP Führung Subkonstrukte","Ber Zufriedenheit Ganztag","Gr Zufriedenheit Ganztag","PP Zufriedenheit Ganztag","Ber Beteiligungsmöglichkeiten","Gr Beteiligungsmöglichkeiten","PP Beteiligungsmöglichkeiten","Ber Kooperation im Kollegium","Gr Kooperation im Kollegium","PP Kooperation im Kollegium","Ber spezifische Kooperation","Gr spezifische Kooperation","PP spezifische Kooperation","Ber Schul- u. Unterrichtsentw.","Gr Schul- u. Unterrichtsentw.","PP Schul- u. Unterrichtsentw.","Ber Qual. Lehr- u. Lernprozesse","Gr Qual. Lehr- u. Lernprozesse","PP Qual. Lehr- u. Lernprozesse","Ber Lernbegleitung u. Förderung","Gr Lernbegleitung u. Förderung","PP Lernbegleitung u. Förderung","Ber soziales Miteinander","Gr soziales Miteinander","PP soziales Miteinander","Ber Regeln an der Schule","Gr Regeln an der Schule","PP Regeln an der Schule","Ber Zufriedenheit mit d. Schule","Gr Zufriedenheit mit d. Schule","PP Zufriedenheit mit d. Schule","Ber Arbeitszufriedenheit","Gr Arbeitszufriedenheit","PP Arbeitszufriedenheit","Ber Arbeitszufr. (mit PTF)","Gr Arbeitszufr. (mit PTF)","PP Arbeitszufr. (mit PTF)","Ber Eingebundenheit der PTF","Gr Eingebundenheit der PTF","PP Eingebundenheit der PTF"],"not_rendered":{"charts":35,"images":44,"macros":1,"external_links":0,"defined_names":22,"comments":0,"pivot_tables":0},"unopened":[],"bounds":{"document_bytes":16777216,"sheet_cells":100000,"rows_first":2000,"rows_last":500,"rows_between":2000,"halvings":0,"cell_chars":16384,"cell_head_chars":4096},"cells_cut":0,"cells_raw":0,"read":"whole","date_system":"1900"}

{"sheet":"FB nach BerT","index":0,"n_rows":602,"n_cols":20,"rows_kept":602,"cut":false,"hidden":false,"merged":[[535,5,535,7],[535,8,535,9],[13,0,13,9],[580,0,580,1],[581,0,581,1],[573,0,573,1],[573,2,573,4],[573,5,573,7],[573,8,573,9],[574,0,574,1],[575,0,575,1],[577,0,577,1],[578,0,578,1],[579,0,579,1],[539,4,540,4],[539,5,540,5],[539,6,540,6],[539,7,540,7],[539,8,540,8],[539,9,540,9],[540,0,540,1],[552,2,553,2],[552,3,553,3],[552,4,553,4],[539,2,540,2],[539,3,540,3],[528,0,528,1],[529,0,529,1],[530,0,530,1],[531,0,531,1],[532,0,532,1],[533,0,533,1],[535,0,535,1],[535,2,535,4],[536,0,536,1],[537,0,537,1],[420,0,420,1],[421,0,421,1],[423,0,423,1],[408,0,408,1],[410,0,410,1],[411,0,411,1],[425,0,425,1],[426,0,426,1],[441,0,441,9],[429,0,429,1],[430,0,430,1],[432,0,432,1],[395,8,395,9],[408,2,409,2],[408,3,409,3],[408,4,409,4],[408,5,409,5],[408,6,409,6],[419,0,419,1],[419,2,419,4],[419,5,419,7],[419,8,419,9],[244,5,244,7],[214,0,214,1],[219,0,219,1],[457,5,458,5],[457,6,458,6],[457,7,458,7],[457,8,458,8],[433,0,433,1],[434,0,434,1],[435,0,435,1],[436,0,436,1],[437,0,437,1],[438,0,438,1],[439,0,439,1],[428,0,428,1],[428,2,428,4],[428,5,428,7],[428,8,428,9],[251,0,251,1],[234,2,234,4],[337,7,338,7],[337,8,338,8],[457,9,458,9],[458,0,458,1],[254,0,254,1],[337,9,338,9],[268,5,268,7],[268,8,268,9],[223,5,223,7],[302,0,302,9],[290,0,290,1],[291,0,291,1],[292,0,292,1],[293,0,293,1],[234,0,234,1],[269,0,269,1],[270,0,270,1],[289,0,289,1],[338,0,338,1],[256,5,256,7],[256,8,256,9],[242,0,242,1],[244,2,244,4],[256,0,256,1],[256,2,256,4],[274,0,274,1],[252,0,252,1],[253,0,253,1],[567,0,567,1],[561,0,561,9],[563,0,563,1],[563,2,563,4],[563,5,563,7],[563,8,563,9],[589,0,589,1],[12,0,12,9],[583,8,583,9],[584,0,584,1],[585,0,585,1],[587,0,587,1],[588,0,588,1],[583,2,583,4],[583,5,583,7],[363,0,363,1],[244,0,244,1],[304,0,304,9],[306,0,306,9],[239,0,239,1],[244,8,244,9],[245,0,245,1],[246,0,246,1],[248,0,248,1],[30,0,30,9],[21,8,21,9],[22,0,22,1],[257,0,257,1],[258,0,258,1],[600,0,600,1],[601,0,601,1],[593,0,593,1],[593,2,593,4],[593,5,593,7],[82,0,82,1],[82,2,82,4],[82,5,82,7],[234,5,234,7],[227,0,227,1],[232,0,232,1],[96,0,96,1],[97,0,97,1],[105,0,105,1],[106,0,106,1],[99,0,99,1],[100,0,100,1],[593,8,593,9],[594,0,594,1],[17,0,17,9],[41,0,41,1],[37,0,37,1],[83,0,83,1],[104,8,104,9],[55,0,55,1],[56,0,56,1],[71,0,71,1],[72,0,72,1],[74,0,74,1],[75,0,75,1],[70,0,70,1],[102,0,102,1],[93,0,93,9],[84,0,84,1],[86,0,86,1],[95,8,95,9],[23,0,23,1],[25,0,25,1],[26,0,26,1],[27,0,27,1],[28,0,28,1],[61,8,61,9],[38,0,38,1],[599,0,599,1],[32,0,32,1],[32,2,32,4],[32,5,32,7],[32,8,32,9],[33,0,33,1],[323,0,323,1],[316,0,316,1],[320,0,320,1],[284,2,284,4],[284,5,284,7],[264,0,264,1],[277,0,277,1],[36,0,36,1],[51,2,51,4],[51,5,51,7],[51,8,51,9],[82,8,82,9],[268,0,268,1],[104,0,104,1],[104,2,104,4],[553,0,553,1],[539,0,539,1],[541,0,541,1],[108,0,108,1],[109,0,109,1],[110,0,110,1],[111,0,111,1],[114,0,114,9],[158,0,158,1],[123,0,123,1],[124,0,124,1],[129,8,129,9],[130,0,130,1],[131,0,131,1],[148,0,148,1],[149,0,149,1],[150,0,150,1],[118,2,118,4],[118,5,118,7],[138,0,138,9],[140,0,140,9],[142,0,142,1],[135,0,135,1],[152,0,152,1],[152,8,152,9],[142,2,142,4],[142,5,142,7],[350,0,350,1],[351,0,351,1],[356,0,356,1],[357,0,357,1],[527,0,527,1],[388,0,388,1],[389,0,389,1],[390,0,390,1],[391,0,391,1],[392,0,392,1],[359,0,359,1],[396,0,396,1],[397,0,397,1],[365,0,365,1],[374,0,374,1],[409,0,409,1],[366,0,366,1],[412,0,412,1],[413,0,413,1],[424,0,424,1],[353,0,353,1],[354,0,354,1],[355,0,355,1],[352,0,352,1],[598,0,598,1],[542,0,542,1],[543,0,543,1],[544,0,544,1],[545,0,545,1],[546,0,546,1],[595,0,595,1],[590,0,590,1],[591,0,591,1],[554,0,554,1],[555,0,555,1],[556,0,556,1],[557,0,557,1],[558,0,558,1],[559,0,559,1],[583,0,583,1],[568,0,568,1],[569,0,569,1],[570,0,570,1],[571,0,571,1],[564,0,564,1],[597,0,597,1],[548,0,548,1],[565,0,565,1],[213,0,213,1],[193,0,193,1],[235,0,235,1],[192,5,193,5],[192,6,193,6],[204,2,204,4],[213,2,213,4],[198,0,198,9],[200,0,200,9],[202,0,202,9],[234,8,234,9],[215,0,215,1],[218,0,218,1],[213,5,213,7],[209,0,209,1],[210,0,210,1],[211,0,211,1],[208,0,208,1],[217,0,217,1],[387,0,387,1],[393,0,393,1],[395,0,395,1],[379,0,379,1],[385,0,385,1],[364,0,364,1],[183,0,183,1],[101,0,101,1],[88,0,88,1],[89,0,89,1],[95,0,95,1],[119,0,119,1],[143,0,143,1],[144,0,144,1],[133,0,133,1],[134,0,134,1],[136,0,136,1],[236,0,236,1],[238,0,238,1],[240,0,240,1],[241,0,241,1],[194,0,194,1],[204,0,204,1],[205,0,205,1],[95,2,95,4],[95,5,95,7],[91,0,91,9],[39,0,39,1],[61,5,61,7],[66,0,66,1],[67,0,67,1],[46,0,46,1],[47,0,47,1],[41,8,41,9],[42,0,42,1],[70,8,70,9],[87,0,87,1],[76,0,76,1],[77,0,77,1],[63,0,63,1],[78,0,78,1],[61,0,61,1],[59,0,59,1],[51,0,51,1],[41,2,41,4],[41,5,41,7],[49,0,49,9],[80,0,80,9],[0,8,0,9],[8,3,8,5],[9,3,9,5],[4,0,4,6],[6,3,6,5],[7,3,7,5],[9,1,9,2],[0,0,0,7],[8,6,8,7],[6,1,6,2],[7,1,7,2],[8,1,8,2],[6,6,6,7],[7,6,7,7],[9,6,9,7],[1,5,1,7],[1,0,1,4],[43,0,43,1],[45,0,45,1],[58,0,58,1],[184,0,184,1],[186,0,186,1],[174,8,174,9],[192,2,193,2],[213,8,213,9],[118,8,118,9],[120,0,120,1],[146,0,146,1],[147,0,147,1],[192,9,193,9],[159,0,159,1],[174,0,174,1],[174,2,174,4],[160,0,160,1],[161,0,161,1],[162,0,162,1],[166,0,166,9],[164,0,164,9],[169,0,169,1],[170,0,170,1],[118,0,118,1],[10,1,10,2],[129,2,129,4],[15,0,15,9],[19,0,19,9],[70,2,70,4],[70,5,70,7],[61,2,61,4],[62,0,62,1],[104,5,104,7],[68,0,68,1],[21,0,21,1],[21,2,21,4],[21,5,21,7],[34,0,34,1],[52,0,52,1],[53,0,53,1],[129,5,129,7],[122,0,122,1],[127,0,127,9],[125,0,125,1],[129,0,129,1],[116,0,116,9],[65,0,65,1],[57,0,57,1],[142,8,142,9],[179,0,179,1],[181,0,181,1],[182,0,182,1],[180,0,180,1],[192,8,193,8],[153,0,153,1],[154,0,154,1],[156,0,156,1],[157,0,157,1],[168,0,168,1],[188,0,188,1],[185,0,185,1],[188,2,188,4],[188,5,188,7],[190,0,190,1],[174,5,174,7],[192,3,193,3],[192,4,193,4],[10,3,10,5],[10,6,10,7],[229,0,229,1],[230,0,230,1],[231,0,231,1],[225,0,225,1],[228,0,228,1],[152,2,152,4],[152,5,152,7],[172,0,172,9],[204,8,204,9],[206,0,206,1],[188,8,188,9],[189,0,189,1],[196,0,196,1],[195,0,195,1],[192,7,193,7],[204,5,204,7],[192,0,192,1],[223,8,223,9],[112,0,112,1],[175,0,175,1],[176,0,176,1],[178,0,178,1],[249,0,249,1],[250,0,250,1],[220,0,220,1],[224,0,224,1],[221,0,221,1],[298,0,298,1],[299,0,299,1],[308,0,308,1],[308,2,308,4],[280,0,280,9],[282,0,282,9],[260,0,260,1],[261,0,261,1],[262,0,262,1],[263,0,263,1],[272,0,272,1],[273,0,273,1],[268,2,268,4],[266,0,266,9],[275,0,275,1],[278,0,278,1],[276,0,276,1],[223,0,223,1],[223,2,223,4],[308,5,308,7],[308,8,308,9],[309,0,309,1],[284,8,284,9],[284,0,284,1],[285,0,285,1],[286,0,286,1],[288,0,288,1],[288,2,289,2],[288,3,289,3],[288,4,289,4],[288,5,289,5],[288,6,289,6],[288,7,289,7],[288,8,289,8],[288,9,289,9],[294,0,294,1],[295,0,295,1],[296,0,296,1],[300,0,300,1],[310,0,310,1],[312,0,312,1],[313,0,313,1],[314,0,314,1],[315,0,315,1],[319,0,319,1],[322,2,322,4],[322,5,322,7],[322,8,322,9],[324,0,324,1],[326,0,326,1],[327,0,327,1],[328,0,328,1],[317,0,317,1],[318,0,318,1],[322,0,322,1],[329,0,329,1],[330,0,330,1],[331,0,331,1],[346,2,346,4],[346,5,346,7],[346,8,346,9],[347,0,347,1],[348,0,348,1],[334,0,334,1],[335,0,335,1],[333,0,333,1],[333,2,333,4],[333,5,333,7],[333,8,333,9],[337,0,337,1],[344,0,344,9],[346,0,346,1],[339,0,339,1],[340,0,340,1],[341,0,341,1],[342,0,342,1],[337,2,338,2],[337,3,338,3],[337,4,338,4],[337,5,338,5],[337,6,338,6],[359,2,359,4],[359,5,359,7],[383,0,383,1],[383,2,383,4],[383,5,383,7],[383,8,383,9],[359,8,359,9],[367,0,367,1],[381,0,381,9],[369,0,369,1],[369,2,369,4],[369,5,369,7],[369,8,369,9],[370,0,370,1],[371,0,371,1],[373,2,374,2],[373,3,374,3],[360,0,360,1],[361,0,361,1],[373,0,373,1],[375,0,375,1],[376,0,376,1],[377,0,377,1],[378,0,378,1],[384,0,384,1],[395,2,395,4],[395,5,395,7],[373,4,374,4],[373,5,374,5],[373,6,374,6],[373,7,374,7],[417,0,417,9],[373,8,374,8],[373,9,374,9],[408,7,409,7],[408,8,409,8],[408,9,409,9],[399,0,399,1],[415,0,415,9],[400,0,400,1],[401,0,401,1],[402,0,402,1],[404,0,404,1],[404,2,404,4],[404,5,404,7],[404,8,404,9],[405,0,405,1],[406,0,406,1],[461,0,461,1],[443,0,443,1],[443,2,443,4],[443,5,443,7],[443,8,443,9],[444,0,444,1],[445,0,445,1],[447,0,447,1],[448,0,448,1],[449,0,449,1],[450,0,450,1],[451,0,451,1],[453,0,453,1],[453,2,453,4],[453,5,453,7],[453,8,453,9],[454,0,454,1],[455,0,455,1],[457,0,457,1],[459,0,459,1],[460,0,460,1],[457,2,458,2],[457,3,458,3],[457,4,458,4],[463,0,463,9],[465,0,465,9],[467,0,467,1],[467,2,467,4],[468,0,468,1],[469,0,469,1],[487,0,487,1],[487,2,487,4],[487,5,487,7],[487,8,487,9],[467,5,467,7],[467,8,467,9],[484,0,484,1],[478,0,478,1],[478,2,478,4],[478,5,478,7],[478,8,478,9],[479,0,479,1],[480,0,480,1],[482,0,482,1],[483,0,483,1],[524,0,524,1],[526,0,526,1],[509,0,509,1],[510,0,510,1],[512,0,512,1],[513,0,513,1],[514,0,514,1],[515,0,515,1],[516,0,516,1],[518,0,518,9],[520,0,520,9],[522,0,522,1],[522,2,522,4],[522,5,522,7],[526,2,527,2],[526,3,527,3],[526,4,527,4],[526,5,527,5],[526,6,527,6],[526,7,527,7],[526,8,527,8],[526,9,527,9],[522,8,522,9],[523,0,523,1],[548,2,548,4],[548,5,548,7],[548,8,548,9],[549,0,549,1],[552,0,552,1],[550,0,550,1],[552,7,553,7],[552,8,553,8],[552,9,553,9],[552,6,553,6],[552,5,553,5],[491,0,491,1],[492,0,492,1],[494,0,494,1],[495,0,495,1],[471,0,471,1],[472,0,472,1],[473,0,473,1],[474,0,474,1],[476,0,476,9],[485,0,485,1],[493,0,493,1],[488,0,488,1],[489,0,489,1],[497,0,497,9],[499,0,499,9],[503,0,503,1],[504,0,504,1],[508,0,508,1],[508,2,508,4],[508,5,508,7],[508,8,508,9],[501,0,501,9],[506,0,506,9]]}
[{"$f":"IF(Rücklaufquoten!E10<>\"\",Rücklaufquoten!E10,\"Schule\")&\" (\"&Rücklaufquoten!H10&\")\"","v":"Schule Rungwisch (5274)"},null,null,null,null,null,null,null,{"$f":"RIGHT(A1,6)","v":"(5274)"}]
["Fragebogenergebnisse nach BerT",null,null,null,null,null,null,null,"Makro vor dem Schließen:","aus",null,"RLQ","RLQ","Rück"]
[null,null,null,null,null,null,null,null,null,null,null,"gelb","rot","rot"]
[null,null,null,null,null,null,null,null,null,null,null,{"$f":"IF(AND(G8<0.5,G8>0.2),\"der Pädagoginnen und Pädagogen\",\"\")","v":""},{"$f":"IF(G8<=0.2,\"der Pädagoginnen und Pädagogen\",\"\")","v":""},{"$f":"IF(G8=\"-\",\"der Pädagoginnen und Pädagogen\",\"\")","v":""},"PFB"]
["Rücklaufquoten der Fragebögen",null,null,null,null,null,null,null,null,null,null,{"$f":"IF(AND(G9<0.5,G9>0.2),\"des pädagogisch therapeutischen Fachpersonals\",\"\")","v":""},{"$f":"IF(G9<=0.2,\"des pädagogisch therapeutischen Fachpersonals\",\"\")","v":""},{"$f":"IF(G9=\"-\",\"des pädagogisch therapeutischen Fachpersonals\",\"\")","v":"des pädagogisch therapeutischen Fachpersonals"},"PTF"]
[null,null,null,null,null,null,null,null,null,null,null,{"$f":"IF(AND(G10<0.5,G10>0.2),\"der Schülerinnen und Schüler\",\"\")","v":"der Schülerinnen und Schüler"},{"$f":"IF(G10<=0.2,\"der Schülerinnen und Schüler\",\"\")","v":""},{"$f":"IF(G10=\"-\",\"der Schülerinnen und Schüler\",\"\")","v":""},"SFB"]
[null,"Insgesamt",null,"Beantwortet",null,null,"Rücklaufquote",null,null,null,null,{"$f":"IF(AND(G11<0.5,G11>0.2),\"der Eltern und Erziehungsberechtigten\",\"\")","v":"der Eltern und Erziehungsberechtigten"},{"$f":"IF(G11<=0.2,\"der Eltern und Erziehungsberechtigten\",\"\")","v":""},{"$f":"IF(G11=\"-\",\"der Eltern und Erziehungsberechtigten\",\"\")","v":""},"EFB"]
["PFB (gesamt)",{"$f":"IF(Rücklaufquoten!F4=0,\"-\",Rücklaufquoten!F4)","v":35},null,{"$f":"IF(Rücklaufquoten!G4<=10,\"<=10\",Rücklaufquoten!G4)","v":23},null,null,{"$f":"IF(D8=\"<=10\",\"-\",D8/B8)","v":0.65714285714285714},null,null,null,null,{"$f":"IF(COUNTIF(L4:L7,\"?*\")=0,0,1)","v":1},{"$f":"IF(COUNTIF(M4:M7,\"?*\")=0,0,1)","v":0},1]
["PFB (nur PTF)",{"$f":"IF(Rücklaufquoten!F7=0,\"-\",Rücklaufquoten!F7)","v":12},null,{"$f":"IF(Rücklaufquoten!G7<=10,\"<=10\",Rücklaufquoten!G7)","v":"<=10"},null,null,{"$f":"IF(D9=\"<=10\",\"-\",D9/B9)","v":"-"},null,null,null,null,{"$f":"IF(COUNTIF(L4:L7,\"?*\")=0,\"\",\n\nIF(COUNTIF(L4:L7,\"?*\")=1,CONCATENATE(\n\"Die Rücklaufquote der Befragung \", L4 & L5 & L6 & L7, \" an Ihrer Schule lag zwischen 20 und 50 Prozent. Die Daten sind bei einer solchen Rücklaufquote in der Regel systematisch verzerrt und können nicht als repräsentativ für die Meinung aller Befragten der Gruppe betrachtet werden.\"),\nIF(COUNTIF(L4:L7,\"?*\")=2,CONCATENATE(\n\"Die Rücklaufquoten der Befragungen \", IF(L4<>\"\",L4 & \", sowie \" & L5 & L6 & L7, IF(L5<>\"\",L5 & \", sowie \" & L6 & L7, L6 & \", sowie \" & L7)),\" an Ihrer Schule lagen zwischen 20 und 50 Prozent. Die Daten sind bei einer solchen Rücklaufquote in der Regel systematisch verzerrt und können nicht als repräsentativ für die Meinung aller Befragten der jeweiligen Gruppe betrachtet werden.\"),\nIF(COUNTIF(L4:L7,\"?*\")=3,CONCATENATE(\n\"Die Rücklaufquoten der Befragungen \", IF(L4<>\"\", L4 & \", \" & IF(L5<>\"\", L5 & \", sowie \" & IF(L6<>\"\", L6, L7), L6 & \", sowie \" & L7), L5 & \", \" & L6 & \", sowie \" & L7), \" an Ihrer Schule lagen zwischen 20 und 50 Prozent. Die Daten sind bei einer solchen Rücklaufquote in der Regel systematisch verzerrt und können nicht als repräsentativ für die Meinung aller Befragten der jeweiligen Gruppe betrachtet werden.\"),\nIF(COUNTIF(L4:L7,\"?*\")=4,CONCATENATE(\n\"Die Rücklaufquoten der Befragungen \", L4, \", \", L5, \", \", L6, \", sowie \", L7, \" an Ihrer Schule lagen zwischen 20 und 50 Prozent. Die Daten sind bei einer solchen Rücklaufquote in der Regel systematisch verzerrt und können nicht als repräsentativ für die Meinung aller Befragten der jeweiligen Gruppe betrachtet werden.\"),\"\")))) & \"\nAus diesem Grund werden die Ergebnisse grafisch nicht dargestellt. Zu Ihrer Information sind die Daten dennoch in den Tabellen einsehbar, jedoch sind sie mit einer gelben Markierung hinterlegt.\" & IF(SUM(M8,N8)>0,\"\n\n\",\"\"))","v":"Die Rücklaufquoten der Befragungen der Schülerinnen und Schüler, sowie der Eltern und Erziehungsberechtigten an Ihrer Schule lagen zwischen 20 und 50 Prozent. Die Daten sind bei einer solchen Rücklaufquote in der Regel systematisch verzerrt und können nicht als repräsentativ für die Meinung aller Befragten der jeweiligen Gruppe betrachtet werden.\nAus diesem Grund werden die Ergebnisse grafisch nicht dargestellt. Zu Ihrer Information sind die Daten dennoch in den Tabellen einsehbar, jedoch sind sie mit einer gelben Markierung hinterlegt.\n\n"},{"$f":"IF(COUNTIF(M4:M7,\"?*\")=0,\"\",\n\nIF(COUNTIF(M4:M7,\"?*\")=1,CONCATENATE(\n\"Die Rücklaufquote der Befragung \", M4 & M5 & M6 & M7, \" an Ihrer Schule lag unter 20 Prozent. Die Daten sind bei einer solchen Rücklaufquote in der Regel nicht aussagekräftig.\"),\nIF(COUNTIF(M4:M7,\"?*\")=2,CONCATENATE(\n\"Die Rücklaufquoten der Befragungen \", IF(M4<>\"\",M4 & \", sowie \" & M5 & M6 & M7, IF(M5<>\"\",M5 & \", sowie \" & M6 & M7, M6 & \", sowie \" & M7)),\" an Ihrer Schule lagen unter 20 Prozent. Die Daten sind bei einer solchen Rücklaufquote in der Regel nicht aussagekräftig.\"),\nIF(COUNTIF(M4:M7,\"?*\")=3,CONCATENATE(\n\"Die Rücklaufquoten der Befragungen \", IF(M4<>\"\", M4 & \", \" & IF(M5<>\"\", M5 & \", sowie \" & IF(M6<>\"\", M6, M7), M6 & \", sowie \" & M7), M5 & \", \" & M6 & \", sowie \" & M7), \" an Ihrer Schule lagen unter 20 Prozent. Die Daten sind bei einer solchen Rücklaufquote in der Regel nicht aussagekräftig.\"),\nIF(COUNTIF(M4:M7,\"?*\")=4,CONCATENATE(\n\"Die Rücklaufquoten der Befragungen \", M4, \", \", M5, \", \", M6, \", sowie \", M7, \" an Ihrer Schule lagen unter 20 Prozent. Die Daten sind bei einer solchen Rücklaufquote in der Regel nicht aussagekräftig.\"),\"\")))) & \"\n\" & IF(N8=1,\"\",\"Aus diesem Grund werden die Ergebnisse weder in grafischer, noch in tabellarischer Form zurückgemeldet.\" & IF(AND(M5<>\"\",M4:N4=\"\"),\"In die Berechnungen zu Items und Konstrukten, die sich an alle Pädagoginnen und Pädagogen der Schule richten, fließen die Daten der PTF jedoch mit ein.\",\"\")))","v":""},{"$f":"IF(COUNTIF(N4:N7,\"?*\")=0,\"\",\n\nIF(COUNTIF(N4:N7,\"?*\")=1,CONCATENATE(\n\"Der Rücklauf der Befragung \", N4 & N5 & N6 & N7, \" betrug an Ihrer Schule 10 oder weniger Fragebögen.\"),\nIF(COUNTIF(N4:N7,\"?*\")=2,CONCATENATE(\n\"Die Rückläufe der Befragungen \", IF(N4<>\"\",N4 & \", sowie \" & N5 & N6 & N7, IF(N5<>\"\",N5 & \", sowie \" & N6 & N7, N6 & \", sowie \" & N7)),\" betrugen an Ihrer Schule 10 oder weniger Fragebögen.\"),\nIF(COUNTIF(N4:N7,\"?*\")=3,CONCATENATE(\n\"Die Rückläufe der Befragungen \", IF(N4<>\"\", N4 & \", \" & IF(N5<>\"\", N5 & \", sowie \" & IF(N6<>\"\", N6, N7), N6 & \", sowie \" & N7), N5 & \", \" & N6 & \", sowie \" & N7), \" betrugen an Ihrer Schule 10 oder weniger Fragebögen.\"),\nIF(COUNTIF(N4:N7,\"?*\")=4,CONCATENATE(\n\"Die Rückläufe der Befragungen \", N4, \", \", N5, \", \", N6, \", sowie \", N7, \" betrugen an Ihrer Schule 10 oder weniger Fragebögen.\"),\"\")))) & \"\nUm die Anonymität der Befragten zu gewährleisten, werden die entsprechenden Ergebnisse weder in grafischer, noch in tabellarischer Form zurückgemeldet.\" & IF(AND(N5<>\"\",M4:N4=\"\"),\" In die Berechnungen zu Items und Konstrukten, die sich an alle Pädagoginnen und Pädagogen der Schule richten, fließen die Daten der PTF jedoch mit ein.\",\"\"))","v":"Der Rücklauf der Befragung des pädagogisch therapeutischen Fachpersonals betrug an Ihrer Schule 10 oder weniger Fragebögen.\nUm die Anonymität der Befragten zu gewährleisten, werden die entsprechenden Ergebnisse weder in grafischer, noch in tabellarischer Form zurückgemeldet. In die Berechnungen zu Items und Konstrukten, die sich an alle Pädagoginnen und Pädagogen der Schule richten, fließen die Daten der PTF jedoch mit ein."},"Beginn"]
["SFB",{"$f":"IF(Rücklaufquoten!F5=0,\"-\",Rücklaufquoten!F5)","v":132},null,{"$f":"IF(Rücklaufquoten!G5<=10,\"<=10\",Rücklaufquoten!G5)","v":53},null,null,0.40151515151515149,null,null,null,null,null,{"$f":"IF(COUNTIF(M4:M7,\"?*\")=0,\"\",\n\nIF(COUNTIF(M4:M7,\"?*\")=1,CONCATENATE(\n\"Darüber hinaus lag die Rücklaufquote der Befragung \", M4 & M5 & M6 & M7, \" an Ihrer Schule unter 20 Prozent. Die Daten sind bei einer solchen Rücklaufquote in der Regel nicht aussagekräftig.\"),\nIF(COUNTIF(M4:M7,\"?*\")=2,CONCATENATE(\n\"Darüber hinaus lagen die Rücklaufquoten der Befragungen \", IF(M4<>\"\",M4 & \", sowie \" & M5 & M6 & M7, IF(M5<>\"\",M5 & \", sowie \" & M6 & M7, M6 & \", sowie \" & M7)),\" an Ihrer Schule unter 20 Prozent. Die Daten sind bei einer solchen Rücklaufquote in der Regel nicht aussagekräftig.\"),\nIF(COUNTIF(M4:M7,\"?*\")=3,CONCATENATE(\n\"Darüber hinaus lagen die Rücklaufquoten der Befragungen \", IF(M4<>\"\", M4 & \", \" & IF(M5<>\"\", M5 & \", sowie \" & IF(M6<>\"\", M6, M7), M6 & \", sowie \" & M7), M5 & \", \" & M6 & \", sowie \" & M7), \" an Ihrer Schule unter 20 Prozent. Die Daten sind bei einer solchen Rücklaufquote in der Regel nicht aussagekräftig.\"),\nIF(COUNTIF(M4:M7,\"?*\")=4,CONCATENATE(\n\"Darüber hinaus lagen die Rücklaufquoten der Befragungen \", M4, \", \", M5, \", \", M6, \", sowie \", M7, \" an Ihrer Schule unter 20 Prozent. Die Daten sind bei einer solchen Rücklaufquote in der Regel nicht aussagekräftig.\"),\"\")))) & \"\n\" & IF(N8=1,\"\",\"Daher werden diese Ergebnisse weder in grafischer, noch in tabellarischer Form zurückgemeldet.\"  & IF(AND(M5<>\"\",M4:N4=\"\"),\"In die Berechnungen zu Items und Konstrukten, die sich an alle Pädagoginnen und Pädagogen der Schule richten, fließen die Daten der PTF jedoch mit ein.\",\"\")))","v":""},{"$f":"IF(COUNTIF(N4:N7,\"?*\")=0,\"\",\n\nIF(COUNTIF(N4:N7,\"?*\")=1,CONCATENATE(\n\"Darüber hinaus betrug der Rücklauf der Befragung \", N4 & N5 & N6 & N7, \" an Ihrer Schule 10 oder weniger Fragebögen.\"),\nIF(COUNTIF(N4:N7,\"?*\")=2,CONCATENATE(\n\"Darüber hinaus betrugen die Rückläufe der Befragungen \", IF(N4<>\"\",N4 & \", sowie \" & N5 & N6 & N7, IF(N5<>\"\",N5 & \", sowie \" & N6 & N7, N6 & \", sowie \" & N7)),\" an Ihrer Schule 10 oder weniger Fragebögen.\"),\nIF(COUNTIF(N4:N7,\"?*\")=3,CONCATENATE(\n\"Darüber hinaus betrugen die Rückläufe der Befragungen \", IF(N4<>\"\", N4 & \", \" & IF(N5<>\"\", N5 & \", sowie \" & IF(N6<>\"\", N6, N7), N6 & \", sowie \" & N7), N5 & \", \" & N6 & \", sowie \" & N7), \" an Ihrer Schule 10 oder weniger Fragebögen.\"),\nIF(COUNTIF(N4:N7,\"?*\")=4,CONCATENATE(\n\"Darüber hinaus betrugen die Rückläufe der Befragungen \", N4, \", \", N5, \", \", N6, \", sowie \", N7, \" an Ihrer Schule 10 oder weniger Fragebögen.\"),\"\")))) & \"\n\" & IF(M8=1,\"Aufgrund der geringen Aussagekraft der Daten, bzw. um bei 10 oder weniger Rückläufen die Anonymität der Befragten zu gewährleisten, \",\"Um die Anonymität der Befragten zu gewährleisten, \") & \"werden die entsprechenden Ergebnisse weder in grafischer, noch in tabellarischer Form zurückgemeldet.\" & IF(AND(N5<>\"\",M4:N4=\"\"),\" In die Berechnungen zu Items und Konstrukten, die sich an alle Pädagoginnen und Pädagogen der Schule richten, fließen die Daten der PTF jedoch mit ein.\",\"\"))","v":"Darüber hinaus betrug der Rücklauf der Befragung des pädagogisch therapeutischen Fachpersonals an Ihrer Schule 10 oder weniger Fragebögen.\nUm die Anonymität der Befragten zu gewährleisten, werden die entsprechenden Ergebnisse weder in grafischer, noch in tabellarischer Form zurückgemeldet. In die Berechnungen zu Items und Konstrukten, die sich an alle Pädagoginnen und Pädagogen der Schule richten, fließen die Daten der PTF jedoch mit ein."},"Fortf. bei 2"]
["EFB",{"$f":"IF(Rücklaufquoten!F6=0,\"-\",Rücklaufquoten!F6)","v":244},null,{"$f":"IF(Rücklaufquoten!G6<=10,\"<=10\",Rücklaufquoten!G6)","v":89},null,null,0.36475409836065575,null,null,null,null,null,null,{"$f":"IF(COUNTIF(N4:N7,\"?*\")=0,\"\",\n\nIF(COUNTIF(N4:N7,\"?*\")=1,CONCATENATE(\n\"Zudem betrug der Rücklauf der Befragung \", N4 & N5 & N6 & N7, \" an Ihrer Schule 10 oder weniger Fragebögen.\"),\nIF(COUNTIF(N4:N7,\"?*\")=2,CONCATENATE(\n\"Zudem betrugen die Rückläufe der Befragungen \", IF(N4<>\"\",N4 & \", sowie \" & N5 & N6 & N7, IF(N5<>\"\",N5 & \", sowie \" & N6 & N7, N6 & \", sowie \" & N7)),\" an Ihrer Schule 10 oder weniger Fragebögen.\"),\nIF(COUNTIF(N4:N7,\"?*\")=3,CONCATENATE(\n\"Zudem betrugen die Rückläufe der Befragungen \", IF(N4<>\"\", N4 & \", \" & IF(N5<>\"\", N5 & \", sowie \" & IF(N6<>\"\", N6, N7), N6 & \", sowie \" & N7), N5 & \", \" & N6 & \", sowie \" & N7), \" an Ihrer Schule 10 oder weniger Fragebögen.\"),\nIF(COUNTIF(N4:N7,\"?*\")=4,CONCATENATE(\n\"Zudem betrugen die Rückläufe der Befragungen \", N4, \", \", N5, \", \", N6, \", sowie \", N7, \" an Ihrer Schule 10 oder weniger Fragebögen.\"),\"\")))) & \"\nAufgrund der geringen Aussagekraft der Daten, bzw. um bei 10 oder weniger Rückläufen die Anonymität der Befragten zu gewährleisten, werden die entsprechenden Ergebnisse weder in grafischer, noch in tabellarischer Form zurückgemeldet.\" & IF(AND(N5<>\"\",M4:N4=\"\"),\" In die Berechnungen zu Items und Konstrukten, die sich an alle Pädagoginnen und Pädagogen der Schule richten, fließen die Daten der PTF jedoch mit ein.\",\"\"))","v":"Zudem betrug der Rücklauf der Befragung des pädagogisch therapeutischen Fachpersonals an Ihrer Schule 10 oder weniger Fragebögen.\nAufgrund der geringen Aussagekraft der Daten, bzw. um bei 10 oder weniger Rückläufen die Anonymität der Befragten zu gewährleisten, werden die entsprechenden Ergebnisse weder in grafischer, noch in tabellarischer Form zurückgemeldet. In die Berechnungen zu Items und Konstrukten, die sich an alle Pädagoginnen und Pädagogen der Schule richten, fließen die Daten der PTF jedoch mit ein."},"Fortf. bei 3"]
[null,null,null,null,null,null,null,null,null,null,null,12,13,14,15,16,17,18]
[{"$f":"\nIF(SUM(L8:N8)=3, L9 & M10 & N11,\n\nIF(SUM(L8:N8)=2,\nIF(L8=1, L9 & IF(M8=1, M10, N10), M9 & N10),\n\nIF(SUM(L8:N8)=1,\nIF(L8=1, L9, IF(M8=1, M9, N9)),\n\n\"Alle Rücklaufquoten sind ausreichend hoch, sodass alle Daten dargestellt werden.\")))","v":"Die Rücklaufquoten der Befragungen der Schülerinnen und Schüler, sowie der Eltern und Erziehungsberechtigten an Ihrer Schule lagen zwischen 20 und 50 Prozent. Die Daten sind bei einer solchen Rücklaufquote in der Regel systematisch verzerrt und können nicht als repräsentativ für die Meinung aller Befragten der jeweiligen Gruppe betrachtet werden.\nAus diesem Grund werden die Ergebnisse grafisch nicht dargestellt. Zu Ihrer Information sind die Daten dennoch in den Tabellen einsehbar, jedoch sind sie mit einer gelben Markierung hinterlegt.\n\nDarüber hinaus betrug der Rücklauf der Befragung des pädagogisch therapeutischen Fachpersonals an Ihrer Schule 10 oder weniger Fragebögen.\nUm die Anonymität der Befragten zu gewährleisten, werden die entsprechenden Ergebnisse weder in grafischer, noch in tabellarischer Form zurückgemeldet. In die Berechnungen zu Items und Konstrukten, die sich an alle Pädagoginnen und Pädagogen der Schule richten, fließen die Daten der PTF jedoch mit ein."}]
["Wenn dieser Schriftzug sichtbar ist, ist die Einfärbung basierend auf den Rücklaufquoten ggf. fehlerhaft!",null,null,null,null,null,null,null,null,null,null,null,null,null,null,null,null,null,"PFB: Transformationale Führung, Motivation durch begeisternde Visionen","PFB (gesamt)"]
[null,null,null,null,null,null,null,null,null,null,null,null,null,null,null,null,null,null,"PFB: Transformationale Führung, Einfluss durch Vorbildlichkeit und Glaubwürdigkeit","PFB (gesamt)"]
["STEUERUNGSHANDELN",null,null,null,null,null,null,null,null,null,null,{"$f":"IF(A16=\"\",\"\",\nIF(A16=\"PFB: Konstrukt\",1,IF(A16=\"SFB: Konstrukt\",2,IF(A16=\"EFB: Konstrukt\",3,\nIF(OR(A15=\"PFB: Konstrukt\",A15=\"SFB: Konstrukt\",A15=\"EFB: Konstrukt\"),\"K\",\n\nIF(LEFT(A16,3)=\"PFB\",5,IF(LEFT(A16,3)=\"SFB\",6,IF(LEFT(A16,3)=\"EFB\",7,\nIF(OR(LEFT(A16,1)=\"0\", LEFT(A16,1)=\"1\", LEFT(A16,1)=\"2\", LEFT(A16,1)=\"3\", LEFT(A16,1)=\"4\", LEFT(A16,1)=\"5\", LEFT(A16,1)=\"6\", LEFT(A16,1)=\"7\", LEFT(A16,1)=\"8\", LEFT(A16,1)=\"9\"),\"I\",IF(A15=\"\",\"\",\"B\"))))))))))","v":""},{"$f":"IF(L16=\"K\",L15,IF(L16=\"I\",IF(L15=\"B\",L14,IF(AND(L15>=1,L15<=8),L15,M15)),\"\"))","v":""},{"$f":"IF(M16=\"\",\"\",\nIF(OR(M16=1,M16=5),IF(M15=5,N15,IF(L16=\"K\",VLOOKUP(A16,$S$14:$T$43,2,0),IF(L16=\"I\",IF(L15=\"B\",VLOOKUP(A12,$S$14:$T$43,2,0),VLOOKUP(A13,$S$14:$T$43,2,0)),\"Fehler\"))),\nIF(OR(M16=2,M16=6),\"SFB\",\nIF(OR(M16=3,M16=7),\"EFB\",\"\"))))","v":""},{"$f":"IF(OR(N16=0,N16=\"\"),\"\",\nIF(ISERROR(VLOOKUP(N16,$A$8:$H$11,7,0)),\"Fehler\",\nIF(OR(VLOOKUP(N16,$A$8:$H$11,7,0)<=0.2,VLOOKUP(N16,$A$8:$H$11,4,0)=\"<=10\"),4,IF(VLOOKUP(N16,$A$8:$H$11,7,0)>=0.5,1,IF(AND(VLOOKUP(N16,$A$8:$H$11,7,0)>0.2,VLOOKUP(N16,$A$8:$H$11,7,0)<0.5),2,\"Fehler\")))))","v":""},{"$f":"IF(OR(LEFT(A16,1)=\"0\",LEFT(A16,1)=\"1\",LEFT(A16,1)=\"2\",LEFT(A16,1)=\"3\",LEFT(A16,1)=\"4\",LEFT(A16,1)=\"5\",LEFT(A16,1)=\"6\",LEFT(A16,1)=\"7\",LEFT(A16,1)=\"8\",LEFT(A16,1)=\"9\"), A16 &\"\n\",IF(OR(L16=5,L16=6,L16=7,L16=8,L16=\"B\"),A16,\"\"))","v":""},{"$f":"IF(AND(L16=\"\",A16<>\"\"),IF(RIGHT(A16,1)=\".\",\"grau\",IF(RIGHT(A16,1)=\")\",\"rot\",\"blau\")),\"\")","v":"blau"},{"$f":"IF(Q16<>\"\",A16,\"\")","v":"STEUERUNGSHANDELN"},"PFB: Transformationale Führung, Individuelle Unterstützung und Förderung","PFB (gesamt)"]
[null,null,null,null,null,null,null,null,null,null,null,{"$f":"IF(A17=\"\",\"\",\nIF(A17=\"PFB: Konstrukt\",1,IF(A17=\"SFB: Konstrukt\",2,IF(A17=\"EFB: Konstrukt\",3,\nIF(OR(A16=\"PFB: Konstrukt\",A16=\"SFB: Konstrukt\",A16=\"EFB: Konstrukt\"),\"K\",\n\nIF(LEFT(A17,3)=\"PFB\",5,IF(LEFT(A17,3)=\"SFB\",6,IF(LEFT(A17,3)=\"EFB\",7,\nIF(OR(LEFT(A17,1)=\"0\", LEFT(A17,1)=\"1\", LEFT(A17,1)=\"2\", LEFT(A17,1)=\"3\", LEFT(A17,1)=\"4\", LEFT(A17,1)=\"5\", LEFT(A17,1)=\"6\", LEFT(A17,1)=\"7\", LEFT(A17,1)=\"8\", LEFT(A17,1)=\"9\"),\"I\",IF(A16=\"\",\"\",\"B\"))))))))))","v":""},{"$f":"IF(L17=\"K\",L16,IF(L17=\"I\",IF(L16=\"B\",L15,IF(AND(L16>=1,L16<=8),L16,M16)),\"\"))","v":""},{"$f":"IF(M17=\"\",\"\",\nIF(OR(M17=1,M17=5),IF(M16=5,N16,IF(L17=\"K\",VLOOKUP(A17,$S$14:$T$43,2,0),IF(L17=\"I\",IF(L16=\"B\",VLOOKUP(A13,$S$14:$T$43,2,0),VLOOKUP(A14,$S$14:$T$43,2,0)),\"Fehler\"))),\nIF(OR(M17=2,M17=6),\"SFB\",\nIF(OR(M17=3,M17=7),\"EFB\",\"\"))))","v":""},{"$f":"IF(OR(N17=0,N17=\"\"),\"\",\nIF(ISERROR(VLOOKUP(N17,$A$8:$H$11,7,0)),\"Fehler\",\nIF(OR(VLOOKUP(N17,$A$8:$H$11,7,0)<=0.2,VLOOKUP(N17,$A$8:$H$11,4,0)=\"<=10\"),4,IF(VLOOKUP(N17,$A$8:$H$11,7,0)>=0.5,1,IF(AND(VLOOKUP(N17,$A$8:$H$11,7,0)>0.2,VLOOKUP(N17,$A$8:$H$11,7,0)<0.5),2,\"Fehler\")))))","v":""},{"$f":"IF(OR(LEFT(A17,1)=\"0\",LEFT(A17,1)=\"1\",LEFT(A17,1)=\"2\",LEFT(A17,1)=\"3\",LEFT(A17,1)=\"4\",LEFT(A17,1)=\"5\",LEFT(A17,1)=\"6\",LEFT(A17,1)=\"7\",LEFT(A17,1)=\"8\",LEFT(A17,1)=\"9\"), A17 &\"\n\",IF(OR(L17=5,L17=6,L17=7,L17=8,L17=\"B\"),A17,\"\"))","v":""},{"$f":"IF(AND(L17=\"\",A17<>\"\"),IF(RIGHT(A17,1)=\".\",\"grau\",IF(RIGHT(A17,1)=\")\",\"rot\",\"blau\")),\"\")","v":""},{"$f":"IF(Q17<>\"\",A17,\"\")","v":""},"PFB: Transaktionale Führung","PFB (gesamt)"]
["Führung wahrnehmen (QB 1.1)",null,null,null,null,null,null,null,null,null,null,"","","","","","rot","Führung wahrnehmen (QB 1.1)","PFB: Aktive Führung","PFB (gesamt)"]
[null,null,null,null,null,null,null,null,null,null,null,"","","","","","","","PFB: Instruktionale Führung, Supervision","PFB (gesamt)"]
["Die Schulleitung hat eine überzeugende pädagogische Vision.",null,null,null,null,null,null,null,null,null,null,"","","","","","grau","Die Schulleitung hat eine überzeugende pädagogische Vision.","PFB: Instruktionale Führung, Schulziel-Management","PFB (gesamt)"]
[null,null,null,null,null,null,null,null,null,null,null,"","","","","","","","PFB: Instruktionale Führung, Anleitungsmanagement","PFB (gesamt)"]
[null,null,{"$f":"CONCATENATE(\"Inspizierte Schule \",$I$1,\"\")","v":"Inspizierte Schule (5274)"},null,null,"Referenzwert",null,null,"Effektstärke",null,null,"","","","","","","","PFB: Partizipative Führung, Delegation von Führung","PFB (gesamt)"]
["PFB: Konstrukt",null,"N","MW","SD","N","MW","SD","D","Effekt",null,1,"","","","","","","PFB: Partizipative Führung, Distribution von Führung","PFB (gesamt)"]
[{"$f":"\"PFB: \" & 'Effektstärken PuP'!A10 & \", \" & 'Effektstärken PuP'!B11","v":"PFB: Transformationale Führung, Motivation durch begeisternde Visionen"},null,{"$f":"'Effektstärken PuP'!C11","v":20},{"$f":"'Effektstärken PuP'!D11","v":3.1333333333333337},{"$f":"'Effektstärken PuP'!E11","v":0.74457099386981274},{"$f":"'Effektstärken PuP'!F11","v":349},{"$f":"'Effektstärken PuP'!G11","v":3.306467},{"$f":"'Effektstärken PuP'!H11","v":0.65831720000000005},{"$f":"'Effektstärken PuP'!I11","v":-0.24635941153452096},{"$f":"'Effektstärken PuP'!J11","v":"-"},null,"K",1,"PFB (gesamt)",1,"","","","PFB: Positives Innovationsklima","PFB (gesamt)"]
[null,null,null,null,null,null,null,null,null,null,null,"","","","","","","","PFB: Schülerbezogener Austausch","PFB (gesamt)"]
[{"$f":"A24","v":"PFB: Transformationale Führung, Motivation durch begeisternde Visionen"},null,"N","MW","SE","SD","trifft\nnicht zu","trifft eher\n nicht zu","trifft\neher zu","trifft\nvoll zu",null,5,"","","","PFB: Transformationale Führung, Motivation durch begeisternde Visionen","","","PFB: Synchronisation","PFB (gesamt)"]
[{"$f":"'PFB-Items'!A125","v":"87. Die Schulleitung formuliert eine überzeugende Zukunftsvision."},null,{"$f":"'PFB-Items'!B125","v":19},{"$f":"'PFB-Items'!C125","v":3.1578947368421049},{"$f":"'PFB-Items'!D125","v":0.15789473684210528},{"$f":"'PFB-Items'!E125","v":0.6882472016116854},{"$f":"'PFB-Items'!F125","v":0},{"$f":"'PFB-Items'!G125","v":0.15789473684210525},{"$f":"'PFB-Items'!H125","v":0.52631578947368418},{"$f":"'PFB-Items'!I125","v":0.31578947368421051},null,"I",5,"PFB (gesamt)",1,"87. Die Schulleitung formuliert eine überzeugende Zukunftsvision.\n","","","PFB: Ko-Konstruktion","PFB (gesamt)"]
[{"$f":"'PFB-Items'!A132","v":"94. Die Schulleitung äußert sich optimistisch über die Zukunft."},null,{"$f":"'PFB-Items'!B132","v":17},{"$f":"'PFB-Items'!C132","v":3.2352941176470593},{"$f":"'PFB-Items'!D132","v":0.18249520067633609},{"$f":"'PFB-Items'!E132","v":0.75244698855682524},{"$f":"'PFB-Items'!F132","v":0},{"$f":"'PFB-Items'!G132","v":0.17647058823529413},{"$f":"'PFB-Items'!H132","v":0.41176470588235292},{"$f":"'PFB-Items'!I132","v":0.41176470588235292},null,"I",5,"PFB (gesamt)",1,"94. Die Schulleitung äußert sich optimistisch über die Zukunft.\n","","","PFB: Kooperationsklima","PFB (gesamt)"]
[{"$f":"'PFB-Items'!A134","v":"96. Die Schulleitung spricht mit Begeisterung über das, was erreicht werden soll."},null,{"$f":"'PFB-Items'!B134","v":19},{"$f":"'PFB-Items'!C134","v":3.1052631578947367},{"$f":"'PFB-Items'!D134","v":0.22807017543859648},{"$f":"'PFB-Items'!E134","v":0.99413484677243436},{"$f":"'PFB-Items'!F134","v":5.2631578947368418E-2},{"$f":"'PFB-Items'!G134","v":0.26315789473684209},{"$f":"'PFB-Items'!H134","v":0.21052631578947367},{"$f":"'PFB-Items'!I134","v":0.47368421052631576},null,"I",5,"PFB (gesamt)",1,"96. Die Schulleitung spricht mit Begeisterung über das, was erreicht werden soll.\n","","","PFB: Rahmenbedingungen der Kooperation","PFB (gesamt)"]
[null,null,null,null,null,null,null,null,null,null,null,"","","","","","","","PFB: Fachliche und jahrgangsspezifische Kooperation unter Lehrpersonen","PFB (gesamt)"]
["Die Schulleitung übernimmt Verantwortung für die Entwicklung der Schule.",null,null,null,null,null,null,null,null,null,null,"","","","","","grau","Die Schulleitung übernimmt Verantwortung für die Entwicklung der Schule.","PFB: Kollektive Selbstwirksamkeit","PFB (gesamt)"]
[null,null,null,null,null,null,null,null,null,null,null,"","","","","","","","PFB: Systematische Schul- und Unterrichtsentwicklung","PFB (gesamt)"]
[null,null,{"$f":"CONCATENATE(\"Inspizierte Schule \",$I$1,\"\")","v":"Inspizierte Schule (5274)"},null,null,"Referenzwert",null,null,"Effektstärke",null,null,"","","","","","","","PFB: Klassenführung","PFB (gesamt)"]
["PFB: Konstrukt",null,"N","MW","SD","N","MW","SD","D","Effekt",null,1,"","","","","","","PFB: Konstruktive Unterstützung","PFB (gesamt)"]
[{"$f":"\"PFB: \" & 'Effektstärken PuP'!A15","v":"PFB: Aktive Führung"},null,{"$f":"'Effektstärken PuP'!C15","v":23},{"$f":"'Effektstärken PuP'!D15","v":3.2681159420289854},{"$f":"'Effektstärken PuP'!E15","v":0.40432988093027139},{"$f":"'Effektstärken PuP'!F15","v":349},{"$f":"'Effektstärken PuP'!G15","v":3.4104380000000001},{"$f":"'Effektstärken PuP'!H15","v":0.53040290000000001},{"$f":"'Effektstärken PuP'!I15","v":-0.30178663035900433},{"$f":"'Effektstärken PuP'!J15","v":"-"},null,"K",1,"PFB (gesamt)",1,"","","","PFB: Potenzial zur kognitiven Aktivierung","PFB (gesamt)"]
[null,null,null,null,null,null,null,null,null,null,null,"","","","","","","","PFB: Unterstützung bei beruflicher Orientierung","PFB (gesamt)"]
[{"$f":"A35","v":"PFB: Aktive Führung"},null,"N","MW","SE","SD","trifft\nnicht zu","trifft eher\n nicht zu","trifft\neher zu","trifft\nvoll zu",null,5,"","","","PFB: Aktive Führung","","","PFB: Arbeitszufriedenheit","PFB (gesamt)"]
[{"$f":"'PFB-Items'!A126","v":"88. Die Schulleitung trifft schnell und ohne zu zögern Entscheidungen."},null,{"$f":"'PFB-Items'!B126","v":20},{"$f":"'PFB-Items'!C126","v":3.2},{"$f":"'PFB-Items'!D126","v":0.13764944032233703},{"$f":"'PFB-Items'!E126","v":0.61558701125109239},{"$f":"'PFB-Items'!F126","v":0},{"$f":"'PFB-Items'!G126","v":0.1},{"$f":"'PFB-Items'!H126","v":0.6},{"$f":"'PFB-Items'!I126","v":0.3},null,"I",5,"PFB (gesamt)",1,"88. Die Schulleitung trifft schnell und ohne zu zögern Entscheidungen.\n","","","PFB: Arbeitszufriedenheit (Nur Lehrpersonen)","PFB (nur PTF)"]
[{"$f":"'PFB-Items'!A129","v":"91. Die Schulleitung klärt wichtige Fragen sofort."},null,{"$f":"'PFB-Items'!B129","v":23},{"$f":"'PFB-Items'!C129","v":3.4782608695652173},{"$f":"'PFB-Items'!D129","v":0.12367184068902778},{"$f":"'PFB-Items'!E129","v":0.59310931212254803},{"$f":"'PFB-Items'!F129","v":0},{"$f":"'PFB-Items'!G129","v":4.3478260869565216E-2},{"$f":"'PFB-Items'!H129","v":0.43478260869565216},{"$f":"'PFB-Items'!I129","v":0.52173913043478259},null,"I",5,"PFB (gesamt)",1,"91. Die Schulleitung klärt wichtige Fragen sofort.\n","","","PFB: Arbeitszufriedenheit (Nur PTF)","PFB (nur PTF)"]
[{"$f":"'PFB-Items'!A131","v":"93. Die Schulleitung ist immer da, wenn sie gebraucht wird."},null,{"$f":"'PFB-Items'!B131","v":22},{"$f":"'PFB-Items'!C131","v":3.1363636363636367},{"$f":"'PFB-Items'!D131","v":0.1194405165482372},{"$f":"'PFB-Items'!E131","v":0.56022568117930294},{"$f":"'PFB-Items'!F131","v":0},{"$f":"'PFB-Items'!G131","v":9.0909090909090912E-2},{"$f":"'PFB-Items'!H131","v":0.68181818181818177},{"$f":"'PFB-Items'!I131","v":0.22727272727272727},null,"I",5,"PFB (gesamt)",1,"93. Die Schulleitung ist immer da, wenn sie gebraucht wird.\n","","","PFB: Mitarbeiterbindung","PFB (gesamt)"]
[null,null,null,null,null,null,null,null,null,null,null,"","","","","","","","PFB: Mitarbeiterbindung (Nur Lehrpersonen)","PFB (nur PTF)"]
[null,null,{"$f":"CONCATENATE(\"Inspizierte Schule \",$I$1,\"\")","v":"Inspizierte Schule (5274)"},null,null,"Referenzwert",null,null,"Effektstärke",null,null,"","","","","","","","PFB: Mitarbeiterbindung (Nur PTF)","PFB (nur PTF)"]
["PFB: Konstrukt",null,"N","MW","SD","N","MW","SD","D","Effekt",null,1,"","","","","","","PFB: Eingebundenheit in die Schulgemeinschaft - PTF der Schule","PFB (nur PTF)"]
[{"$f":"\"PFB: \" & 'Effektstärken PuP'!A16 & \", \" & 'Effektstärken PuP'!B17","v":"PFB: Instruktionale Führung, Supervision"},null,{"$f":"'Effektstärken PuP'!C17","v":21},{"$f":"'Effektstärken PuP'!D17","v":2.0238095238095242},{"$f":"'Effektstärken PuP'!E17","v":0.53563491475515479},{"$f":"'Effektstärken PuP'!F17","v":349},{"$f":"'Effektstärken PuP'!G17","v":2.4606219999999999},{"$f":"'Effektstärken PuP'!H17","v":0.75785599999999997},{"$f":"'Effektstärken PuP'!I17","v":-0.66564901522717257},{"$f":"'Effektstärken PuP'!J17","v":"--"},null,"K",1,"PFB (gesamt)",1,"","",""]
[null,null,null,null,null,null,null,null,null,null,null,"","","","","","",""]
[{"$f":"A44","v":"PFB: Instruktionale Führung, Supervision"},null,"N","MW","SE","SD","trifft\nnicht zu","trifft eher\n nicht zu","trifft\neher zu","trifft\nvoll zu",null,5,"","","","PFB: Instruktionale Führung, Supervision","",""]
[{"$f":"'PFB-Items'!A118","v":"82. Die Schulleitung gibt den Pädagoginnen und Pädagogen Anregungen, wie sie ihren Unterricht oder ihre pädagogische Arbeit verbessern können."},null,{"$f":"'PFB-Items'!B118","v":21},{"$f":"'PFB-Items'!C118","v":2.4285714285714284},{"$f":"'PFB-Items'!D118","v":0.14754222271266351},{"$f":"'PFB-Items'!E118","v":0.67612340378281333},{"$f":"'PFB-Items'!F118","v":4.7619047619047616E-2},{"$f":"'PFB-Items'!G118","v":0.52380952380952384},{"$f":"'PFB-Items'!H118","v":0.38095238095238093},{"$f":"'PFB-Items'!I118","v":4.7619047619047616E-2},null,"I",5,"PFB (gesamt)",1,"82. Die Schulleitung gibt den Pädagoginnen und Pädagogen Anregungen, wie sie ihren Unterricht oder ihre pädagogische Arbeit verbessern können.\n","",""]
[{"$f":"'PFB-Items'!A119","v":"83. Die Schulleitung hospitiert im Unterricht."},null,{"$f":"'PFB-Items'!B119","v":18},{"$f":"'PFB-Items'!C119","v":1.5},{"$f":"'PFB-Items'!D119","v":0.14574577203253439},{"$f":"'PFB-Items'!E119","v":0.61834694240084231},{"$f":"'PFB-Items'!F119","v":0.55555555555555558},{"$f":"'PFB-Items'!G119","v":0.38888888888888895},{"$f":"'PFB-Items'!H119","v":5.5555555555555552E-2},{"$f":"'PFB-Items'!I119","v":0},null,"I",5,"PFB (gesamt)",1,"83. Die Schulleitung hospitiert im Unterricht.\n","",""]
[null,null,null,null,null,null,null,null,null,null,null,"","","","","","",""]
["Die Schulleitung sorgt für eine zielführende Aufgabenverteilung von Leitungs- und Funktionsaufgaben.",null,null,null,null,null,null,null,null,null,null,"","","","","","grau","Die Schulleitung sorgt für eine zielführende Aufgabenverteilung von Leitungs- und Funktionsaufgaben."]
[null,null,null,null,null,null,null,null,null,null,null,"","","","","","",""]
[null,null,{"$f":"CONCATENATE(\"Inspizierte Schule \",$I$1,\"\")","v":"Inspizierte Schule (5274)"},null,null,"Referenzwert",null,null,"Effektstärke",null,null,"","","","","","",""]
["PFB: Konstrukt",null,"N","MW","SD","N","MW","SD","D","Effekt",null,1,"","","","","",""]
[{"$f":"\"PFB: \" & 'Effektstärken PuP'!A20 & \", \" & 'Effektstärken PuP'!B21","v":"PFB: Partizipative Führung, Delegation von Führung"},null,{"$f":"'Effektstärken PuP'!C21","v":23},{"$f":"'Effektstärken PuP'!D21","v":3.2717391304347827},{"$f":"'Effektstärken PuP'!E21","v":0.57746911200375151},{"$f":"'Effektstärken PuP'!F21","v":349},{"$f":"'Effektstärken PuP'!G21","v":3.4369900000000002},{"$f":"'Effektstärken PuP'!H21","v":0.5914277},{"$f":"'Effektstärken PuP'!I21","v":-0.28272656138698221},{"$f":"'Effektstärken PuP'!J21","v":"-"},null,"K",1,"PFB (gesamt)",1,"","",""]
[null,null,null,null,null,null,null,null,null,null,null,"","","","","","",""]
[{"$f":"A54","v":"PFB: Partizipative Führung, Delegation von Führung"},null,"N","MW","SE","SD","trifft\nnicht zu","trifft eher\n nicht zu","trifft\neher zu","trifft\nvoll zu",null,5,"","","","PFB: Partizipative Führung, Delegation von Führung","",""]
[{"$f":"'PFB-Items'!A107","v":"73. Die Schulleitung behält den Überblick über die Arbeit der verschiedenen Funktionsgruppen."},null,{"$f":"'PFB-Items'!B107","v":21},{"$f":"'PFB-Items'!C107","v":3.4285714285714288},{"$f":"'PFB-Items'!D107","v":0.13041013273932525},{"$f":"'PFB-Items'!E107","v":0.59761430466719678},{"$f":"'PFB-Items'!F107","v":0},{"$f":"'PFB-Items'!G107","v":4.7619047619047616E-2},{"$f":"'PFB-Items'!H107","v":0.47619047619047611},{"$f":"'PFB-Items'!I107","v":0.47619047619047611},null,"I",5,"PFB (gesamt)",1,"73. Die Schulleitung behält den Überblick über die Arbeit der verschiedenen Funktionsgruppen.\n","",""]
[{"$f":"'PFB-Items'!A108","v":"74. Der Schulleitung gelingt es, die Arbeit von Funktionsgruppen oder Mitgliedern des Kollegiums strukturiert zusammenzuführen."},null,{"$f":"'PFB-Items'!B108","v":22},{"$f":"'PFB-Items'!C108","v":3.2727272727272725},{"$f":"'PFB-Items'!D108","v":0.13454779452744636},{"$f":"'PFB-Items'!E108","v":0.63108509590101902},{"$f":"'PFB-Items'!F108","v":0},{"$f":"'PFB-Items'!G108","v":9.0909090909090912E-2},{"$f":"'PFB-Items'!H108","v":0.54545454545454541},{"$f":"'PFB-Items'!I108","v":0.36363636363636365},null,"I",5,"PFB (gesamt)",1,"74. Der Schulleitung gelingt es, die Arbeit von Funktionsgruppen oder Mitgliedern des Kollegiums strukturiert zusammenzuführen.\n","",""]
[{"$f":"'PFB-Items'!A109","v":"75. Die Schulleitung beteiligt das Kollegium an der Erarbeitung der Fortbildungsplanung für das Schuljahr."},null,{"$f":"'PFB-Items'!B109","v":20},{"$f":"'PFB-Items'!C109","v":3.25},{"$f":"'PFB-Items'!D109","v":0.17584383023461167},{"$f":"'PFB-Items'!E109","v":0.78639751565704907},{"$f":"'PFB-Items'!F109","v":0.05},{"$f":"'PFB-Items'!G109","v":0.05},{"$f":"'PFB-Items'!H109","v":0.5},{"$f":"'PFB-Items'!I109","v":0.4},null,"I",5,"PFB (gesamt)",1,"75. Die Schulleitung beteiligt das Kollegium an der Erarbeitung der Fortbildungsplanung für das Schuljahr.\n","",""]
[{"$f":"'PFB-Items'!A110","v":"76. Die Schulleitung macht die Zuständigkeiten im Kollegium transparent."},null,{"$f":"'PFB-Items'!B110","v":23},{"$f":"'PFB-Items'!C110","v":3.2173913043478257},{"$f":"'PFB-Items'!D110","v":0.12505369185420059},{"$f":"'PFB-Items'!E110","v":0.59973643750101024},{"$f":"'PFB-Items'!F110","v":0},{"$f":"'PFB-Items'!G110","v":8.6956521739130432E-2},{"$f":"'PFB-Items'!H110","v":0.60869565217391308},{"$f":"'PFB-Items'!I110","v":0.30434782608695654},null,"I",5,"PFB (gesamt)",1,"76. Die Schulleitung macht die Zuständigkeiten im Kollegium transparent.\n","",""]
[null,null,null,null,null,null,null,null,null,null,null,"","","","","","",""]
[null,null,{"$f":"CONCATENATE(\"Inspizierte Schule \",$I$1,\"\")","v":"Inspizierte Schule (5274)"},null,null,"Referenzwert",null,null,"Effektstärke",null,null,"","","","","","",""]
["PFB: Konstrukt",null,"N","MW","SD","N","MW","SD","D","Effekt",null,1,"","","","","",""]
[{"$f":"\"PFB: \" & 'Effektstärken PuP'!A14","v":"PFB: Transaktionale Führung"},null,{"$f":"'Effektstärken PuP'!C14","v":21},{"$f":"'Effektstärken PuP'!D14","v":3.1507936507936507},{"$f":"'Effektstärken PuP'!E14","v":0.67475255115561095},{"$f":"'Effektstärken PuP'!F14","v":349},{"$f":"'Effektstärken PuP'!G14","v":3.2255699999999998},{"$f":"'Effektstärken PuP'!H14","v":0.61931930000000002},{"$f":"'Effektstärken PuP'!I14","v":-0.11546165389453864},{"$f":"'Effektstärken PuP'!J14","v":"Ø"},null,"K",1,"PFB (gesamt)",1,"","",""]
[null,null,null,null,null,null,null,null,null,null,null,"","","","","","",""]
[{"$f":"A64","v":"PFB: Transaktionale Führung"},null,"N","MW","SE","SD","trifft\nnicht zu","trifft eher\n nicht zu","trifft\neher zu","trifft\nvoll zu",null,5,"","","","PFB: Transaktionale Führung","",""]
[{"$f":"'PFB-Items'!A130","v":"92. Die Schulleitung zeigt Zufriedenheit, wenn andere die Erwartungen erfüllen."},null,{"$f":"'PFB-Items'!B130","v":18},{"$f":"'PFB-Items'!C130","v":3.3888888888888888},{"$f":"'PFB-Items'!D130","v":0.20030840419244386},{"$f":"'PFB-Items'!E130","v":0.84983658559879749},{"$f":"'PFB-Items'!F130","v":5.5555555555555552E-2},{"$f":"'PFB-Items'!G130","v":5.5555555555555552E-2},{"$f":"'PFB-Items'!H130","v":0.33333333333333326},{"$f":"'PFB-Items'!I130","v":0.55555555555555558},null,"I",5,"PFB (gesamt)",1,"92. Die Schulleitung zeigt Zufriedenheit, wenn andere die Erwartungen erfüllen.\n","",""]
[{"$f":"'PFB-Items'!A133","v":"95. Die Schulleitung macht deutlich, wer für bestimmte Leistungen verantwortlich ist."},null,{"$f":"'PFB-Items'!B133","v":19},{"$f":"'PFB-Items'!C133","v":2.8421052631578947},{"$f":"'PFB-Items'!D133","v":0.15789473684210523},{"$f":"'PFB-Items'!E133","v":0.68824720161168518},{"$f":"'PFB-Items'!F133","v":0},{"$f":"'PFB-Items'!G133","v":0.31578947368421051},{"$f":"'PFB-Items'!H133","v":0.52631578947368418},{"$f":"'PFB-Items'!I133","v":0.15789473684210525},null,"I",5,"PFB (gesamt)",1,"95. Die Schulleitung macht deutlich, wer für bestimmte Leistungen verantwortlich ist.\n","",""]
[{"$f":"'PFB-Items'!A135","v":"97. Die Schulleitung spricht klar aus, was man erwarten kann, wenn die gesteckten Ziele erreicht worden sind."},null,{"$f":"'PFB-Items'!B135","v":18},{"$f":"'PFB-Items'!C135","v":3.0555555555555554},{"$f":"'PFB-Items'!D135","v":0.18911942870889267},{"$f":"'PFB-Items'!E135","v":0.80236578296510297},{"$f":"'PFB-Items'!F135","v":5.5555555555555552E-2},{"$f":"'PFB-Items'!G135","v":0.1111111111111111},{"$f":"'PFB-Items'!H135","v":0.55555555555555558},{"$f":"'PFB-Items'!I135","v":0.27777777777777779},null,"I",5,"PFB (gesamt)",1,"97. Die Schulleitung spricht klar aus, was man erwarten kann, wenn die gesteckten Ziele erreicht worden sind.\n","",""]
[null,null,null,null,null,null,null,null,null,null,null,"","","","","","",""]
[null,null,{"$f":"CONCATENATE(\"Inspizierte Schule \",$I$1,\"\")","v":"Inspizierte Schule (5274)"},null,null,"Referenzwert",null,null,"Effektstärke",null,null,"","","","","","",""]
["PFB: Konstrukt",null,"N","MW","SD","N","MW","SD","D","Effekt",null,1,"","","","","",""]
[{"$f":"\"PFB: \" & 'Effektstärken PuP'!A20 & \", \" & 'Effektstärken PuP'!B22","v":"PFB: Partizipative Führung, Distribution von Führung"},null,{"$f":"'Effektstärken PuP'!C22","v":23},{"$f":"'Effektstärken PuP'!D22","v":3.3188405797101446},{"$f":"'Effektstärken PuP'!E22","v":0.57000585562795214},{"$f":"'Effektstärken PuP'!F22","v":349},{"$f":"'Effektstärken PuP'!G22","v":3.47851},{"$f":"'Effektstärken PuP'!H22","v":0.56330769999999997},{"$f":"'Effektstärken PuP'!I22","v":-0.28176956124519686},{"$f":"'Effektstärken PuP'!J22","v":"-"},null,"K",1,"PFB (gesamt)",1,"","",""]
[null,null,null,null,null,null,null,null,null,null,null,"","","","","","",""]
[{"$f":"A73","v":"PFB: Partizipative Führung, Distribution von Führung"},null,"N","MW","SE","SD","trifft\nnicht zu","trifft eher\n nicht zu","trifft\neher zu","trifft\nvoll zu",null,5,"","","","PFB: Partizipative Führung, Distribution von Führung","",""]
[{"$f":"'PFB-Items'!A103","v":"69. Unsere Schulleitung agiert als gut funktionierendes Leitungsteam."},null,{"$f":"'PFB-Items'!B103","v":23},{"$f":"'PFB-Items'!C103","v":3.3043478260869565},{"$f":"'PFB-Items'!D103","v":0.13239631797979623},{"$f":"'PFB-Items'!E103","v":0.6349504353380413},{"$f":"'PFB-Items'!F103","v":0},{"$f":"'PFB-Items'!G103","v":8.6956521739130432E-2},{"$f":"'PFB-Items'!H103","v":0.52173913043478259},{"$f":"'PFB-Items'!I103","v":0.39130434782608697},null,"I",5,"PFB (gesamt)",1,"69. Unsere Schulleitung agiert als gut funktionierendes Leitungsteam.\n","",""]
[{"$f":"'PFB-Items'!A104","v":"70. Bei der Weiterentwicklung unserer Schule ziehen alle Mitglieder der Schulleitung an einem Strang."},null,{"$f":"'PFB-Items'!B104","v":21},{"$f":"'PFB-Items'!C104","v":3.4761904761904758},{"$f":"'PFB-Items'!D104","v":0.13127665478181164},{"$f":"'PFB-Items'!E104","v":0.6015852075182383},{"$f":"'PFB-Items'!F104","v":0},{"$f":"'PFB-Items'!G104","v":4.7619047619047616E-2},{"$f":"'PFB-Items'!H104","v":0.42857142857142855},{"$f":"'PFB-Items'!I104","v":0.52380952380952384},null,"I",5,"PFB (gesamt)",1,"70. Bei der Weiterentwicklung unserer Schule ziehen alle Mitglieder der Schulleitung an einem Strang.\n","",""]
[{"$f":"'PFB-Items'!A105","v":"71. Es ist klar, wie die Aufgaben innerhalb der Schulleitung an unserer Schule verteilt sind."},null,{"$f":"'PFB-Items'!B105","v":22},{"$f":"'PFB-Items'!C105","v":3.2272727272727271},{"$f":"'PFB-Items'!D105","v":0.14611592062110537},{"$f":"'PFB-Items'!E105","v":0.68534441684234193},{"$f":"'PFB-Items'!F105","v":0},{"$f":"'PFB-Items'!G105","v":0.13636363636363635},{"$f":"'PFB-Items'!H105","v":0.5},{"$f":"'PFB-Items'!I105","v":0.36363636363636365},null,"I",5,"PFB (gesamt)",1,"71. Es ist klar, wie die Aufgaben innerhalb der Schulleitung an unserer Schule verteilt sind.\n","",""]
[{"$f":"'PFB-Items'!A106","v":"72. Es ist klar, welche Entscheidungsspielräume die Mitglieder der Schulleitung an unserer Schule haben."},null,{"$f":"'PFB-Items'!B106","v":20},{"$f":"'PFB-Items'!C106","v":3.3500000000000005},{"$f":"'PFB-Items'!D106","v":0.16662280124501819},{"$f":"'PFB-Items'!E106","v":0.74515982037059458},{"$f":"'PFB-Items'!F106","v":0},{"$f":"'PFB-Items'!G106","v":0.15},{"$f":"'PFB-Items'!H106","v":0.35},{"$f":"'PFB-Items'!I106","v":0.5},null,"I",5,"PFB (gesamt)",1,"72. Es ist klar, welche Entscheidungsspielräume die Mitglieder der Schulleitung an unserer Schule haben.\n","",""]
[null,null,null,null,null,null,null,null,null,null,null,"","","","","","",""]
["Die Schulleitung sorgt für ein positives Schulklima.",null,null,null,null,null,null,null,null,null,null,{"$f":"IF(A81=\"\",\"\",\nIF(A81=\"PFB: Konstrukt\",1,IF(A81=\"SFB: Konstrukt\",2,IF(A81=\"EFB: Konstrukt\",3,\nIF(OR(A80=\"PFB: Konstrukt\",A80=\"SFB: Konstrukt\",A80=\"EFB: Konstrukt\"),\"K\",\n\nIF(LEFT(A81,3)=\"PFB\",5,IF(LEFT(A81,3)=\"SFB\",6,IF(LEFT(A81,3)=\"EFB\",7,\nIF(OR(LEFT(A81,1)=\"0\", LEFT(A81,1)=\"1\", LEFT(A81,1)=\"2\", LEFT(A81,1)=\"3\", LEFT(A81,1)=\"4\", LEFT(A81,1)=\"5\", LEFT(A81,1)=\"6\", LEFT(A81,1)=\"7\", LEFT(A81,1)=\"8\", LEFT(A81,1)=\"9\"),\"I\",IF(A80=\"\",\"\",\"B\"))))))))))","v":""},{"$f":"IF(L81=\"K\",L80,IF(L81=\"I\",IF(L80=\"B\",L79,IF(AND(L80>=1,L80<=8),L80,M80)),\"\"))","v":""},{"$f":"IF(M81=\"\",\"\",\nIF(OR(M81=1,M81=5),IF(M80=5,N80,IF(L81=\"K\",VLOOKUP(A81,$S$14:$T$43,2,0),IF(L81=\"I\",IF(L80=\"B\",VLOOKUP(A77,$S$14:$T$43,2,0),VLOOKUP(A78,$S$14:$T$43,2,0)),\"Fehler\"))),\nIF(OR(M81=2,M81=6),\"SFB\",\nIF(OR(M81=3,M81=7),\"EFB\",\"\"))))","v":""},{"$f":"IF(OR(N81=0,N81=\"\"),\"\",\nIF(ISERROR(VLOOKUP(N81,$A$8:$H$11,7,0)),\"Fehler\",\nIF(OR(VLOOKUP(N81,$A$8:$H$11,7,0)<=0.2,VLOOKUP(N81,$A$8:$H$11,4,0)=\"<=10\"),4,IF(VLOOKUP(N81,$A$8:$H$11,7,0)>=0.5,1,IF(AND(VLOOKUP(N81,$A$8:$H$11,7,0)>0.2,VLOOKUP(N81,$A$8:$H$11,7,0)<0.5),2,\"Fehler\")))))","v":""},{"$f":"IF(OR(LEFT(A81,1)=\"0\",LEFT(A81,1)=\"1\",LEFT(A81,1)=\"2\",LEFT(A81,1)=\"3\",LEFT(A81,1)=\"4\",LEFT(A81,1)=\"5\",LEFT(A81,1)=\"6\",LEFT(A81,1)=\"7\",LEFT(A81,1)=\"8\",LEFT(A81,1)=\"9\"), A81 &\"\n\",IF(OR(L81=5,L81=6,L81=7,L81=8,L81=\"B\"),A81,\"\"))","v":""},{"$f":"IF(AND(L81=\"\",A81<>\"\"),IF(RIGHT(A81,1)=\".\",\"grau\",IF(RIGHT(A81,1)=\")\",\"rot\",\"blau\")),\"\")","v":"grau"},{"$f":"IF(Q81<>\"\",A81,\"\")","v":"Die Schulleitung sorgt für ein positives Schulklima."}]
[null,null,null,null,null,null,null,null,null,null,null,"","","","","","",""]
[null,null,{"$f":"CONCATENATE(\"Inspizierte Schule \",$I$1,\"\")","v":"Inspizierte Schule (5274)"},null,null,"Referenzwert",null,null,"Effektstärke",null,null,"","","","","","",""]
["PFB: Konstrukt",null,"N","MW","SD","N","MW","SD","D","Effekt",null,1,"","","","","",""]
[{"$f":"\"PFB: \" & 'Effektstärken PuP'!A10 & \", \" & 'Effektstärken PuP'!B12","v":"PFB: Transformationale Führung, Einfluss durch Vorbildlichkeit und Glaubwürdigkeit"},null,{"$f":"'Effektstärken PuP'!C12","v":23},{"$f":"'Effektstärken PuP'!D12","v":3.4637681159420293},{"$f":"'Effektstärken PuP'!E12","v":0.56621310221418952},{"$f":"'Effektstärken PuP'!F12","v":349},{"$f":"'Effektstärken PuP'!G12","v":3.3717009999999998},{"$f":"'Effektstärken PuP'!H12","v":0.6393527},{"$f":"'Effektstärken PuP'!I12","v":0.15245646338454397},{"$f":"'Effektstärken PuP'!J12","v":"Ø"},null,"K",1,"PFB (gesamt)",1,"","",""]
[null,null,null,null,null,null,null,null,null,null,null,"","","","","","",""]
[{"$f":"A85","v":"PFB: Transformationale Führung, Einfluss durch Vorbildlichkeit und Glaubwürdigkeit"},null,"N","MW","SE","SD","trifft\nnicht zu","trifft eher\n nicht zu","trifft\neher zu","trifft\nvoll zu",null,5,"","","","PFB: Transformationale Führung, Einfluss durch Vorbildlichkeit und Glaubwürdigkeit","",""]
[{"$f":"'PFB-Items'!A123","v":"85. Auf mich strahlt die Schulleitung Stärke und Vertrauen aus."},null,{"$f":"'PFB-Items'!B123","v":23},{"$f":"'PFB-Items'!C123","v":3.4347826086956528},{"$f":"'PFB-Items'!D123","v":0.12297509238026913},{"$f":"'PFB-Items'!E123","v":0.58976782461958843},{"$f":"'PFB-Items'!F123","v":0},{"$f":"'PFB-Items'!G123","v":4.3478260869565216E-2},{"$f":"'PFB-Items'!H123","v":0.47826086956521741},{"$f":"'PFB-Items'!I123","v":0.47826086956521741},null,"I",5,"PFB (gesamt)",1,"85. Auf mich strahlt die Schulleitung Stärke und Vertrauen aus.\n","",""]
[{"$f":"'PFB-Items'!A124","v":"86. Ich schätze die Weise, in der die Schulleitung handelt."},null,{"$f":"'PFB-Items'!B124","v":23},{"$f":"'PFB-Items'!C124","v":3.3913043478260869},{"$f":"'PFB-Items'!D124","v":0.13686395014372163},{"$f":"'PFB-Items'!E124","v":0.65637644650436056},{"$f":"'PFB-Items'!F124","v":0},{"$f":"'PFB-Items'!G124","v":8.6956521739130432E-2},{"$f":"'PFB-Items'!H124","v":0.43478260869565216},{"$f":"'PFB-Items'!I124","v":0.47826086956521741},null,"I",5,"PFB (gesamt)",1,"86. Ich schätze die Weise, in der die Schulleitung handelt.\n","",""]
[{"$f":"'PFB-Items'!A137","v":"99. Ich bin froh, mit der Schulleitung zu tun zu haben."},null,{"$f":"'PFB-Items'!B137","v":22},{"$f":"'PFB-Items'!C137","v":3.6363636363636362},{"$f":"'PFB-Items'!D137","v":0.10497277621629555},{"$f":"'PFB-Items'!E137","v":0.49236596391733078},{"$f":"'PFB-Items'!F137","v":0},{"$f":"'PFB-Items'!G137","v":0},{"$f":"'PFB-Items'!H137","v":0.36363636363636365},{"$f":"'PFB-Items'!I137","v":0.63636363636363635},null,"I",5,"PFB (gesamt)",1,"99. Ich bin froh, mit der Schulleitung zu tun zu haben.\n","",""]
[null,null,null,null,null,null,null,null,null,null,null,"","","","","","",""]
["Die Entwicklung der Schule und des Lernens steuern (QB 1.2)",null,null,null,null,null,null,null,null,null,null,"","","","","","rot","Die Entwicklung der Schule und des Lernens steuern (QB 1.2)"]
[null,null,null,null,null,null,null,null,null,null,null,"","","","","","",""]
["Die Schulentwicklung ist nachhaltig im Alltagshandeln der Schule präsent.",null,null,null,null,null,null,null,null,null,null,"","","","","","grau","Die Schulentwicklung ist nachhaltig im Alltagshandeln der Schule präsent."]
[null,null,null,null,null,null,null,null,null,null,null,"","","","","","",""]
[null,null,{"$f":"CONCATENATE(\"Inspizierte Schule \",$I$1,\"\")","v":"Inspizierte Schule (5274)"},null,null,"Referenzwert",null,null,"Effektstärke",null,null,"","","","","","",""]
["PFB: Konstrukt",null,"N","MW","SD","N","MW","SD","D","Effekt",null,1,"","","","","",""]
[{"$f":"\"PFB: \" & 'Effektstärken PuP'!A16 & \", \" & 'Effektstärken PuP'!B18","v":"PFB: Instruktionale Führung, Schulziel-Management"},null,{"$f":"'Effektstärken PuP'!C18","v":19},{"$f":"'Effektstärken PuP'!D18","v":3.0263157894736845},{"$f":"'Effektstärken PuP'!E18","v":0.69890381077237707},{"$f":"'Effektstärken PuP'!F18","v":349},{"$f":"'Effektstärken PuP'!G18","v":3.1663800000000002},{"$f":"'Effektstärken PuP'!H18","v":0.61789590000000005},{"$f":"'Effektstärken PuP'!I18","v":-0.21233285304690511},{"$f":"'Effektstärken PuP'!J18","v":"-"},null,"K",1,"PFB (gesamt)",1,"","",""]
[null,null,null,null,null,null,null,null,null,null,null,"","","","","","",""]
[{"$f":"A98","v":"PFB: Instruktionale Führung, Schulziel-Management"},null,"N","MW","SE","SD","trifft\nnicht zu","trifft eher\n nicht zu","trifft\neher zu","trifft\nvoll zu",null,5,"","","","PFB: Instruktionale Führung, Schulziel-Management","",""]
[{"$f":"'PFB-Items'!A113","v":"77. Die Schulleitung stellt sicher, dass die Fortbildungsaktivitäten der Pädagoginnen und Pädagogen auf die curricularen und pädagogischen Ziele der Schule abgestimmt sind."},null,{"$f":"'PFB-Items'!B113","v":16},{"$f":"'PFB-Items'!C113","v":3.0625},{"$f":"'PFB-Items'!D113","v":0.1929756029484902},{"$f":"'PFB-Items'!E113","v":0.7719024117939608},{"$f":"'PFB-Items'!F113","v":6.25E-2},{"$f":"'PFB-Items'!G113","v":6.25E-2},{"$f":"'PFB-Items'!H113","v":0.625},{"$f":"'PFB-Items'!I113","v":0.25},null,"I",5,"PFB (gesamt)",1,"77. Die Schulleitung stellt sicher, dass die Fortbildungsaktivitäten der Pädagoginnen und Pädagogen auf die curricularen und pädagogischen Ziele der Schule abgestimmt sind.\n","",""]
[{"$f":"'PFB-Items'!A114","v":"78. Die Schulleitung sorgt für Klarheit bezüglich der internen Verantwortung für die Entwicklung des schulinternen Curriculums."},null,{"$f":"'PFB-Items'!B114","v":17},{"$f":"'PFB-Items'!C114","v":3.1764705882352939},{"$f":"'PFB-Items'!D114","v":0.19620094211950492},{"$f":"'PFB-Items'!E114","v":0.80895720820441575},{"$f":"'PFB-Items'!F114","v":5.8823529411764698E-2},{"$f":"'PFB-Items'!G114","v":5.8823529411764698E-2},{"$f":"'PFB-Items'!H114","v":0.52941176470588236},{"$f":"'PFB-Items'!I114","v":0.35294117647058826},null,"I",5,"PFB (gesamt)",1,"78. Die Schulleitung sorgt für Klarheit bezüglich der internen Verantwortung für die Entwicklung des schulinternen Curriculums.\n","",""]
[{"$f":"'PFB-Items'!A117","v":"81. Die Schulleitung stellt sicher, dass die Arbeit der Pädagoginnen und Pädagogen mit den curricularen und pädagogischen Zielen der Schule übereinstimmt."},null,{"$f":"'PFB-Items'!B117","v":19},{"$f":"'PFB-Items'!C117","v":3},{"$f":"'PFB-Items'!D117","v":0.15294382258037448},{"$f":"'PFB-Items'!E117","v":0.66666666666666663},{"$f":"'PFB-Items'!F117","v":0},{"$f":"'PFB-Items'!G117","v":0.21052631578947367},{"$f":"'PFB-Items'!H117","v":0.57894736842105265},{"$f":"'PFB-Items'!I117","v":0.21052631578947367},null,"I",5,"PFB (gesamt)",1,"81. Die Schulleitung stellt sicher, dass die Arbeit der Pädagoginnen und Pädagogen mit den curricularen und pädagogischen Zielen der Schule übereinstimmt.\n","",""]
[null,null,null,null,null,null,null,null,null,null,null,"","","","","","",""]
[null,null,{"$f":"CONCATENATE(\"Inspizierte Schule \",$I$1,\"\")","v":"Inspizierte Schule (5274)"},null,null,"Referenzwert",null,null,"Effektstärke",null,null,"","","","","","",""]
["PFB: Konstrukt",null,"N","MW","SD","N","MW","SD","D","Effekt",null,1,"","","","","",""]
[{"$f":"\"PFB: \" & 'Effektstärken PuP'!A23","v":"PFB: Positives Innovationsklima"},null,{"$f":"'Effektstärken PuP'!C23","v":22},{"$f":"'Effektstärken PuP'!D23","v":3.0946969696969697},{"$f":"'Effektstärken PuP'!E23","v":0.36031241454470603},{"$f":"'Effektstärken PuP'!F23","v":349},{"$f":"'Effektstärken PuP'!G23","v":3.1541960000000002},{"$f":"'Effektstärken PuP'!H23","v":0.57107079999999999},{"$f":"'Effektstärken PuP'!I23","v":-0.12461426334861235},{"$f":"'Effektstärken PuP'!J23","v":"Ø"},null,"K",1,"PFB (gesamt)",1,"","",""]
[null,null,null,null,null,null,null,null,null,null,null,"","","","","","",""]
[{"$f":"A107","v":"PFB: Positives Innovationsklima"},null,"N","MW","SE","SD","trifft\nnicht zu","trifft eher\n nicht zu","trifft\neher zu","trifft\nvoll zu",null,5,"","","","PFB: Positives Innovationsklima","",""]
[{"$f":"'PFB-Items'!A89","v":"59. Gemeinsam denken wir regelmäßig über Veränderungen unserer Schule nach."},null,{"$f":"'PFB-Items'!B89","v":22},{"$f":"'PFB-Items'!C89","v":3.2272727272727271},{"$f":"'PFB-Items'!D89","v":0.13046401009454231},{"$f":"'PFB-Items'!E89","v":0.61193044903720428},{"$f":"'PFB-Items'!F89","v":0},{"$f":"'PFB-Items'!G89","v":9.0909090909090912E-2},{"$f":"'PFB-Items'!H89","v":0.59090909090909094},{"$f":"'PFB-Items'!I89","v":0.31818181818181818},null,"I",5,"PFB (gesamt)",1,"59. Gemeinsam denken wir regelmäßig über Veränderungen unserer Schule nach.\n","",""]
[{"$f":"'PFB-Items'!A90","v":"60. Meine Kolleginnen und Kollegen unterstützen mich, wenn ich Innovationen umsetzen möchte."},null,{"$f":"'PFB-Items'!B90","v":20},{"$f":"'PFB-Items'!C90","v":3.2},{"$f":"'PFB-Items'!D90","v":9.1766293548224701E-2},{"$f":"'PFB-Items'!E90","v":0.41039134083406165},{"$f":"'PFB-Items'!F90","v":0},{"$f":"'PFB-Items'!G90","v":0},{"$f":"'PFB-Items'!H90","v":0.8},{"$f":"'PFB-Items'!I90","v":0.2},null,"I",5,"PFB (gesamt)",1,"60. Meine Kolleginnen und Kollegen unterstützen mich, wenn ich Innovationen umsetzen möchte.\n","",""]
[{"$f":"'PFB-Items'!A91","v":"61. Im Allgemeinen herrscht ein innovationsfreudiges Klima innerhalb des Kollegiums."},null,{"$f":"'PFB-Items'!B91","v":22},{"$f":"'PFB-Items'!C91","v":3.1363636363636367},{"$f":"'PFB-Items'!D91","v":7.4886770095264912E-2},{"$f":"'PFB-Items'!E91","v":0.35125008665710444},{"$f":"'PFB-Items'!F91","v":0},{"$f":"'PFB-Items'!G91","v":0},{"$f":"'PFB-Items'!H91","v":0.86363636363636365},{"$f":"'PFB-Items'!I91","v":0.13636363636363635},null,"I",5,"PFB (gesamt)",1,"61. Im Allgemeinen herrscht ein innovationsfreudiges Klima innerhalb des Kollegiums.\n","",""]
[{"$f":"'PFB-Items'!A92","v":"62. In die Weiterentwicklung unserer Schule bringen sich alle Kolleginnen und Kollegen ein."},null,{"$f":"'PFB-Items'!B92","v":20},{"$f":"'PFB-Items'!C92","v":2.8000000000000007},{"$f":"'PFB-Items'!D92","v":0.17167901505579039},{"$f":"'PFB-Items'!E92","v":0.76777189594991435},{"$f":"'PFB-Items'!F92","v":0.05},{"$f":"'PFB-Items'!G92","v":0.25},{"$f":"'PFB-Items'!H92","v":0.55000000000000004},{"$f":"'PFB-Items'!I92","v":0.15},null,"I",5,"PFB (gesamt)",1,"62. In die Weiterentwicklung unserer Schule bringen sich alle Kolleginnen und Kollegen ein.\n","",""]
[null,null,null,null,null,null,null,null,null,null,null,"","","","","","",""]
["Personalentwicklung (QB 1.3)",null,null,null,null,null,null,null,null,null,null,"","","","","","rot","Personalentwicklung (QB 1.3)"]
[null,null,null,null,null,null,null,null,null,null,null,"","","","","","",""]
["Die Schulleitung zeigt der einzelnen Pädagogin bzw. dem einzelnen Pädagogen gegenüber Fürsorge.",null,null,null,null,null,null,null,null,null,null,"","","","","","grau","Die Schulleitung zeigt der einzelnen Pädagogin bzw. dem einzelnen Pädagogen gegenüber Fürsorge."]
[null,null,null,null,null,null,null,null,null,null,null,"","","","","","",""]
[null,null,{"$f":"CONCATENATE(\"Inspizierte Schule \",$I$1,\"\")","v":"Inspizierte Schule (5274)"},null,null,"Referenzwert",null,null,"Effektstärke",null,null,"","","","","","",""]
["PFB: Konstrukt",null,"N","MW","SD","N","MW","SD","D","Effekt",null,1,"","","","","",""]
[{"$f":"\"PFB: \" & 'Effektstärken PuP'!A10 & \", \" & 'Effektstärken PuP'!B13","v":"PFB: Transformationale Führung, Individuelle Unterstützung und Förderung"},null,{"$f":"'Effektstärken PuP'!C13","v":23},{"$f":"'Effektstärken PuP'!D13","v":3.2536231884057973},{"$f":"'Effektstärken PuP'!E13","v":0.67395554288194048},{"$f":"'Effektstärken PuP'!F13","v":349},{"$f":"'Effektstärken PuP'!G13","v":3.2820990000000001},{"$f":"'Effektstärken PuP'!H13","v":0.71576139999999999},{"$f":"'Effektstärken PuP'!I13","v":-4.0962205973107388E-2},{"$f":"'Effektstärken PuP'!J13","v":"Ø"},null,"K",1,"PFB (gesamt)",1,"","",""]
[null,null,null,null,null,null,null,null,null,null,null,"","","","","","",""]
[{"$f":"A121","v":"PFB: Transformationale Führung, Individuelle Unterstützung und Förderung"},null,"N","MW","SE","SD","trifft\nnicht zu","trifft eher\n nicht zu","trifft\neher zu","trifft\nvoll zu",null,5,"","","","PFB: Transformationale Führung, Individuelle Unterstützung und Förderung","",""]
[{"$f":"'PFB-Items'!A127","v":"89. Die Schulleitung erkennt meine individuellen Bedürfnisse, Fähigkeiten und Ziele."},null,{"$f":"'PFB-Items'!B127","v":22},{"$f":"'PFB-Items'!C127","v":3.1818181818181812},{"$f":"'PFB-Items'!D127","v":0.16949586104287354},{"$f":"'PFB-Items'!E127","v":0.79500605786033618},{"$f":"'PFB-Items'!F127","v":0},{"$f":"'PFB-Items'!G127","v":0.22727272727272727},{"$f":"'PFB-Items'!H127","v":0.36363636363636365},{"$f":"'PFB-Items'!I127","v":0.40909090909090912},null,"I",5,"PFB (gesamt)",1,"89. Die Schulleitung erkennt meine individuellen Bedürfnisse, Fähigkeiten und Ziele.\n","",""]
[{"$f":"'PFB-Items'!A128","v":"90. Die Schulleitung hilft mir, meine Stärken auszubauen."},null,{"$f":"'PFB-Items'!B128","v":23},{"$f":"'PFB-Items'!C128","v":3.1304347826086958},{"$f":"'PFB-Items'!D128","v":0.14479572398430202},{"$f":"'PFB-Items'!E128","v":0.69441589752480315},{"$f":"'PFB-Items'!F128","v":0},{"$f":"'PFB-Items'!G128","v":0.17391304347826086},{"$f":"'PFB-Items'!H128","v":0.52173913043478259},{"$f":"'PFB-Items'!I128","v":0.30434782608695654},null,"I",5,"PFB (gesamt)",1,"90. Die Schulleitung hilft mir, meine Stärken auszubauen.\n","",""]
[{"$f":"'PFB-Items'!A136","v":"98. Die Schulleitung berücksichtigt meine Individualität und behandelt mich nicht nur als irgendeine Mitarbeiterin/irgendeinen Mitarbeiter."},null,{"$f":"'PFB-Items'!B136","v":23},{"$f":"'PFB-Items'!C136","v":3.4782608695652173},{"$f":"'PFB-Items'!D136","v":0.152315010814211},{"$f":"'PFB-Items'!E136","v":0.73047713033651085},{"$f":"'PFB-Items'!F136","v":4.3478260869565216E-2},{"$f":"'PFB-Items'!G136","v":0},{"$f":"'PFB-Items'!H136","v":0.39130434782608697},{"$f":"'PFB-Items'!I136","v":0.56521739130434778},null,"I",5,"PFB (gesamt)",1,"98. Die Schulleitung berücksichtigt meine Individualität und behandelt mich nicht nur als irgendeine Mitarbeiterin/irgendeinen Mitarbeiter.\n","",""]
[null,null,null,null,null,null,null,null,null,null,null,"","","","","","",""]
["Die Schulleitung schafft Strukturen für eine gezielte Professionalisierung der einzelnen Pädagoginnen und Pädagogen.",null,null,null,null,null,null,null,null,null,null,"","","","","","grau","Die Schulleitung schafft Strukturen für eine gezielte Professionalisierung der einzelnen Pädagoginnen und Pädagogen."]
[null,null,null,null,null,null,null,null,null,null,null,"","","","","","",""]
[null,null,{"$f":"CONCATENATE(\"Inspizierte Schule \",$I$1,\"\")","v":"Inspizierte Schule (5274)"},null,null,"Referenzwert",null,null,"Effektstärke",null,null,"","","","","","",""]
["PFB: Konstrukt",null,"N","MW","SD","N","MW","SD","D","Effekt",null,1,"","","","","",""]
[{"$f":"\"PFB: \" & 'Effektstärken PuP'!A16 & \", \" & 'Effektstärken PuP'!B19","v":"PFB: Instruktionale Führung, Anleitungsmanagement"},null,{"$f":"'Effektstärken PuP'!C19","v":23},{"$f":"'Effektstärken PuP'!D19","v":3.1666666666666665},{"$f":"'Effektstärken PuP'!E19","v":0.55277079839256671},{"$f":"'Effektstärken PuP'!F19","v":349},{"$f":"'Effektstärken PuP'!G19","v":3.1526399999999999},{"$f":"'Effektstärken PuP'!H19","v":0.66393449999999998},{"$f":"'Effektstärken PuP'!I19","v":2.2961167405263529E-2},{"$f":"'Effektstärken PuP'!J19","v":"Ø"},null,"K",1,"PFB (gesamt)",1,"","",""]
[null,null,null,null,null,null,null,null,null,null,null,"","","","","","",""]
[{"$f":"A132","v":"PFB: Instruktionale Führung, Anleitungsmanagement"},null,"N","MW","SE","SD","trifft\nnicht zu","trifft eher\n nicht zu","trifft\neher zu","trifft\nvoll zu",null,5,"","","","PFB: Instruktionale Führung, Anleitungsmanagement","",""]
[{"$f":"'PFB-Items'!A115","v":"79. Die Schulleitung stellt sicher, dass Pädagoginnen und Pädagogen über die Möglichkeiten informiert sind, ihr Wissen und ihre Fähigkeiten auf den neuesten Stand zu bringen."},null,{"$f":"'PFB-Items'!B115","v":22},{"$f":"'PFB-Items'!C115","v":3.0454545454545454},{"$f":"'PFB-Items'!D115","v":0.15398421135785639},{"$f":"'PFB-Items'!E115","v":0.72224997171687155},{"$f":"'PFB-Items'!F115","v":4.5454545454545456E-2},{"$f":"'PFB-Items'!G115","v":9.0909090909090912E-2},{"$f":"'PFB-Items'!H115","v":0.63636363636363635},{"$f":"'PFB-Items'!I115","v":0.22727272727272727},null,"I",5,"PFB (gesamt)",1,"79. Die Schulleitung stellt sicher, dass Pädagoginnen und Pädagogen über die Möglichkeiten informiert sind, ihr Wissen und ihre Fähigkeiten auf den neuesten Stand zu bringen.\n","",""]
[{"$f":"'PFB-Items'!A116","v":"80. Wenn eine Pädagogin/ein Pädagoge Probleme in einer Klasse hat, ergreift die Schulleitung die Initiative, um darüber zu sprechen."},null,{"$f":"'PFB-Items'!B116","v":20},{"$f":"'PFB-Items'!C116","v":3.1499999999999995},{"$f":"'PFB-Items'!D116","v":0.18173143863810051},{"$f":"'PFB-Items'!E116","v":0.8127277008872491},{"$f":"'PFB-Items'!F116","v":0},{"$f":"'PFB-Items'!G116","v":0.25},{"$f":"'PFB-Items'!H116","v":0.35},{"$f":"'PFB-Items'!I116","v":0.4},null,"I",5,"PFB (gesamt)",1,"80. Wenn eine Pädagogin/ein Pädagoge Probleme in einer Klasse hat, ergreift die Schulleitung die Initiative, um darüber zu sprechen.\n","",""]
[{"$f":"'PFB-Items'!A120","v":"84. Die Schulleitung kümmert sich um Probleme in Bezug auf störendes Verhalten in den Klassen."},null,{"$f":"'PFB-Items'!B120","v":21},{"$f":"'PFB-Items'!C120","v":3.3333333333333335},{"$f":"'PFB-Items'!D120","v":0.12598815766974239},{"$f":"'PFB-Items'!E120","v":0.57735026918962562},{"$f":"'PFB-Items'!F120","v":0},{"$f":"'PFB-Items'!G120","v":4.7619047619047616E-2},{"$f":"'PFB-Items'!H120","v":0.5714285714285714},{"$f":"'PFB-Items'!I120","v":0.38095238095238093},null,"I",5,"PFB (gesamt)",1,"84. Die Schulleitung kümmert sich um Probleme in Bezug auf störendes Verhalten in den Klassen.\n","",""]
[null,null,null,null,null,null,null,null,null,null,null,"","","","","","",""]
["Konzeptionelle Rahmenbedingungen des Ganztags sichern (QB 1.6)",null,null,null,null,null,null,null,null,null,null,"","","","","","rot","Konzeptionelle Rahmenbedingungen des Ganztags sichern (QB 1.6)"]
[null,null,null,null,null,null,null,null,null,null,null,"","","","","","",""]
["Der Ganztag ist konzeptionell gut strukturiert.",null,null,null,null,null,null,null,null,null,null,"","","","","","grau","Der Ganztag ist konzeptionell gut strukturiert."]
[null,null,null,null,null,null,null,null,null,null,null,"","","","","","",""]
[null,null,{"$f":"CONCATENATE(\"Inspizierte Schule \",$I$1,\"\")","v":"Inspizierte Schule (5274)"},null,null,"Referenzwert",null,null,"Effektstärke",null,null,"","","","","","",""]
["SFB: Konstrukt",null,"N","MW","SD","N","MW","SD","D","Effekt",null,2,"","","","","",""]
[{"$f":"\"SFB: \" & 'Effektstärken SuS'!A10","v":"SFB: Gelungene Gestaltung des Ganztags"},null,{"$f":"'Effektstärken SuS'!C10","v":39},{"$f":"'Effektstärken SuS'!D10","v":3.4337606837606831},{"$f":"'Effektstärken SuS'!E10","v":0.44679638041064995},{"$f":"'Effektstärken SuS'!F10","v":1719},{"$f":"'Effektstärken SuS'!G10","v":3.1220379999999999},{"$f":"'Effektstärken SuS'!H10","v":0.60519389999999995},{"$f":"'Effektstärken SuS'!I10","v":0.58602841662581795},{"$f":"'Effektstärken SuS'!J10","v":"++"},null,{"$f":"IF(A145=\"\",\"\",\nIF(A145=\"PFB: Konstrukt\",1,IF(A145=\"SFB: Konstrukt\",2,IF(A145=\"EFB: Konstrukt\",3,\nIF(OR(A144=\"PFB: Konstrukt\",A144=\"SFB: Konstrukt\",A144=\"EFB: Konstrukt\"),\"K\",\n\nIF(LEFT(A145,3)=\"PFB\",5,IF(LEFT(A145,3)=\"SFB\",6,IF(LEFT(A145,3)=\"EFB\",7,\nIF(OR(LEFT(A145,1)=\"0\", LEFT(A145,1)=\"1\", LEFT(A145,1)=\"2\", LEFT(A145,1)=\"3\", LEFT(A145,1)=\"4\", LEFT(A145,1)=\"5\", LEFT(A145,1)=\"6\", LEFT(A145,1)=\"7\", LEFT(A145,1)=\"8\", LEFT(A145,1)=\"9\"),\"I\",IF(A144=\"\",\"\",\"B\"))))))))))","v":"K"},{"$f":"IF(L145=\"K\",L144,IF(L145=\"I\",IF(L144=\"B\",L143,IF(AND(L144>=1,L144<=8),L144,M144)),\"\"))","v":2},{"$f":"IF(M145=\"\",\"\",\nIF(OR(M145=1,M145=5),IF(M144=5,N144,IF(L145=\"K\",VLOOKUP(A145,$S$14:$T$43,2,0),IF(L145=\"I\",IF(L144=\"B\",VLOOKUP(A141,$S$14:$T$43,2,0),VLOOKUP(A142,$S$14:$T$43,2,0)),\"Fehler\"))),\nIF(OR(M145=2,M145=6),\"SFB\",\nIF(OR(M145=3,M145=7),\"EFB\",\"\"))))","v":"SFB"},{"$f":"IF(OR(N145=0,N145=\"\"),\"\",\nIF(ISERROR(VLOOKUP(N145,$A$8:$H$11,7,0)),\"Fehler\",\nIF(OR(VLOOKUP(N145,$A$8:$H$11,7,0)<=0.2,VLOOKUP(N145,$A$8:$H$11,4,0)=\"<=10\"),4,IF(VLOOKUP(N145,$A$8:$H$11,7,0)>=0.5,1,IF(AND(VLOOKUP(N145,$A$8:$H$11,7,0)>0.2,VLOOKUP(N145,$A$8:$H$11,7,0)<0.5),2,\"Fehler\")))))","v":2},{"$f":"IF(OR(LEFT(A145,1)=\"0\",LEFT(A145,1)=\"1\",LEFT(A145,1)=\"2\",LEFT(A145,1)=\"3\",LEFT(A145,1)=\"4\",LEFT(A145,1)=\"5\",LEFT(A145,1)=\"6\",LEFT(A145,1)=\"7\",LEFT(A145,1)=\"8\",LEFT(A145,1)=\"9\"), A145 &\"\n\",IF(OR(L145=5,L145=6,L145=7,L145=8,L145=\"B\"),A145,\"\"))","v":""},{"$f":"IF(AND(L145=\"\",A145<>\"\"),IF(RIGHT(A145,1)=\".\",\"grau\",IF(RIGHT(A145,1)=\")\",\"rot\",\"blau\")),\"\")","v":""},{"$f":"IF(Q145<>\"\",A145,\"\")","v":""}]
[null,null,null,null,null,null,null,null,null,null,null,"","","","","","",""]
[{"$f":"A145","v":"SFB: Gelungene Gestaltung des Ganztags"},null,"N","MW","SE","SD","trifft\nnicht zu","trifft eher\n nicht zu","trifft\neher zu","trifft\nvoll zu",null,6,"","","","SFB: Gelungene Gestaltung des Ganztags","",""]
[{"$f":"'SFB-Items'!A84","v":"46. Der Ganztag macht mir Spaß."},null,{"$f":"'SFB-Items'!B84","v":39},{"$f":"'SFB-Items'!C84","v":3.8205128205128207},{"$f":"'SFB-Items'!D84","v":6.2254049094039386E-2},{"$f":"'SFB-Items'!E84","v":0.3887764119844716},{"$f":"'SFB-Items'!F84","v":0},{"$f":"'SFB-Items'!G84","v":0},{"$f":"'SFB-Items'!H84","v":0.17948717948717949},{"$f":"'SFB-Items'!I84","v":0.82051282051282048},null,"I",6,"SFB",2,"46. Der Ganztag macht mir Spaß.\n","",""]
[{"$f":"'SFB-Items'!A85","v":"47. Ich lerne im Ganztag Dinge, die mir im Unterricht helfen."},null,{"$f":"'SFB-Items'!B85","v":38},{"$f":"'SFB-Items'!C85","v":2.5263157894736841},{"$f":"'SFB-Items'!D85","v":0.18375273332950517},{"$f":"'SFB-Items'!E85","v":1.1327279224202258},{"$f":"'SFB-Items'!F85","v":0.23684210526315788},{"$f":"'SFB-Items'!G85","v":0.26315789473684209},{"$f":"'SFB-Items'!H85","v":0.23684210526315788},{"$f":"'SFB-Items'!I85","v":0.26315789473684209},null,"I",6,"SFB",2,"47. Ich lerne im Ganztag Dinge, die mir im Unterricht helfen.\n","",""]
[{"$f":"'SFB-Items'!A86","v":"48. Kinder und Erwachsene gehen im Ganztag freundlich miteinander um."},null,{"$f":"'SFB-Items'!B86","v":38},{"$f":"'SFB-Items'!C86","v":3.710526315789473},{"$f":"'SFB-Items'!D86","v":7.4557916968660667E-2},{"$f":"'SFB-Items'!E86","v":0.45960586739381004},{"$f":"'SFB-Items'!F86","v":0},{"$f":"'SFB-Items'!G86","v":0},{"$f":"'SFB-Items'!H86","v":0.28947368421052633},{"$f":"'SFB-Items'!I86","v":0.71052631578947367},null,"I",6,"SFB",2,"48. Kinder und Erwachsene gehen im Ganztag freundlich miteinander um.\n","",""]
[{"$f":"'SFB-Items'!A87","v":"49. An unserer Schule haben wir am Vormittag und am Nachmittag dieselben Regeln."},null,{"$f":"'SFB-Items'!B87","v":37},{"$f":"'SFB-Items'!C87","v":3.6486486486486487},{"$f":"'SFB-Items'!D87","v":0.10409207214676885},{"$f":"'SFB-Items'!E87","v":0.63316735615546449},{"$f":"'SFB-Items'!F87","v":0},{"$f":"'SFB-Items'!G87","v":8.1081081081081086E-2},{"$f":"'SFB-Items'!H87","v":0.1891891891891892},{"$f":"'SFB-Items'!I87","v":0.72972972972972971},null,"I",6,"SFB",2,"49. An unserer Schule haben wir am Vormittag und am Nachmittag dieselben Regeln.\n","",""]
[null,null,null,null,null,null,null,null,null,null,null,"","","","","","",""]
[null,null,{"$f":"CONCATENATE(\"Inspizierte Schule \",$I$1,\"\")","v":"Inspizierte Schule (5274)"},null,null,"Referenzwert",null,null,"Effektstärke",null,null,"","","","","","",""]
["EFB: Konstrukt",null,"N","MW","SD","N","MW","SD","D","Effekt",null,3,"","","","","",""]
[{"$f":"\"EFB: \" & 'Effektstärken Eltern'!A10","v":"EFB: Gelungene Konzeption des Ganztags"},null,{"$f":"'Effektstärken Eltern'!C10","v":75},{"$f":"'Effektstärken Eltern'!D10","v":3.0857777777777775},{"$f":"'Effektstärken Eltern'!E10","v":0.72806096775803941},{"$f":"'Effektstärken Eltern'!F10","v":3347},{"$f":"'Effektstärken Eltern'!G10","v":3.180755},{"$f":"'Effektstärken Eltern'!H10","v":0.60157269999999996},{"$f":"'Effektstärken Eltern'!I10","v":-0.1422201613026515},{"$f":"'Effektstärken Eltern'!J10","v":"Ø"},null,"K",3,"EFB",2,"","",""]
[null,null,null,null,null,null,null,null,null,null,null,"","","","","","",""]
[{"$f":"A155","v":"EFB: Gelungene Konzeption des Ganztags"},null,"N","MW","SE","SD","trifft\nnicht zu","trifft eher\n nicht zu","trifft\neher zu","trifft\nvoll zu",null,7,"","","","EFB: Gelungene Konzeption des Ganztags","",""]
[{"$f":"'EFB-Items'!A32","v":"16. Der Ganztagsbetrieb an der Schule ist gut organisiert."},null,{"$f":"'EFB-Items'!B32","v":74},{"$f":"'EFB-Items'!C32","v":3.0675675675675675},{"$f":"'EFB-Items'!D32","v":0.10596968732622632},{"$f":"'EFB-Items'!E32","v":0.91158571882700346},{"$f":"'EFB-Items'!F32","v":9.45945945945946E-2},{"$f":"'EFB-Items'!G32","v":9.45945945945946E-2},{"$f":"'EFB-Items'!H32","v":0.45945945945945948},{"$f":"'EFB-Items'!I32","v":0.35135135135135137},null,"I",7,"EFB",2,"16. Der Ganztagsbetrieb an der Schule ist gut organisiert.\n","",""]
[{"$f":"'EFB-Items'!A33","v":"17. Der Tagesablauf im Ganztagsbetrieb ist abwechslungsreich."},null,{"$f":"'EFB-Items'!B33","v":73},{"$f":"'EFB-Items'!C33","v":3.0410958904109591},{"$f":"'EFB-Items'!D33","v":0.10583860261643159},{"$f":"'EFB-Items'!E33","v":0.90428541715396527},{"$f":"'EFB-Items'!F33","v":6.8493150684931503E-2},{"$f":"'EFB-Items'!G33","v":0.17808219178082191},{"$f":"'EFB-Items'!H33","v":0.39726027397260277},{"$f":"'EFB-Items'!I33","v":0.35616438356164382},null,"I",7,"EFB",2,"17. Der Tagesablauf im Ganztagsbetrieb ist abwechslungsreich.\n","",""]
[{"$f":"'EFB-Items'!A34","v":"18. Der Tagesablauf im Ganztagsbetrieb ist zeitlich sinnvoll gestaltet."},null,{"$f":"'EFB-Items'!B34","v":70},{"$f":"'EFB-Items'!C34","v":3.1142857142857143},{"$f":"'EFB-Items'!D34","v":0.1048371647606645},{"$f":"'EFB-Items'!E34","v":0.87713065050414807},{"$f":"'EFB-Items'!F34","v":5.7142857142857141E-2},{"$f":"'EFB-Items'!G34","v":0.15714285714285714},{"$f":"'EFB-Items'!H34","v":0.4},{"$f":"'EFB-Items'!I34","v":0.38571428571428579},null,"I",7,"EFB",2,"18. Der Tagesablauf im Ganztagsbetrieb ist zeitlich sinnvoll gestaltet.\n","",""]
[{"$f":"'EFB-Items'!A35","v":"19. Über das Angebot des Ganztags wurden wir als Eltern vorab gut informiert."},null,{"$f":"'EFB-Items'!B35","v":71},{"$f":"'EFB-Items'!C35","v":2.8732394366197176},{"$f":"'EFB-Items'!D35","v":0.12190568882427852},{"$f":"'EFB-Items'!E35","v":1.0271955922356022},{"$f":"'EFB-Items'!F35","v":8.4507042253521125E-2},{"$f":"'EFB-Items'!G35","v":0.3380281690140845},{"$f":"'EFB-Items'!H35","v":0.19718309859154928},{"$f":"'EFB-Items'!I35","v":0.38028169014084506},null,"I",7,"EFB",2,"19. Über das Angebot des Ganztags wurden wir als Eltern vorab gut informiert.\n","",""]
[{"$f":"'EFB-Items'!A36","v":"20. Es gibt einheitliche Regeln für das soziale Miteinander am Vormittag und Nachmittag."},null,{"$f":"'EFB-Items'!B36","v":65},{"$f":"'EFB-Items'!C36","v":3.2615384615384611},{"$f":"'EFB-Items'!D36","v":8.8461538461538466E-2},{"$f":"'EFB-Items'!E36","v":0.71319972388794861},{"$f":"'EFB-Items'!F36","v":3.0769230769230771E-2},{"$f":"'EFB-Items'!G36","v":6.1538461538461542E-2},{"$f":"'EFB-Items'!H36","v":0.52307692307692311},{"$f":"'EFB-Items'!I36","v":0.38461538461538469},null,"I",7,"EFB",2,"20. Es gibt einheitliche Regeln für das soziale Miteinander am Vormittag und Nachmittag.\n","",""]
[{"$f":"'EFB-Items'!A37","v":"21. Es findet ein Austausch zwischen den Pädagoginnen und Pädagogen des Ganztagsangebots und des Unterrichts statt."},null,{"$f":"'EFB-Items'!B37","v":51},{"$f":"'EFB-Items'!C37","v":3.3725490196078427},{"$f":"'EFB-Items'!D37","v":9.6855600276301704E-2},{"$f":"'EFB-Items'!E37","v":0.69168733727676379},{"$f":"'EFB-Items'!F37","v":1.9607843137254902E-2},{"$f":"'EFB-Items'!G37","v":5.8823529411764698E-2},{"$f":"'EFB-Items'!H37","v":0.45098039215686275},{"$f":"'EFB-Items'!I37","v":0.47058823529411759},null,"I",7,"EFB",2,"21. Es findet ein Austausch zwischen den Pädagoginnen und Pädagogen des Ganztagsangebots und des Unterrichts statt.\n","",""]
[null,null,null,null,null,null,null,null,null,null,null,"","","","","","",""]
["Die Schulgemeinschaft beteiligen (QB 2.8)",null,null,null,null,null,null,null,null,null,null,"","","","","","rot","Die Schulgemeinschaft beteiligen (QB 2.8)"]
[null,null,null,null,null,null,null,null,null,null,null,"","","","","","",""]
["Die Schule beteiligt Schülerinnen und Schüler weitreichend am Schulgeschehen.",null,null,null,null,null,null,null,null,null,null,"","","","","","grau","Die Schule beteiligt Schülerinnen und Schüler weitreichend am Schulgeschehen."]
[null,null,null,null,null,null,null,null,null,null,null,"","","","","","",""]
[{"$f":"\"SFB: \" & 'SFB-Konstrukte'!A22","v":"SFB: Beteiligungsmöglichkeit an der Schule\n(Einzelitems)"},null,"N","MW","SE","SD","trifft\nnicht zu","trifft eher\n nicht zu","trifft\neher zu","trifft\nvoll zu",null,6,"","","","SFB: Beteiligungsmöglichkeit an der Schule\n(Einzelitems)","",""]
[{"$f":"'SFB-Items'!A20","v":"08. Ich werde nach meiner Meinung gefragt, wenn es etwas zu entscheiden gibt."},"An der Schule meines Kindes fühle ich mich willkommen.",{"$f":"'SFB-Items'!B20","v":48},{"$f":"'SFB-Items'!C20","v":3.479166666666667},{"$f":"'SFB-Items'!D20","v":0.11136477398244365},{"$f":"'SFB-Items'!E20","v":0.77155778684406806},{"$f":"'SFB-Items'!F20","v":4.1666666666666657E-2},{"$f":"'SFB-Items'!G20","v":4.1666666666666657E-2},{"$f":"'SFB-Items'!H20","v":0.3125},{"$f":"'SFB-Items'!I20","v":0.60416666666666663},null,"I",6,"SFB",2,"08. Ich werde nach meiner Meinung gefragt, wenn es etwas zu entscheiden gibt.\n","",""]
[{"$f":"'SFB-Items'!A21","v":"09. An unserer Schule kann ich vorschlagen, was man besser machen könnte."},"An der Schule meines Kindes fühle ich mich willkommen.",{"$f":"'SFB-Items'!B21","v":49},{"$f":"'SFB-Items'!C21","v":3.5714285714285716},{"$f":"'SFB-Items'!D21","v":0.10514001031342672},{"$f":"'SFB-Items'!E21","v":0.73598007219398709},{"$f":"'SFB-Items'!F21","v":2.0408163265306124E-2},{"$f":"'SFB-Items'!G21","v":8.1632653061224497E-2},{"$f":"'SFB-Items'!H21","v":0.20408163265306123},{"$f":"'SFB-Items'!I21","v":0.69387755102040816},null,"I",6,"SFB",2,"09. An unserer Schule kann ich vorschlagen, was man besser machen könnte.\n","",""]
[null,null,null,null,null,null,null,null,null,null,null,"","","","","","",""]
["Die Schule beteiligt die Erziehungsberechtigten angemessen am Schulgeschehen.",null,null,null,null,null,null,null,null,null,null,"","","","","","grau","Die Schule beteiligt die Erziehungsberechtigten angemessen am Schulgeschehen."]
[null,null,null,null,null,null,null,null,null,null,null,"","","","","","",""]
[null,null,{"$f":"CONCATENATE(\"Inspizierte Schule \",$I$1,\"\")","v":"Inspizierte Schule (5274)"},null,null,"Referenzwert",null,null,"Effektstärke",null,null,"","","","","","",""]
["EFB: Konstrukt",null,"N","MW","SD","N","MW","SD","D","Effekt",null,3,"","","","","",""]
[{"$f":"\"EFB: \" & 'Effektstärken Eltern'!A11","v":"EFB: Beteiligungsmöglichkeit an der Schule"},null,{"$f":"'Effektstärken Eltern'!C11","v":88},{"$f":"'Effektstärken Eltern'!D11","v":3.3178841991341987},{"$f":"'Effektstärken Eltern'!E11","v":0.52588083084932269},{"$f":"'Effektstärken Eltern'!F11","v":3347},{"$f":"'Effektstärken Eltern'!G11","v":3.2695750000000001},{"$f":"'Effektstärken Eltern'!H11","v":0.52869259999999996},{"$f":"'Effektstärken Eltern'!I11","v":9.1618138686241427E-2},{"$f":"'Effektstärken Eltern'!J11","v":"Ø"},null,"K",3,"EFB",2,"","",""]
[null,null,null,null,null,null,null,null,null,null,null,"","","","","","",""]
[{"$f":"A177","v":"EFB: Beteiligungsmöglichkeit an der Schule"},null,"N","MW","SE","SD","trifft\nnicht zu","trifft eher\n nicht zu","trifft\neher zu","trifft\nvoll zu",null,7,"","","","EFB: Beteiligungsmöglichkeit an der Schule","",""]
[{"$f":"'EFB-Items'!A40","v":"22. An der Schule meines Kindes fühle ich mich willkommen."},"An der Schule meines Kindes fühle ich mich willkommen.",{"$f":"'EFB-Items'!B40","v":86},{"$f":"'EFB-Items'!C40","v":3.476744186046512},{"$f":"'EFB-Items'!D40","v":7.3465597606975686E-2},{"$f":"'EFB-Items'!E40","v":0.68129192475069467},{"$f":"'EFB-Items'!F40","v":2.3255813953488372E-2},{"$f":"'EFB-Items'!G40","v":3.4883720930232558E-2},{"$f":"'EFB-Items'!H40","v":0.38372093023255816},{"$f":"'EFB-Items'!I40","v":0.55813953488372092},null,"I",7,"EFB",2,"22. An der Schule meines Kindes fühle ich mich willkommen.\n","",""]
[{"$f":"'EFB-Items'!A41","v":"23. Es gibt an der Schule viele Bereiche, in denen sich Eltern aktiv beteiligen können."},"An der Schule meines Kindes fühle ich mich willkommen.",{"$f":"'EFB-Items'!B41","v":82},{"$f":"'EFB-Items'!C41","v":3.1951219512195119},{"$f":"'EFB-Items'!D41","v":8.4010840108401069E-2},{"$f":"'EFB-Items'!E41","v":0.76075051296005392},{"$f":"'EFB-Items'!F41","v":2.4390243902439025E-2},{"$f":"'EFB-Items'!G41","v":0.13414634146341464},{"$f":"'EFB-Items'!H41","v":0.46341463414634149},{"$f":"'EFB-Items'!I41","v":0.37804878048780488},null,"I",7,"EFB",2,"23. Es gibt an der Schule viele Bereiche, in denen sich Eltern aktiv beteiligen können.\n","",""]
[{"$f":"'EFB-Items'!A42","v":"24. Wir Eltern werden regelmäßig nach Verbesserungsvorschlägen für die Schule gefragt."},"An der Schule meines Kindes fühle ich mich willkommen.",{"$f":"'EFB-Items'!B42","v":78},{"$f":"'EFB-Items'!C42","v":2.7307692307692304},{"$f":"'EFB-Items'!D42","v":0.10106505246389298},{"$f":"'EFB-Items'!E42","v":0.89258237530398088},{"$f":"'EFB-Items'!F42","v":0.10256410256410256},{"$f":"'EFB-Items'!G42","v":0.25641025641025639},{"$f":"'EFB-Items'!H42","v":0.44871794871794873},{"$f":"'EFB-Items'!I42","v":0.19230769230769235},null,"I",7,"EFB",2,"24. Wir Eltern werden regelmäßig nach Verbesserungsvorschlägen für die Schule gefragt.\n","",""]
[{"$f":"'EFB-Items'!A43","v":"25. Ich habe den Eindruck, dass Eltern gewürdigt werden, wenn sie sich engagieren."},"An der Schule meines Kindes fühle ich mich willkommen.",{"$f":"'EFB-Items'!B43","v":77},{"$f":"'EFB-Items'!C43","v":3.2337662337662341},{"$f":"'EFB-Items'!D43","v":9.4076262123055004E-2},{"$f":"'EFB-Items'!E43","v":0.82551584982877413},{"$f":"'EFB-Items'!F43","v":5.1948051948051945E-2},{"$f":"'EFB-Items'!G43","v":9.0909090909090912E-2},{"$f":"'EFB-Items'!H43","v":0.42857142857142855},{"$f":"'EFB-Items'!I43","v":0.42857142857142855},null,"I",7,"EFB",2,"25. Ich habe den Eindruck, dass Eltern gewürdigt werden, wenn sie sich engagieren.\n","",""]
[{"$f":"'EFB-Items'!A44","v":"26. Die Schule bemüht sich, möglichst viele organisatorische Fragen mit den Eltern abzustimmen."},"An der Schule meines Kindes fühle ich mich willkommen.",{"$f":"'EFB-Items'!B44","v":83},{"$f":"'EFB-Items'!C44","v":2.9036144578313263},{"$f":"'EFB-Items'!D44","v":9.4848902887060382E-2},{"$f":"'EFB-Items'!E44","v":0.86411462980727161},{"$f":"'EFB-Items'!F44","v":3.614457831325301E-2},{"$f":"'EFB-Items'!G44","v":0.31325301204819278},{"$f":"'EFB-Items'!H44","v":0.36144578313253012},{"$f":"'EFB-Items'!I44","v":0.28915662650602408},null,"I",7,"EFB",2,"26. Die Schule bemüht sich, möglichst viele organisatorische Fragen mit den Eltern abzustimmen.\n","",""]
[{"$f":"'EFB-Items'!A45","v":"27. Ich kann mit der Klassenleitung sprechen, wenn ich ein Anliegen oder Fragen habe."},"An der Schule meines Kindes fühle ich mich willkommen.",{"$f":"'EFB-Items'!B45","v":88},{"$f":"'EFB-Items'!C45","v":3.8409090909090908},{"$f":"'EFB-Items'!D45","v":4.2413978456848918E-2},{"$f":"'EFB-Items'!E45","v":0.39787838598163122},{"$f":"'EFB-Items'!F45","v":0},{"$f":"'EFB-Items'!G45","v":1.1363636363636364E-2},{"$f":"'EFB-Items'!H45","v":0.13636363636363635},{"$f":"'EFB-Items'!I45","v":0.85227272727272729},null,"I",7,"EFB",2,"27. Ich kann mit der Klassenleitung sprechen, wenn ich ein Anliegen oder Fragen habe.\n","",""]
[{"$f":"'EFB-Items'!A46","v":"28. Ich kann mich an die Schulleitung wenden, wenn ich ein Anliegen oder Fragen habe."},"An der Schule meines Kindes fühle ich mich willkommen.",{"$f":"'EFB-Items'!B46","v":75},{"$f":"'EFB-Items'!C46","v":3.4},{"$f":"'EFB-Items'!D46","v":0.10397504898200724},{"$f":"'EFB-Items'!E46","v":0.90045033778149619},{"$f":"'EFB-Items'!F46","v":6.6666666666666666E-2},{"$f":"'EFB-Items'!G46","v":0.08},{"$f":"'EFB-Items'!H46","v":0.24},{"$f":"'EFB-Items'!I46","v":0.61333333333333329},null,"I",7,"EFB",2,"28. Ich kann mich an die Schulleitung wenden, wenn ich ein Anliegen oder Fragen habe.\n","",""]
[{"$f":"'EFB-Items'!A47","v":"29. An der Schule weiß ich, an wen ich mich wenden kann, wenn ich ein Anliegen oder Fragen habe."},"An der Schule meines Kindes fühle ich mich willkommen.",{"$f":"'EFB-Items'!B47","v":86},{"$f":"'EFB-Items'!C47","v":3.6627906976744184},{"$f":"'EFB-Items'!D47","v":6.741355130178768E-2},{"$f":"'EFB-Items'!E47","v":0.62516755619930675},{"$f":"'EFB-Items'!F47","v":1.1627906976744186E-2},{"$f":"'EFB-Items'!G47","v":4.6511627906976744E-2},{"$f":"'EFB-Items'!H47","v":0.20930232558139536},{"$f":"'EFB-Items'!I47","v":0.73255813953488369},null,"I",7,"EFB",2,"29. An der Schule weiß ich, an wen ich mich wenden kann, wenn ich ein Anliegen oder Fragen habe.\n","",""]
[null,null,null,null,null,null,null,null,null,null,null,"","","","","","",""]
[null,null,{"$f":"CONCATENATE(\"Inspizierte Schule \",$I$1,\"\")","v":"Inspizierte Schule (5274)"},null,null,"Referenzwert",null,null,"Effektstärke",null,null,"","","","","","",""]
["EFB: Konstrukt",null,"N","MW","SD","N","MW","SD","D","Effekt",null,3,"","","","","",""]
[{"$f":"\"EFB: \" & 'Effektstärken Eltern'!A12","v":"EFB: Informationen über die Schulentwicklung"},null,{"$f":"'Effektstärken Eltern'!C12","v":87},{"$f":"'Effektstärken Eltern'!D12","v":3.2624521072796937},{"$f":"'Effektstärken Eltern'!E12","v":0.74649576874697388},{"$f":"'Effektstärken Eltern'!F12","v":3347},{"$f":"'Effektstärken Eltern'!G12","v":3.1151089999999999},{"$f":"'Effektstärken Eltern'!H12","v":0.70715340000000004},{"$f":"'Effektstärken Eltern'!I12","v":0.20264748384322581},{"$f":"'Effektstärken Eltern'!J12","v":"Ø"},null,"K",3,"EFB",2,"","",""]
[null,null,null,null,null,null,null,null,null,null,null,"","","","","","",""]
[{"$f":"A191","v":"EFB: Informationen über die Schulentwicklung"},null,"N","MW","SE","SD","trifft\nnicht zu","trifft eher\n nicht zu","trifft\neher zu","trifft\nvoll zu",null,7,"","","","EFB: Informationen über die Schulentwicklung","",""]
["Ich fühle mich durch die Schule gut informiert...",null,null,null,null,null,null,null,null,null,null,"B","","","","Ich fühle mich durch die Schule gut informiert...","",""]
[{"$f":"'EFB-Items'!A50","v":"30. ...über die schulische Arbeit (bspw. Projekte, Schwerpunkte der schulischen Arbeit, besondere Bildungsangebote)."},"Die Schule informiert mich regelmäßig über die schulische Arbeit (bspw. Projekte, Schwerpunkte der schulischen Arbeit, besondere Bildungsangebote).",{"$f":"'EFB-Items'!B50","v":86},{"$f":"'EFB-Items'!C50","v":3.3023255813953494},{"$f":"'EFB-Items'!D50","v":9.0702935762369749E-2},{"$f":"'EFB-Items'!E50","v":0.84114442268167078},{"$f":"'EFB-Items'!F50","v":4.6511627906976744E-2},{"$f":"'EFB-Items'!G50","v":0.10465116279069768},{"$f":"'EFB-Items'!H50","v":0.34883720930232553},{"$f":"'EFB-Items'!I50","v":0.5},null,"I",7,"EFB",2,"30. ...über die schulische Arbeit (bspw. Projekte, Schwerpunkte der schulischen Arbeit, besondere Bildungsangebote).\n","",""]
[{"$f":"'EFB-Items'!A51","v":"31. ...über aktuelle Entwicklungen und Pläne der Schule."},"Die Schule informiert mich regelmäßig über die schulische Arbeit (bspw. Projekte, Schwerpunkte der schulischen Arbeit, besondere Bildungsangebote).",{"$f":"'EFB-Items'!B51","v":85},{"$f":"'EFB-Items'!C51","v":3.4000000000000004},{"$f":"'EFB-Items'!D51","v":8.5667587652680482E-2},{"$f":"'EFB-Items'!E51","v":0.78981613291292285},{"$f":"'EFB-Items'!F51","v":4.7058823529411764E-2},{"$f":"'EFB-Items'!G51","v":4.7058823529411764E-2},{"$f":"'EFB-Items'!H51","v":0.36470588235294116},{"$f":"'EFB-Items'!I51","v":0.54117647058823526},null,"I",7,"EFB",2,"31. ...über aktuelle Entwicklungen und Pläne der Schule.\n","",""]
[{"$f":"'EFB-Items'!A52","v":"32. ...über meine Möglichkeiten, mich an der Schulentwicklung zu beteiligen."},"Die Schule informiert mich regelmäßig über die schulische Arbeit (bspw. Projekte, Schwerpunkte der schulischen Arbeit, besondere Bildungsangebote).",{"$f":"'EFB-Items'!B52","v":81},{"$f":"'EFB-Items'!C52","v":3.1728395061728403},{"$f":"'EFB-Items'!D52","v":8.9218353757270399E-2},{"$f":"'EFB-Items'!E52","v":0.80296518381543358},{"$f":"'EFB-Items'!F52","v":2.4691358024691357E-2},{"$f":"'EFB-Items'!G52","v":0.1728395061728395},{"$f":"'EFB-Items'!H52","v":0.40740740740740738},{"$f":"'EFB-Items'!I52","v":0.39506172839506171},null,"I",7,"EFB",2,"32. ...über meine Möglichkeiten, mich an der Schulentwicklung zu beteiligen.\n","",""]
[null,null,null,null,null,null,null,null,null,null,null,"","","","","","",""]
["UNTERRICHTSENTWICKLUNG",null,null,null,null,null,null,null,null,null,null,"","","","","","blau","UNTERRICHTSENTWICKLUNG"]
[null,null,null,null,null,null,null,null,null,null,null,"","","","","","",""]
["Systematische und verbindliche Zusammenarbeit (QB 2.5)",null,null,null,null,null,null,null,null,null,null,"","","","","","rot","Systematische und verbindliche Zusammenarbeit (QB 2.5)"]
[null,null,null,null,null,null,null,null,null,null,null,"","","","","","",""]
["Das Kollegium gestaltet die Entwicklung der Lehr- und Lernprozesse gemeinsam.",null,null,null,null,null,null,null,null,null,null,"","","","","","grau","Das Kollegium gestaltet die Entwicklung der Lehr- und Lernprozesse gemeinsam."]
[null,null,null,null,null,null,null,null,null,null,null,"","","","","","",""]
[null,null,{"$f":"CONCATENATE(\"Inspizierte Schule \",$I$1,\"\")","v":"Inspizierte Schule (5274)"},null,null,"Referenzwert",null,null,"Effektstärke",null,null,"","","","","","",""]
["PFB: Konstrukt",null,"N","MW","SD","N","MW","SD","D","Effekt",null,1,"","","","","",""]
[{"$f":"\"PFB: \" & 'Effektstärken PuP'!A24","v":"PFB: Schülerbezogener Austausch"},null,{"$f":"'Effektstärken PuP'!C24","v":22},{"$f":"'Effektstärken PuP'!D24","v":3.6212121212121215},{"$f":"'Effektstärken PuP'!E24","v":0.4965005000125845},{"$f":"'Effektstärken PuP'!F24","v":349},{"$f":"'Effektstärken PuP'!G24","v":3.6106020000000001},{"$f":"'Effektstärken PuP'!H24","v":0.47832209999999997},{"$f":"'Effektstärken PuP'!I24","v":2.1764528003183785E-2},{"$f":"'Effektstärken PuP'!J24","v":"Ø"},null,"K",1,"PFB (gesamt)",1,"","",""]
[null,null,null,null,null,null,null,null,null,null,null,"","","","","","",""]
[{"$f":"A207","v":"PFB: Schülerbezogener Austausch"},null,"N","MW","SE","SD","trifft\nnicht zu","trifft eher\n nicht zu","trifft\neher zu","trifft\nvoll zu",null,{"$f":"IF(A209=\"\",\"\",\nIF(A209=\"PFB: Konstrukt\",1,IF(A209=\"SFB: Konstrukt\",2,IF(A209=\"EFB: Konstrukt\",3,\nIF(OR(A208=\"PFB: Konstrukt\",A208=\"SFB: Konstrukt\",A208=\"EFB: Konstrukt\"),\"K\",\n\nIF(LEFT(A209,3)=\"PFB\",5,IF(LEFT(A209,3)=\"SFB\",6,IF(LEFT(A209,3)=\"EFB\",7,\nIF(OR(LEFT(A209,1)=\"0\", LEFT(A209,1)=\"1\", LEFT(A209,1)=\"2\", LEFT(A209,1)=\"3\", LEFT(A209,1)=\"4\", LEFT(A209,1)=\"5\", LEFT(A209,1)=\"6\", LEFT(A209,1)=\"7\", LEFT(A209,1)=\"8\", LEFT(A209,1)=\"9\"),\"I\",IF(A208=\"\",\"\",\"B\"))))))))))","v":5},{"$f":"IF(L209=\"K\",L208,IF(L209=\"I\",IF(L208=\"B\",L207,IF(AND(L208>=1,L208<=8),L208,M208)),\"\"))","v":""},{"$f":"IF(M209=\"\",\"\",\nIF(OR(M209=1,M209=5),IF(M208=5,N208,IF(L209=\"K\",VLOOKUP(A209,$S$14:$T$43,2,0),IF(L209=\"I\",IF(L208=\"B\",VLOOKUP(A205,$S$14:$T$43,2,0),VLOOKUP(A206,$S$14:$T$43,2,0)),\"Fehler\"))),\nIF(OR(M209=2,M209=6),\"SFB\",\nIF(OR(M209=3,M209=7),\"EFB\",\"\"))))","v":""},{"$f":"IF(OR(N209=0,N209=\"\"),\"\",\nIF(ISERROR(VLOOKUP(N209,$A$8:$H$11,7,0)),\"Fehler\",\nIF(OR(VLOOKUP(N209,$A$8:$H$11,7,0)<=0.2,VLOOKUP(N209,$A$8:$H$11,4,0)=\"<=10\"),4,IF(VLOOKUP(N209,$A$8:$H$11,7,0)>=0.5,1,IF(AND(VLOOKUP(N209,$A$8:$H$11,7,0)>0.2,VLOOKUP(N209,$A$8:$H$11,7,0)<0.5),2,\"Fehler\")))))","v":""},{"$f":"IF(OR(LEFT(A209,1)=\"0\",LEFT(A209,1)=\"1\",LEFT(A209,1)=\"2\",LEFT(A209,1)=\"3\",LEFT(A209,1)=\"4\",LEFT(A209,1)=\"5\",LEFT(A209,1)=\"6\",LEFT(A209,1)=\"7\",LEFT(A209,1)=\"8\",LEFT(A209,1)=\"9\"), A209 &\"\n\",IF(OR(L209=5,L209=6,L209=7,L209=8,L209=\"B\"),A209,\"\"))","v":"PFB: Schülerbezogener Austausch"},{"$f":"IF(AND(L209=\"\",A209<>\"\"),IF(RIGHT(A209,1)=\".\",\"grau\",IF(RIGHT(A209,1)=\")\",\"rot\",\"blau\")),\"\")","v":""},{"$f":"IF(Q209<>\"\",A209,\"\")","v":""}]
[{"$f":"'PFB-Items'!A9","v":"01. Ich entwickle mit meinen Kolleginnen und Kollegen bei Schwierigkeiten einzelner Schülerinnen und Schüler eine gemeinsame Lösungsstrategie."},null,{"$f":"'PFB-Items'!B9","v":22},{"$f":"'PFB-Items'!C9","v":3.7272727272727275},{"$f":"'PFB-Items'!D9","v":0.11736313170325506},{"$f":"'PFB-Items'!E9","v":0.55048188256318031},{"$f":"'PFB-Items'!F9","v":0},{"$f":"'PFB-Items'!G9","v":4.5454545454545456E-2},{"$f":"'PFB-Items'!H9","v":0.18181818181818182},{"$f":"'PFB-Items'!I9","v":0.77272727272727271},null,"I",5,"PFB (gesamt)",1,"01. Ich entwickle mit meinen Kolleginnen und Kollegen bei Schwierigkeiten einzelner Schülerinnen und Schüler eine gemeinsame Lösungsstrategie.\n","",""]
[{"$f":"'PFB-Items'!A10","v":"02. Ich reflektiere mit meinen Kolleginnen und Kollegen regelmäßig unsere Erfahrungen bei der Unterstützung einzelner Schülerinnen und Schüler."},null,{"$f":"'PFB-Items'!B10","v":22},{"$f":"'PFB-Items'!C10","v":3.5909090909090908},{"$f":"'PFB-Items'!D10","v":0.10729033533674225},{"$f":"'PFB-Items'!E10","v":0.50323627974019647},{"$f":"'PFB-Items'!F10","v":0},{"$f":"'PFB-Items'!G10","v":0},{"$f":"'PFB-Items'!H10","v":0.40909090909090912},{"$f":"'PFB-Items'!I10","v":0.59090909090909094},null,"I",5,"PFB (gesamt)",1,"02. Ich reflektiere mit meinen Kolleginnen und Kollegen regelmäßig unsere Erfahrungen bei der Unterstützung einzelner Schülerinnen und Schüler.\n","",""]
[{"$f":"'PFB-Items'!A11","v":"03. Ich spreche mit Kolleginnen und Kollegen ab, wie wir gemeinsam einzelne Schülerinnen und Schüler fördern können"},null,{"$f":"'PFB-Items'!B11","v":22},{"$f":"'PFB-Items'!C11","v":3.5454545454545454},{"$f":"'PFB-Items'!D11","v":0.12702511472832215},{"$f":"'PFB-Items'!E11","v":0.59580060001510149},{"$f":"'PFB-Items'!F11","v":0},{"$f":"'PFB-Items'!G11","v":4.5454545454545456E-2},{"$f":"'PFB-Items'!H11","v":0.36363636363636365},{"$f":"'PFB-Items'!I11","v":0.59090909090909094},null,"I",5,"PFB (gesamt)",1,"03. Ich spreche mit Kolleginnen und Kollegen ab, wie wir gemeinsam einzelne Schülerinnen und Schüler fördern können\n","",""]
[null,null,null,null,null,null,null,null,null,null,null,"","","","","","",""]
[null,null,{"$f":"CONCATENATE(\"Inspizierte Schule \",$I$1,\"\")","v":"Inspizierte Schule (5274)"},null,null,"Referenzwert",null,null,"Effektstärke",null,null,"","","","","","",""]
["PFB: Konstrukt",null,"N","MW","SD","N","MW","SD","D","Effekt",null,1,"","","","","",""]
[{"$f":"\"PFB: \" & 'Effektstärken PuP'!A25","v":"PFB: Synchronisation"},null,{"$f":"'Effektstärken PuP'!C25","v":16},{"$f":"'Effektstärken PuP'!D25","v":2.9010416666666665},{"$f":"'Effektstärken PuP'!E25","v":0.6778361199844366},{"$f":"'Effektstärken PuP'!F25","v":349},{"$f":"'Effektstärken PuP'!G25","v":3.272227},{"$f":"'Effektstärken PuP'!H25","v":0.70812439999999999},{"$f":"'Effektstärken PuP'!I25","v":-0.53550836995967543},{"$f":"'Effektstärken PuP'!J25","v":"--"},null,"K",1,"PFB (gesamt)",1,"","",""]
[null,null,null,null,null,null,null,null,null,null,null,"","","","","","",""]
[{"$f":"A216","v":"PFB: Synchronisation"},null,"N","MW","SE","SD","trifft\nnicht zu","trifft eher\n nicht zu","trifft\neher zu","trifft\nvoll zu",null,5,"","","","PFB: Synchronisation","",""]
[{"$f":"'PFB-Items'!A14","v":"04. Ich spreche mich mit meinen Kolleginnen und Kollegen regelmäßig über Aufgaben im Unterricht ab."},null,{"$f":"'PFB-Items'!B14","v":16},{"$f":"'PFB-Items'!C14","v":3.1875},{"$f":"'PFB-Items'!D14","v":0.1875},{"$f":"'PFB-Items'!E14","v":0.75},{"$f":"'PFB-Items'!F14","v":0},{"$f":"'PFB-Items'!G14","v":0.1875},{"$f":"'PFB-Items'!H14","v":0.4375},{"$f":"'PFB-Items'!I14","v":0.375},null,"I",5,"PFB (gesamt)",1,"04. Ich spreche mich mit meinen Kolleginnen und Kollegen regelmäßig über Aufgaben im Unterricht ab.\n","",""]
[{"$f":"'PFB-Items'!A15","v":"05. Ich spreche mich regelmäßig mit meinen Kolleginnen und Kollegen über Inhalt und Anforderungen von Klassenarbeiten ab."},null,{"$f":"'PFB-Items'!B15","v":16},{"$f":"'PFB-Items'!C15","v":3},{"$f":"'PFB-Items'!D15","v":0.18257418583505539},{"$f":"'PFB-Items'!E15","v":0.73029674334022154},{"$f":"'PFB-Items'!F15","v":0},{"$f":"'PFB-Items'!G15","v":0.25},{"$f":"'PFB-Items'!H15","v":0.5},{"$f":"'PFB-Items'!I15","v":0.25},null,"I",5,"PFB (gesamt)",1,"05. Ich spreche mich regelmäßig mit meinen Kolleginnen und Kollegen über Inhalt und Anforderungen von Klassenarbeiten ab.\n","",""]
[{"$f":"'PFB-Items'!A16","v":"06. Ich spreche mich regelmäßig mit Kolleginnen und Kollegen, die dieselbe Jahrgangsstufe wie ich unterrichten, über Termine für Klassenarbeiten und Tests ab."},null,{"$f":"'PFB-Items'!B16","v":15},{"$f":"'PFB-Items'!C16","v":2.5333333333333332},{"$f":"'PFB-Items'!D16","v":0.27371634025142694},{"$f":"'PFB-Items'!E16","v":1.0600988273786194},{"$f":"'PFB-Items'!F16","v":0.13333333333333333},{"$f":"'PFB-Items'!G16","v":0.46666666666666662},{"$f":"'PFB-Items'!H16","v":0.13333333333333333},{"$f":"'PFB-Items'!I16","v":0.26666666666666666},null,"I",5,"PFB (gesamt)",1,"06. Ich spreche mich regelmäßig mit Kolleginnen und Kollegen, die dieselbe Jahrgangsstufe wie ich unterrichten, über Termine für Klassenarbeiten und Tests ab.\n","",""]
[{"$f":"'PFB-Items'!A17","v":"07. Ich gestalte regelmäßig mit Kolleginnen und Kollegen, die dieselbe Jahrgangsstufe wie ich unterrichten, die Themenfolge parallel."},null,{"$f":"'PFB-Items'!B17","v":14},{"$f":"'PFB-Items'!C17","v":2.8571428571428572},{"$f":"'PFB-Items'!D17","v":0.17719247798458351},{"$f":"'PFB-Items'!E17","v":0.6629935441317959},{"$f":"'PFB-Items'!F17","v":0},{"$f":"'PFB-Items'!G17","v":0.2857142857142857},{"$f":"'PFB-Items'!H17","v":0.5714285714285714},{"$f":"'PFB-Items'!I17","v":0.14285714285714285},null,"I",5,"PFB (gesamt)",1,"07. Ich gestalte regelmäßig mit Kolleginnen und Kollegen, die dieselbe Jahrgangsstufe wie ich unterrichten, die Themenfolge parallel.\n","",""]
[null,null,null,null,null,null,null,null,null,null,null,"","","","","","",""]
[null,null,{"$f":"CONCATENATE(\"Inspizierte Schule \",$I$1,\"\")","v":"Inspizierte Schule (5274)"},null,null,"Referenzwert",null,null,"Effektstärke",null,null,"","","","","","",""]
["PFB: Konstrukt",null,"N","MW","SD","N","MW","SD","D","Effekt",null,1,"","","","","",""]
[{"$f":"\"PFB: \" & 'Effektstärken PuP'!A26","v":"PFB: Ko-Konstruktion"},null,{"$f":"'Effektstärken PuP'!C26","v":15},{"$f":"'Effektstärken PuP'!D26","v":1.966666666666667},{"$f":"'Effektstärken PuP'!E26","v":0.47459255708248871},{"$f":"'Effektstärken PuP'!F26","v":349},{"$f":"'Effektstärken PuP'!G26","v":2.4470730000000001},{"$f":"'Effektstärken PuP'!H26","v":0.75081310000000001},{"$f":"'Effektstärken PuP'!I26","v":-0.76488592271093014},{"$f":"'Effektstärken PuP'!J26","v":"--"},null,"K",1,"PFB (gesamt)",1,"","",""]
[null,null,null,null,null,null,null,null,null,null,null,"","","","","","",""]
[{"$f":"A226","v":"PFB: Ko-Konstruktion"},null,"N","MW","SE","SD","trifft\nnicht zu","trifft eher\n nicht zu","trifft\neher zu","trifft\nvoll zu",null,5,"","","","PFB: Ko-Konstruktion","",""]
[{"$f":"'PFB-Items'!A20","v":"08. Ich führe mit Kolleginnen und Kollegen regelmäßig gegenseitige Unterrichtshospitationen durch."},null,{"$f":"'PFB-Items'!B20","v":14},{"$f":"'PFB-Items'!C20","v":1.142857142857143},{"$f":"'PFB-Items'!D20","v":9.7052317212393907E-2},{"$f":"'PFB-Items'!E20","v":0.3631365196012814},{"$f":"'PFB-Items'!F20","v":0.8571428571428571},{"$f":"'PFB-Items'!G20","v":0.14285714285714285},{"$f":"'PFB-Items'!H20","v":0},{"$f":"'PFB-Items'!I20","v":0},null,"I",5,"PFB (gesamt)",1,"08. Ich führe mit Kolleginnen und Kollegen regelmäßig gegenseitige Unterrichtshospitationen durch.\n","",""]
[{"$f":"'PFB-Items'!A21","v":"09. Ich bereite mit meinen Kolleginnen und Kollegen regelmäßig gemeinsam Unterricht vor."},null,{"$f":"'PFB-Items'!B21","v":15},{"$f":"'PFB-Items'!C21","v":2.0666666666666664},{"$f":"'PFB-Items'!D21","v":0.20625150312102589},{"$f":"'PFB-Items'!E21","v":0.7988086367179803},{"$f":"'PFB-Items'!F21","v":0.26666666666666666},{"$f":"'PFB-Items'!G21","v":0.4},{"$f":"'PFB-Items'!H21","v":0.33333333333333326},{"$f":"'PFB-Items'!I21","v":0},null,"I",5,"PFB (gesamt)",1,"09. Ich bereite mit meinen Kolleginnen und Kollegen regelmäßig gemeinsam Unterricht vor.\n","",""]
[{"$f":"'PFB-Items'!A22","v":"10. Ich erprobe mit den Kolleginnen und Kollegen regelmäßig gemeinsam neue Unterrichtsmethoden."},null,{"$f":"'PFB-Items'!B22","v":14},{"$f":"'PFB-Items'!C22","v":2.2142857142857144},{"$f":"'PFB-Items'!D22","v":0.18689397089774668},{"$f":"'PFB-Items'!E22","v":0.69929320675306783},{"$f":"'PFB-Items'!F22","v":0.14285714285714285},{"$f":"'PFB-Items'!G22","v":0.5},{"$f":"'PFB-Items'!H22","v":0.35714285714285715},{"$f":"'PFB-Items'!I22","v":0},null,"I",5,"PFB (gesamt)",1,"10. Ich erprobe mit den Kolleginnen und Kollegen regelmäßig gemeinsam neue Unterrichtsmethoden.\n","",""]
[{"$f":"'PFB-Items'!A23","v":"11. Ich erprobe mit den Kolleginnen und Kollegen regelmäßig gemeinsam neue Unterrichtsinhalte."},null,{"$f":"'PFB-Items'!B23","v":14},{"$f":"'PFB-Items'!C23","v":2.2142857142857144},{"$f":"'PFB-Items'!D23","v":0.18689397089774668},{"$f":"'PFB-Items'!E23","v":0.69929320675306783},{"$f":"'PFB-Items'!F23","v":0.14285714285714285},{"$f":"'PFB-Items'!G23","v":0.5},{"$f":"'PFB-Items'!H23","v":0.35714285714285715},{"$f":"'PFB-Items'!I23","v":0},null,"I",5,"PFB (gesamt)",1,"11. Ich erprobe mit den Kolleginnen und Kollegen regelmäßig gemeinsam neue Unterrichtsinhalte.\n","",""]
[{"$f":"'PFB-Items'!A24","v":"12. Ich erarbeite mit meinen Kolleginnen und Kollegen regelmäßig Konzepte für den Unterricht oder Projekte."},null,{"$f":"'PFB-Items'!B24","v":14},{"$f":"'PFB-Items'!C24","v":2.1428571428571432},{"$f":"'PFB-Items'!D24","v":0.17719247798458351},{"$f":"'PFB-Items'!E24","v":0.6629935441317959},{"$f":"'PFB-Items'!F24","v":0.14285714285714285},{"$f":"'PFB-Items'!G24","v":0.5714285714285714},{"$f":"'PFB-Items'!H24","v":0.2857142857142857},{"$f":"'PFB-Items'!I24","v":0},null,"I",5,"PFB (gesamt)",1,"12. Ich erarbeite mit meinen Kolleginnen und Kollegen regelmäßig Konzepte für den Unterricht oder Projekte.\n","",""]
[null,null,null,null,null,null,null,null,null,null,null,"","","","","","",""]
[null,null,{"$f":"CONCATENATE(\"Inspizierte Schule \",$I$1,\"\")","v":"Inspizierte Schule (5274)"},null,null,"Referenzwert",null,null,"Effektstärke",null,null,"","","","","","",""]
["PFB: Konstrukt",null,"N","MW","SD","N","MW","SD","D","Effekt",null,1,"","","","","",""]
[{"$f":"\"PFB: \" & 'Effektstärken PuP'!A27","v":"PFB: Kooperationsklima"},null,{"$f":"'Effektstärken PuP'!C27","v":23},{"$f":"'Effektstärken PuP'!D27","v":3.3115942028985503},{"$f":"'Effektstärken PuP'!E27","v":0.3428724025192324},{"$f":"'Effektstärken PuP'!F27","v":349},{"$f":"'Effektstärken PuP'!G27","v":3.476245},{"$f":"'Effektstärken PuP'!H27","v":0.48040509999999997},{"$f":"'Effektstärken PuP'!I27","v":-0.39452142081977271},{"$f":"'Effektstärken PuP'!J27","v":"-"},null,"K",1,"PFB (gesamt)",1,"","",""]
[null,null,null,null,null,null,null,null,null,null,null,"","","","","","",""]
[{"$f":"A237","v":"PFB: Kooperationsklima"},null,"N","MW","SE","SD","trifft\nnicht zu","trifft eher\n nicht zu","trifft\neher zu","trifft\nvoll zu",null,5,"","","","PFB: Kooperationsklima","",""]
[{"$f":"'PFB-Items'!A33","v":"17. Im Kollegium haben wir gemeinsame Ziele."},"Im Kollegium haben wir gemeinsame Ziele.",{"$f":"'PFB-Items'!B33","v":22},{"$f":"'PFB-Items'!C33","v":3.2272727272727271},{"$f":"'PFB-Items'!D33","v":0.11265812709673684},{"$f":"'PFB-Items'!E33","v":0.52841345480672541},{"$f":"'PFB-Items'!F33","v":0},{"$f":"'PFB-Items'!G33","v":4.5454545454545456E-2},{"$f":"'PFB-Items'!H33","v":0.68181818181818177},{"$f":"'PFB-Items'!I33","v":0.27272727272727271},null,"I",5,"PFB (gesamt)",1,"17. Im Kollegium haben wir gemeinsame Ziele.\n","",""]
[{"$f":"'PFB-Items'!A34","v":"18. Im Kollegium herrscht ein vertrauensvolles Klima."},"Im Kollegium haben wir gemeinsame Ziele.",{"$f":"'PFB-Items'!B34","v":23},{"$f":"'PFB-Items'!C34","v":3.4782608695652169},{"$f":"'PFB-Items'!D34","v":0.12367184068902778},{"$f":"'PFB-Items'!E34","v":0.59310931212254803},{"$f":"'PFB-Items'!F34","v":0},{"$f":"'PFB-Items'!G34","v":4.3478260869565216E-2},{"$f":"'PFB-Items'!H34","v":0.43478260869565216},{"$f":"'PFB-Items'!I34","v":0.52173913043478259},null,"I",5,"PFB (gesamt)",1,"18. Im Kollegium herrscht ein vertrauensvolles Klima.\n","",""]
[{"$f":"'PFB-Items'!A35","v":"19. Im Kollegium werden Absprachen verbindlich eingehalten."},"Im Kollegium haben wir gemeinsame Ziele.",{"$f":"'PFB-Items'!B35","v":23},{"$f":"'PFB-Items'!C35","v":3},{"$f":"'PFB-Items'!D35","v":8.8910844894877411E-2},{"$f":"'PFB-Items'!E35","v":0.42640143271122083},{"$f":"'PFB-Items'!F35","v":0},{"$f":"'PFB-Items'!G35","v":8.6956521739130432E-2},{"$f":"'PFB-Items'!H35","v":0.82608695652173902},{"$f":"'PFB-Items'!I35","v":8.6956521739130432E-2},null,"I",5,"PFB (gesamt)",1,"19. Im Kollegium werden Absprachen verbindlich eingehalten.\n","",""]
[{"$f":"'PFB-Items'!A36","v":"20. Im Kollegium werden alle Professionen anerkannt und geschätzt."},"Im Kollegium haben wir gemeinsame Ziele.",{"$f":"'PFB-Items'!B36","v":23},{"$f":"'PFB-Items'!C36","v":3.5217391304347836},{"$f":"'PFB-Items'!D36","v":0.12367184068902781},{"$f":"'PFB-Items'!E36","v":0.59310931212254814},{"$f":"'PFB-Items'!F36","v":0},{"$f":"'PFB-Items'!G36","v":4.3478260869565216E-2},{"$f":"'PFB-Items'!H36","v":0.39130434782608697},{"$f":"'PFB-Items'!I36","v":0.56521739130434778},null,"I",5,"PFB (gesamt)",1,"20. Im Kollegium werden alle Professionen anerkannt und geschätzt.\n","",""]
[null,null,null,null,null,null,null,null,null,null,null,"","","","","","",""]
[null,null,{"$f":"CONCATENATE(\"Inspizierte Schule \",$I$1,\"\")","v":"Inspizierte Schule (5274)"},null,null,"Referenzwert",null,null,"Effektstärke",null,null,"","","","","","",""]
["PFB: Konstrukt",null,"N","MW","SD","N","MW","SD","D","Effekt",null,1,"","","","","",""]
[{"$f":"\"PFB: \" & 'Effektstärken PuP'!A28","v":"PFB: Rahmenbedingungen der Kooperation"},null,{"$f":"'Effektstärken PuP'!C28","v":23},{"$f":"'Effektstärken PuP'!D28","v":2.865217391304347},{"$f":"'Effektstärken PuP'!E28","v":0.62534663202806573},{"$f":"'Effektstärken PuP'!F28","v":349},{"$f":"'Effektstärken PuP'!G28","v":3.3481239999999999},{"$f":"'Effektstärken PuP'!H28","v":0.68357699999999999},{"$f":"'Effektstärken PuP'!I28","v":-0.73713919103075831},{"$f":"'Effektstärken PuP'!J28","v":"--"},null,"K",1,"PFB (gesamt)",1,"","",""]
[null,null,null,null,null,null,null,null,null,null,null,"","","","","","",""]
[{"$f":"A247","v":"PFB: Rahmenbedingungen der Kooperation"},null,"N","MW","SE","SD","trifft\nnicht zu","trifft eher\n nicht zu","trifft\neher zu","trifft\nvoll zu",null,5,"","","","PFB: Rahmenbedingungen der Kooperation","",""]
[{"$f":"'PFB-Items'!A39","v":"21. Es gibt feste Zeiten, um professionsspezifisch mit Kolleginnen und Kollegen zu kooperieren."},"Es gibt feste Zeiten, um professionsspezifisch mit Kolleginnen und Kollegen zu kooperieren.",{"$f":"'PFB-Items'!B39","v":22},{"$f":"'PFB-Items'!C39","v":2.7727272727272725},{"$f":"'PFB-Items'!D39","v":0.18530211883830724},{"$f":"'PFB-Items'!E39","v":0.8691439785278704},{"$f":"'PFB-Items'!F39","v":4.5454545454545456E-2},{"$f":"'PFB-Items'!G39","v":0.36363636363636365},{"$f":"'PFB-Items'!H39","v":0.36363636363636365},{"$f":"'PFB-Items'!I39","v":0.22727272727272727},null,"I",5,"PFB (gesamt)",1,"21. Es gibt feste Zeiten, um professionsspezifisch mit Kolleginnen und Kollegen zu kooperieren.\n","",""]
[{"$f":"'PFB-Items'!A40","v":"22. Es gibt feste Zeiten, um professionsübergreifend mit Kolleginnen und Kollegen zu kooperieren."},"Es gibt feste Zeiten, um professionsspezifisch mit Kolleginnen und Kollegen zu kooperieren.",{"$f":"'PFB-Items'!B40","v":23},{"$f":"'PFB-Items'!C40","v":2.5652173913043481},{"$f":"'PFB-Items'!D40","v":0.16425766604885494},{"$f":"'PFB-Items'!E40","v":0.78775209278287195},{"$f":"'PFB-Items'!F40","v":4.3478260869565216E-2},{"$f":"'PFB-Items'!G40","v":0.47826086956521741},{"$f":"'PFB-Items'!H40","v":0.34782608695652173},{"$f":"'PFB-Items'!I40","v":0.13043478260869565},null,"I",5,"PFB (gesamt)",1,"22. Es gibt feste Zeiten, um professionsübergreifend mit Kolleginnen und Kollegen zu kooperieren.\n","",""]
[{"$f":"'PFB-Items'!A41","v":"23. Die Schulleitung unterstützt die professionsspezifische Kooperation zwischen den Kolleginnen und Kollegen durch Anregungen und Ideen."},"Es gibt feste Zeiten, um professionsspezifisch mit Kolleginnen und Kollegen zu kooperieren.",{"$f":"'PFB-Items'!B41","v":22},{"$f":"'PFB-Items'!C41","v":2.7272727272727275},{"$f":"'PFB-Items'!D41","v":0.16358825651680678},{"$f":"'PFB-Items'!E41","v":0.76729693648846842},{"$f":"'PFB-Items'!F41","v":4.5454545454545456E-2},{"$f":"'PFB-Items'!G41","v":0.31818181818181818},{"$f":"'PFB-Items'!H41","v":0.5},{"$f":"'PFB-Items'!I41","v":0.13636363636363635},null,"I",5,"PFB (gesamt)",1,"23. Die Schulleitung unterstützt die professionsspezifische Kooperation zwischen den Kolleginnen und Kollegen durch Anregungen und Ideen.\n","",""]
[{"$f":"'PFB-Items'!A42","v":"24. Die Schulleitung unterstützt die professionsübergreifende Kooperation zwischen den Kolleginnen und Kollegen durch Anregungen und Ideen."},"Es gibt feste Zeiten, um professionsspezifisch mit Kolleginnen und Kollegen zu kooperieren.",{"$f":"'PFB-Items'!B42","v":21},{"$f":"'PFB-Items'!C42","v":2.7142857142857135},{"$f":"'PFB-Items'!D42","v":0.17103128567683779},{"$f":"'PFB-Items'!E42","v":0.78376381281972574},{"$f":"'PFB-Items'!F42","v":4.7619047619047616E-2},{"$f":"'PFB-Items'!G42","v":0.33333333333333326},{"$f":"'PFB-Items'!H42","v":0.47619047619047611},{"$f":"'PFB-Items'!I42","v":0.14285714285714285},null,"I",5,"PFB (gesamt)",1,"24. Die Schulleitung unterstützt die professionsübergreifende Kooperation zwischen den Kolleginnen und Kollegen durch Anregungen und Ideen.\n","",""]
[{"$f":"'PFB-Items'!A43","v":"25. Die Schulleitung motiviert uns zur Kooperation."},"Es gibt feste Zeiten, um professionsspezifisch mit Kolleginnen und Kollegen zu kooperieren.",{"$f":"'PFB-Items'!B43","v":23},{"$f":"'PFB-Items'!C43","v":3.1739130434782612},{"$f":"'PFB-Items'!D43","v":0.16215171143688553},{"$f":"'PFB-Items'!E43","v":0.77765228926812313},{"$f":"'PFB-Items'!F43","v":0},{"$f":"'PFB-Items'!G43","v":0.21739130434782608},{"$f":"'PFB-Items'!H43","v":0.39130434782608697},{"$f":"'PFB-Items'!I43","v":0.39130434782608697},null,"I",5,"PFB (gesamt)",1,"25. Die Schulleitung motiviert uns zur Kooperation.\n","",""]
[{"$f":"'PFB-Items'!A44","v":"26. Uns stehen Räume für Kooperation zur Verfügung."},"Es gibt feste Zeiten, um professionsspezifisch mit Kolleginnen und Kollegen zu kooperieren.",{"$f":"'PFB-Items'!B44","v":22},{"$f":"'PFB-Items'!C44","v":3.272727272727272},{"$f":"'PFB-Items'!D44","v":0.17632391215944848},{"$f":"'PFB-Items'!E44","v":0.82703245642639922},{"$f":"'PFB-Items'!F44","v":0},{"$f":"'PFB-Items'!G44","v":0.22727272727272727},{"$f":"'PFB-Items'!H44","v":0.27272727272727271},{"$f":"'PFB-Items'!I44","v":0.5},null,"I",5,"PFB (gesamt)",1,"26. Uns stehen Räume für Kooperation zur Verfügung.\n","",""]
[null,null,null,null,null,null,null,null,null,null,null,"","","","","","",""]
[null,null,{"$f":"CONCATENATE(\"Inspizierte Schule \",$I$1,\"\")","v":"Inspizierte Schule (5274)"},null,null,"Referenzwert",null,null,"Effektstärke",null,null,"","","","","","",""]
["PFB: Konstrukt",null,"N","MW","SD","N","MW","SD","D","Effekt",null,1,"","","","","",""]
[{"$f":"\"PFB: \" & 'Effektstärken PuP'!A29","v":"PFB: Fachliche und jahrgangsspezifische Kooperation unter Lehrpersonen"},null,{"$f":"'Effektstärken PuP'!C29","v":16},{"$f":"'Effektstärken PuP'!D29","v":2.4843750000000004},{"$f":"'Effektstärken PuP'!E29","v":0.53161071631759227},{"$f":"'Effektstärken PuP'!F29","v":"-"},{"$f":"'Effektstärken PuP'!G29","v":"-"},{"$f":"'Effektstärken PuP'!H29","v":"-"},{"$f":"'Effektstärken PuP'!I29","v":"o.R."},{"$f":"'Effektstärken PuP'!J29","v":"o.R."},null,"K",1,"PFB (gesamt)",1,"","",""]
[null,null,null,null,null,null,null,null,null,null,null,"","","","","","",""]
[{"$f":"A259","v":"PFB: Fachliche und jahrgangsspezifische Kooperation unter Lehrpersonen"},null,"N","MW","SE","SD","trifft\nnicht zu","trifft eher\n nicht zu","trifft\neher zu","trifft\nvoll zu",null,5,"","","","PFB: Fachliche und jahrgangsspezifische Kooperation unter Lehrpersonen","",""]
[{"$f":"'PFB-Items'!A27","v":"13. Die fachspezifische Zusammenarbeit ist an unserer Schule fest etabliert."},"Die fachspezifische Zusammenarbeit ist an unserer Schule fest etabliert.",{"$f":"'PFB-Items'!B27","v":16},{"$f":"'PFB-Items'!C27","v":2.6875},{"$f":"'PFB-Items'!D27","v":0.19830006723817986},{"$f":"'PFB-Items'!E27","v":0.79320026895271945},{"$f":"'PFB-Items'!F27","v":0},{"$f":"'PFB-Items'!G27","v":0.5},{"$f":"'PFB-Items'!H27","v":0.3125},{"$f":"'PFB-Items'!I27","v":0.1875},null,"I",5,"PFB (gesamt)",1,"13. Die fachspezifische Zusammenarbeit ist an unserer Schule fest etabliert.\n","",""]
[{"$f":"'PFB-Items'!A28","v":"14. Die fachübergreifende Zusammenarbeit ist an unserer Schule fest etabliert."},"Die fachspezifische Zusammenarbeit ist an unserer Schule fest etabliert.",{"$f":"'PFB-Items'!B28","v":15},{"$f":"'PFB-Items'!C28","v":2.333333333333333},{"$f":"'PFB-Items'!D28","v":0.12598815766974242},{"$f":"'PFB-Items'!E28","v":0.4879500364742666},{"$f":"'PFB-Items'!F28","v":0},{"$f":"'PFB-Items'!G28","v":0.66666666666666652},{"$f":"'PFB-Items'!H28","v":0.33333333333333326},{"$f":"'PFB-Items'!I28","v":0},null,"I",5,"PFB (gesamt)",1,"14. Die fachübergreifende Zusammenarbeit ist an unserer Schule fest etabliert.\n","",""]
[{"$f":"'PFB-Items'!A29","v":"15. Die jahrgangsspezifische Zusammenarbeit ist an unserer Schule fest etabliert."},"Die fachspezifische Zusammenarbeit ist an unserer Schule fest etabliert.",{"$f":"'PFB-Items'!B29","v":15},{"$f":"'PFB-Items'!C29","v":2.8},{"$f":"'PFB-Items'!D29","v":0.17457431218879391},{"$f":"'PFB-Items'!E29","v":0.67612340378281333},{"$f":"'PFB-Items'!F29","v":0},{"$f":"'PFB-Items'!G29","v":0.33333333333333326},{"$f":"'PFB-Items'!H29","v":0.53333333333333333},{"$f":"'PFB-Items'!I29","v":0.13333333333333333},null,"I",5,"PFB (gesamt)",1,"15. Die jahrgangsspezifische Zusammenarbeit ist an unserer Schule fest etabliert.\n","",""]
[{"$f":"'PFB-Items'!A30","v":"16. Die jahrgangsübergreifende Zusammenarbeit ist an unserer Schule fest etabliert."},"Die fachspezifische Zusammenarbeit ist an unserer Schule fest etabliert.",{"$f":"'PFB-Items'!B30","v":14},{"$f":"'PFB-Items'!C30","v":1.9285714285714284},{"$f":"'PFB-Items'!D30","v":0.12685050967709008},{"$f":"'PFB-Items'!E30","v":0.47463114654932337},{"$f":"'PFB-Items'!F30","v":0.14285714285714285},{"$f":"'PFB-Items'!G30","v":0.7857142857142857},{"$f":"'PFB-Items'!H30","v":7.1428571428571425E-2},{"$f":"'PFB-Items'!I30","v":0},null,"I",5,"PFB (gesamt)",1,"16. Die jahrgangsübergreifende Zusammenarbeit ist an unserer Schule fest etabliert.\n","",""]
[null,null,null,null,null,null,null,null,null,null,null,"","","","","","",""]
["Die Schule hat einen pädagogischen Grundkonsens über Lernen und Unterrichten.",null,null,null,null,null,null,null,null,null,null,"","","","","","grau","Die Schule hat einen pädagogischen Grundkonsens über Lernen und Unterrichten."]
[null,null,null,null,null,null,null,null,null,null,null,"","","","","","",""]
[null,null,{"$f":"CONCATENATE(\"Inspizierte Schule \",$I$1,\"\")","v":"Inspizierte Schule (5274)"},null,null,"Referenzwert",null,null,"Effektstärke",null,null,"","","","","","",""]
["PFB: Konstrukt",null,"N","MW","SD","N","MW","SD","D","Effekt",null,1,"","","","","",""]
[{"$f":"\"PFB: \" & 'Effektstärken PuP'!A30","v":"PFB: Kollektive Selbstwirksamkeit"},null,{"$f":"'Effektstärken PuP'!C30","v":23},{"$f":"'Effektstärken PuP'!D30","v":3.0144927536231885},{"$f":"'Effektstärken PuP'!E30","v":0.41716044523218559},{"$f":"'Effektstärken PuP'!F30","v":349},{"$f":"'Effektstärken PuP'!G30","v":3.337151},{"$f":"'Effektstärken PuP'!H30","v":0.52904079999999998},{"$f":"'Effektstärken PuP'!I30","v":-0.67728947118595439},{"$f":"'Effektstärken PuP'!J30","v":"--"},null,"K",1,"PFB (gesamt)",1,"","",""]
[null,null,null,null,null,null,null,null,null,null,null,"","","","","","",""]
["PFB: Kollektive Selbstwirksamkeit",null,"N","MW","SE","SD","trifft\nnicht zu","trifft eher\n nicht zu","trifft\neher zu","trifft\nvoll zu",null,{"$f":"IF(A273=\"\",\"\",\nIF(A273=\"PFB: Konstrukt\",1,IF(A273=\"SFB: Konstrukt\",2,IF(A273=\"EFB: Konstrukt\",3,\nIF(OR(A272=\"PFB: Konstrukt\",A272=\"SFB: Konstrukt\",A272=\"EFB: Konstrukt\"),\"K\",\n\nIF(LEFT(A273,3)=\"PFB\",5,IF(LEFT(A273,3)=\"SFB\",6,IF(LEFT(A273,3)=\"EFB\",7,\nIF(OR(LEFT(A273,1)=\"0\", LEFT(A273,1)=\"1\", LEFT(A273,1)=\"2\", LEFT(A273,1)=\"3\", LEFT(A273,1)=\"4\", LEFT(A273,1)=\"5\", LEFT(A273,1)=\"6\", LEFT(A273,1)=\"7\", LEFT(A273,1)=\"8\", LEFT(A273,1)=\"9\"),\"I\",IF(A272=\"\",\"\",\"B\"))))))))))","v":5},{"$f":"IF(L273=\"K\",L272,IF(L273=\"I\",IF(L272=\"B\",L271,IF(AND(L272>=1,L272<=8),L272,M272)),\"\"))","v":""},{"$f":"IF(M273=\"\",\"\",\nIF(OR(M273=1,M273=5),IF(M272=5,N272,IF(L273=\"K\",VLOOKUP(A273,$S$14:$T$43,2,0),IF(L273=\"I\",IF(L272=\"B\",VLOOKUP(A269,$S$14:$T$43,2,0),VLOOKUP(A270,$S$14:$T$43,2,0)),\"Fehler\"))),\nIF(OR(M273=2,M273=6),\"SFB\",\nIF(OR(M273=3,M273=7),\"EFB\",\"\"))))","v":""},{"$f":"IF(OR(N273=0,N273=\"\"),\"\",\nIF(ISERROR(VLOOKUP(N273,$A$8:$H$11,7,0)),\"Fehler\",\nIF(OR(VLOOKUP(N273,$A$8:$H$11,7,0)<=0.2,VLOOKUP(N273,$A$8:$H$11,4,0)=\"<=10\"),4,IF(VLOOKUP(N273,$A$8:$H$11,7,0)>=0.5,1,IF(AND(VLOOKUP(N273,$A$8:$H$11,7,0)>0.2,VLOOKUP(N273,$A$8:$H$11,7,0)<0.5),2,\"Fehler\")))))","v":""},{"$f":"IF(OR(LEFT(A273,1)=\"0\",LEFT(A273,1)=\"1\",LEFT(A273,1)=\"2\",LEFT(A273,1)=\"3\",LEFT(A273,1)=\"4\",LEFT(A273,1)=\"5\",LEFT(A273,1)=\"6\",LEFT(A273,1)=\"7\",LEFT(A273,1)=\"8\",LEFT(A273,1)=\"9\"), A273 &\"\n\",IF(OR(L273=5,L273=6,L273=7,L273=8,L273=\"B\"),A273,\"\"))","v":"PFB: Kollektive Selbstwirksamkeit"},{"$f":"IF(AND(L273=\"\",A273<>\"\"),IF(RIGHT(A273,1)=\".\",\"grau\",IF(RIGHT(A273,1)=\")\",\"rot\",\"blau\")),\"\")","v":""},{"$f":"IF(Q273<>\"\",A273,\"\")","v":""}]
[{"$f":"'PFB-Items'!A95","v":"63. Da wir dieselben pädagogischen Absichten verfolgen, können wir auch mit schwierigem Verhalten von Schülerinnen und Schülern klarkommen."},"Da wir dieselben pädagogischen Absichten verfolgen, können wir auch mit schwierigem Verhalten von Schülerinnen und Schülern klarkommen.",{"$f":"'PFB-Items'!B95","v":23},{"$f":"'PFB-Items'!C95","v":3.0434782608695654},{"$f":"'PFB-Items'!D95","v":0.11725214999360732},{"$f":"'PFB-Items'!E95","v":0.56232155711553322},{"$f":"'PFB-Items'!F95","v":0},{"$f":"'PFB-Items'!G95","v":0.13043478260869565},{"$f":"'PFB-Items'!H95","v":0.69565217391304346},{"$f":"'PFB-Items'!I95","v":0.17391304347826086},null,"I",5,"PFB (gesamt)",1,"63. Da wir dieselben pädagogischen Absichten verfolgen, können wir auch mit schwierigem Verhalten von Schülerinnen und Schülern klarkommen.\n","",""]
[{"$f":"'PFB-Items'!A96","v":"64. Auch mit außergewöhnlichen Vorfällen können wir zurechtkommen, da wir uns im Kollegium gegenseitig Rückhalt bieten."},"Da wir dieselben pädagogischen Absichten verfolgen, können wir auch mit schwierigem Verhalten von Schülerinnen und Schülern klarkommen.",{"$f":"'PFB-Items'!B96","v":23},{"$f":"'PFB-Items'!C96","v":3.2173913043478257},{"$f":"'PFB-Items'!D96","v":8.7939112495205501E-2},{"$f":"'PFB-Items'!E96","v":0.42174116783665},{"$f":"'PFB-Items'!F96","v":0},{"$f":"'PFB-Items'!G96","v":0},{"$f":"'PFB-Items'!H96","v":0.78260869565217395},{"$f":"'PFB-Items'!I96","v":0.21739130434782608},null,"I",5,"PFB (gesamt)",1,"64. Auch mit außergewöhnlichen Vorfällen können wir zurechtkommen, da wir uns im Kollegium gegenseitig Rückhalt bieten.\n","",""]
[{"$f":"'PFB-Items'!A97","v":"65. Als kompetentes Kollegium können wir an schwierigen Aufgaben wachsen."},"Da wir dieselben pädagogischen Absichten verfolgen, können wir auch mit schwierigem Verhalten von Schülerinnen und Schülern klarkommen.",{"$f":"'PFB-Items'!B97","v":20},{"$f":"'PFB-Items'!C97","v":3.1},{"$f":"'PFB-Items'!D97","v":0.14327007988227577},{"$f":"'PFB-Items'!E97","v":0.64072327551718744},{"$f":"'PFB-Items'!F97","v":0},{"$f":"'PFB-Items'!G97","v":0.15},{"$f":"'PFB-Items'!H97","v":0.6},{"$f":"'PFB-Items'!I97","v":0.25},null,"I",5,"PFB (gesamt)",1,"65. Als kompetentes Kollegium können wir an schwierigen Aufgaben wachsen.\n","",""]
[{"$f":"'PFB-Items'!A98","v":"66. Auch aus pädagogischen Fehlern und Rückschlägen können wir viel lernen, solange wir auf unsere gemeinsame Handlungskompetenz vertrauen."},"Da wir dieselben pädagogischen Absichten verfolgen, können wir auch mit schwierigem Verhalten von Schülerinnen und Schülern klarkommen.",{"$f":"'PFB-Items'!B98","v":20},{"$f":"'PFB-Items'!C98","v":3.0000000000000004},{"$f":"'PFB-Items'!D98","v":0.10259783520851541},{"$f":"'PFB-Items'!E98","v":0.45883146774112354},{"$f":"'PFB-Items'!F98","v":0},{"$f":"'PFB-Items'!G98","v":0.1},{"$f":"'PFB-Items'!H98","v":0.8},{"$f":"'PFB-Items'!I98","v":0.1},null,"I",5,"PFB (gesamt)",1,"66. Auch aus pädagogischen Fehlern und Rückschlägen können wir viel lernen, solange wir auf unsere gemeinsame Handlungskompetenz vertrauen.\n","",""]
[{"$f":"'PFB-Items'!A99","v":"67. Wir als Kollegium erzielen pädagogische Fortschritte und lassen uns nicht von Alltagsschwierigkeiten aus dem Konzept bringen."},"Da wir dieselben pädagogischen Absichten verfolgen, können wir auch mit schwierigem Verhalten von Schülerinnen und Schülern klarkommen.",{"$f":"'PFB-Items'!B99","v":22},{"$f":"'PFB-Items'!C99","v":2.8636363636363629},{"$f":"'PFB-Items'!D99","v":0.1194405165482372},{"$f":"'PFB-Items'!E99","v":0.56022568117930294},{"$f":"'PFB-Items'!F99","v":0},{"$f":"'PFB-Items'!G99","v":0.22727272727272727},{"$f":"'PFB-Items'!H99","v":0.68181818181818177},{"$f":"'PFB-Items'!I99","v":9.0909090909090912E-2},null,"I",5,"PFB (gesamt)",1,"67. Wir als Kollegium erzielen pädagogische Fortschritte und lassen uns nicht von Alltagsschwierigkeiten aus dem Konzept bringen.\n","",""]
[{"$f":"'PFB-Items'!A100","v":"68. Trotz der Systemzwänge können wir als Kollegium die pädagogische Qualität unserer Schule verbessern."},"Da wir dieselben pädagogischen Absichten verfolgen, können wir auch mit schwierigem Verhalten von Schülerinnen und Schülern klarkommen.",{"$f":"'PFB-Items'!B100","v":20},{"$f":"'PFB-Items'!C100","v":2.8},{"$f":"'PFB-Items'!D100","v":0.15559732104309981},{"$f":"'PFB-Items'!E100","v":0.69585237393845933},{"$f":"'PFB-Items'!F100","v":0},{"$f":"'PFB-Items'!G100","v":0.35},{"$f":"'PFB-Items'!H100","v":0.5},{"$f":"'PFB-Items'!I100","v":0.15},null,"I",5,"PFB (gesamt)",1,"68. Trotz der Systemzwänge können wir als Kollegium die pädagogische Qualität unserer Schule verbessern.\n","",""]
[null,null,null,null,null,null,null,null,null,null,null,"","","","","","",""]
["Den Unterricht kontinuierlich mithilfe von Feedback und Daten weiterentwickeln (QB 2.6)",null,null,null,null,null,null,null,null,null,null,"","","","","","rot","Den Unterricht kontinuierlich mithilfe von Feedback und Daten weiterentwickeln (QB 2.6)"]
[null,null,null,null,null,null,null,null,null,null,null,"","","","","","",""]
["Die Lehr- und Lernprozesse werden systematisch evaluiert.",null,null,null,null,null,null,null,null,null,null,"","","","","","grau","Die Lehr- und Lernprozesse werden systematisch evaluiert."]
[null,null,null,null,null,null,null,null,null,null,null,"","","","","","",""]
[null,null,{"$f":"CONCATENATE(\"Inspizierte Schule \",$I$1,\"\")","v":"Inspizierte Schule (5274)"},null,null,"Referenzwert",null,null,"Effektstärke",null,null,"","","","","","",""]
["PFB: Konstrukt",null,"N","MW","SD","N","MW","SD","D","Effekt",null,1,"","","","","",""]
[{"$f":"\"PFB: \" & 'Effektstärken PuP'!A31","v":"PFB: Systematische Schul- und Unterrichtsentwicklung"},null,{"$f":"'Effektstärken PuP'!C31","v":23},{"$f":"'Effektstärken PuP'!D31","v":2.8393374741200823},{"$f":"'Effektstärken PuP'!E31","v":0.65542936053617862},{"$f":"'Effektstärken PuP'!F31","v":349},{"$f":"'Effektstärken PuP'!G31","v":3.1619929999999998},{"$f":"'Effektstärken PuP'!H31","v":0.54768559999999999},{"$f":"'Effektstärken PuP'!I31","v":-0.53422894977966573},{"$f":"'Effektstärken PuP'!J31","v":"--"},null,"K",1,"PFB (gesamt)",1,"","",""]
[null,null,null,null,null,null,null,null,null,null,null,"","","","","","",""]
[{"$f":"A287","v":"PFB: Systematische Schul- und Unterrichtsentwicklung"},null,"N","MW","SE","SD","trifft\nnicht zu","trifft eher\n nicht zu","trifft\neher zu","trifft\nvoll zu",null,5,"","","","PFB: Systematische Schul- und Unterrichtsentwicklung","",""]
["An unserer Schule...",null,null,null,null,null,null,null,null,null,null,"B","","","","An unserer Schule...","",""]
[{"$f":"'PFB-Items'!A80","v":"52. ...sind Zuständigkeiten für Entwicklungsmaßnahmen klar festgelegt."},"An unserer Schule sind Zuständigkeiten für Entwicklungsmaßnahmen klar festgelegt.",{"$f":"'PFB-Items'!B80","v":21},{"$f":"'PFB-Items'!C80","v":3.0952380952380953},{"$f":"'PFB-Items'!D80","v":0.13636020060263196},{"$f":"'PFB-Items'!E80","v":0.62488094104092384},{"$f":"'PFB-Items'!F80","v":0},{"$f":"'PFB-Items'!G80","v":0.14285714285714285},{"$f":"'PFB-Items'!H80","v":0.61904761904761907},{"$f":"'PFB-Items'!I80","v":0.23809523809523805},null,"I",5,"PFB (gesamt)",1,"52. ...sind Zuständigkeiten für Entwicklungsmaßnahmen klar festgelegt.\n","",""]
[{"$f":"'PFB-Items'!A81","v":"53. ...werden die Pädagoginnen und Pädagogen bei wichtigen Entscheidungen systematisch beteiligt."},"An unserer Schule sind Zuständigkeiten für Entwicklungsmaßnahmen klar festgelegt.",{"$f":"'PFB-Items'!B81","v":22},{"$f":"'PFB-Items'!C81","v":3.2727272727272729},{"$f":"'PFB-Items'!D81","v":0.11736313170325503},{"$f":"'PFB-Items'!E81","v":0.5504818825631802},{"$f":"'PFB-Items'!F81","v":0},{"$f":"'PFB-Items'!G81","v":4.5454545454545456E-2},{"$f":"'PFB-Items'!H81","v":0.63636363636363635},{"$f":"'PFB-Items'!I81","v":0.31818181818181818},null,"I",5,"PFB (gesamt)",1,"53. ...werden die Pädagoginnen und Pädagogen bei wichtigen Entscheidungen systematisch beteiligt.\n","",""]
[{"$f":"'PFB-Items'!A82","v":"54. ...haben wir Entwicklungsprioritäten erarbeitet."},"An unserer Schule sind Zuständigkeiten für Entwicklungsmaßnahmen klar festgelegt.",{"$f":"'PFB-Items'!B82","v":18},{"$f":"'PFB-Items'!C82","v":3.1666666666666665},{"$f":"'PFB-Items'!D82","v":0.16666666666666669},{"$f":"'PFB-Items'!E82","v":0.70710678118654757},{"$f":"'PFB-Items'!F82","v":0},{"$f":"'PFB-Items'!G82","v":0.16666666666666663},{"$f":"'PFB-Items'!H82","v":0.5},{"$f":"'PFB-Items'!I82","v":0.33333333333333326},null,"I",5,"PFB (gesamt)",1,"54. ...haben wir Entwicklungsprioritäten erarbeitet.\n","",""]
[{"$f":"'PFB-Items'!A83","v":"55. ...werden die Ergebnisse wichtiger Maßnahmen unserer Schulentwicklung systematisch dokumentiert und öffentlich gemacht."},"An unserer Schule sind Zuständigkeiten für Entwicklungsmaßnahmen klar festgelegt.",{"$f":"'PFB-Items'!B83","v":19},{"$f":"'PFB-Items'!C83","v":3.2105263157894735},{"$f":"'PFB-Items'!D83","v":0.1446703728286898},{"$f":"'PFB-Items'!E83","v":0.63060353528461144},{"$f":"'PFB-Items'!F83","v":0},{"$f":"'PFB-Items'!G83","v":0.10526315789473684},{"$f":"'PFB-Items'!H83","v":0.57894736842105265},{"$f":"'PFB-Items'!I83","v":0.31578947368421051},null,"I",5,"PFB (gesamt)",1,"55. ...werden die Ergebnisse wichtiger Maßnahmen unserer Schulentwicklung systematisch dokumentiert und öffentlich gemacht.\n","",""]
[{"$f":"'PFB-Items'!A84","v":"56. ...werden die schulischen Entwicklungsmaßnahmen regelmäßig empirisch überprüft."},"An unserer Schule sind Zuständigkeiten für Entwicklungsmaßnahmen klar festgelegt.",{"$f":"'PFB-Items'!B84","v":17},{"$f":"'PFB-Items'!C84","v":2.5294117647058822},{"$f":"'PFB-Items'!D84","v":0.15140632560275},{"$f":"'PFB-Items'!E84","v":0.62426427284679775},{"$f":"'PFB-Items'!F84","v":5.8823529411764698E-2},{"$f":"'PFB-Items'!G84","v":0.35294117647058826},{"$f":"'PFB-Items'!H84","v":0.58823529411764708},{"$f":"'PFB-Items'!I84","v":0},null,"I",5,"PFB (gesamt)",1,"56. ...werden die schulischen Entwicklungsmaßnahmen regelmäßig empirisch überprüft.\n","",""]
[{"$f":"'PFB-Items'!A85","v":"57. ...ziehen wir regelmäßig Ergebnisse aus der schulinternen Evaluation zur Unterrichtsentwicklung heran."},"An unserer Schule sind Zuständigkeiten für Entwicklungsmaßnahmen klar festgelegt.",{"$f":"'PFB-Items'!B85","v":15},{"$f":"'PFB-Items'!C85","v":2.4},{"$f":"'PFB-Items'!D85","v":0.19023794624226834},{"$f":"'PFB-Items'!E85","v":0.73678839761300718},{"$f":"'PFB-Items'!F85","v":0.13333333333333333},{"$f":"'PFB-Items'!G85","v":0.33333333333333326},{"$f":"'PFB-Items'!H85","v":0.53333333333333333},{"$f":"'PFB-Items'!I85","v":0},null,"I",5,"PFB (gesamt)",1,"57. ...ziehen wir regelmäßig Ergebnisse aus der schulinternen Evaluation zur Unterrichtsentwicklung heran.\n","",""]
[{"$f":"'PFB-Items'!A86","v":"58. ...gibt es ein systematisches Konzept zur Einführung neuer Kolleginnen und Kollegen (bspw. Mentorinnen und Mentoren, Einarbeitungshandbuch)."},"An unserer Schule sind Zuständigkeiten für Entwicklungsmaßnahmen klar festgelegt.",{"$f":"'PFB-Items'!B86","v":22},{"$f":"'PFB-Items'!C86","v":2.3181818181818175},{"$f":"'PFB-Items'!D86","v":0.15270098722473827},{"$f":"'PFB-Items'!E86","v":0.71623111701950859},{"$f":"'PFB-Items'!F86","v":0.13636363636363635},{"$f":"'PFB-Items'!G86","v":0.40909090909090912},{"$f":"'PFB-Items'!H86","v":0.45454545454545453},{"$f":"'PFB-Items'!I86","v":0},null,"I",5,"PFB (gesamt)",1,"58. ...gibt es ein systematisches Konzept zur Einführung neuer Kolleginnen und Kollegen (bspw. Mentorinnen und Mentoren, Einarbeitungshandbuch).\n","",""]
[null,null,null,null,null,null,null,null,null,null,null,"","","","","","",""]
[{"$f":"\"SFB: \" & 'SFB-Konstrukte'!A21","v":"SFB: Feedbackmöglichkeit im Unterricht\n(Einzelitems)"},null,"N","MW","SE","SD","stimmt\ngar nicht","stimmt\neher nicht","stimmt\neher","stimmt\ngenau",null,6,"","","","SFB: Feedbackmöglichkeit im Unterricht\n(Einzelitems)","",""]
[{"$f":"'SFB-Items'!A19","v":"07. Mein Lehrer/Meine Lehrerin fragt mich, wie mir die Schule gefällt."},"Unsere Lehrerinnen und Lehrer fragen uns nach unserer Meinung zu ihrem Unterricht.",{"$f":"'SFB-Items'!B19","v":50},{"$f":"'SFB-Items'!C19","v":2.2800000000000002},{"$f":"'SFB-Items'!D19","v":0.16912741242227133},{"$f":"'SFB-Items'!E19","v":1.19591140208322},{"$f":"'SFB-Items'!F19","v":0.36},{"$f":"'SFB-Items'!G19","v":0.24},{"$f":"'SFB-Items'!H19","v":0.16},{"$f":"'SFB-Items'!I19","v":0.24},null,"I",6,"SFB",2,"07. Mein Lehrer/Meine Lehrerin fragt mich, wie mir die Schule gefällt.\n","",""]
[{"$f":"'SFB-Items'!A22","v":"10. Meine Lehrer/Meine Lehrerinnen fragen mich, wie mir der Unterricht gefällt."},"Unsere Lehrerinnen und Lehrer fragen uns nach unserer Meinung zu ihrem Unterricht.",{"$f":"'SFB-Items'!B22","v":50},{"$f":"'SFB-Items'!C22","v":2.5399999999999996},{"$f":"'SFB-Items'!D22","v":0.16953718513310626},{"$f":"'SFB-Items'!E22","v":1.1988089327089857},{"$f":"'SFB-Items'!F22","v":0.26},{"$f":"'SFB-Items'!G22","v":0.26},{"$f":"'SFB-Items'!H22","v":0.16},{"$f":"'SFB-Items'!I22","v":0.32},null,"I",6,"SFB",2,"10. Meine Lehrer/Meine Lehrerinnen fragen mich, wie mir der Unterricht gefällt.\n","",""]
[null,null,null,null,null,null,null,null,null,null,null,"","","","","","",""]
["PÄDAGOGISCHE QUALITÄT",null,null,null,null,null,null,null,null,null,null,"","","","","","blau","PÄDAGOGISCHE QUALITÄT"]
[null,null,null,null,null,null,null,null,null,null,null,"","","","","","",""]
["Lehr- und Lernprozesse gestalten (QB 2.1)",null,null,null,null,null,null,null,null,null,null,"","","","","","rot","Lehr- und Lernprozesse gestalten (QB 2.1)"]
[null,null,null,null,null,null,null,null,null,null,null,"","","","","","",""]
["Die Klassenführung ist effizient.",null,null,null,null,null,null,null,null,null,null,"","","","","","grau","Die Klassenführung ist effizient."]
[null,null,null,null,null,null,null,null,null,null,null,"","","","","","",""]
[null,null,{"$f":"CONCATENATE(\"Inspizierte Schule \",$I$1,\"\")","v":"Inspizierte Schule (5274)"},null,null,"Referenzwert",null,null,"Effektstärke",null,null,"","","","","","",""]
["PFB: Konstrukt",null,"N","MW","SD","N","MW","SD","D","Effekt",null,1,"","","","","",""]
[{"$f":"\"PFB: \" & 'Effektstärken PuP'!A32","v":"PFB: Klassenführung"},null,{"$f":"'Effektstärken PuP'!C32","v":23},{"$f":"'Effektstärken PuP'!D32","v":3.1858178053830231},{"$f":"'Effektstärken PuP'!E32","v":0.33429840834180885},{"$f":"'Effektstärken PuP'!F32","v":349},{"$f":"'Effektstärken PuP'!G32","v":3.3885049999999999},{"$f":"'Effektstärken PuP'!H32","v":0.32007999999999998},{"$f":"'Effektstärken PuP'!I32","v":-0.61933390084304973},{"$f":"'Effektstärken PuP'!J32","v":"--"},null,"K",1,"PFB (gesamt)",1,"","",""]
[null,null,null,null,null,null,null,null,null,null,null,"","","","","","",""]
[{"$f":"A311","v":"PFB: Klassenführung"},null,"N","MW","SE","SD","trifft\nnicht zu","trifft eher\n nicht zu","trifft\neher zu","trifft\nvoll zu",null,5,"","","","PFB: Klassenführung","",""]
[{"$f":"'PFB-Items'!A70","v":"44. Ich bespreche den Ablauf der Stunde mit den Schülerinnen und Schülern."},"Ich bespreche den Ablauf der Stunde mit den Schülerinnen und Schülern.",{"$f":"'PFB-Items'!B70","v":15},{"$f":"'PFB-Items'!C70","v":3},{"$f":"'PFB-Items'!D70","v":0.13801311186847084},{"$f":"'PFB-Items'!E70","v":0.53452248382484879},{"$f":"'PFB-Items'!F70","v":0},{"$f":"'PFB-Items'!G70","v":0.13333333333333333},{"$f":"'PFB-Items'!H70","v":0.73333333333333328},{"$f":"'PFB-Items'!I70","v":0.13333333333333333},null,"I",5,"PFB (gesamt)",1,"44. Ich bespreche den Ablauf der Stunde mit den Schülerinnen und Schülern.\n","",""]
[{"$f":"'PFB-Items'!A71","v":"45. Ich gebe den Schülerinnen und Schülern zu Beginn der Stunde eine Übersicht darüber, was in der Stunde gelernt werden soll."},"Ich bespreche den Ablauf der Stunde mit den Schülerinnen und Schülern.",{"$f":"'PFB-Items'!B71","v":15},{"$f":"'PFB-Items'!C71","v":3.0666666666666669},{"$f":"'PFB-Items'!D71","v":0.15327120894696267},{"$f":"'PFB-Items'!E71","v":0.59361683970466361},{"$f":"'PFB-Items'!F71","v":0},{"$f":"'PFB-Items'!G71","v":0.13333333333333333},{"$f":"'PFB-Items'!H71","v":0.66666666666666652},{"$f":"'PFB-Items'!I71","v":0.2},null,"I",5,"PFB (gesamt)",1,"45. Ich gebe den Schülerinnen und Schülern zu Beginn der Stunde eine Übersicht darüber, was in der Stunde gelernt werden soll.\n","",""]
[{"$f":"'PFB-Items'!A72","v":"46. Die Schülerinnen und Schüler hören im Unterricht zu."},"Ich bespreche den Ablauf der Stunde mit den Schülerinnen und Schülern.",{"$f":"'PFB-Items'!B72","v":20},{"$f":"'PFB-Items'!C72","v":3.2000000000000006},{"$f":"'PFB-Items'!D72","v":0.11697953037312032},{"$f":"'PFB-Items'!E72","v":0.52314836378059681},{"$f":"'PFB-Items'!F72","v":0},{"$f":"'PFB-Items'!G72","v":0.05},{"$f":"'PFB-Items'!H72","v":0.7},{"$f":"'PFB-Items'!I72","v":0.25},null,"I",5,"PFB (gesamt)",1,"46. Die Schülerinnen und Schüler hören im Unterricht zu.\n","",""]
[{"$f":"'PFB-Items'!A73","v":"47. Im Unterricht ist es laut und unruhig."},"Ich bespreche den Ablauf der Stunde mit den Schülerinnen und Schülern.",{"$f":"'PFB-Items'!B73","v":20},{"$f":"'PFB-Items'!C73","v":2.15},{"$f":"'PFB-Items'!D73","v":0.13128915456069915},{"$f":"'PFB-Items'!E73","v":0.58714294861239968},{"$f":"'PFB-Items'!F73","v":0.1},{"$f":"'PFB-Items'!G73","v":0.65},{"$f":"'PFB-Items'!H73","v":0.25},{"$f":"'PFB-Items'!I73","v":0},null,"I",5,"PFB (gesamt)",1,"47. Im Unterricht ist es laut und unruhig.\n","",""]
[{"$f":"'PFB-Items'!A74","v":"48. Ich stütze die Organisation des Unterrichts über Rituale und Prozeduren."},"Ich bespreche den Ablauf der Stunde mit den Schülerinnen und Schülern.",{"$f":"'PFB-Items'!B74","v":18},{"$f":"'PFB-Items'!C74","v":3.7777777777777768},{"$f":"'PFB-Items'!D74","v":0.10083169033033673},{"$f":"'PFB-Items'!E74","v":0.42779263194649875},{"$f":"'PFB-Items'!F74","v":0},{"$f":"'PFB-Items'!G74","v":0},{"$f":"'PFB-Items'!H74","v":0.22222222222222221},{"$f":"'PFB-Items'!I74","v":0.7777777777777779},null,"I",5,"PFB (gesamt)",1,"48. Ich stütze die Organisation des Unterrichts über Rituale und Prozeduren.\n","",""]
[{"$f":"'PFB-Items'!A75","v":"49. Während des Unterrichts achte ich darauf, dass alle Schülerinnen und Schüler konzentriert mitarbeiten."},"Ich bespreche den Ablauf der Stunde mit den Schülerinnen und Schülern.",{"$f":"'PFB-Items'!B75","v":20},{"$f":"'PFB-Items'!C75","v":3.75},{"$f":"'PFB-Items'!D75","v":9.9339926779878268E-2},{"$f":"'PFB-Items'!E75","v":0.44426165831931924},{"$f":"'PFB-Items'!F75","v":0},{"$f":"'PFB-Items'!G75","v":0},{"$f":"'PFB-Items'!H75","v":0.25},{"$f":"'PFB-Items'!I75","v":0.75},null,"I",5,"PFB (gesamt)",1,"49. Während des Unterrichts achte ich darauf, dass alle Schülerinnen und Schüler konzentriert mitarbeiten.\n","",""]
[{"$f":"'PFB-Items'!A76","v":"50. Die Klassenräume bieten mir die Möglichkeit der individuellen Unterstützung."},"Ich bespreche den Ablauf der Stunde mit den Schülerinnen und Schülern.",{"$f":"'PFB-Items'!B76","v":21},{"$f":"'PFB-Items'!C76","v":2.8095238095238093},{"$f":"'PFB-Items'!D76","v":0.17753668459340236},{"$f":"'PFB-Items'!E76","v":0.81357529578076659},{"$f":"'PFB-Items'!F76","v":0},{"$f":"'PFB-Items'!G76","v":0.42857142857142855},{"$f":"'PFB-Items'!H76","v":0.33333333333333326},{"$f":"'PFB-Items'!I76","v":0.23809523809523805},null,"I",5,"PFB (gesamt)",1,"50. Die Klassenräume bieten mir die Möglichkeit der individuellen Unterstützung.\n","",""]
[{"$f":"'PFB-Items'!A77","v":"51. In meinem Unterricht findet nach der Instruktion ein zügiger Übergang in die Arbeitsphase statt."},"Ich bespreche den Ablauf der Stunde mit den Schülerinnen und Schülern.",{"$f":"'PFB-Items'!B77","v":15},{"$f":"'PFB-Items'!C77","v":3.4666666666666668},{"$f":"'PFB-Items'!D77","v":0.1333333333333333},{"$f":"'PFB-Items'!E77","v":0.5163977794943222},{"$f":"'PFB-Items'!F77","v":0},{"$f":"'PFB-Items'!G77","v":0},{"$f":"'PFB-Items'!H77","v":0.53333333333333333},{"$f":"'PFB-Items'!I77","v":0.46666666666666662},null,"I",5,"PFB (gesamt)",1,"51. In meinem Unterricht findet nach der Instruktion ein zügiger Übergang in die Arbeitsphase statt.\n","",""]
[null,null,null,null,null,null,null,null,null,null,null,"","","","","","",""]
[null,null,{"$f":"CONCATENATE(\"Inspizierte Schule \",$I$1,\"\")","v":"Inspizierte Schule (5274)"},null,null,"Referenzwert",null,null,"Effektstärke",null,null,"","","","","","",""]
["SFB: Konstrukt",null,"N","MW","SD","N","MW","SD","D","Effekt",null,2,"","","","","",""]
[{"$f":"\"SFB: \" & 'Effektstärken SuS'!A11","v":"SFB: Klassenführung"},null,{"$f":"'Effektstärken SuS'!C11","v":51},{"$f":"'Effektstärken SuS'!D11","v":3.0522875816993467},{"$f":"'Effektstärken SuS'!E11","v":0.45110998422216697},{"$f":"'Effektstärken SuS'!F11","v":1719},{"$f":"'Effektstärken SuS'!G11","v":3.062201},{"$f":"'Effektstärken SuS'!H11","v":0.45105410000000001},{"$f":"'Effektstärken SuS'!I11","v":-2.1976973934139533E-2},{"$f":"'Effektstärken SuS'!J11","v":"Ø"},null,"K",2,"SFB",2,"","",""]
[null,null,null,null,null,null,null,null,null,null,null,"","","","","","",""]
[{"$f":"A325","v":"SFB: Klassenführung"},null,"N","MW","SE","SD","stimmt\ngar nicht","stimmt\neher nicht","stimmt\neher","stimmt\ngenau",null,6,"","","","SFB: Klassenführung","",""]
[{"$f":"'SFB-Items'!A40","v":"20. Meine Lehrer/Meine Lehrerinnen stellen die Aufgaben so, dass ich sie verstehe."},"Die Lehrerinnen und Lehrer erklären die Aufgaben verständlich.",{"$f":"'SFB-Items'!B40","v":51},{"$f":"'SFB-Items'!C40","v":3.6274509803921569},{"$f":"'SFB-Items'!D40","v":7.3888014436928509E-2},{"$f":"'SFB-Items'!E40","v":0.52766596682846578},{"$f":"'SFB-Items'!F40","v":0},{"$f":"'SFB-Items'!G40","v":1.9607843137254902E-2},{"$f":"'SFB-Items'!H40","v":0.33333333333333326},{"$f":"'SFB-Items'!I40","v":0.64705882352941169},null,"I",6,"SFB",2,"20. Meine Lehrer/Meine Lehrerinnen stellen die Aufgaben so, dass ich sie verstehe.\n","",""]
[{"$f":"'SFB-Items'!A41","v":"21. Meine Lehrer/Meine Lehrerinnen besprechen mit uns, was wir in der Stunde machen."},"Die Lehrerinnen und Lehrer erklären die Aufgaben verständlich.",{"$f":"'SFB-Items'!B41","v":51},{"$f":"'SFB-Items'!C41","v":3.8039215686274512},{"$f":"'SFB-Items'!D41","v":5.6148317895201388E-2},{"$f":"'SFB-Items'!E41","v":0.40097919363165246},{"$f":"'SFB-Items'!F41","v":0},{"$f":"'SFB-Items'!G41","v":0},{"$f":"'SFB-Items'!H41","v":0.19607843137254904},{"$f":"'SFB-Items'!I41","v":0.80392156862745101},null,"I",6,"SFB",2,"21. Meine Lehrer/Meine Lehrerinnen besprechen mit uns, was wir in der Stunde machen.\n","",""]
[{"$f":"'SFB-Items'!A42","v":"22. Ich kann mich im Unterricht gut konzentrieren."},"Die Lehrerinnen und Lehrer erklären die Aufgaben verständlich.",{"$f":"'SFB-Items'!B42","v":51},{"$f":"'SFB-Items'!C42","v":2.9999999999999996},{"$f":"'SFB-Items'!D42","v":0.12524485821702988},{"$f":"'SFB-Items'!E42","v":0.89442719099991586},{"$f":"'SFB-Items'!F42","v":3.9215686274509803E-2},{"$f":"'SFB-Items'!G42","v":0.27450980392156865},{"$f":"'SFB-Items'!H42","v":0.33333333333333326},{"$f":"'SFB-Items'!I42","v":0.35294117647058826},null,"I",6,"SFB",2,"22. Ich kann mich im Unterricht gut konzentrieren.\n","",""]
[{"$f":"'SFB-Items'!A43","v":"23. Es dauert lange, bis alle Kinder anfangen zu arbeiten."},"Die Lehrerinnen und Lehrer erklären die Aufgaben verständlich.",{"$f":"'SFB-Items'!B43","v":48},{"$f":"'SFB-Items'!C43","v":2.9375},{"$f":"'SFB-Items'!D43","v":0.14404937219997063},{"$f":"'SFB-Items'!E43","v":0.99800332579499562},{"$f":"'SFB-Items'!F43","v":0.125},{"$f":"'SFB-Items'!G43","v":0.14583333333333334},{"$f":"'SFB-Items'!H43","v":0.39583333333333326},{"$f":"'SFB-Items'!I43","v":0.33333333333333326},null,"I",6,"SFB",2,"23. Es dauert lange, bis alle Kinder anfangen zu arbeiten.\n","",""]
[{"$f":"'SFB-Items'!A44","v":"24. Die Kinder hören den Lehrern/Lehrerinnen nicht zu."},"Die Lehrerinnen und Lehrer erklären die Aufgaben verständlich.",{"$f":"'SFB-Items'!B44","v":47},{"$f":"'SFB-Items'!C44","v":2.3404255319148932},{"$f":"'SFB-Items'!D44","v":0.1264201317732212},{"$f":"'SFB-Items'!E44","v":0.86669275797439005},{"$f":"'SFB-Items'!F44","v":0.1702127659574468},{"$f":"'SFB-Items'!G44","v":0.40425531914893609},{"$f":"'SFB-Items'!H44","v":0.34042553191489361},{"$f":"'SFB-Items'!I44","v":8.5106382978723402E-2},null,"I",6,"SFB",2,"24. Die Kinder hören den Lehrern/Lehrerinnen nicht zu.\n","",""]
[null,null,null,null,null,null,null,null,null,null,null,"","","","","","",""]
[null,null,{"$f":"CONCATENATE(\"Inspizierte Schule \",$I$1,\"\")","v":"Inspizierte Schule (5274)"},null,null,"Referenzwert",null,null,"Effektstärke",null,null,"","","","","","",""]
["SFB: Konstrukt",null,"N","MW","SD","N","MW","SD","D","Effekt",null,2,"","","","","",""]
[{"$f":"\"SFB: \" & 'Effektstärken SuS'!A12","v":"SFB: Klassenführung im digital gestützten Unterricht"},null,{"$f":"'Effektstärken SuS'!C12","v":3},{"$f":"'Effektstärken SuS'!D12","v":3.5833333333333335},{"$f":"'Effektstärken SuS'!E12","v":0.72168783648703227},{"$f":"'Effektstärken SuS'!F12","v":"-"},{"$f":"'Effektstärken SuS'!G12","v":"-"},{"$f":"'Effektstärken SuS'!H12","v":"-"},{"$f":"'Effektstärken SuS'!I12","v":"o.R."},{"$f":"'Effektstärken SuS'!J12","v":"o.R."},null,"K",2,"SFB",2,"","",""]
[null,null,null,null,null,null,null,null,null,null,null,{"$f":"IF(A337=\"\",\"\",\nIF(A337=\"PFB: Konstrukt\",1,IF(A337=\"SFB: Konstrukt\",2,IF(A337=\"EFB: Konstrukt\",3,\nIF(OR(A336=\"PFB: Konstrukt\",A336=\"SFB: Konstrukt\",A336=\"EFB: Konstrukt\"),\"K\",\n\nIF(LEFT(A337,3)=\"PFB\",5,IF(LEFT(A337,3)=\"SFB\",6,IF(LEFT(A337,3)=\"EFB\",7,\nIF(OR(LEFT(A337,1)=\"0\", LEFT(A337,1)=\"1\", LEFT(A337,1)=\"2\", LEFT(A337,1)=\"3\", LEFT(A337,1)=\"4\", LEFT(A337,1)=\"5\", LEFT(A337,1)=\"6\", LEFT(A337,1)=\"7\", LEFT(A337,1)=\"8\", LEFT(A337,1)=\"9\"),\"I\",IF(A336=\"\",\"\",\"B\"))))))))))","v":""},{"$f":"IF(L337=\"K\",L336,IF(L337=\"I\",IF(L336=\"B\",L335,IF(AND(L336>=1,L336<=8),L336,M336)),\"\"))","v":""},{"$f":"IF(M337=\"\",\"\",\nIF(OR(M337=1,M337=5),IF(M336=5,N336,IF(L337=\"K\",VLOOKUP(A337,$S$14:$T$43,2,0),IF(L337=\"I\",IF(L336=\"B\",VLOOKUP(A333,$S$14:$T$43,2,0),VLOOKUP(A334,$S$14:$T$43,2,0)),\"Fehler\"))),\nIF(OR(M337=2,M337=6),\"SFB\",\nIF(OR(M337=3,M337=7),\"EFB\",\"\"))))","v":""},{"$f":"IF(OR(N337=0,N337=\"\"),\"\",\nIF(ISERROR(VLOOKUP(N337,$A$8:$H$11,7,0)),\"Fehler\",\nIF(OR(VLOOKUP(N337,$A$8:$H$11,7,0)<=0.2,VLOOKUP(N337,$A$8:$H$11,4,0)=\"<=10\"),4,IF(VLOOKUP(N337,$A$8:$H$11,7,0)>=0.5,1,IF(AND(VLOOKUP(N337,$A$8:$H$11,7,0)>0.2,VLOOKUP(N337,$A$8:$H$11,7,0)<0.5),2,\"Fehler\")))))","v":""},{"$f":"IF(OR(LEFT(A337,1)=\"0\",LEFT(A337,1)=\"1\",LEFT(A337,1)=\"2\",LEFT(A337,1)=\"3\",LEFT(A337,1)=\"4\",LEFT(A337,1)=\"5\",LEFT(A337,1)=\"6\",LEFT(A337,1)=\"7\",LEFT(A337,1)=\"8\",LEFT(A337,1)=\"9\"), A337 &\"\n\",IF(OR(L337=5,L337=6,L337=7,L337=8,L337=\"B\"),A337,\"\"))","v":""},{"$f":"IF(AND(L337=\"\",A337<>\"\"),IF(RIGHT(A337,1)=\".\",\"grau\",IF(RIGHT(A337,1)=\")\",\"rot\",\"blau\")),\"\")","v":""},{"$f":"IF(Q337<>\"\",A337,\"\")","v":""}]
[{"$f":"A336","v":"SFB: Klassenführung im digital gestützten Unterricht"},null,"N","MW","SE","SD","stimmt\ngar nicht","stimmt\neher nicht","stimmt\neher","stimmt\ngenau",null,6,"","","","SFB: Klassenführung im digital gestützten Unterricht","",""]
["Im Online-Unterricht/auf der Lernplattform...",null,null,null,null,null,null,null,null,null,null,"B","","","","Im Online-Unterricht/auf der Lernplattform...","",""]
[{"$f":"'SFB-Items'!A72","v":"40. ...ist die Aufgabe so erklärt, dass ich weiß, was ich tun soll."},null,{"$f":"'SFB-Items'!B72","v":3},{"$f":"'SFB-Items'!C72","v":4},{"$f":"'SFB-Items'!D72","v":0},{"$f":"'SFB-Items'!E72","v":0},{"$f":"'SFB-Items'!F72","v":0},{"$f":"'SFB-Items'!G72","v":0},{"$f":"'SFB-Items'!H72","v":0},{"$f":"'SFB-Items'!I72","v":1},null,"I",6,"SFB",2,"40. ...ist die Aufgabe so erklärt, dass ich weiß, was ich tun soll.\n","",""]
[{"$f":"'SFB-Items'!A73","v":"41. ...ist für mein Lernen alles gut vorbereitet und geplant."},null,{"$f":"'SFB-Items'!B73","v":3},{"$f":"'SFB-Items'!C73","v":3.3333333333333335},{"$f":"'SFB-Items'!D73","v":0.66666666666666663},{"$f":"'SFB-Items'!E73","v":1.1547005383792515},{"$f":"'SFB-Items'!F73","v":0},{"$f":"'SFB-Items'!G73","v":0.33333333333333326},{"$f":"'SFB-Items'!H73","v":0},{"$f":"'SFB-Items'!I73","v":0.66666666666666652},null,"I",6,"SFB",2,"41. ...ist für mein Lernen alles gut vorbereitet und geplant.\n","",""]
[{"$f":"'SFB-Items'!A74","v":"42. ...kennen wir die Regeln, die wir einhalten müssen (z.B. Abgabefrist von Aufgaben)."},null,{"$f":"'SFB-Items'!B74","v":2},{"$f":"'SFB-Items'!C74","v":4},{"$f":"'SFB-Items'!D74","v":0},{"$f":"'SFB-Items'!E74","v":0},{"$f":"'SFB-Items'!F74","v":0},{"$f":"'SFB-Items'!G74","v":0},{"$f":"'SFB-Items'!H74","v":0},{"$f":"'SFB-Items'!I74","v":1},null,"I",6,"SFB",2,"42. ...kennen wir die Regeln, die wir einhalten müssen (z.B. Abgabefrist von Aufgaben).\n","",""]
[{"$f":"'SFB-Items'!A75","v":"43. ...merkt meine Lehrerin/mein Lehrer, wenn ich Aufgaben nicht gemacht habe."},null,{"$f":"'SFB-Items'!B75","v":2},{"$f":"'SFB-Items'!C75","v":2.5},{"$f":"'SFB-Items'!D75","v":1.4999999999999998},{"$f":"'SFB-Items'!E75","v":2.1213203435596424},{"$f":"'SFB-Items'!F75","v":0.5},{"$f":"'SFB-Items'!G75","v":0},{"$f":"'SFB-Items'!H75","v":0},{"$f":"'SFB-Items'!I75","v":0.5},null,"I",6,"SFB",2,"43. ...merkt meine Lehrerin/mein Lehrer, wenn ich Aufgaben nicht gemacht habe.\n","",""]
[null,null,null,null,null,null,null,null,null,null,null,"","","","","","",""]
["Die Schülerinnen und Schüler werden in ihrem Lernen konstruktiv unterstützt.",null,null,null,null,null,null,null,null,null,null,"","","","","","grau","Die Schülerinnen und Schüler werden in ihrem Lernen konstruktiv unterstützt."]
[null,null,null,null,null,null,null,null,null,null,null,"","","","","","",""]
[null,null,{"$f":"CONCATENATE(\"Inspizierte Schule \",$I$1,\"\")","v":"Inspizierte Schule (5274)"},null,null,"Referenzwert",null,null,"Effektstärke",null,null,"","","","","","",""]
["PFB: Konstrukt",null,"N","MW","SD","N","MW","SD","D","Effekt",null,1,"","","","","",""]
[{"$f":"\"PFB: \" & 'Effektstärken PuP'!A33","v":"PFB: Konstruktive Unterstützung"},null,{"$f":"'Effektstärken PuP'!C33","v":21},{"$f":"'Effektstärken PuP'!D33","v":3.646258503401361},{"$f":"'Effektstärken PuP'!E33","v":0.35748283138180253},{"$f":"'Effektstärken PuP'!F33","v":349},{"$f":"'Effektstärken PuP'!G33","v":3.6071140000000002},{"$f":"'Effektstärken PuP'!H33","v":0.29969129999999999},{"$f":"'Effektstärken PuP'!I33","v":0.11867179425895141},{"$f":"'Effektstärken PuP'!J33","v":"Ø"},null,"K",1,"PFB (gesamt)",1,"","",""]
[null,null,null,null,null,null,null,null,null,null,null,"","","","","","",""]
[{"$f":"A349","v":"PFB: Konstruktive Unterstützung"},null,"N","MW","SE","SD","trifft\nnicht zu","trifft eher\n nicht zu","trifft\neher zu","trifft\nvoll zu",null,5,"","","","PFB: Konstruktive Unterstützung","",""]
[{"$f":"'PFB-Items'!A61","v":"37. Ich traue den Schülerinnen und Schülern auch die Lösung schwieriger Aufgaben zu."},"Ich traue den Schülerinnen und Schülern auch die Lösung schwieriger Aufgaben zu.",{"$f":"'PFB-Items'!B61","v":20},{"$f":"'PFB-Items'!C61","v":3.55},{"$f":"'PFB-Items'!D61","v":0.11413288653790231},{"$f":"'PFB-Items'!E61","v":0.51041778553404038},{"$f":"'PFB-Items'!F61","v":0},{"$f":"'PFB-Items'!G61","v":0},{"$f":"'PFB-Items'!H61","v":0.45},{"$f":"'PFB-Items'!I61","v":0.55000000000000004},null,"I",5,"PFB (gesamt)",1,"37. Ich traue den Schülerinnen und Schülern auch die Lösung schwieriger Aufgaben zu.\n","",""]
[{"$f":"'PFB-Items'!A62","v":"38. Ich ermuntere die Schülerinnen und Schüler, auch bei schwierigen Aufgaben erst einmal selbst die richtige Lösung zu finden."},"Ich traue den Schülerinnen und Schülern auch die Lösung schwieriger Aufgaben zu.",{"$f":"'PFB-Items'!B62","v":20},{"$f":"'PFB-Items'!C62","v":3.7500000000000004},{"$f":"'PFB-Items'!D62","v":9.9339926779878268E-2},{"$f":"'PFB-Items'!E62","v":0.44426165831931919},{"$f":"'PFB-Items'!F62","v":0},{"$f":"'PFB-Items'!G62","v":0},{"$f":"'PFB-Items'!H62","v":0.25},{"$f":"'PFB-Items'!I62","v":0.75},null,"I",5,"PFB (gesamt)",1,"38. Ich ermuntere die Schülerinnen und Schüler, auch bei schwierigen Aufgaben erst einmal selbst die richtige Lösung zu finden.\n","",""]
[{"$f":"'PFB-Items'!A63","v":"39. Ich versuche, die Schülerinnen und Schüler für den Unterrichtsgegenstand zu begeistern."},"Ich traue den Schülerinnen und Schülern auch die Lösung schwieriger Aufgaben zu.",{"$f":"'PFB-Items'!B63","v":20},{"$f":"'PFB-Items'!C63","v":3.85},{"$f":"'PFB-Items'!D63","v":8.1917802190912534E-2},{"$f":"'PFB-Items'!E63","v":0.36634754853252327},{"$f":"'PFB-Items'!F63","v":0},{"$f":"'PFB-Items'!G63","v":0},{"$f":"'PFB-Items'!H63","v":0.15},{"$f":"'PFB-Items'!I63","v":0.85},null,"I",5,"PFB (gesamt)",1,"39. Ich versuche, die Schülerinnen und Schüler für den Unterrichtsgegenstand zu begeistern.\n","",""]
[{"$f":"'PFB-Items'!A64","v":"40. Ich gebe den Schülerinnen und Schülern Aufgaben entsprechend ihrer individuellen Fähigkeiten."},"Ich traue den Schülerinnen und Schülern auch die Lösung schwieriger Aufgaben zu.",{"$f":"'PFB-Items'!B64","v":21},{"$f":"'PFB-Items'!C64","v":3.4761904761904763},{"$f":"'PFB-Items'!D64","v":0.11167656571008168},{"$f":"'PFB-Items'!E64","v":0.51176631571915909},{"$f":"'PFB-Items'!F64","v":0},{"$f":"'PFB-Items'!G64","v":0},{"$f":"'PFB-Items'!H64","v":0.52380952380952384},{"$f":"'PFB-Items'!I64","v":0.47619047619047611},null,"I",5,"PFB (gesamt)",1,"40. Ich gebe den Schülerinnen und Schülern Aufgaben entsprechend ihrer individuellen Fähigkeiten.\n","",""]
[{"$f":"'PFB-Items'!A65","v":"41. Ich gestalte den Unterricht so, dass die Schülerinnen und Schüler individuell lernen können."},"Ich traue den Schülerinnen und Schülern auch die Lösung schwieriger Aufgaben zu.",{"$f":"'PFB-Items'!B65","v":20},{"$f":"'PFB-Items'!C65","v":3.5000000000000004},{"$f":"'PFB-Items'!D65","v":0.11470786693528084},{"$f":"'PFB-Items'!E65","v":0.51298917604257688},{"$f":"'PFB-Items'!F65","v":0},{"$f":"'PFB-Items'!G65","v":0},{"$f":"'PFB-Items'!H65","v":0.5},{"$f":"'PFB-Items'!I65","v":0.5},null,"I",5,"PFB (gesamt)",1,"41. Ich gestalte den Unterricht so, dass die Schülerinnen und Schüler individuell lernen können.\n","",""]
[{"$f":"'PFB-Items'!A66","v":"42. Im Unterricht gebe ich den Schülerinnen und Schülern individuelle Hinweise, wie sie sich verbessern können."},"Ich traue den Schülerinnen und Schülern auch die Lösung schwieriger Aufgaben zu.",{"$f":"'PFB-Items'!B66","v":20},{"$f":"'PFB-Items'!C66","v":3.6999999999999993},{"$f":"'PFB-Items'!D66","v":0.12773327473170104},{"$f":"'PFB-Items'!E66","v":0.57124057057747946},{"$f":"'PFB-Items'!F66","v":0},{"$f":"'PFB-Items'!G66","v":0.05},{"$f":"'PFB-Items'!H66","v":0.2},{"$f":"'PFB-Items'!I66","v":0.75},null,"I",5,"PFB (gesamt)",1,"42. Im Unterricht gebe ich den Schülerinnen und Schülern individuelle Hinweise, wie sie sich verbessern können.\n","",""]
[{"$f":"'PFB-Items'!A67","v":"43. Ich bemühe mich, individuelle Lernfortschritte zu ermöglichen."},"Ich traue den Schülerinnen und Schülern auch die Lösung schwieriger Aufgaben zu.",{"$f":"'PFB-Items'!B67","v":21},{"$f":"'PFB-Items'!C67","v":3.666666666666667},{"$f":"'PFB-Items'!D67","v":0.10540925533894596},{"$f":"'PFB-Items'!E67","v":0.48304589153964789},{"$f":"'PFB-Items'!F67","v":0},{"$f":"'PFB-Items'!G67","v":0},{"$f":"'PFB-Items'!H67","v":0.33333333333333326},{"$f":"'PFB-Items'!I67","v":0.66666666666666652},null,"I",5,"PFB (gesamt)",1,"43. Ich bemühe mich, individuelle Lernfortschritte zu ermöglichen.\n","",""]
[null,null,null,null,null,null,null,null,null,null,null,"","","","","","",""]
[null,null,{"$f":"CONCATENATE(\"Inspizierte Schule \",$I$1,\"\")","v":"Inspizierte Schule (5274)"},null,null,"Referenzwert",null,null,"Effektstärke",null,null,"","","","","","",""]
["SFB: Konstrukt",null,"N","MW","SD","N","MW","SD","D","Effekt",null,2,"","","","","",""]
[{"$f":"\"SFB: \" & 'Effektstärken SuS'!A13","v":"SFB: Konstruktive Unterstützung"},null,{"$f":"'Effektstärken SuS'!C13","v":52},{"$f":"'Effektstärken SuS'!D13","v":3.7435897435897432},{"$f":"'Effektstärken SuS'!E13","v":0.29281806061916604},{"$f":"'Effektstärken SuS'!F13","v":1719},{"$f":"'Effektstärken SuS'!G13","v":3.5357150000000002},{"$f":"'Effektstärken SuS'!H13","v":0.50114159999999996},{"$f":"'Effektstärken SuS'!I13","v":0.50649560483775602},{"$f":"'Effektstärken SuS'!J13","v":"++"},null,"K",2,"SFB",2,"","",""]
[null,null,null,null,null,null,null,null,null,null,null,"","","","","","",""]
[{"$f":"A362","v":"SFB: Konstruktive Unterstützung"},null,"N","MW","SE","SD","stimmt\ngar nicht","stimmt\neher nicht","stimmt\neher","stimmt\ngenau",null,6,"","","","SFB: Konstruktive Unterstützung","",""]
[{"$f":"'SFB-Items'!A34","v":"16. Meine Lehrer/Meine Lehrerinnen lassen mich ausreden, wenn ich dran bin."},"Die Lehrerinnen und Lehrer lassen mich ausreden, wenn ich dran bin.",{"$f":"'SFB-Items'!B34","v":52},{"$f":"'SFB-Items'!C34","v":3.8846153846153846},{"$f":"'SFB-Items'!D34","v":6.5298052894397343E-2},{"$f":"'SFB-Items'!E34","v":0.47087095579741872},{"$f":"'SFB-Items'!F34","v":1.9230769230769232E-2},{"$f":"'SFB-Items'!G34","v":0},{"$f":"'SFB-Items'!H34","v":5.7692307692307689E-2},{"$f":"'SFB-Items'!I34","v":0.92307692307692302},null,"I",6,"SFB",2,"16. Meine Lehrer/Meine Lehrerinnen lassen mich ausreden, wenn ich dran bin.\n","",""]
[{"$f":"'SFB-Items'!A35","v":"17. Meine Lehrer/Meine Lehrerinnen helfen mir so bei Fehlern, dass ich mich vor den anderen nicht schlecht fühle."},"Die Lehrerinnen und Lehrer lassen mich ausreden, wenn ich dran bin.",{"$f":"'SFB-Items'!B35","v":49},{"$f":"'SFB-Items'!C35","v":3.5918367346938775},{"$f":"'SFB-Items'!D35","v":9.6355207307587037E-2},{"$f":"'SFB-Items'!E35","v":0.67448645115310923},{"$f":"'SFB-Items'!F35","v":2.0408163265306124E-2},{"$f":"'SFB-Items'!G35","v":4.0816326530612249E-2},{"$f":"'SFB-Items'!H35","v":0.26530612244897961},{"$f":"'SFB-Items'!I35","v":0.67346938775510201},null,"I",6,"SFB",2,"17. Meine Lehrer/Meine Lehrerinnen helfen mir so bei Fehlern, dass ich mich vor den anderen nicht schlecht fühle.\n","",""]
[{"$f":"'SFB-Items'!A36","v":"18. Meine Lehrer/Meine Lehrerinnen loben mich, wenn ich etwas gut gemacht habe."},"Die Lehrerinnen und Lehrer lassen mich ausreden, wenn ich dran bin.",{"$f":"'SFB-Items'!B36","v":51},{"$f":"'SFB-Items'!C36","v":3.6862745098039218},{"$f":"'SFB-Items'!D36","v":7.6646354061537497E-2},{"$f":"'SFB-Items'!E36","v":0.54736445183922466},{"$f":"'SFB-Items'!F36","v":0},{"$f":"'SFB-Items'!G36","v":3.9215686274509803E-2},{"$f":"'SFB-Items'!H36","v":0.23529411764705879},{"$f":"'SFB-Items'!I36","v":0.72549019607843135},null,"I",6,"SFB",2,"18. Meine Lehrer/Meine Lehrerinnen loben mich, wenn ich etwas gut gemacht habe.\n","",""]
[{"$f":"'SFB-Items'!A37","v":"19. Meine Lehrer/Meine Lehrerinnen möchten, dass ich mich anstrenge."},"Die Lehrerinnen und Lehrer lassen mich ausreden, wenn ich dran bin.",{"$f":"'SFB-Items'!B37","v":51},{"$f":"'SFB-Items'!C37","v":3.8039215686274503},{"$f":"'SFB-Items'!D37","v":6.2745098039215685E-2},{"$f":"'SFB-Items'!E37","v":0.44808962688896314},{"$f":"'SFB-Items'!F37","v":0},{"$f":"'SFB-Items'!G37","v":1.9607843137254902E-2},{"$f":"'SFB-Items'!H37","v":0.15686274509803921},{"$f":"'SFB-Items'!I37","v":0.82352941176470584},null,"I",6,"SFB",2,"19. Meine Lehrer/Meine Lehrerinnen möchten, dass ich mich anstrenge.\n","",""]
[null,null,null,null,null,null,null,null,null,null,null,"","","","","","",""]
[null,null,{"$f":"CONCATENATE(\"Inspizierte Schule \",$I$1,\"\")","v":"Inspizierte Schule (5274)"},null,null,"Referenzwert",null,null,"Effektstärke",null,null,"","","","","","",""]
["SFB: Konstrukt",null,"N","MW","SD","N","MW","SD","D","Effekt",null,2,"","","","","",""]
[{"$f":"\"SFB: \" & 'Effektstärken SuS'!A14","v":"SFB: Konstruktive Unterstützung im digital gestützten Unterricht"},null,{"$f":"'Effektstärken SuS'!C14","v":2},{"$f":"'Effektstärken SuS'!D14","v":3.4},{"$f":"'Effektstärken SuS'!E14","v":0.84852813742385713},{"$f":"'Effektstärken SuS'!F14","v":"-"},{"$f":"'Effektstärken SuS'!G14","v":"-"},{"$f":"'Effektstärken SuS'!H14","v":"-"},{"$f":"'Effektstärken SuS'!I14","v":"o.R."},{"$f":"'Effektstärken SuS'!J14","v":"o.R."},null,"K",2,"SFB",2,"","",""]
[null,null,null,null,null,null,null,null,null,null,null,"","","","","","",""]
[{"$f":"A372","v":"SFB: Konstruktive Unterstützung im digital gestützten Unterricht"},null,"N","MW","SE","SD","stimmt\ngar nicht","stimmt\neher nicht","stimmt\neher","stimmt\ngenau",null,6,"","","","SFB: Konstruktive Unterstützung im digital gestützten Unterricht","",""]
["Im Online-Unterricht/auf der Lernplattform...",null,null,null,null,null,null,null,null,null,null,"B","","","","Im Online-Unterricht/auf der Lernplattform...","",""]
[{"$f":"'SFB-Items'!A65","v":"35. ...gibt mir meine Lehrerin/mein Lehrer regelmäßig Rückmeldung zu meinen Aufgaben."},"Die Lehrerinnen und Lehrer lassen mich ausreden, wenn ich dran bin.",{"$f":"'SFB-Items'!B65","v":2},{"$f":"'SFB-Items'!C65","v":4},{"$f":"'SFB-Items'!D65","v":0},{"$f":"'SFB-Items'!E65","v":0},{"$f":"'SFB-Items'!F65","v":0},{"$f":"'SFB-Items'!G65","v":0},{"$f":"'SFB-Items'!H65","v":0},{"$f":"'SFB-Items'!I65","v":1},null,"I",6,"SFB",2,"35. ...gibt mir meine Lehrerin/mein Lehrer regelmäßig Rückmeldung zu meinen Aufgaben.\n","",""]
[{"$f":"'SFB-Items'!A66","v":"36. ...sagt mir meine Lehrerin/mein Lehrer regelmäßig, wie ich mich verbessern kann."},"Die Lehrerinnen und Lehrer lassen mich ausreden, wenn ich dran bin.",{"$f":"'SFB-Items'!B66","v":2},{"$f":"'SFB-Items'!C66","v":2.5},{"$f":"'SFB-Items'!D66","v":1.4999999999999998},{"$f":"'SFB-Items'!E66","v":2.1213203435596424},{"$f":"'SFB-Items'!F66","v":0.5},{"$f":"'SFB-Items'!G66","v":0},{"$f":"'SFB-Items'!H66","v":0},{"$f":"'SFB-Items'!I66","v":0.5},null,"I",6,"SFB",2,"36. ...sagt mir meine Lehrerin/mein Lehrer regelmäßig, wie ich mich verbessern kann.\n","",""]
[{"$f":"'SFB-Items'!A67","v":"37. ...werde ich dazu ermutigt, Fragen zu stellen."},"Die Lehrerinnen und Lehrer lassen mich ausreden, wenn ich dran bin.",{"$f":"'SFB-Items'!B67","v":2},{"$f":"'SFB-Items'!C67","v":4},{"$f":"'SFB-Items'!D67","v":0},{"$f":"'SFB-Items'!E67","v":0},{"$f":"'SFB-Items'!F67","v":0},{"$f":"'SFB-Items'!G67","v":0},{"$f":"'SFB-Items'!H67","v":0},{"$f":"'SFB-Items'!I67","v":1},null,"I",6,"SFB",2,"37. ...werde ich dazu ermutigt, Fragen zu stellen.\n","",""]
[{"$f":"'SFB-Items'!A68","v":"38. ...nimmt sich meine Lehrerin/mein Lehrer Zeit, wenn ich Fragen oder Probleme habe."},"Die Lehrerinnen und Lehrer lassen mich ausreden, wenn ich dran bin.",{"$f":"'SFB-Items'!B68","v":2},{"$f":"'SFB-Items'!C68","v":4},{"$f":"'SFB-Items'!D68","v":0},{"$f":"'SFB-Items'!E68","v":0},{"$f":"'SFB-Items'!F68","v":0},{"$f":"'SFB-Items'!G68","v":0},{"$f":"'SFB-Items'!H68","v":0},{"$f":"'SFB-Items'!I68","v":1},null,"I",6,"SFB",2,"38. ...nimmt sich meine Lehrerin/mein Lehrer Zeit, wenn ich Fragen oder Probleme habe.\n","",""]
[{"$f":"'SFB-Items'!A69","v":"39. ...habe ich unterschiedlich schwere Aufgaben zur Auswahl."},"Die Lehrerinnen und Lehrer lassen mich ausreden, wenn ich dran bin.",{"$f":"'SFB-Items'!B69","v":2},{"$f":"'SFB-Items'!C69","v":2.5},{"$f":"'SFB-Items'!D69","v":1.4999999999999998},{"$f":"'SFB-Items'!E69","v":2.1213203435596424},{"$f":"'SFB-Items'!F69","v":0.5},{"$f":"'SFB-Items'!G69","v":0},{"$f":"'SFB-Items'!H69","v":0},{"$f":"'SFB-Items'!I69","v":0.5},null,"I",6,"SFB",2,"39. ...habe ich unterschiedlich schwere Aufgaben zur Auswahl.\n","",""]
[null,null,null,null,null,null,null,null,null,null,null,"","","","","","",""]
["Der Unterricht ermöglicht kognitive Aktivierung.",null,null,null,null,null,null,null,null,null,null,"","","","","","grau","Der Unterricht ermöglicht kognitive Aktivierung."]
[null,null,null,null,null,null,null,null,null,null,null,"","","","","","",""]
[null,null,{"$f":"CONCATENATE(\"Inspizierte Schule \",$I$1,\"\")","v":"Inspizierte Schule (5274)"},null,null,"Referenzwert",null,null,"Effektstärke",null,null,"","","","","","",""]
["PFB: Konstrukt",null,"N","MW","SD","N","MW","SD","D","Effekt",null,1,"","","","","",""]
[{"$f":"\"PFB: \" & 'Effektstärken PuP'!A34","v":"PFB: Potenzial zur kognitiven Aktivierung"},null,{"$f":"'Effektstärken PuP'!C34","v":21},{"$f":"'Effektstärken PuP'!D34","v":3.6539682539682539},{"$f":"'Effektstärken PuP'!E34","v":0.30884663408598673},{"$f":"'Effektstärken PuP'!F34","v":349},{"$f":"'Effektstärken PuP'!G34","v":3.6152829999999998},{"$f":"'Effektstärken PuP'!H34","v":0.2911242},{"$f":"'Effektstärken PuP'!I34","v":0.12890089167284369},{"$f":"'Effektstärken PuP'!J34","v":"Ø"},null,"K",1,"PFB (gesamt)",1,"","",""]
[null,null,null,null,null,null,null,null,null,null,null,"","","","","","",""]
[{"$f":"A386","v":"PFB: Potenzial zur kognitiven Aktivierung"},null,"N","MW","SE","SD","trifft\nnicht zu","trifft eher\n nicht zu","trifft\neher zu","trifft\nvoll zu",null,5,"","","","PFB: Potenzial zur kognitiven Aktivierung","",""]
[{"$f":"'PFB-Items'!A53","v":"31. Ich ermutige die Schülerinnen und Schüler, ihre eigenen Ideen zu äußern."},"Ich ermutige die Schülerinnen und Schüler, ihre eigenen Ideen zu äußern.",{"$f":"'PFB-Items'!B53","v":21},{"$f":"'PFB-Items'!C53","v":3.9047619047619042},{"$f":"'PFB-Items'!D53","v":6.5638327390905832E-2},{"$f":"'PFB-Items'!E53","v":0.30079260375911926},{"$f":"'PFB-Items'!F53","v":0},{"$f":"'PFB-Items'!G53","v":0},{"$f":"'PFB-Items'!H53","v":9.5238095238095233E-2},{"$f":"'PFB-Items'!I53","v":0.90476190476190477},null,"I",5,"PFB (gesamt)",1,"31. Ich ermutige die Schülerinnen und Schüler, ihre eigenen Ideen zu äußern.\n","",""]
[{"$f":"'PFB-Items'!A54","v":"32. Ich stelle oft Fragen oder Aufgaben, die die Schülerinnen und Schüler zum intensiven Nachdenken anregen sollen."},"Ich ermutige die Schülerinnen und Schüler, ihre eigenen Ideen zu äußern.",{"$f":"'PFB-Items'!B54","v":20},{"$f":"'PFB-Items'!C54","v":3.5},{"$f":"'PFB-Items'!D54","v":0.13572417850765922},{"$f":"'PFB-Items'!E54","v":0.60697697866688394},{"$f":"'PFB-Items'!F54","v":0},{"$f":"'PFB-Items'!G54","v":0.05},{"$f":"'PFB-Items'!H54","v":0.4},{"$f":"'PFB-Items'!I54","v":0.55000000000000004},null,"I",5,"PFB (gesamt)",1,"32. Ich stelle oft Fragen oder Aufgaben, die die Schülerinnen und Schüler zum intensiven Nachdenken anregen sollen.\n","",""]
[{"$f":"'PFB-Items'!A55","v":"33. Ich fordere die Schülerinnen und Schüler auf, ihre Aussagen gut zu begründen."},"Ich ermutige die Schülerinnen und Schüler, ihre eigenen Ideen zu äußern.",{"$f":"'PFB-Items'!B55","v":20},{"$f":"'PFB-Items'!C55","v":3.75},{"$f":"'PFB-Items'!D55","v":9.9339926779878282E-2},{"$f":"'PFB-Items'!E55","v":0.4442616583193193},{"$f":"'PFB-Items'!F55","v":0},{"$f":"'PFB-Items'!G55","v":0},{"$f":"'PFB-Items'!H55","v":0.25},{"$f":"'PFB-Items'!I55","v":0.75},null,"I",5,"PFB (gesamt)",1,"33. Ich fordere die Schülerinnen und Schüler auf, ihre Aussagen gut zu begründen.\n","",""]
[{"$f":"'PFB-Items'!A56","v":"34. Ich behandle Fehler von den Schülerinnen und Schülern als Teil des Lernprozesses."},"Ich ermutige die Schülerinnen und Schüler, ihre eigenen Ideen zu äußern.",{"$f":"'PFB-Items'!B56","v":21},{"$f":"'PFB-Items'!C56","v":3.8095238095238089},{"$f":"'PFB-Items'!D56","v":8.7805185307551312E-2},{"$f":"'PFB-Items'!E56","v":0.40237390808147827},{"$f":"'PFB-Items'!F56","v":0},{"$f":"'PFB-Items'!G56","v":0},{"$f":"'PFB-Items'!H56","v":0.19047619047619047},{"$f":"'PFB-Items'!I56","v":0.80952380952380953},null,"I",5,"PFB (gesamt)",1,"34. Ich behandle Fehler von den Schülerinnen und Schülern als Teil des Lernprozesses.\n","",""]
[{"$f":"'PFB-Items'!A57","v":"35. Ich biete verschiedene Lernwege/Methodenvielfalt an."},"Ich ermutige die Schülerinnen und Schüler, ihre eigenen Ideen zu äußern.",{"$f":"'PFB-Items'!B57","v":21},{"$f":"'PFB-Items'!C57","v":3.4761904761904763},{"$f":"'PFB-Items'!D57","v":0.11167656571008167},{"$f":"'PFB-Items'!E57","v":0.51176631571915898},{"$f":"'PFB-Items'!F57","v":0},{"$f":"'PFB-Items'!G57","v":0},{"$f":"'PFB-Items'!H57","v":0.52380952380952384},{"$f":"'PFB-Items'!I57","v":0.47619047619047611},null,"I",5,"PFB (gesamt)",1,"35. Ich biete verschiedene Lernwege/Methodenvielfalt an.\n","",""]
[{"$f":"'PFB-Items'!A58","v":"36. Ich achte darauf, dass möglichst alle Schülerinnen und Schüler den Unterrichtsstoff verstanden haben, bevor ich ein neues Thema beginne."},"Ich ermutige die Schülerinnen und Schüler, ihre eigenen Ideen zu äußern.",{"$f":"'PFB-Items'!B58","v":15},{"$f":"'PFB-Items'!C58","v":3.4},{"$f":"'PFB-Items'!D58","v":0.16329931618554516},{"$f":"'PFB-Items'!E58","v":0.63245553203367577},{"$f":"'PFB-Items'!F58","v":0},{"$f":"'PFB-Items'!G58","v":6.6666666666666666E-2},{"$f":"'PFB-Items'!H58","v":0.46666666666666662},{"$f":"'PFB-Items'!I58","v":0.46666666666666662},null,"I",5,"PFB (gesamt)",1,"36. Ich achte darauf, dass möglichst alle Schülerinnen und Schüler den Unterrichtsstoff verstanden haben, bevor ich ein neues Thema beginne.\n","",""]
[null,null,null,null,null,null,null,null,null,null,null,"","","","","","",""]
[null,null,{"$f":"CONCATENATE(\"Inspizierte Schule \",$I$1,\"\")","v":"Inspizierte Schule (5274)"},null,null,"Referenzwert",null,null,"Effektstärke",null,null,"","","","","","",""]
["SFB: Konstrukt",null,"N","MW","SD","N","MW","SD","D","Effekt",null,2,"","","","","",""]
[{"$f":"\"SFB: \" & 'Effektstärken SuS'!A15","v":"SFB: Potenzial zu kognitiver Aktivierung"},null,{"$f":"'Effektstärken SuS'!C15","v":52},{"$f":"'Effektstärken SuS'!D15","v":3.1602564102564106},{"$f":"'Effektstärken SuS'!E15","v":0.54828067417201676},{"$f":"'Effektstärken SuS'!F15","v":1719},{"$f":"'Effektstärken SuS'!G15","v":3.079059},{"$f":"'Effektstärken SuS'!H15","v":0.62216780000000005},{"$f":"'Effektstärken SuS'!I15","v":0.13847017862096928},{"$f":"'Effektstärken SuS'!J15","v":"Ø"},null,"K",2,"SFB",2,"","",""]
[null,null,null,null,null,null,null,null,null,null,null,"","","","","","",""]
[{"$f":"A398","v":"SFB: Potenzial zu kognitiver Aktivierung"},null,"N","MW","SE","SD","stimmt\ngar nicht","stimmt\neher nicht","stimmt\neher","stimmt\ngenau",null,6,"","","","SFB: Potenzial zu kognitiver Aktivierung","",""]
[{"$f":"'SFB-Items'!A29","v":"13. Meine Lehrer/Meine Lehrerinnen stellen oft Fragen, bei denen ich sehr viel nachdenken muss."},"Die Lehrerinnen und Lehrer ermutigen mich, meine eigenen Ideen zu äußern.",{"$f":"'SFB-Items'!B29","v":50},{"$f":"'SFB-Items'!C29","v":2.9600000000000004},{"$f":"'SFB-Items'!D29","v":0.12108354343095479},{"$f":"'SFB-Items'!E29","v":0.8561899465012397},{"$f":"'SFB-Items'!F29","v":0.04},{"$f":"'SFB-Items'!G29","v":0.26},{"$f":"'SFB-Items'!H29","v":0.4},{"$f":"'SFB-Items'!I29","v":0.3},null,{"$f":"IF(A401=\"\",\"\",\nIF(A401=\"PFB: Konstrukt\",1,IF(A401=\"SFB: Konstrukt\",2,IF(A401=\"EFB: Konstrukt\",3,\nIF(OR(A400=\"PFB: Konstrukt\",A400=\"SFB: Konstrukt\",A400=\"EFB: Konstrukt\"),\"K\",\n\nIF(LEFT(A401,3)=\"PFB\",5,IF(LEFT(A401,3)=\"SFB\",6,IF(LEFT(A401,3)=\"EFB\",7,\nIF(OR(LEFT(A401,1)=\"0\", LEFT(A401,1)=\"1\", LEFT(A401,1)=\"2\", LEFT(A401,1)=\"3\", LEFT(A401,1)=\"4\", LEFT(A401,1)=\"5\", LEFT(A401,1)=\"6\", LEFT(A401,1)=\"7\", LEFT(A401,1)=\"8\", LEFT(A401,1)=\"9\"),\"I\",IF(A400=\"\",\"\",\"B\"))))))))))","v":"I"},{"$f":"IF(L401=\"K\",L400,IF(L401=\"I\",IF(L400=\"B\",L399,IF(AND(L400>=1,L400<=8),L400,M400)),\"\"))","v":6},{"$f":"IF(M401=\"\",\"\",\nIF(OR(M401=1,M401=5),IF(M400=5,N400,IF(L401=\"K\",VLOOKUP(A401,$S$14:$T$43,2,0),IF(L401=\"I\",IF(L400=\"B\",VLOOKUP(A397,$S$14:$T$43,2,0),VLOOKUP(A398,$S$14:$T$43,2,0)),\"Fehler\"))),\nIF(OR(M401=2,M401=6),\"SFB\",\nIF(OR(M401=3,M401=7),\"EFB\",\"\"))))","v":"SFB"},{"$f":"IF(OR(N401=0,N401=\"\"),\"\",\nIF(ISERROR(VLOOKUP(N401,$A$8:$H$11,7,0)),\"Fehler\",\nIF(OR(VLOOKUP(N401,$A$8:$H$11,7,0)<=0.2,VLOOKUP(N401,$A$8:$H$11,4,0)=\"<=10\"),4,IF(VLOOKUP(N401,$A$8:$H$11,7,0)>=0.5,1,IF(AND(VLOOKUP(N401,$A$8:$H$11,7,0)>0.2,VLOOKUP(N401,$A$8:$H$11,7,0)<0.5),2,\"Fehler\")))))","v":2},{"$f":"IF(OR(LEFT(A401,1)=\"0\",LEFT(A401,1)=\"1\",LEFT(A401,1)=\"2\",LEFT(A401,1)=\"3\",LEFT(A401,1)=\"4\",LEFT(A401,1)=\"5\",LEFT(A401,1)=\"6\",LEFT(A401,1)=\"7\",LEFT(A401,1)=\"8\",LEFT(A401,1)=\"9\"), A401 &\"\n\",IF(OR(L401=5,L401=6,L401=7,L401=8,L401=\"B\"),A401,\"\"))","v":"13. Meine Lehrer/Meine Lehrerinnen stellen oft Fragen, bei denen ich sehr viel nachdenken muss.\n"},{"$f":"IF(AND(L401=\"\",A401<>\"\"),IF(RIGHT(A401,1)=\".\",\"grau\",IF(RIGHT(A401,1)=\")\",\"rot\",\"blau\")),\"\")","v":""},{"$f":"IF(Q401<>\"\",A401,\"\")","v":""}]
[{"$f":"'SFB-Items'!A30","v":"14. Meine Lehrer/Meine Lehrerinnen wiederholen mit uns das, was wir in der letzten Stunde gelernt haben."},"Die Lehrerinnen und Lehrer ermutigen mich, meine eigenen Ideen zu äußern.",{"$f":"'SFB-Items'!B30","v":48},{"$f":"'SFB-Items'!C30","v":3.104166666666667},{"$f":"'SFB-Items'!D30","v":0.13395108445251469},{"$f":"'SFB-Items'!E30","v":0.92804033600281977},{"$f":"'SFB-Items'!F30","v":6.25E-2},{"$f":"'SFB-Items'!G30","v":0.1875},{"$f":"'SFB-Items'!H30","v":0.33333333333333326},{"$f":"'SFB-Items'!I30","v":0.41666666666666674},null,"I",6,"SFB",2,"14. Meine Lehrer/Meine Lehrerinnen wiederholen mit uns das, was wir in der letzten Stunde gelernt haben.\n","",""]
[{"$f":"'SFB-Items'!A31","v":"15. Meine Lehrer/Meine Lehrerinnen besprechen mit mir meine Fehler, damit ich es besser machen kann."},"Die Lehrerinnen und Lehrer ermutigen mich, meine eigenen Ideen zu äußern.",{"$f":"'SFB-Items'!B31","v":51},{"$f":"'SFB-Items'!C31","v":3.4313725490196072},{"$f":"'SFB-Items'!D31","v":0.11633252528777509},{"$f":"'SFB-Items'!E31","v":0.83078040325429703},{"$f":"'SFB-Items'!F31","v":3.9215686274509803E-2},{"$f":"'SFB-Items'!G31","v":9.8039215686274522E-2},{"$f":"'SFB-Items'!H31","v":0.25490196078431371},{"$f":"'SFB-Items'!I31","v":0.60784313725490191},null,"I",6,"SFB",2,"15. Meine Lehrer/Meine Lehrerinnen besprechen mit mir meine Fehler, damit ich es besser machen kann.\n","",""]
[null,null,null,null,null,null,null,null,null,null,null,"","","","","","",""]
[null,null,{"$f":"CONCATENATE(\"Inspizierte Schule \",$I$1,\"\")","v":"Inspizierte Schule (5274)"},null,null,"Referenzwert",null,null,"Effektstärke",null,null,"","","","","","",""]
["SFB: Konstrukt",null,"N","MW","SD","N","MW","SD","D","Effekt",null,2,"","","","","",""]
[{"$f":"\"SFB: \" & 'Effektstärken SuS'!A16","v":"SFB: Potenzial zu kognitiver Aktivierung im digital gestützten Unterricht"},null,{"$f":"'Effektstärken SuS'!C16","v":3},{"$f":"'Effektstärken SuS'!D16","v":2.8888888888888888},{"$f":"'Effektstärken SuS'!E16","v":0.83887049280786097},{"$f":"'Effektstärken SuS'!F16","v":"-"},{"$f":"'Effektstärken SuS'!G16","v":"-"},{"$f":"'Effektstärken SuS'!H16","v":"-"},{"$f":"'Effektstärken SuS'!I16","v":"o.R."},{"$f":"'Effektstärken SuS'!J16","v":"o.R."},null,"K",2,"SFB",2,"","",""]
[null,null,null,null,null,null,null,null,null,null,null,"","","","","","",""]
[{"$f":"A407","v":"SFB: Potenzial zu kognitiver Aktivierung im digital gestützten Unterricht"},null,"N","MW","SE","SD","stimmt\ngar nicht","stimmt\neher nicht","stimmt\neher","stimmt\ngenau",null,6,"","","","SFB: Potenzial zu kognitiver Aktivierung im digital gestützten Unterricht","",""]
["Im Online-Unterricht/auf der Lernplattform...",null,null,null,null,null,null,null,null,null,null,"B","","","","Im Online-Unterricht/auf der Lernplattform...","",""]
[{"$f":"'SFB-Items'!A59","v":"31. ...bekomme ich Aufgaben, die ich auf unterschiedliche Weise lösen kann."},null,{"$f":"'SFB-Items'!B59","v":1},{"$f":"'SFB-Items'!C59","v":4},{"$f":"'SFB-Items'!D59","v":0},{"$f":"'SFB-Items'!E59","v":0},{"$f":"'SFB-Items'!F59","v":0},{"$f":"'SFB-Items'!G59","v":0},{"$f":"'SFB-Items'!H59","v":0},{"$f":"'SFB-Items'!I59","v":1},null,"I",6,"SFB",2,"31. ...bekomme ich Aufgaben, die ich auf unterschiedliche Weise lösen kann.\n","",""]
[{"$f":"'SFB-Items'!A60","v":"32. ...bekomme ich Aufgaben, über die ich sehr genau nachdenken muss."},null,{"$f":"'SFB-Items'!B60","v":3},{"$f":"'SFB-Items'!C60","v":3},{"$f":"'SFB-Items'!D60","v":0.57735026918962584},{"$f":"'SFB-Items'!E60","v":1},{"$f":"'SFB-Items'!F60","v":0},{"$f":"'SFB-Items'!G60","v":0.33333333333333326},{"$f":"'SFB-Items'!H60","v":0.33333333333333326},{"$f":"'SFB-Items'!I60","v":0.33333333333333326},null,"I",6,"SFB",2,"32. ...bekomme ich Aufgaben, über die ich sehr genau nachdenken muss.\n","",""]
[{"$f":"'SFB-Items'!A61","v":"33. ...kann ich selbst überprüfen, ob ich eine Aufgabe richtig gelöst habe."},null,{"$f":"'SFB-Items'!B61","v":2},{"$f":"'SFB-Items'!C61","v":2},{"$f":"'SFB-Items'!D61","v":1},{"$f":"'SFB-Items'!E61","v":1.4142135623730951},{"$f":"'SFB-Items'!F61","v":0.5},{"$f":"'SFB-Items'!G61","v":0},{"$f":"'SFB-Items'!H61","v":0.5},{"$f":"'SFB-Items'!I61","v":0},null,"I",6,"SFB",2,"33. ...kann ich selbst überprüfen, ob ich eine Aufgabe richtig gelöst habe.\n","",""]
[{"$f":"'SFB-Items'!A62","v":"34. ...kann ich meine Lösungen mit den Lösungen meiner Mitschülerinnen und Mitschüler vergleichen."},null,{"$f":"'SFB-Items'!B62","v":3},{"$f":"'SFB-Items'!C62","v":3},{"$f":"'SFB-Items'!D62","v":1},{"$f":"'SFB-Items'!E62","v":1.7320508075688772},{"$f":"'SFB-Items'!F62","v":0.33333333333333326},{"$f":"'SFB-Items'!G62","v":0},{"$f":"'SFB-Items'!H62","v":0},{"$f":"'SFB-Items'!I62","v":0.66666666666666652},null,"I",6,"SFB",2,"34. ...kann ich meine Lösungen mit den Lösungen meiner Mitschülerinnen und Mitschüler vergleichen.\n","",""]
[null,null,null,null,null,null,null,null,null,null,null,"","","","","","",""]
["Lernentwicklung begleiten, Förderung gewährleisten, Leistungen beurteilen (QB 2.3)",null,null,null,null,null,null,null,null,null,null,"","","","","","rot","Lernentwicklung begleiten, Förderung gewährleisten, Leistungen beurteilen (QB 2.3)"]
[null,null,null,null,null,null,null,null,null,null,null,"","","","","","",""]
["Die Förderung aller Schülerinnen und Schüler wird systematisch umgesetzt.",null,null,null,null,null,null,null,null,null,null,"","","","","","grau","Die Förderung aller Schülerinnen und Schüler wird systematisch umgesetzt."]
[null,null,null,null,null,null,null,null,null,null,null,"","","","","","",""]
[null,null,{"$f":"CONCATENATE(\"Inspizierte Schule \",$I$1,\"\")","v":"Inspizierte Schule (5274)"},null,null,"Referenzwert",null,null,"Effektstärke",null,null,"","","","","","",""]
["SFB: Konstrukt",null,"N","MW","SD","N","MW","SD","D","Effekt",null,2,"","","","","",""]
[{"$f":"\"SFB: \" & 'Effektstärken SuS'!A17","v":"SFB: Individuelle Förderung"},null,{"$f":"'Effektstärken SuS'!C17","v":51},{"$f":"'Effektstärken SuS'!D17","v":3.013071895424837},{"$f":"'Effektstärken SuS'!E17","v":0.5237080794731418},{"$f":"'Effektstärken SuS'!F17","v":1719},{"$f":"'Effektstärken SuS'!G17","v":2.9829279999999998},{"$f":"'Effektstärken SuS'!H17","v":0.49120950000000002},{"$f":"'Effektstärken SuS'!I17","v":5.9371231835829208E-2},{"$f":"'Effektstärken SuS'!J17","v":"Ø"},null,"K",2,"SFB",2,"","",""]
[null,null,null,null,null,null,null,null,null,null,null,"","","","","","",""]
[{"$f":"A422","v":"SFB: Individuelle Förderung"},null,"N","MW","SE","SD","stimmt\ngar nicht","stimmt\neher nicht","stimmt\neher","stimmt\ngenau",null,6,"","","","SFB: Individuelle Förderung","",""]
[{"$f":"'SFB-Items'!A51","v":"27. Ich bekomme Hilfe, wenn ich etwas nicht gut kann."},"Schülerinnen und Schüler, die zusätzliche Hilfe beim Lernen brauchen, bekommen mehr Unterstützung.",{"$f":"'SFB-Items'!B51","v":50},{"$f":"'SFB-Items'!C51","v":3.88},{"$f":"'SFB-Items'!D51","v":5.4510811509539743E-2},{"$f":"'SFB-Items'!E51","v":0.38544964466377257},{"$f":"'SFB-Items'!F51","v":0},{"$f":"'SFB-Items'!G51","v":0.02},{"$f":"'SFB-Items'!H51","v":0.08},{"$f":"'SFB-Items'!I51","v":0.9},null,"I",6,"SFB",2,"27. Ich bekomme Hilfe, wenn ich etwas nicht gut kann.\n","",""]
[{"$f":"'SFB-Items'!A52","v":"28. Ich bekomme oft Aufgaben, die zu leicht sind."},"Schülerinnen und Schüler, die zusätzliche Hilfe beim Lernen brauchen, bekommen mehr Unterstützung.",{"$f":"'SFB-Items'!B52","v":49},{"$f":"'SFB-Items'!C52","v":2.6326530612244903},{"$f":"'SFB-Items'!D52","v":0.14490754016422305},{"$f":"'SFB-Items'!E52","v":1.0143527811495614},{"$f":"'SFB-Items'!F52","v":0.14285714285714285},{"$f":"'SFB-Items'!G52","v":0.32653061224489799},{"$f":"'SFB-Items'!H52","v":0.2857142857142857},{"$f":"'SFB-Items'!I52","v":0.24489795918367346},null,"I",6,"SFB",2,"28. Ich bekomme oft Aufgaben, die zu leicht sind.\n","",""]
[{"$f":"'SFB-Items'!A53","v":"29. Ich bekomme oft Aufgaben, die ich alleine nicht lösen kann."},"Schülerinnen und Schüler, die zusätzliche Hilfe beim Lernen brauchen, bekommen mehr Unterstützung.",{"$f":"'SFB-Items'!B53","v":48},{"$f":"'SFB-Items'!C53","v":2.2708333333333335},{"$f":"'SFB-Items'!D53","v":0.12540566561869182},{"$f":"'SFB-Items'!E53","v":0.86883593763427092},{"$f":"'SFB-Items'!F53","v":0.16666666666666663},{"$f":"'SFB-Items'!G53","v":0.5},{"$f":"'SFB-Items'!H53","v":0.22916666666666663},{"$f":"'SFB-Items'!I53","v":0.10416666666666669},null,"I",6,"SFB",2,"29. Ich bekomme oft Aufgaben, die ich alleine nicht lösen kann.\n","",""]
[null,null,null,null,null,null,null,null,null,null,null,"","","","","","",""]
[null,null,{"$f":"CONCATENATE(\"Inspizierte Schule \",$I$1,\"\")","v":"Inspizierte Schule (5274)"},null,null,"Referenzwert",null,null,"Effektstärke",null,null,"","","","","","",""]
["EFB: Konstrukt",null,"N","MW","SD","N","MW","SD","D","Effekt",null,3,"","","","","",""]
[{"$f":"\"EFB: \" & 'Effektstärken Eltern'!A13","v":"EFB: Unterstützung und Förderung des Kindes"},null,{"$f":"'Effektstärken Eltern'!C13","v":84},{"$f":"'Effektstärken Eltern'!D13","v":3.1954365079365084},{"$f":"'Effektstärken Eltern'!E13","v":0.60293647193876421},{"$f":"'Effektstärken Eltern'!F13","v":3347},{"$f":"'Effektstärken Eltern'!G13","v":3.1285080000000001},{"$f":"'Effektstärken Eltern'!H13","v":0.59467020000000004},{"$f":"'Effektstärken Eltern'!I13","v":0.11176777026057934},{"$f":"'Effektstärken Eltern'!J13","v":"Ø"},null,"K",3,"EFB",2,"","",""]
[null,null,null,null,null,null,null,null,null,null,null,"","","","","","",""]
[{"$f":"A431","v":"EFB: Unterstützung und Förderung des Kindes"},null,"N","MW","SE","SD","trifft\nnicht zu","trifft eher\n nicht zu","trifft\neher zu","trifft\nvoll zu",null,7,"","","","EFB: Unterstützung und Förderung des Kindes","",""]
[{"$f":"'EFB-Items'!A20","v":"08. Mein Kind erhält im Unterricht Aufgaben, die gut zu seinem Lernstand passen."},"Mein Kind erhält im Unterricht Aufgaben, die gut zu seinem Lernstand passen.",{"$f":"'EFB-Items'!B20","v":77},{"$f":"'EFB-Items'!C20","v":3.5064935064935061},{"$f":"'EFB-Items'!D20","v":7.0694670036896279E-2},{"$f":"'EFB-Items'!E20","v":0.62034321195220177},{"$f":"'EFB-Items'!F20","v":1.2987012987012986E-2},{"$f":"'EFB-Items'!G20","v":2.5974025974025972E-2},{"$f":"'EFB-Items'!H20","v":0.40259740259740262},{"$f":"'EFB-Items'!I20","v":0.55844155844155841},null,"I",7,"EFB",2,"08. Mein Kind erhält im Unterricht Aufgaben, die gut zu seinem Lernstand passen.\n","",""]
[{"$f":"'EFB-Items'!A21","v":"09. Mein Kind bekommt die notwendige Förderung, um die jeweiligen Lerninhalte verstehen und bearbeiten zu können."},"Mein Kind erhält im Unterricht Aufgaben, die gut zu seinem Lernstand passen.",{"$f":"'EFB-Items'!B21","v":78},{"$f":"'EFB-Items'!C21","v":3.333333333333333},{"$f":"'EFB-Items'!D21","v":7.884165279854434E-2},{"$f":"'EFB-Items'!E21","v":0.6963106238227913},{"$f":"'EFB-Items'!F21","v":1.282051282051282E-2},{"$f":"'EFB-Items'!G21","v":8.9743589743589744E-2},{"$f":"'EFB-Items'!H21","v":0.44871794871794873},{"$f":"'EFB-Items'!I21","v":0.44871794871794873},null,"I",7,"EFB",2,"09. Mein Kind bekommt die notwendige Förderung, um die jeweiligen Lerninhalte verstehen und bearbeiten zu können.\n","",""]
[{"$f":"'EFB-Items'!A22","v":"10. Meinem Kind werden seine Stärken und Schwächen zurückgemeldet."},"Mein Kind erhält im Unterricht Aufgaben, die gut zu seinem Lernstand passen.",{"$f":"'EFB-Items'!B22","v":75},{"$f":"'EFB-Items'!C22","v":3.16},{"$f":"'EFB-Items'!D22","v":8.7074577127781563E-2},{"$f":"'EFB-Items'!E22","v":0.75408795816446283},{"$f":"'EFB-Items'!F22","v":2.6666666666666668E-2},{"$f":"'EFB-Items'!G22","v":0.13333333333333333},{"$f":"'EFB-Items'!H22","v":0.49333333333333335},{"$f":"'EFB-Items'!I22","v":0.34666666666666673},null,"I",7,"EFB",2,"10. Meinem Kind werden seine Stärken und Schwächen zurückgemeldet.\n","",""]
[{"$f":"'EFB-Items'!A23","v":"11. Mein Kind erhält in den unterschiedlichen Fächern konkrete Hinweise, wie es sich weiterentwickeln kann."},"Mein Kind erhält im Unterricht Aufgaben, die gut zu seinem Lernstand passen.",{"$f":"'EFB-Items'!B23","v":70},{"$f":"'EFB-Items'!C23","v":2.8285714285714301},{"$f":"'EFB-Items'!D23","v":9.9629600919975234E-2},{"$f":"'EFB-Items'!E23","v":0.83356104549285837},{"$f":"'EFB-Items'!F23","v":8.5714285714285715E-2},{"$f":"'EFB-Items'!G23","v":0.18571428571428572},{"$f":"'EFB-Items'!H23","v":0.54285714285714282},{"$f":"'EFB-Items'!I23","v":0.18571428571428572},null,"I",7,"EFB",2,"11. Mein Kind erhält in den unterschiedlichen Fächern konkrete Hinweise, wie es sich weiterentwickeln kann.\n","",""]
[{"$f":"'EFB-Items'!A24","v":"12. Lernschwierigkeiten werden mit meinem Kind besprochen."},"Mein Kind erhält im Unterricht Aufgaben, die gut zu seinem Lernstand passen.",{"$f":"'EFB-Items'!B24","v":61},{"$f":"'EFB-Items'!C24","v":2.9508196721311468},{"$f":"'EFB-Items'!D24","v":0.10564977069636701},{"$f":"'EFB-Items'!E24","v":0.82515108734091269},{"$f":"'EFB-Items'!F24","v":6.5573770491803282E-2},{"$f":"'EFB-Items'!G24","v":0.16393442622950818},{"$f":"'EFB-Items'!H24","v":0.52459016393442626},{"$f":"'EFB-Items'!I24","v":0.24590163934426229},null,"I",7,"EFB",2,"12. Lernschwierigkeiten werden mit meinem Kind besprochen.\n","",""]
[{"$f":"'EFB-Items'!A25","v":"13. Die mit meinem Kind verabredeten Lernziele passen zu seinem Leistungs- und Entwicklungsstand."},"Mein Kind erhält im Unterricht Aufgaben, die gut zu seinem Lernstand passen.",{"$f":"'EFB-Items'!B25","v":71},{"$f":"'EFB-Items'!C25","v":3.352112676056338},{"$f":"'EFB-Items'!D25","v":9.2143252021386637E-2},{"$f":"'EFB-Items'!E25","v":0.77641284211973904},{"$f":"'EFB-Items'!F25","v":1.4084507042253523E-2},{"$f":"'EFB-Items'!G25","v":0.14084507042253522},{"$f":"'EFB-Items'!H25","v":0.32394366197183105},{"$f":"'EFB-Items'!I25","v":0.52112676056338025},null,"I",7,"EFB",2,"13. Die mit meinem Kind verabredeten Lernziele passen zu seinem Leistungs- und Entwicklungsstand.\n","",""]
[{"$f":"'EFB-Items'!A26","v":"14. Mein Kind wird bei der Umsetzung der verabredeten Lernziele unterstützt."},"Mein Kind erhält im Unterricht Aufgaben, die gut zu seinem Lernstand passen.",{"$f":"'EFB-Items'!B26","v":70},{"$f":"'EFB-Items'!C26","v":3.1285714285714272},{"$f":"'EFB-Items'!D26","v":9.0824218939295903E-2},{"$f":"'EFB-Items'!E26","v":0.75988993427688001},{"$f":"'EFB-Items'!F26","v":4.2857142857142858E-2},{"$f":"'EFB-Items'!G26","v":0.1},{"$f":"'EFB-Items'!H26","v":0.54285714285714282},{"$f":"'EFB-Items'!I26","v":0.31428571428571428},null,"I",7,"EFB",2,"14. Mein Kind wird bei der Umsetzung der verabredeten Lernziele unterstützt.\n","",""]
[null,null,null,null,null,null,null,null,null,null,null,"","","","","","",""]
["Alle Schülerinnen und Schüler werden in ihrer individuellen Lernentwicklung zielführend unterstützt.",null,null,null,null,null,null,null,null,null,null,"","","","","","grau","Alle Schülerinnen und Schüler werden in ihrer individuellen Lernentwicklung zielführend unterstützt."]
[null,null,null,null,null,null,null,null,null,null,null,"","","","","","",""]
[null,null,{"$f":"CONCATENATE(\"Inspizierte Schule \",$I$1,\"\")","v":"Inspizierte Schule (5274)"},null,null,"Referenzwert",null,null,"Effektstärke",null,null,"","","","","","",""]
["SFB: Konstrukt",null,"N","MW","SD","N","MW","SD","D","Effekt",null,2,"","","","","",""]
[{"$f":"\"SFB: \" & 'Effektstärken SuS'!A18","v":"SFB: Individuelle Begleitung"},null,{"$f":"'Effektstärken SuS'!C18","v":52},{"$f":"'Effektstärken SuS'!D18","v":3.2339743589743586},{"$f":"'Effektstärken SuS'!E18","v":0.57994779964238041},{"$f":"'Effektstärken SuS'!F18","v":1719},{"$f":"'Effektstärken SuS'!G18","v":3.215522},{"$f":"'Effektstärken SuS'!H18","v":0.66237199999999996},{"$f":"'Effektstärken SuS'!I18","v":2.964112721686837E-2},{"$f":"'Effektstärken SuS'!J18","v":"Ø"},null,"K",2,"SFB",2,"","",""]
[null,null,null,null,null,null,null,null,null,null,null,"","","","","","",""]
[{"$f":"A446","v":"SFB: Individuelle Begleitung"},null,"N","MW","SE","SD","stimmt\ngar nicht","stimmt\neher nicht","stimmt\neher","stimmt\ngenau",null,6,"","","","SFB: Individuelle Begleitung","",""]
[{"$f":"'SFB-Items'!A25","v":"11. Meine Lehrer/Meine Lehrerinnen fragen mich, ob ich etwas gelernt habe."},"Die Lehrerinnen und Lehrer sprechen regelmäßig mit mir über meine Leistung.",{"$f":"'SFB-Items'!B25","v":51},{"$f":"'SFB-Items'!C25","v":3.1764705882352939},{"$f":"'SFB-Items'!D25","v":0.14199111364887584},{"$f":"'SFB-Items'!E25","v":1.0140193756125406},{"$f":"'SFB-Items'!F25","v":9.8039215686274522E-2},{"$f":"'SFB-Items'!G25","v":0.13725490196078433},{"$f":"'SFB-Items'!H25","v":0.25490196078431371},{"$f":"'SFB-Items'!I25","v":0.50980392156862742},null,"I",6,"SFB",2,"11. Meine Lehrer/Meine Lehrerinnen fragen mich, ob ich etwas gelernt habe.\n","",""]
[{"$f":"'SFB-Items'!A26","v":"12. Meine Lehrer/Meine Lehrerinnen fragen mich, wie schwer ich die Aufgaben finde."},"Die Lehrerinnen und Lehrer sprechen regelmäßig mit mir über meine Leistung.",{"$f":"'SFB-Items'!B26","v":49},{"$f":"'SFB-Items'!C26","v":2.8571428571428577},{"$f":"'SFB-Items'!D26","v":0.15430334996209188},{"$f":"'SFB-Items'!E26","v":1.0801234497346432},{"$f":"'SFB-Items'!F26","v":0.12244897959183673},{"$f":"'SFB-Items'!G26","v":0.2857142857142857},{"$f":"'SFB-Items'!H26","v":0.20408163265306123},{"$f":"'SFB-Items'!I26","v":0.38775510204081631},null,"I",6,"SFB",2,"12. Meine Lehrer/Meine Lehrerinnen fragen mich, wie schwer ich die Aufgaben finde.\n","",""]
[{"$f":"'SFB-Items'!A47","v":"25. Meine Lehrer/Meine Lehrerinnen sprechen mit mir darüber, was ich gut kann und noch nicht so gut kann."},"Die Lehrerinnen und Lehrer sprechen regelmäßig mit mir über meine Leistung.",{"$f":"'SFB-Items'!B47","v":50},{"$f":"'SFB-Items'!C47","v":3.46},{"$f":"'SFB-Items'!D47","v":9.5660965958761182E-2},{"$f":"'SFB-Items'!E47","v":0.67642517724295514},{"$f":"'SFB-Items'!F47","v":0},{"$f":"'SFB-Items'!G47","v":0.1},{"$f":"'SFB-Items'!H47","v":0.34},{"$f":"'SFB-Items'!I47","v":0.56000000000000005},null,"I",6,"SFB",2,"25. Meine Lehrer/Meine Lehrerinnen sprechen mit mir darüber, was ich gut kann und noch nicht so gut kann.\n","",""]
[{"$f":"'SFB-Items'!A48","v":"26. Meine Lehrer/Meine Lehrerinnen sagen mir, wie ich mich verbessern kann."},"Die Lehrerinnen und Lehrer sprechen regelmäßig mit mir über meine Leistung.",{"$f":"'SFB-Items'!B48","v":49},{"$f":"'SFB-Items'!C48","v":3.4897959183673462},{"$f":"'SFB-Items'!D48","v":0.10958505914004769},{"$f":"'SFB-Items'!E48","v":0.76709541398033387},{"$f":"'SFB-Items'!F48","v":4.0816326530612249E-2},{"$f":"'SFB-Items'!G48","v":4.0816326530612249E-2},{"$f":"'SFB-Items'!H48","v":0.30612244897959184},{"$f":"'SFB-Items'!I48","v":0.61224489795918369},null,"I",6,"SFB",2,"26. Meine Lehrer/Meine Lehrerinnen sagen mir, wie ich mich verbessern kann.\n","",""]
[null,null,null,null,null,null,null,null,null,null,null,"","","","","","",""]
[null,null,{"$f":"CONCATENATE(\"Inspizierte Schule \",$I$1,\"\")","v":"Inspizierte Schule (5274)"},null,null,"Referenzwert",null,null,"Effektstärke",null,null,"","","","","","",""]
["EFB: Konstrukt",null,"N","MW","SD","N","MW","SD","D","Effekt",null,3,"","","","","",""]
[{"$f":"\"EFB: \" & 'Effektstärken Eltern'!A14","v":"EFB: Informationen über den Lernstand des Kindes"},null,{"$f":"'Effektstärken Eltern'!C14","v":89},{"$f":"'Effektstärken Eltern'!D14","v":2.9906367041198512},{"$f":"'Effektstärken Eltern'!E14","v":0.74719997127398374},{"$f":"'Effektstärken Eltern'!F14","v":3347},{"$f":"'Effektstärken Eltern'!G14","v":3.0010569999999999},{"$f":"'Effektstärken Eltern'!H14","v":0.69821829999999996},{"$f":"'Effektstärken Eltern'!I14","v":-1.4410109629081598E-2},{"$f":"'Effektstärken Eltern'!J14","v":"Ø"},null,"K",3,"EFB",2,"","",""]
[null,null,null,null,null,null,null,null,null,null,null,"","","","","","",""]
[{"$f":"A456","v":"EFB: Informationen über den Lernstand des Kindes"},null,"N","MW","SE","SD","trifft\nnicht zu","trifft eher\n nicht zu","trifft\neher zu","trifft\nvoll zu",null,7,"","","","EFB: Informationen über den Lernstand des Kindes","",""]
["Ich fühle mich durch die Schule gut informiert…",null,null,null,null,null,null,null,null,null,null,"B","","","","Ich fühle mich durch die Schule gut informiert…","",""]
[{"$f":"'EFB-Items'!A9","v":"01. ...über Ziele und Inhalte des Unterrichts meines Kindes."},"Ich fühle mich durch die Schule gut informiert über Ziele und Inhalte des Unterrichts meines Kindes.",{"$f":"'EFB-Items'!B9","v":89},{"$f":"'EFB-Items'!C9","v":3.1235955056179772},{"$f":"'EFB-Items'!D9","v":8.120049323689793E-2},{"$f":"'EFB-Items'!E9","v":0.76604392111058484},{"$f":"'EFB-Items'!F9","v":2.2471910112359553E-2},{"$f":"'EFB-Items'!G9","v":0.16853932584269665},{"$f":"'EFB-Items'!H9","v":0.47191011235955055},{"$f":"'EFB-Items'!I9","v":0.3370786516853933},null,"I",7,"EFB",2,"01. ...über Ziele und Inhalte des Unterrichts meines Kindes.\n","",""]
[{"$f":"'EFB-Items'!A10","v":"02. ...über den Leistungsstand meines Kindes."},"Ich fühle mich durch die Schule gut informiert über Ziele und Inhalte des Unterrichts meines Kindes.",{"$f":"'EFB-Items'!B10","v":87},{"$f":"'EFB-Items'!C10","v":2.9885057471264371},{"$f":"'EFB-Items'!D10","v":8.8792205928321988E-2},{"$f":"'EFB-Items'!E10","v":0.82819856165337913},{"$f":"'EFB-Items'!F10","v":3.4482758620689655E-2},{"$f":"'EFB-Items'!G10","v":0.24137931034482757},{"$f":"'EFB-Items'!H10","v":0.42528735632183901},{"$f":"'EFB-Items'!I10","v":0.2988505747126437},null,"I",7,"EFB",2,"02. ...über den Leistungsstand meines Kindes.\n","",""]
[{"$f":"'EFB-Items'!A11","v":"03. ...darüber, was mein Kind tun muss, um sich in einzelnen Fächern zu verbessern."},"Ich fühle mich durch die Schule gut informiert über Ziele und Inhalte des Unterrichts meines Kindes.",{"$f":"'EFB-Items'!B11","v":82},{"$f":"'EFB-Items'!C11","v":2.8170731707317063},{"$f":"'EFB-Items'!D11","v":0.1057344779127339},{"$f":"'EFB-Items'!E11","v":0.9574664198796895},{"$f":"'EFB-Items'!F11","v":8.5365853658536592E-2},{"$f":"'EFB-Items'!G11","v":0.3048780487804878},{"$f":"'EFB-Items'!H11","v":0.31707317073170732},{"$f":"'EFB-Items'!I11","v":0.29268292682926828},null,"I",7,"EFB",2,"03. ...darüber, was mein Kind tun muss, um sich in einzelnen Fächern zu verbessern.\n","",""]
[null,null,null,null,null,null,null,null,null,null,null,"","","","","","",""]
["Erziehungs- und Sozialisationsprozesse gestalten (QB 2.4)",null,null,null,null,null,null,null,null,null,null,"","","","","","rot","Erziehungs- und Sozialisationsprozesse gestalten (QB 2.4)"]
[null,null,null,null,null,null,null,null,null,null,null,{"$f":"IF(A465=\"\",\"\",\nIF(A465=\"PFB: Konstrukt\",1,IF(A465=\"SFB: Konstrukt\",2,IF(A465=\"EFB: Konstrukt\",3,\nIF(OR(A464=\"PFB: Konstrukt\",A464=\"SFB: Konstrukt\",A464=\"EFB: Konstrukt\"),\"K\",\n\nIF(LEFT(A465,3)=\"PFB\",5,IF(LEFT(A465,3)=\"SFB\",6,IF(LEFT(A465,3)=\"EFB\",7,\nIF(OR(LEFT(A465,1)=\"0\", LEFT(A465,1)=\"1\", LEFT(A465,1)=\"2\", LEFT(A465,1)=\"3\", LEFT(A465,1)=\"4\", LEFT(A465,1)=\"5\", LEFT(A465,1)=\"6\", LEFT(A465,1)=\"7\", LEFT(A465,1)=\"8\", LEFT(A465,1)=\"9\"),\"I\",IF(A464=\"\",\"\",\"B\"))))))))))","v":""},{"$f":"IF(L465=\"K\",L464,IF(L465=\"I\",IF(L464=\"B\",L463,IF(AND(L464>=1,L464<=8),L464,M464)),\"\"))","v":""},{"$f":"IF(M465=\"\",\"\",\nIF(OR(M465=1,M465=5),IF(M464=5,N464,IF(L465=\"K\",VLOOKUP(A465,$S$14:$T$43,2,0),IF(L465=\"I\",IF(L464=\"B\",VLOOKUP(A461,$S$14:$T$43,2,0),VLOOKUP(A462,$S$14:$T$43,2,0)),\"Fehler\"))),\nIF(OR(M465=2,M465=6),\"SFB\",\nIF(OR(M465=3,M465=7),\"EFB\",\"\"))))","v":""},{"$f":"IF(OR(N465=0,N465=\"\"),\"\",\nIF(ISERROR(VLOOKUP(N465,$A$8:$H$11,7,0)),\"Fehler\",\nIF(OR(VLOOKUP(N465,$A$8:$H$11,7,0)<=0.2,VLOOKUP(N465,$A$8:$H$11,4,0)=\"<=10\"),4,IF(VLOOKUP(N465,$A$8:$H$11,7,0)>=0.5,1,IF(AND(VLOOKUP(N465,$A$8:$H$11,7,0)>0.2,VLOOKUP(N465,$A$8:$H$11,7,0)<0.5),2,\"Fehler\")))))","v":""},{"$f":"IF(OR(LEFT(A465,1)=\"0\",LEFT(A465,1)=\"1\",LEFT(A465,1)=\"2\",LEFT(A465,1)=\"3\",LEFT(A465,1)=\"4\",LEFT(A465,1)=\"5\",LEFT(A465,1)=\"6\",LEFT(A465,1)=\"7\",LEFT(A465,1)=\"8\",LEFT(A465,1)=\"9\"), A465 &\"\n\",IF(OR(L465=5,L465=6,L465=7,L465=8,L465=\"B\"),A465,\"\"))","v":""},{"$f":"IF(AND(L465=\"\",A465<>\"\"),IF(RIGHT(A465,1)=\".\",\"grau\",IF(RIGHT(A465,1)=\")\",\"rot\",\"blau\")),\"\")","v":""},{"$f":"IF(Q465<>\"\",A465,\"\")","v":""}]
["Die Schule stärkt Erziehungs- und Sozialisationsprozesse durch gemeinsame Umgangsformen, Regeln und Rituale im Schulalltag.",null,null,null,null,null,null,null,null,null,null,"","","","","","grau","Die Schule stärkt Erziehungs- und Sozialisationsprozesse durch gemeinsame Umgangsformen, Regeln und Rituale im Schulalltag."]
[null,null,null,null,null,null,null,null,null,null,null,"","","","","","",""]
[null,null,{"$f":"CONCATENATE(\"Inspizierte Schule \",$I$1,\"\")","v":"Inspizierte Schule (5274)"},null,null,"Referenzwert",null,null,"Effektstärke",null,null,"","","","","","",""]
["SFB: Konstrukt",null,"N","MW","SD","N","MW","SD","D","Effekt",null,2,"","","","","",""]
[{"$f":"\"SFB: \" & 'Effektstärken SuS'!A19","v":"SFB: Konsequenter Umgang mit Regeln"},null,{"$f":"'Effektstärken SuS'!C19","v":53},{"$f":"'Effektstärken SuS'!D19","v":3.4905660377358485},{"$f":"'Effektstärken SuS'!E19","v":0.45925326599672284},{"$f":"'Effektstärken SuS'!F19","v":1719},{"$f":"'Effektstärken SuS'!G19","v":3.2853370000000002},{"$f":"'Effektstärken SuS'!H19","v":0.49854340000000003},{"$f":"'Effektstärken SuS'!I19","v":0.42818395124167596},{"$f":"'Effektstärken SuS'!J19","v":"+"},null,"K",2,"SFB",2,"","",""]
[null,null,null,null,null,null,null,null,null,null,null,"","","","","","",""]
[{"$f":"A470","v":"SFB: Konsequenter Umgang mit Regeln"},null,"N","MW","SE","SD","stimmt\ngar nicht","stimmt\neher nicht","stimmt\neher","stimmt\ngenau",null,6,"","","","SFB: Konsequenter Umgang mit Regeln","",""]
[{"$f":"'SFB-Items'!A14","v":"04. An unserer Schule halten sich die Kinder an die Regeln."},null,{"$f":"'SFB-Items'!B14","v":47},{"$f":"'SFB-Items'!C14","v":2.9787234042553186},{"$f":"'SFB-Items'!D14","v":9.8505773072027236E-2},{"$f":"'SFB-Items'!E14","v":0.67532155632730484},{"$f":"'SFB-Items'!F14","v":2.1276595744680851E-2},{"$f":"'SFB-Items'!G14","v":0.1702127659574468},{"$f":"'SFB-Items'!H14","v":0.61702127659574468},{"$f":"'SFB-Items'!I14","v":0.19148936170212769},null,"I",6,"SFB",2,"04. An unserer Schule halten sich die Kinder an die Regeln.\n","",""]
[{"$f":"'SFB-Items'!A15","v":"05. Unsere Lehrer und Lehrerinnen behandeln uns gerecht."},null,{"$f":"'SFB-Items'!B15","v":51},{"$f":"'SFB-Items'!C15","v":3.7843137254901964},{"$f":"'SFB-Items'!D15","v":7.037003311735826E-2},{"$f":"'SFB-Items'!E15","v":0.50254255502180412},{"$f":"'SFB-Items'!F15","v":0},{"$f":"'SFB-Items'!G15","v":3.9215686274509803E-2},{"$f":"'SFB-Items'!H15","v":0.13725490196078433},{"$f":"'SFB-Items'!I15","v":0.82352941176470584},null,"I",6,"SFB",2,"05. Unsere Lehrer und Lehrerinnen behandeln uns gerecht.\n","",""]
[{"$f":"'SFB-Items'!A16","v":"06. An unserer Schule ist klar, was passiert, wenn man sich nicht an die Regeln hält."},null,{"$f":"'SFB-Items'!B16","v":49},{"$f":"'SFB-Items'!C16","v":3.6326530612244894},{"$f":"'SFB-Items'!D16","v":9.5359495026368604E-2},{"$f":"'SFB-Items'!E16","v":0.66751646518458019},{"$f":"'SFB-Items'!F16","v":2.0408163265306124E-2},{"$f":"'SFB-Items'!G16","v":4.0816326530612249E-2},{"$f":"'SFB-Items'!H16","v":0.22448979591836735},{"$f":"'SFB-Items'!I16","v":0.7142857142857143},null,"I",6,"SFB",2,"06. An unserer Schule ist klar, was passiert, wenn man sich nicht an die Regeln hält.\n","",""]
[null,null,null,null,null,null,null,null,null,null,null,"","","","","","",""]
["Die Schule fördert systematisch das Sozialverhalten im Alltag.",null,null,null,null,null,null,null,null,null,null,"","","","","","grau","Die Schule fördert systematisch das Sozialverhalten im Alltag."]
[null,null,null,null,null,null,null,null,null,null,null,"","","","","","",""]
[null,null,{"$f":"CONCATENATE(\"Inspizierte Schule \",$I$1,\"\")","v":"Inspizierte Schule (5274)"},null,null,"Referenzwert",null,null,"Effektstärke",null,null,"","","","","","",""]
["SFB: Konstrukt",null,"N","MW","SD","N","MW","SD","D","Effekt",null,2,"","","","","",""]
[{"$f":"\"SFB: \" & 'Effektstärken SuS'!A20","v":"SFB: Soziales Miteinander an der Schule"},null,{"$f":"'Effektstärken SuS'!C20","v":53},{"$f":"'Effektstärken SuS'!D20","v":3.2735849056603779},{"$f":"'Effektstärken SuS'!E20","v":0.55862921706704682},{"$f":"'Effektstärken SuS'!F20","v":1719},{"$f":"'Effektstärken SuS'!G20","v":3.0421719999999999},{"$f":"'Effektstärken SuS'!H20","v":0.50042140000000002},{"$f":"'Effektstärken SuS'!I20","v":0.43636094441511231},{"$f":"'Effektstärken SuS'!J20","v":"+"},null,"K",2,"SFB",2,"","",""]
[null,null,null,null,null,null,null,null,null,null,null,"","","","","","",""]
["SFB: Soziales Miteinander an der Schule",null,"N","MW","SE","SD","stimmt\ngar nicht","stimmt\neher nicht","stimmt\neher","stimmt\ngenau",null,6,"","","","SFB: Soziales Miteinander an der Schule","",""]
[{"$f":"'SFB-Items'!A9","v":"01. Lehrer/Lehrerinnen und Kinder gehen freundlich miteinander um."},"Die Lehrerinnen und Lehrer gehen mit den Schülerinnern und Schülern freundlich und respektvoll um.  ",{"$f":"'SFB-Items'!B9","v":52},{"$f":"'SFB-Items'!C9","v":3.634615384615385},{"$f":"'SFB-Items'!D9","v":8.2517177487949692E-2},{"$f":"'SFB-Items'!E9","v":0.59503982907873076},{"$f":"'SFB-Items'!F9","v":0},{"$f":"'SFB-Items'!G9","v":5.7692307692307689E-2},{"$f":"'SFB-Items'!H9","v":0.25},{"$f":"'SFB-Items'!I9","v":0.69230769230769229},null,"I",6,"SFB",2,"01. Lehrer/Lehrerinnen und Kinder gehen freundlich miteinander um.\n","",""]
[{"$f":"'SFB-Items'!A10","v":"02. In meiner Klasse gehen die Kinder freundlich miteinander um."},"Die Lehrerinnen und Lehrer gehen mit den Schülerinnern und Schülern freundlich und respektvoll um.  ",{"$f":"'SFB-Items'!B10","v":52},{"$f":"'SFB-Items'!C10","v":3.1730769230769229},{"$f":"'SFB-Items'!D10","v":9.7947079341596036E-2},{"$f":"'SFB-Items'!E10","v":0.70630643369612822},{"$f":"'SFB-Items'!F10","v":1.9230769230769232E-2},{"$f":"'SFB-Items'!G10","v":0.11538461538461538},{"$f":"'SFB-Items'!H10","v":0.53846153846153844},{"$f":"'SFB-Items'!I10","v":0.32692307692307693},null,"I",6,"SFB",2,"02. In meiner Klasse gehen die Kinder freundlich miteinander um.\n","",""]
[{"$f":"'SFB-Items'!A11","v":"03. Auf dem Schulhof gehen die Kinder freundlich miteinander um."},"Die Lehrerinnen und Lehrer gehen mit den Schülerinnern und Schülern freundlich und respektvoll um.  ",{"$f":"'SFB-Items'!B11","v":48},{"$f":"'SFB-Items'!C11","v":2.9791666666666665},{"$f":"'SFB-Items'!D11","v":0.10935652917321967},{"$f":"'SFB-Items'!E11","v":0.75764425866961838},{"$f":"'SFB-Items'!F11","v":4.1666666666666657E-2},{"$f":"'SFB-Items'!G11","v":0.16666666666666663},{"$f":"'SFB-Items'!H11","v":0.5625},{"$f":"'SFB-Items'!I11","v":0.22916666666666663},null,"I",6,"SFB",2,"03. Auf dem Schulhof gehen die Kinder freundlich miteinander um.\n","",""]
[null,null,null,null,null,null,null,null,null,null,null,"","","","","","",""]
[null,null,{"$f":"CONCATENATE(\"Inspizierte Schule \",$I$1,\"\")","v":"Inspizierte Schule (5274)"},null,null,"Referenzwert",null,null,"Effektstärke",null,null,"","","","","","",""]
["EFB: Konstrukt",null,"N","MW","SD","N","MW","SD","D","Effekt",null,3,"","","","","",""]
[{"$f":"\"EFB: \" & 'Effektstärken Eltern'!A15","v":"EFB: Soziales Miteinander an der Schule"},null,{"$f":"'Effektstärken Eltern'!C15","v":88},{"$f":"'Effektstärken Eltern'!D15","v":3.208333333333333},{"$f":"'Effektstärken Eltern'!E15","v":0.55794505284332185},{"$f":"'Effektstärken Eltern'!F15","v":3347},{"$f":"'Effektstärken Eltern'!G15","v":3.1581100000000002},{"$f":"'Effektstärken Eltern'!H15","v":0.5443981},{"$f":"'Effektstärken Eltern'!I15","v":9.1114171003979533E-2},{"$f":"'Effektstärken Eltern'!J15","v":"Ø"},null,"K",3,"EFB",2,"","",""]
[null,null,null,null,null,null,null,null,null,null,null,"","","","","","",""]
[{"$f":"A490","v":"EFB: Soziales Miteinander an der Schule"},null,"N","MW","SE","SD","trifft\nnicht zu","trifft eher\n nicht zu","trifft\neher zu","trifft\nvoll zu",null,7,"","","","EFB: Soziales Miteinander an der Schule","",""]
[{"$f":"'EFB-Items'!A14","v":"04. Die Pädagoginnen und Pädagogen gehen respektvoll mit den Schülerinnen und Schülern um."},"Die Pädagoginnen und Pädagogen gehen respektvoll mit den Schülerinnen und Schülern um.",{"$f":"'EFB-Items'!B14","v":84},{"$f":"'EFB-Items'!C14","v":3.4880952380952381},{"$f":"'EFB-Items'!D14","v":7.8522733915416074E-2},{"$f":"'EFB-Items'!E14","v":0.71967274388454061},{"$f":"'EFB-Items'!F14","v":2.3809523809523808E-2},{"$f":"'EFB-Items'!G14","v":5.9523809523809514E-2},{"$f":"'EFB-Items'!H14","v":0.32142857142857145},{"$f":"'EFB-Items'!I14","v":0.59523809523809523},null,"I",7,"EFB",2,"04. Die Pädagoginnen und Pädagogen gehen respektvoll mit den Schülerinnen und Schülern um.\n","",""]
[{"$f":"'EFB-Items'!A15","v":"05. Die Schülerinnen und Schüler gehen respektvoll miteinander um."},"Die Pädagoginnen und Pädagogen gehen respektvoll mit den Schülerinnen und Schülern um.",{"$f":"'EFB-Items'!B15","v":81},{"$f":"'EFB-Items'!C15","v":2.8888888888888888},{"$f":"'EFB-Items'!D15","v":7.2435582280029442E-2},{"$f":"'EFB-Items'!E15","v":0.65192024052026498},{"$f":"'EFB-Items'!F15","v":1.2345679012345678E-2},{"$f":"'EFB-Items'!G15","v":0.23456790123456789},{"$f":"'EFB-Items'!H15","v":0.60493827160493829},{"$f":"'EFB-Items'!I15","v":0.14814814814814814},null,"I",7,"EFB",2,"05. Die Schülerinnen und Schüler gehen respektvoll miteinander um.\n","",""]
[{"$f":"'EFB-Items'!A16","v":"06. Es werden Regeln für das soziale Miteinander vermittelt."},"Die Pädagoginnen und Pädagogen gehen respektvoll mit den Schülerinnen und Schülern um.",{"$f":"'EFB-Items'!B16","v":84},{"$f":"'EFB-Items'!C16","v":3.4523809523809526},{"$f":"'EFB-Items'!D16","v":6.4281995600142569E-2},{"$f":"'EFB-Items'!E16","v":0.58915422132094308},{"$f":"'EFB-Items'!F16","v":0},{"$f":"'EFB-Items'!G16","v":4.7619047619047616E-2},{"$f":"'EFB-Items'!H16","v":0.45238095238095238},{"$f":"'EFB-Items'!I16","v":0.5},null,"I",7,"EFB",2,"06. Es werden Regeln für das soziale Miteinander vermittelt.\n","",""]
[{"$f":"'EFB-Items'!A17","v":"07. Es gibt Angebote, um Gewalt zu verhindern."},"Die Pädagoginnen und Pädagogen gehen respektvoll mit den Schülerinnen und Schülern um.",{"$f":"'EFB-Items'!B17","v":73},{"$f":"'EFB-Items'!C17","v":2.9589041095890423},{"$f":"'EFB-Items'!D17","v":0.11280017650260844},{"$f":"'EFB-Items'!E17","v":0.96376513051076507},{"$f":"'EFB-Items'!F17","v":0.12328767123287671},{"$f":"'EFB-Items'!G17","v":0.1095890410958904},{"$f":"'EFB-Items'!H17","v":0.45205479452054786},{"$f":"'EFB-Items'!I17","v":0.31506849315068491},null,"I",7,"EFB",2,"07. Es gibt Angebote, um Gewalt zu verhindern.\n","",""]
[null,null,null,null,null,null,null,null,null,null,null,"","","","","","",""]
["ZUFRIEDENHEIT DER SCHULBETEILIGTEN",null,null,null,null,null,null,null,null,null,null,"","","","","","blau","ZUFRIEDENHEIT DER SCHULBETEILIGTEN"]
[null,null,null,null,null,null,null,null,null,null,null,"","","","","","",""]
["Einverständnis und Akzeptanz (QB 3.4)",null,null,null,null,null,null,null,null,null,null,"","","","","","rot","Einverständnis und Akzeptanz (QB 3.4)"]
[null,null,null,null,null,null,null,null,null,null,null,"","","","","","",""]
["Die Schülerinnen und Schüler fühlen sich an der Schule wohl.",null,null,null,null,null,null,null,null,null,null,"","","","","","grau","Die Schülerinnen und Schüler fühlen sich an der Schule wohl."]
[null,null,null,null,null,null,null,null,null,null,null,"","","","","","",""]
[{"$f":"\"SFB: \" & 'SFB-Konstrukte'!A23","v":"SFB: Zufriedenheit\n(Einzelitem)"},null,"N","MW","SE","SD","stimmt\ngar nicht","stimmt\neher nicht","stimmt\neher","stimmt\ngenau",null,6,"","","","SFB: Zufriedenheit\n(Einzelitem)","",""]
[{"$f":"'SFB-Items'!A78","v":"44. Ich gehe gerne in meine Schule."},null,{"$f":"'SFB-Items'!B78","v":51},{"$f":"'SFB-Items'!C78","v":3.5686274509803924},{"$f":"'SFB-Items'!D78","v":0.10938294651750077},{"$f":"'SFB-Items'!E78","v":0.78115048385786223},{"$f":"'SFB-Items'!F78","v":3.9215686274509803E-2},{"$f":"'SFB-Items'!G78","v":5.8823529411764698E-2},{"$f":"'SFB-Items'!H78","v":0.19607843137254904},{"$f":"'SFB-Items'!I78","v":0.70588235294117652},null,"I",6,"SFB",2,"44. Ich gehe gerne in meine Schule.\n","",""]
[null,null,null,null,null,null,null,null,null,null,null,"","","","","","",""]
["Die Erziehungsberechtigten bewerten die Angebote der Schule positiv.",null,null,null,null,null,null,null,null,null,null,"","","","","","grau","Die Erziehungsberechtigten bewerten die Angebote der Schule positiv."]
[null,null,null,null,null,null,null,null,null,null,null,"","","","","","",""]
[null,null,{"$f":"CONCATENATE(\"Inspizierte Schule \",$I$1,\"\")","v":"Inspizierte Schule (5274)"},null,null,"Referenzwert",null,null,"Effektstärke",null,null,"","","","","","",""]
["EFB: Konstrukt",null,"N","MW","SD","N","MW","SD","D","Effekt",null,3,"","","","","",""]
[{"$f":"\"EFB: \" & 'Effektstärken Eltern'!A16","v":"EFB: Zufriedenheit mit der Schule"},null,{"$f":"'Effektstärken Eltern'!C16","v":88},{"$f":"'Effektstärken Eltern'!D16","v":3.2159090909090926},{"$f":"'Effektstärken Eltern'!E16","v":0.75044009689142277},{"$f":"'Effektstärken Eltern'!F16","v":"-"},{"$f":"'Effektstärken Eltern'!G16","v":"-"},{"$f":"'Effektstärken Eltern'!H16","v":"-"},{"$f":"'Effektstärken Eltern'!I16","v":"o.R."},{"$f":"'Effektstärken Eltern'!J16","v":"o.R."},null,"K",3,"EFB",2,"","",""]
[null,null,null,null,null,null,null,null,null,null,null,"","","","","","",""]
[{"$f":"A511","v":"EFB: Zufriedenheit mit der Schule"},null,"N","MW","SE","SD","trifft\nnicht zu","trifft eher\n nicht zu","trifft\neher zu","trifft\nvoll zu",null,7,"","","","EFB: Zufriedenheit mit der Schule","",""]
[{"$f":"'EFB-Items'!A55","v":"33. Ich stehe voll und ganz hinter dem Konzept der Schule, die mein Kind besucht."},"Ich stehe voll und ganz hinter dem Konzept der Schule, die mein Kind besucht.",{"$f":"'EFB-Items'!B55","v":81},{"$f":"'EFB-Items'!C55","v":3.1358024691358022},{"$f":"'EFB-Items'!D55","v":9.2551431180204008E-2},{"$f":"'EFB-Items'!E55","v":0.8329628806218361},{"$f":"'EFB-Items'!F55","v":6.1728395061728392E-2},{"$f":"'EFB-Items'!G55","v":9.8765432098765427E-2},{"$f":"'EFB-Items'!H55","v":0.48148148148148145},{"$f":"'EFB-Items'!I55","v":0.35802469135802467},null,"I",7,"EFB",2,"33. Ich stehe voll und ganz hinter dem Konzept der Schule, die mein Kind besucht.\n","",""]
[{"$f":"'EFB-Items'!A56","v":"34. Freundinnen und Freunden gegenüber lobe ich die Schule meines Kindes als besonders gute Schule."},"Ich stehe voll und ganz hinter dem Konzept der Schule, die mein Kind besucht.",{"$f":"'EFB-Items'!B56","v":83},{"$f":"'EFB-Items'!C56","v":3.096385542168675},{"$f":"'EFB-Items'!D56","v":9.3286955243531575E-2},{"$f":"'EFB-Items'!E56","v":0.84988460954680145},{"$f":"'EFB-Items'!F56","v":6.0240963855421686E-2},{"$f":"'EFB-Items'!G56","v":0.13253012048192772},{"$f":"'EFB-Items'!H56","v":0.45783132530120485},{"$f":"'EFB-Items'!I56","v":0.3493975903614458},null,"I",7,"EFB",2,"34. Freundinnen und Freunden gegenüber lobe ich die Schule meines Kindes als besonders gute Schule.\n","",""]
[{"$f":"'EFB-Items'!A57","v":"35. Ich bin ausgesprochen froh, dass mein Kind gerade diese Schule besucht."},"Ich stehe voll und ganz hinter dem Konzept der Schule, die mein Kind besucht.",{"$f":"'EFB-Items'!B57","v":84},{"$f":"'EFB-Items'!C57","v":3.285714285714286},{"$f":"'EFB-Items'!D57","v":8.7305933583286741E-2},{"$f":"'EFB-Items'!E57","v":0.80017209852839721},{"$f":"'EFB-Items'!F57","v":3.5714285714285712E-2},{"$f":"'EFB-Items'!G57","v":0.10714285714285714},{"$f":"'EFB-Items'!H57","v":0.39285714285714285},{"$f":"'EFB-Items'!I57","v":0.4642857142857143},null,"I",7,"EFB",2,"35. Ich bin ausgesprochen froh, dass mein Kind gerade diese Schule besucht.\n","",""]
[{"$f":"'EFB-Items'!A58","v":"36. Ich bin insgesamt mit der Schule meines Kindes zufrieden."},"Ich stehe voll und ganz hinter dem Konzept der Schule, die mein Kind besucht.",{"$f":"'EFB-Items'!B58","v":87},{"$f":"'EFB-Items'!C58","v":3.3793103448275863},{"$f":"'EFB-Items'!D58","v":8.049794794395447E-2},{"$f":"'EFB-Items'!E58","v":0.75083487346907485},{"$f":"'EFB-Items'!F58","v":2.2988505747126436E-2},{"$f":"'EFB-Items'!G58","v":9.1954022988505746E-2},{"$f":"'EFB-Items'!H58","v":0.36781609195402298},{"$f":"'EFB-Items'!I58","v":0.51724137931034486},null,"I",7,"EFB",2,"36. Ich bin insgesamt mit der Schule meines Kindes zufrieden.\n","",""]
[null,null,null,null,null,null,null,null,null,null,null,"","","","","","",""]
["Arbeitszufriedenheit der Pädagoginnen und Pädagogen\n(QB 3.5)",null,null,null,null,null,null,null,null,null,null,"","","","","","rot","Arbeitszufriedenheit der Pädagoginnen und Pädagogen\n(QB 3.5)"]
[null,null,null,null,null,null,null,null,null,null,null,"","","","","","",""]
["Die Pädagoginnen und Pädagogen sind mit den Strukturen und ihren fachlichen und pädagogischen Möglichkeiten an der Schule zufrieden.",null,null,null,null,null,null,null,null,null,null,"","","","","","grau","Die Pädagoginnen und Pädagogen sind mit den Strukturen und ihren fachlichen und pädagogischen Möglichkeiten an der Schule zufrieden."]
[null,null,null,null,null,null,null,null,null,null,null,"","","","","","",""]
[null,null,{"$f":"CONCATENATE(\"Inspizierte Schule \",$I$1,\"\")","v":"Inspizierte Schule (5274)"},null,null,"Referenzwert",null,null,"Effektstärke",null,null,"","","","","","",""]
["PFB: Konstrukt",null,"N","MW","SD","N","MW","SD","D","Effekt",null,1,"","","","","",""]
[{"$f":"\"PFB: \" & 'Effektstärken PuP'!A35","v":"PFB: Arbeitszufriedenheit"},null,{"$f":"'Effektstärken PuP'!C35","v":23},{"$f":"'Effektstärken PuP'!D35","v":3.2115942028985507},{"$f":"'Effektstärken PuP'!E35","v":0.40770467322674458},{"$f":"'Effektstärken PuP'!F35","v":349},{"$f":"'Effektstärken PuP'!G35","v":3.3515510000000002},{"$f":"'Effektstärken PuP'!H35","v":0.55277019999999999},{"$f":"'Effektstärken PuP'!I35","v":-0.28816428467193067},{"$f":"'Effektstärken PuP'!J35","v":"-"},null,"K",1,"PFB (gesamt)",1,"","",""]
[null,null,null,null,null,null,null,null,null,null,null,"","","","","","",""]
[{"$f":"A525","v":"PFB: Arbeitszufriedenheit"},null,"N","MW","SE","SD","trifft\nnicht zu","trifft eher\n nicht zu","trifft\neher zu","trifft\nvoll zu",null,5,"","","","PFB: Arbeitszufriedenheit","",""]
["Ich bin zufrieden mit...",null,null,null,null,null,null,null,null,null,null,"B","","","","Ich bin zufrieden mit...","",""]
[{"$f":"'PFB-Items'!A160","v":"104. ...den allgemeinen Arbeitsbedingungen an der Schule."},"Ich bin zufrieden mit den allgemeinen Arbeitsbedingungen an der Schule.",{"$f":"'PFB-Items'!B160","v":23},{"$f":"'PFB-Items'!C160","v":2.9565217391304346},{"$f":"'PFB-Items'!D160","v":0.13304373659847302},{"$f":"'PFB-Items'!E160","v":0.63805534595827096},{"$f":"'PFB-Items'!F160","v":0},{"$f":"'PFB-Items'!G160","v":0.21739130434782608},{"$f":"'PFB-Items'!H160","v":0.60869565217391308},{"$f":"'PFB-Items'!I160","v":0.17391304347826086},null,{"$f":"IF(A529=\"\",\"\",\nIF(A529=\"PFB: Konstrukt\",1,IF(A529=\"SFB: Konstrukt\",2,IF(A529=\"EFB: Konstrukt\",3,\nIF(OR(A528=\"PFB: Konstrukt\",A528=\"SFB: Konstrukt\",A528=\"EFB: Konstrukt\"),\"K\",\n\nIF(LEFT(A529,3)=\"PFB\",5,IF(LEFT(A529,3)=\"SFB\",6,IF(LEFT(A529,3)=\"EFB\",7,\nIF(OR(LEFT(A529,1)=\"0\", LEFT(A529,1)=\"1\", LEFT(A529,1)=\"2\", LEFT(A529,1)=\"3\", LEFT(A529,1)=\"4\", LEFT(A529,1)=\"5\", LEFT(A529,1)=\"6\", LEFT(A529,1)=\"7\", LEFT(A529,1)=\"8\", LEFT(A529,1)=\"9\"),\"I\",IF(A528=\"\",\"\",\"B\"))))))))))","v":"I"},{"$f":"IF(L529=\"K\",L528,IF(L529=\"I\",IF(L528=\"B\",L527,IF(AND(L528>=1,L528<=8),L528,M528)),\"\"))","v":5},{"$f":"IF(M529=\"\",\"\",\nIF(OR(M529=1,M529=5),IF(M528=5,N528,IF(L529=\"K\",VLOOKUP(A529,$S$14:$T$43,2,0),IF(L529=\"I\",IF(L528=\"B\",VLOOKUP(A525,$S$14:$T$43,2,0),VLOOKUP(A526,$S$14:$T$43,2,0)),\"Fehler\"))),\nIF(OR(M529=2,M529=6),\"SFB\",\nIF(OR(M529=3,M529=7),\"EFB\",\"\"))))","v":"PFB (gesamt)"},{"$f":"IF(OR(N529=0,N529=\"\"),\"\",\nIF(ISERROR(VLOOKUP(N529,$A$8:$H$11,7,0)),\"Fehler\",\nIF(OR(VLOOKUP(N529,$A$8:$H$11,7,0)<=0.2,VLOOKUP(N529,$A$8:$H$11,4,0)=\"<=10\"),4,IF(VLOOKUP(N529,$A$8:$H$11,7,0)>=0.5,1,IF(AND(VLOOKUP(N529,$A$8:$H$11,7,0)>0.2,VLOOKUP(N529,$A$8:$H$11,7,0)<0.5),2,\"Fehler\")))))","v":1},{"$f":"IF(OR(LEFT(A529,1)=\"0\",LEFT(A529,1)=\"1\",LEFT(A529,1)=\"2\",LEFT(A529,1)=\"3\",LEFT(A529,1)=\"4\",LEFT(A529,1)=\"5\",LEFT(A529,1)=\"6\",LEFT(A529,1)=\"7\",LEFT(A529,1)=\"8\",LEFT(A529,1)=\"9\"), A529 &\"\n\",IF(OR(L529=5,L529=6,L529=7,L529=8,L529=\"B\"),A529,\"\"))","v":"104. ...den allgemeinen Arbeitsbedingungen an der Schule.\n"},{"$f":"IF(AND(L529=\"\",A529<>\"\"),IF(RIGHT(A529,1)=\".\",\"grau\",IF(RIGHT(A529,1)=\")\",\"rot\",\"blau\")),\"\")","v":""},{"$f":"IF(Q529<>\"\",A529,\"\")","v":""}]
[{"$f":"'PFB-Items'!A161","v":"105. ...dem Arbeitsklima an der Schule."},"Ich bin zufrieden mit den allgemeinen Arbeitsbedingungen an der Schule.",{"$f":"'PFB-Items'!B161","v":23},{"$f":"'PFB-Items'!C161","v":3.3913043478260874},{"$f":"'PFB-Items'!D161","v":0.10405096111532161},{"$f":"'PFB-Items'!E161","v":0.49901087934784533},{"$f":"'PFB-Items'!F161","v":0},{"$f":"'PFB-Items'!G161","v":0},{"$f":"'PFB-Items'!H161","v":0.60869565217391308},{"$f":"'PFB-Items'!I161","v":0.39130434782608697},null,"I",5,"PFB (gesamt)",1,"105. ...dem Arbeitsklima an der Schule.\n","",""]
[{"$f":"'PFB-Items'!A162","v":"106. ...den Kommunikationsstrukturen an der Schule."},"Ich bin zufrieden mit den allgemeinen Arbeitsbedingungen an der Schule.",{"$f":"'PFB-Items'!B162","v":23},{"$f":"'PFB-Items'!C162","v":2.739130434782608},{"$f":"'PFB-Items'!D162","v":0.11276950685918662},{"$f":"'PFB-Items'!E162","v":0.54082355586371711},{"$f":"'PFB-Items'!F162","v":0},{"$f":"'PFB-Items'!G162","v":0.30434782608695654},{"$f":"'PFB-Items'!H162","v":0.65217391304347827},{"$f":"'PFB-Items'!I162","v":4.3478260869565216E-2},null,"I",5,"PFB (gesamt)",1,"106. ...den Kommunikationsstrukturen an der Schule.\n","",""]
[{"$f":"'PFB-Items'!A163","v":"107. ...meinen Möglichkeiten, Ideen zur Entwicklung der Schule einzubringen."},"Ich bin zufrieden mit den allgemeinen Arbeitsbedingungen an der Schule.",{"$f":"'PFB-Items'!B163","v":23},{"$f":"'PFB-Items'!C163","v":3.4347826086956523},{"$f":"'PFB-Items'!D163","v":0.10568965974008646},{"$f":"'PFB-Items'!E163","v":0.50686980186970176},{"$f":"'PFB-Items'!F163","v":0},{"$f":"'PFB-Items'!G163","v":0},{"$f":"'PFB-Items'!H163","v":0.56521739130434778},{"$f":"'PFB-Items'!I163","v":0.43478260869565216},null,"I",5,"PFB (gesamt)",1,"107. ...meinen Möglichkeiten, Ideen zur Entwicklung der Schule einzubringen.\n","",""]
[{"$f":"'PFB-Items'!A164","v":"108. ...meinen Möglichkeiten, berufliche Ziele im Kontext von Schule verwirklichen zu können."},"Ich bin zufrieden mit den allgemeinen Arbeitsbedingungen an der Schule.",{"$f":"'PFB-Items'!B164","v":21},{"$f":"'PFB-Items'!C164","v":3.3809523809523809},{"$f":"'PFB-Items'!D164","v":0.10858813572372741},{"$f":"'PFB-Items'!E164","v":0.4976133515281192},{"$f":"'PFB-Items'!F164","v":0},{"$f":"'PFB-Items'!G164","v":0},{"$f":"'PFB-Items'!H164","v":0.61904761904761907},{"$f":"'PFB-Items'!I164","v":0.38095238095238093},null,"I",5,"PFB (gesamt)",1,"108. ...meinen Möglichkeiten, berufliche Ziele im Kontext von Schule verwirklichen zu können.\n","",""]
[{"$f":"'PFB-Items'!A165","v":"109. ...der Anerkennung meiner Profession innerhalb der Schulgemeinschaft."},"Ich bin zufrieden mit den allgemeinen Arbeitsbedingungen an der Schule.",{"$f":"'PFB-Items'!B165","v":23},{"$f":"'PFB-Items'!C165","v":3.3913043478260865},{"$f":"'PFB-Items'!D165","v":0.13686395014372163},{"$f":"'PFB-Items'!E165","v":0.65637644650436056},{"$f":"'PFB-Items'!F165","v":0},{"$f":"'PFB-Items'!G165","v":8.6956521739130432E-2},{"$f":"'PFB-Items'!H165","v":0.43478260869565216},{"$f":"'PFB-Items'!I165","v":0.47826086956521741},null,"I",5,"PFB (gesamt)",1,"109. ...der Anerkennung meiner Profession innerhalb der Schulgemeinschaft.\n","",""]
[null,null,null,null,null,null,null,null,null,null,null,"","","","","","",""]
[null,null,{"$f":"CONCATENATE(\"Inspizierte Schule \",$I$1,\"\")","v":"Inspizierte Schule (5274)"},null,null,"Referenzwert",null,null,"Effektstärke",null,null,"","","","","","",""]
["PFB: Konstrukt",null,"N","MW","SD","N","MW","SD","D","Effekt",null,1,"","","","","",""]
[{"$f":"\"PFB: \" & 'Effektstärken PuP'!B36","v":"PFB: Arbeitszufriedenheit (Nur Lehrpersonen)"},null,{"$f":"'Effektstärken PuP'!C36","v":0},{"$f":"'Effektstärken PuP'!D36","v":0},{"$f":"'Effektstärken PuP'!E36","v":0.36797116432918731},{"$f":"'Effektstärken PuP'!F36","v":"-"},{"$f":"'Effektstärken PuP'!G36","v":"-"},{"$f":"'Effektstärken PuP'!H36","v":"-"},{"$f":"'Effektstärken PuP'!I36","v":"k.A."},{"$f":"'Effektstärken PuP'!J36","v":"k.A."},null,"K",1,"PFB (nur PTF)",4,"","",""]
[null,null,null,null,null,null,null,null,null,null,null,"","","","","","",""]
[{"$f":"A538","v":"PFB: Arbeitszufriedenheit (Nur Lehrpersonen)"},null,"N","MW","SE","SD","trifft\nnicht zu","trifft eher\n nicht zu","trifft\neher zu","trifft\nvoll zu",null,5,"","","","PFB: Arbeitszufriedenheit (Nur Lehrpersonen)","",""]
["Ich bin zufrieden mit...",null,null,null,null,null,null,null,null,null,null,"B","","","","Ich bin zufrieden mit...","",""]
[{"$f":"'PFB-Items'!A169","v":"104. ...den allgemeinen Arbeitsbedingungen an der Schule."},"Ich bin zufrieden mit den allgemeinen Arbeitsbedingungen an der Schule.",{"$f":"'PFB-Items'!B169","v":16},{"$f":"'PFB-Items'!C169","v":0},{"$f":"'PFB-Items'!D169","v":0},{"$f":"'PFB-Items'!E169","v":0},{"$f":"'PFB-Items'!F169","v":0},{"$f":"'PFB-Items'!G169","v":0},{"$f":"'PFB-Items'!H169","v":0},{"$f":"'PFB-Items'!I169","v":0},null,"I",5,"PFB (nur PTF)",4,"104. ...den allgemeinen Arbeitsbedingungen an der Schule.\n","",""]
[{"$f":"'PFB-Items'!A170","v":"105. ...dem Arbeitsklima an der Schule."},"Ich bin zufrieden mit den allgemeinen Arbeitsbedingungen an der Schule.",{"$f":"'PFB-Items'!B170","v":16},{"$f":"'PFB-Items'!C170","v":0},{"$f":"'PFB-Items'!D170","v":0},{"$f":"'PFB-Items'!E170","v":0},{"$f":"'PFB-Items'!F170","v":0},{"$f":"'PFB-Items'!G170","v":0},{"$f":"'PFB-Items'!H170","v":0},{"$f":"'PFB-Items'!I170","v":0},null,"I",5,"PFB (nur PTF)",4,"105. ...dem Arbeitsklima an der Schule.\n","",""]
[{"$f":"'PFB-Items'!A171","v":"106. ...den Kommunikationsstrukturen an der Schule."},"Ich bin zufrieden mit den allgemeinen Arbeitsbedingungen an der Schule.",{"$f":"'PFB-Items'!B171","v":16},{"$f":"'PFB-Items'!C171","v":0},{"$f":"'PFB-Items'!D171","v":0},{"$f":"'PFB-Items'!E171","v":0},{"$f":"'PFB-Items'!F171","v":0},{"$f":"'PFB-Items'!G171","v":0},{"$f":"'PFB-Items'!H171","v":0},{"$f":"'PFB-Items'!I171","v":0},null,"I",5,"PFB (nur PTF)",4,"106. ...den Kommunikationsstrukturen an der Schule.\n","",""]
[{"$f":"'PFB-Items'!A172","v":"107. ...meinen Möglichkeiten, Ideen zur Entwicklung der Schule einzubringen."},"Ich bin zufrieden mit den allgemeinen Arbeitsbedingungen an der Schule.",{"$f":"'PFB-Items'!B172","v":16},{"$f":"'PFB-Items'!C172","v":0},{"$f":"'PFB-Items'!D172","v":0},{"$f":"'PFB-Items'!E172","v":0},{"$f":"'PFB-Items'!F172","v":0},{"$f":"'PFB-Items'!G172","v":0},{"$f":"'PFB-Items'!H172","v":0},{"$f":"'PFB-Items'!I172","v":0},null,"I",5,"PFB (nur PTF)",4,"107. ...meinen Möglichkeiten, Ideen zur Entwicklung der Schule einzubringen.\n","",""]
[{"$f":"'PFB-Items'!A173","v":"108. ...meinen Möglichkeiten, berufliche Ziele im Kontext von Schule verwirklichen zu können."},"Ich bin zufrieden mit den allgemeinen Arbeitsbedingungen an der Schule.",{"$f":"'PFB-Items'!B173","v":14},{"$f":"'PFB-Items'!C173","v":0},{"$f":"'PFB-Items'!D173","v":0},{"$f":"'PFB-Items'!E173","v":0},{"$f":"'PFB-Items'!F173","v":0},{"$f":"'PFB-Items'!G173","v":0},{"$f":"'PFB-Items'!H173","v":0},{"$f":"'PFB-Items'!I173","v":0},null,"I",5,"PFB (nur PTF)",4,"108. ...meinen Möglichkeiten, berufliche Ziele im Kontext von Schule verwirklichen zu können.\n","",""]
[{"$f":"'PFB-Items'!A174","v":"109. ...der Anerkennung meiner Profession innerhalb der Schulgemeinschaft."},"Ich bin zufrieden mit den allgemeinen Arbeitsbedingungen an der Schule.",{"$f":"'PFB-Items'!B174","v":16},{"$f":"'PFB-Items'!C174","v":0},{"$f":"'PFB-Items'!D174","v":0},{"$f":"'PFB-Items'!E174","v":0},{"$f":"'PFB-Items'!F174","v":0},{"$f":"'PFB-Items'!G174","v":0},{"$f":"'PFB-Items'!H174","v":0},{"$f":"'PFB-Items'!I174","v":0},null,"I",5,"PFB (nur PTF)",4,"109. ...der Anerkennung meiner Profession innerhalb der Schulgemeinschaft.\n","",""]
[null,null,null,null,null,null,null,null,null,null,null,"","","","","","",""]
[null,null,{"$f":"CONCATENATE(\"Inspizierte Schule \",$I$1,\"\")","v":"Inspizierte Schule (5274)"},null,null,"Referenzwert",null,null,"Effektstärke",null,null,"","","","","","",""]
["PFB: Konstrukt",null,"N","MW","SD","N","MW","SD","D","Effekt",null,1,"","","","","",""]
[{"$f":"\"PFB: \" & 'Effektstärken PuP'!B37","v":"PFB: Arbeitszufriedenheit (Nur PTF)"},null,{"$f":"'Effektstärken PuP'!C37","v":0},{"$f":"'Effektstärken PuP'!D37","v":0},{"$f":"'Effektstärken PuP'!E37","v":0.50657058403914113},{"$f":"'Effektstärken PuP'!F37","v":"-"},{"$f":"'Effektstärken PuP'!G37","v":"-"},{"$f":"'Effektstärken PuP'!H37","v":"-"},{"$f":"'Effektstärken PuP'!I37","v":"k.A."},{"$f":"'Effektstärken PuP'!J37","v":"k.A."},null,"K",1,"PFB (nur PTF)",4,"","",""]
[null,null,null,null,null,null,null,null,null,null,null,"","","","","","",""]
["PFB: Arbeitszufriedenheit (nur PTF)",null,"N","MW","SE","SD","trifft\nnicht zu","trifft eher\n nicht zu","trifft\neher zu","trifft\nvoll zu",null,5,"","","","PFB: Arbeitszufriedenheit (nur PTF)","",""]
["Ich bin zufrieden mit...",null,null,null,null,null,null,null,null,null,null,"B","","","","Ich bin zufrieden mit...","",""]
[{"$f":"'PFB-Items'!A178","v":"104. ...den allgemeinen Arbeitsbedingungen an der Schule."},"Ich bin zufrieden mit den allgemeinen Arbeitsbedingungen an der Schule.",{"$f":"'PFB-Items'!B178","v":0},{"$f":"'PFB-Items'!C178","v":0},{"$f":"'PFB-Items'!D178","v":0},{"$f":"'PFB-Items'!E178","v":0},{"$f":"'PFB-Items'!F178","v":0},{"$f":"'PFB-Items'!G178","v":0},{"$f":"'PFB-Items'!H178","v":0},{"$f":"'PFB-Items'!I178","v":0},null,"I",5,"PFB (nur PTF)",4,"104. ...den allgemeinen Arbeitsbedingungen an der Schule.\n","",""]
[{"$f":"'PFB-Items'!A179","v":"105. ...dem Arbeitsklima an der Schule."},"Ich bin zufrieden mit den allgemeinen Arbeitsbedingungen an der Schule.",{"$f":"'PFB-Items'!B179","v":0},{"$f":"'PFB-Items'!C179","v":0},{"$f":"'PFB-Items'!D179","v":0},{"$f":"'PFB-Items'!E179","v":0},{"$f":"'PFB-Items'!F179","v":0},{"$f":"'PFB-Items'!G179","v":0},{"$f":"'PFB-Items'!H179","v":0},{"$f":"'PFB-Items'!I179","v":0},null,"I",5,"PFB (nur PTF)",4,"105. ...dem Arbeitsklima an der Schule.\n","",""]
[{"$f":"'PFB-Items'!A180","v":"106. ...den Kommunikationsstrukturen an der Schule."},"Ich bin zufrieden mit den allgemeinen Arbeitsbedingungen an der Schule.",{"$f":"'PFB-Items'!B180","v":0},{"$f":"'PFB-Items'!C180","v":0},{"$f":"'PFB-Items'!D180","v":0},{"$f":"'PFB-Items'!E180","v":0},{"$f":"'PFB-Items'!F180","v":0},{"$f":"'PFB-Items'!G180","v":0},{"$f":"'PFB-Items'!H180","v":0},{"$f":"'PFB-Items'!I180","v":0},null,"I",5,"PFB (nur PTF)",4,"106. ...den Kommunikationsstrukturen an der Schule.\n","",""]
[{"$f":"'PFB-Items'!A181","v":"107. ...meinen Möglichkeiten, Ideen zur Entwicklung der Schule einzubringen."},"Ich bin zufrieden mit den allgemeinen Arbeitsbedingungen an der Schule.",{"$f":"'PFB-Items'!B181","v":0},{"$f":"'PFB-Items'!C181","v":0},{"$f":"'PFB-Items'!D181","v":0},{"$f":"'PFB-Items'!E181","v":0},{"$f":"'PFB-Items'!F181","v":0},{"$f":"'PFB-Items'!G181","v":0},{"$f":"'PFB-Items'!H181","v":0},{"$f":"'PFB-Items'!I181","v":0},null,"I",5,"PFB (nur PTF)",4,"107. ...meinen Möglichkeiten, Ideen zur Entwicklung der Schule einzubringen.\n","",""]
[{"$f":"'PFB-Items'!A182","v":"108. ...meinen Möglichkeiten, berufliche Ziele im Kontext von Schule verwirklichen zu können."},"Ich bin zufrieden mit den allgemeinen Arbeitsbedingungen an der Schule.",{"$f":"'PFB-Items'!B182","v":0},{"$f":"'PFB-Items'!C182","v":0},{"$f":"'PFB-Items'!D182","v":0},{"$f":"'PFB-Items'!E182","v":0},{"$f":"'PFB-Items'!F182","v":0},{"$f":"'PFB-Items'!G182","v":0},{"$f":"'PFB-Items'!H182","v":0},{"$f":"'PFB-Items'!I182","v":0},null,"I",5,"PFB (nur PTF)",4,"108. ...meinen Möglichkeiten, berufliche Ziele im Kontext von Schule verwirklichen zu können.\n","",""]
[{"$f":"'PFB-Items'!A183","v":"109. ...der Anerkennung meiner Profession innerhalb der Schulgemeinschaft."},"Ich bin zufrieden mit den allgemeinen Arbeitsbedingungen an der Schule.",{"$f":"'PFB-Items'!B183","v":0},{"$f":"'PFB-Items'!C183","v":0},{"$f":"'PFB-Items'!D183","v":0},{"$f":"'PFB-Items'!E183","v":0},{"$f":"'PFB-Items'!F183","v":0},{"$f":"'PFB-Items'!G183","v":0},{"$f":"'PFB-Items'!H183","v":0},{"$f":"'PFB-Items'!I183","v":0},null,"I",5,"PFB (nur PTF)",4,"109. ...der Anerkennung meiner Profession innerhalb der Schulgemeinschaft.\n","",""]
[null,null,null,null,null,null,null,null,null,null,null,"","","","","","",""]
["Die Pädagoginnen und Pädagogen fühlen sich der Schule verbunden.",null,null,null,null,null,null,null,null,null,null,"","","","","","grau","Die Pädagoginnen und Pädagogen fühlen sich der Schule verbunden."]
[null,null,null,null,null,null,null,null,null,null,null,"","","","","","",""]
[null,null,{"$f":"CONCATENATE(\"Inspizierte Schule \",$I$1,\"\")","v":"Inspizierte Schule (5274)"},null,null,"Referenzwert",null,null,"Effektstärke",null,null,"","","","","","",""]
["PFB: Konstrukt",null,"N","MW","SD","N","MW","SD","D","Effekt",null,1,"","","","","",""]
[{"$f":"\"PFB: \" & 'Effektstärken PuP'!A38","v":"PFB: Mitarbeiterbindung"},null,{"$f":"'Effektstärken PuP'!C38","v":23},{"$f":"'Effektstärken PuP'!D38","v":3.5652173913043472},{"$f":"'Effektstärken PuP'!E38","v":0.51244396203804476},{"$f":"'Effektstärken PuP'!F38","v":349},{"$f":"'Effektstärken PuP'!G38","v":3.5576750000000001},{"$f":"'Effektstärken PuP'!H38","v":0.53212280000000001},{"$f":"'Effektstärken PuP'!I38","v":1.443862369373235E-2},{"$f":"'Effektstärken PuP'!J38","v":"Ø"},null,"K",1,"PFB (gesamt)",1,"","",""]
[null,null,null,null,null,null,null,null,null,null,null,"","","","","","",""]
[{"$f":"A566","v":"PFB: Mitarbeiterbindung"},null,"N","MW","SE","SD","trifft\nnicht zu","trifft eher\n nicht zu","trifft\neher zu","trifft\nvoll zu",null,5,"","","","PFB: Mitarbeiterbindung","",""]
[{"$f":"'PFB-Items'!A140","v":"100. Ich bin ausgesprochen froh, dass ich gerade an dieser Schule arbeite."},"Ich bin ausgesprochen froh, dass ich gerade an dieser Schule arbeite.",{"$f":"'PFB-Items'!B140","v":23},{"$f":"'PFB-Items'!C140","v":3.652173913043478},{"$f":"'PFB-Items'!D140","v":0.10154334054280732},{"$f":"'PFB-Items'!E140","v":0.48698475355767384},{"$f":"'PFB-Items'!F140","v":0},{"$f":"'PFB-Items'!G140","v":0},{"$f":"'PFB-Items'!H140","v":0.34782608695652173},{"$f":"'PFB-Items'!I140","v":0.65217391304347827},null,"I",5,"PFB (gesamt)",1,"100. Ich bin ausgesprochen froh, dass ich gerade an dieser Schule arbeite.\n","",""]
[{"$f":"'PFB-Items'!A141","v":"101. Ich stehe voll und ganz hinter dem Konzept meiner Schule."},"Ich bin ausgesprochen froh, dass ich gerade an dieser Schule arbeite.",{"$f":"'PFB-Items'!B141","v":23},{"$f":"'PFB-Items'!C141","v":3.4782608695652169},{"$f":"'PFB-Items'!D141","v":0.15231501081421106},{"$f":"'PFB-Items'!E141","v":0.73047713033651107},{"$f":"'PFB-Items'!F141","v":0},{"$f":"'PFB-Items'!G141","v":0.13043478260869565},{"$f":"'PFB-Items'!H141","v":0.2608695652173913},{"$f":"'PFB-Items'!I141","v":0.60869565217391308},null,"I",5,"PFB (gesamt)",1,"101. Ich stehe voll und ganz hinter dem Konzept meiner Schule.\n","",""]
[{"$f":"'PFB-Items'!A142","v":"102. Ich bin der Meinung, dass meine Wertvorstellungen und die meiner Schule sehr ähnlich sind."},"Ich bin ausgesprochen froh, dass ich gerade an dieser Schule arbeite.",{"$f":"'PFB-Items'!B142","v":23},{"$f":"'PFB-Items'!C142","v":3.4347826086956523},{"$f":"'PFB-Items'!D142","v":0.13811387517514742},{"$f":"'PFB-Items'!E142","v":0.66237087637184999},{"$f":"'PFB-Items'!F142","v":0},{"$f":"'PFB-Items'!G142","v":8.6956521739130432E-2},{"$f":"'PFB-Items'!H142","v":0.39130434782608697},{"$f":"'PFB-Items'!I142","v":0.52173913043478259},null,"I",5,"PFB (gesamt)",1,"102. Ich bin der Meinung, dass meine Wertvorstellungen und die meiner Schule sehr ähnlich sind.\n","",""]
[{"$f":"'PFB-Items'!A143","v":"103. Ich arbeite gerne an dieser Schule."},"Ich bin ausgesprochen froh, dass ich gerade an dieser Schule arbeite.",{"$f":"'PFB-Items'!B143","v":23},{"$f":"'PFB-Items'!C143","v":3.6956521739130439},{"$f":"'PFB-Items'!D143","v":9.8100186924828886E-2},{"$f":"'PFB-Items'!E143","v":0.47047196889696458},{"$f":"'PFB-Items'!F143","v":0},{"$f":"'PFB-Items'!G143","v":0},{"$f":"'PFB-Items'!H143","v":0.30434782608695654},{"$f":"'PFB-Items'!I143","v":0.69565217391304346},null,"I",5,"PFB (gesamt)",1,"103. Ich arbeite gerne an dieser Schule.\n","",""]
[null,null,null,null,null,null,null,null,null,null,null,"","","","","","",""]
[null,null,{"$f":"CONCATENATE(\"Inspizierte Schule \",$I$1,\"\")","v":"Inspizierte Schule (5274)"},null,null,"Referenzwert",null,null,"Effektstärke",null,null,"","","","","","",""]
["PFB: Konstrukt",null,"N","MW","SD","N","MW","SD","D","Effekt",null,1,"","","","","",""]
[{"$f":"\"PFB: \" & 'Effektstärken PuP'!B39","v":"PFB: Mitarbeiterbindung (Nur Lehrpersonen)"},null,{"$f":"'Effektstärken PuP'!C39","v":0},{"$f":"'Effektstärken PuP'!D39","v":0},{"$f":"'Effektstärken PuP'!E39","v":0.46519485164820984},{"$f":"'Effektstärken PuP'!F39","v":"-"},{"$f":"'Effektstärken PuP'!G39","v":"-"},{"$f":"'Effektstärken PuP'!H39","v":"-"},{"$f":"'Effektstärken PuP'!I39","v":"k.A."},{"$f":"'Effektstärken PuP'!J39","v":"k.A."},null,"K",1,"PFB (nur PTF)",4,"","",""]
[null,null,null,null,null,null,null,null,null,null,null,"","","","","","",""]
[{"$f":"A576","v":"PFB: Mitarbeiterbindung (Nur Lehrpersonen)"},null,"N","MW","SE","SD","trifft\nnicht zu","trifft eher\n nicht zu","trifft\neher zu","trifft\nvoll zu",null,5,"","","","PFB: Mitarbeiterbindung (Nur Lehrpersonen)","",""]
[{"$f":"'PFB-Items'!A147","v":"100. Ich bin ausgesprochen froh, dass ich gerade an dieser Schule arbeite."},"Ich bin ausgesprochen froh, dass ich gerade an dieser Schule arbeite.",{"$f":"'PFB-Items'!B147","v":16},{"$f":"'PFB-Items'!C147","v":0},{"$f":"'PFB-Items'!D147","v":0},{"$f":"'PFB-Items'!E147","v":0},{"$f":"'PFB-Items'!F147","v":0},{"$f":"'PFB-Items'!G147","v":0},{"$f":"'PFB-Items'!H147","v":0},{"$f":"'PFB-Items'!I147","v":0},null,"I",5,"PFB (nur PTF)",4,"100. Ich bin ausgesprochen froh, dass ich gerade an dieser Schule arbeite.\n","",""]
[{"$f":"'PFB-Items'!A148","v":"101. Ich stehe voll und ganz hinter dem Konzept meiner Schule."},"Ich bin ausgesprochen froh, dass ich gerade an dieser Schule arbeite.",{"$f":"'PFB-Items'!B148","v":16},{"$f":"'PFB-Items'!C148","v":0},{"$f":"'PFB-Items'!D148","v":0},{"$f":"'PFB-Items'!E148","v":0},{"$f":"'PFB-Items'!F148","v":0},{"$f":"'PFB-Items'!G148","v":0},{"$f":"'PFB-Items'!H148","v":0},{"$f":"'PFB-Items'!I148","v":0},null,"I",5,"PFB (nur PTF)",4,"101. Ich stehe voll und ganz hinter dem Konzept meiner Schule.\n","",""]
[{"$f":"'PFB-Items'!A149","v":"102. Ich bin der Meinung, dass meine Wertvorstellungen und die meiner Schule sehr ähnlich sind."},"Ich bin ausgesprochen froh, dass ich gerade an dieser Schule arbeite.",{"$f":"'PFB-Items'!B149","v":16},{"$f":"'PFB-Items'!C149","v":0},{"$f":"'PFB-Items'!D149","v":0},{"$f":"'PFB-Items'!E149","v":0},{"$f":"'PFB-Items'!F149","v":0},{"$f":"'PFB-Items'!G149","v":0},{"$f":"'PFB-Items'!H149","v":0},{"$f":"'PFB-Items'!I149","v":0},null,"I",5,"PFB (nur PTF)",4,"102. Ich bin der Meinung, dass meine Wertvorstellungen und die meiner Schule sehr ähnlich sind.\n","",""]
[{"$f":"'PFB-Items'!A150","v":"103. Ich arbeite gerne an dieser Schule."},"Ich bin ausgesprochen froh, dass ich gerade an dieser Schule arbeite.",{"$f":"'PFB-Items'!B150","v":16},{"$f":"'PFB-Items'!C150","v":0},{"$f":"'PFB-Items'!D150","v":0},{"$f":"'PFB-Items'!E150","v":0},{"$f":"'PFB-Items'!F150","v":0},{"$f":"'PFB-Items'!G150","v":0},{"$f":"'PFB-Items'!H150","v":0},{"$f":"'PFB-Items'!I150","v":0},null,"I",5,"PFB (nur PTF)",4,"103. Ich arbeite gerne an dieser Schule.\n","",""]
[null,null,null,null,null,null,null,null,null,null,null,"","","","","","",""]
[null,null,{"$f":"CONCATENATE(\"Inspizierte Schule \",$I$1,\"\")","v":"Inspizierte Schule (5274)"},null,null,"Referenzwert",null,null,"Effektstärke",null,null,"","","","","","",""]
["PFB: Konstrukt",null,"N","MW","SD","N","MW","SD","D","Effekt",null,1,"","","","","",""]
[{"$f":"\"PFB: \" & 'Effektstärken PuP'!B40","v":"PFB: Mitarbeiterbindung (Nur PTF)"},null,{"$f":"'Effektstärken PuP'!C40","v":0},{"$f":"'Effektstärken PuP'!D40","v":0},{"$f":"'Effektstärken PuP'!E40","v":0.63620901028035182},{"$f":"'Effektstärken PuP'!F40","v":"-"},{"$f":"'Effektstärken PuP'!G40","v":"-"},{"$f":"'Effektstärken PuP'!H40","v":"-"},{"$f":"'Effektstärken PuP'!I40","v":"k.A."},{"$f":"'Effektstärken PuP'!J40","v":"k.A."},null,"K",1,"PFB (nur PTF)",4,"","",""]
[null,null,null,null,null,null,null,null,null,null,null,"","","","","","",""]
[{"$f":"A586","v":"PFB: Mitarbeiterbindung (Nur PTF)"},null,"N","MW","SE","SD","trifft\nnicht zu","trifft eher\n nicht zu","trifft\neher zu","trifft\nvoll zu",null,5,"","","","PFB: Mitarbeiterbindung (Nur PTF)","",""]
[{"$f":"'PFB-Items'!A154","v":"100. Ich bin ausgesprochen froh, dass ich gerade an dieser Schule arbeite."},"Ich bin ausgesprochen froh, dass ich gerade an dieser Schule arbeite.",{"$f":"'PFB-Items'!B154","v":7},{"$f":"'PFB-Items'!C154","v":0},{"$f":"'PFB-Items'!D154","v":0},{"$f":"'PFB-Items'!E154","v":0},{"$f":"'PFB-Items'!F154","v":0},{"$f":"'PFB-Items'!G154","v":0},{"$f":"'PFB-Items'!H154","v":0},{"$f":"'PFB-Items'!I154","v":0},null,"I",5,"PFB (nur PTF)",4,"100. Ich bin ausgesprochen froh, dass ich gerade an dieser Schule arbeite.\n","",""]
[{"$f":"'PFB-Items'!A155","v":"101. Ich stehe voll und ganz hinter dem Konzept meiner Schule."},"Ich bin ausgesprochen froh, dass ich gerade an dieser Schule arbeite.",{"$f":"'PFB-Items'!B155","v":7},{"$f":"'PFB-Items'!C155","v":0},{"$f":"'PFB-Items'!D155","v":0},{"$f":"'PFB-Items'!E155","v":0},{"$f":"'PFB-Items'!F155","v":0},{"$f":"'PFB-Items'!G155","v":0},{"$f":"'PFB-Items'!H155","v":0},{"$f":"'PFB-Items'!I155","v":0},null,"I",5,"PFB (nur PTF)",4,"101. Ich stehe voll und ganz hinter dem Konzept meiner Schule.\n","",""]
[{"$f":"'PFB-Items'!A156","v":"102. Ich bin der Meinung, dass meine Wertvorstellungen und die meiner Schule sehr ähnlich sind."},"Ich bin ausgesprochen froh, dass ich gerade an dieser Schule arbeite.",{"$f":"'PFB-Items'!B156","v":7},{"$f":"'PFB-Items'!C156","v":0},{"$f":"'PFB-Items'!D156","v":0},{"$f":"'PFB-Items'!E156","v":0},{"$f":"'PFB-Items'!F156","v":0},{"$f":"'PFB-Items'!G156","v":0},{"$f":"'PFB-Items'!H156","v":0},{"$f":"'PFB-Items'!I156","v":0},null,"I",5,"PFB (nur PTF)",4,"102. Ich bin der Meinung, dass meine Wertvorstellungen und die meiner Schule sehr ähnlich sind.\n","",""]
[{"$f":"'PFB-Items'!A157","v":"103. Ich arbeite gerne an dieser Schule."},"Ich bin ausgesprochen froh, dass ich gerade an dieser Schule arbeite.",{"$f":"'PFB-Items'!B157","v":7},{"$f":"'PFB-Items'!C157","v":0},{"$f":"'PFB-Items'!D157","v":0},{"$f":"'PFB-Items'!E157","v":0},{"$f":"'PFB-Items'!F157","v":0},{"$f":"'PFB-Items'!G157","v":0},{"$f":"'PFB-Items'!H157","v":0},{"$f":"'PFB-Items'!I157","v":0},null,"I",5,"PFB (nur PTF)",4,"103. Ich arbeite gerne an dieser Schule.\n","",""]
[null,null,null,null,null,null,null,null,null,null,null,{"$f":"IF(A593=\"\",\"\",\nIF(A593=\"PFB: Konstrukt\",1,IF(A593=\"SFB: Konstrukt\",2,IF(A593=\"EFB: Konstrukt\",3,\nIF(OR(A592=\"PFB: Konstrukt\",A592=\"SFB: Konstrukt\",A592=\"EFB: Konstrukt\"),\"K\",\n\nIF(LEFT(A593,3)=\"PFB\",5,IF(LEFT(A593,3)=\"SFB\",6,IF(LEFT(A593,3)=\"EFB\",7,\nIF(OR(LEFT(A593,1)=\"0\", LEFT(A593,1)=\"1\", LEFT(A593,1)=\"2\", LEFT(A593,1)=\"3\", LEFT(A593,1)=\"4\", LEFT(A593,1)=\"5\", LEFT(A593,1)=\"6\", LEFT(A593,1)=\"7\", LEFT(A593,1)=\"8\", LEFT(A593,1)=\"9\"),\"I\",IF(A592=\"\",\"\",\"B\"))))))))))","v":""},{"$f":"IF(L593=\"K\",L592,IF(L593=\"I\",IF(L592=\"B\",L591,IF(AND(L592>=1,L592<=8),L592,M592)),\"\"))","v":""},{"$f":"IF(M593=\"\",\"\",\nIF(OR(M593=1,M593=5),IF(M592=5,N592,IF(L593=\"K\",VLOOKUP(A593,$S$14:$T$43,2,0),IF(L593=\"I\",IF(L592=\"B\",VLOOKUP(A589,$S$14:$T$43,2,0),VLOOKUP(A590,$S$14:$T$43,2,0)),\"Fehler\"))),\nIF(OR(M593=2,M593=6),\"SFB\",\nIF(OR(M593=3,M593=7),\"EFB\",\"\"))))","v":""},{"$f":"IF(OR(N593=0,N593=\"\"),\"\",\nIF(ISERROR(VLOOKUP(N593,$A$8:$H$11,7,0)),\"Fehler\",\nIF(OR(VLOOKUP(N593,$A$8:$H$11,7,0)<=0.2,VLOOKUP(N593,$A$8:$H$11,4,0)=\"<=10\"),4,IF(VLOOKUP(N593,$A$8:$H$11,7,0)>=0.5,1,IF(AND(VLOOKUP(N593,$A$8:$H$11,7,0)>0.2,VLOOKUP(N593,$A$8:$H$11,7,0)<0.5),2,\"Fehler\")))))","v":""},{"$f":"IF(OR(LEFT(A593,1)=\"0\",LEFT(A593,1)=\"1\",LEFT(A593,1)=\"2\",LEFT(A593,1)=\"3\",LEFT(A593,1)=\"4\",LEFT(A593,1)=\"5\",LEFT(A593,1)=\"6\",LEFT(A593,1)=\"7\",LEFT(A593,1)=\"8\",LEFT(A593,1)=\"9\"), A593 &\"\n\",IF(OR(L593=5,L593=6,L593=7,L593=8,L593=\"B\"),A593,\"\"))","v":""},{"$f":"IF(AND(L593=\"\",A593<>\"\"),IF(RIGHT(A593,1)=\".\",\"grau\",IF(RIGHT(A593,1)=\")\",\"rot\",\"blau\")),\"\")","v":""},{"$f":"IF(Q593<>\"\",A593,\"\")","v":""}]
[null,null,{"$f":"CONCATENATE(\"Inspizierte Schule \",$I$1,\"\")","v":"Inspizierte Schule (5274)"},null,null,"Referenzwert",null,null,"Effektstärke",null,null,"","","","","","",""]
["PFB: Konstrukt",null,"N","MW","SD","N","MW","SD","D","Effekt",null,1,"","","","","",""]
[{"$f":"\"PFB: \" & 'Effektstärken PuP'!A41","v":"PFB: Eingebundenheit in die Schulgemeinschaft - PTF der Schule"},null,{"$f":"'Effektstärken PuP'!C41","v":0},{"$f":"'Effektstärken PuP'!D41","v":0},{"$f":"'Effektstärken PuP'!E41","v":0.38188130791298669},{"$f":"'Effektstärken PuP'!F41","v":"-"},{"$f":"'Effektstärken PuP'!G41","v":"-"},{"$f":"'Effektstärken PuP'!H41","v":"-"},{"$f":"'Effektstärken PuP'!I41","v":"k.A."},{"$f":"'Effektstärken PuP'!J41","v":"k.A."},null,"K",1,"PFB (nur PTF)",4,"","",""]
[null,null,null,null,null,null,null,null,null,null,null,"","","","","","",""]
[{"$f":"A596","v":"PFB: Eingebundenheit in die Schulgemeinschaft - PTF der Schule"},null,"N","MW","SE","SD","trifft\nnicht zu","trifft eher\n nicht zu","trifft\neher zu","trifft\nvoll zu",null,5,"","","","PFB: Eingebundenheit in die Schulgemeinschaft - PTF der Schule","",""]
[{"$f":"'PFB-Items'!A47","v":"27. Ich fühle mich gut integriert in die Schulgemeinschaft."},null,{"$f":"'PFB-Items'!B47","v":7},{"$f":"'PFB-Items'!C47","v":0},{"$f":"'PFB-Items'!D47","v":0},{"$f":"'PFB-Items'!E47","v":0},{"$f":"'PFB-Items'!F47","v":0},{"$f":"'PFB-Items'!G47","v":0},{"$f":"'PFB-Items'!H47","v":0},{"$f":"'PFB-Items'!I47","v":0},null,"I",5,"PFB (nur PTF)",4,"27. Ich fühle mich gut integriert in die Schulgemeinschaft.\n","",""]
[{"$f":"'PFB-Items'!A48","v":"28. Ich werde bei offiziellen schulischen Veranstaltungen (z.B. Feste, kulturelle Veranstaltungen) eingeladen."},null,{"$f":"'PFB-Items'!B48","v":7},{"$f":"'PFB-Items'!C48","v":0},{"$f":"'PFB-Items'!D48","v":0},{"$f":"'PFB-Items'!E48","v":0},{"$f":"'PFB-Items'!F48","v":0},{"$f":"'PFB-Items'!G48","v":0},{"$f":"'PFB-Items'!H48","v":0},{"$f":"'PFB-Items'!I48","v":0},null,"I",5,"PFB (nur PTF)",4,"28. Ich werde bei offiziellen schulischen Veranstaltungen (z.B. Feste, kulturelle Veranstaltungen) eingeladen.\n","",""]
[{"$f":"'PFB-Items'!A49","v":"29. Ich bin in informellen Austausch eingebunden (z.B. Mittagessen, Feiern etc.)."},null,{"$f":"'PFB-Items'!B49","v":7},{"$f":"'PFB-Items'!C49","v":0},{"$f":"'PFB-Items'!D49","v":0},{"$f":"'PFB-Items'!E49","v":0},{"$f":"'PFB-Items'!F49","v":0},{"$f":"'PFB-Items'!G49","v":0},{"$f":"'PFB-Items'!H49","v":0},{"$f":"'PFB-Items'!I49","v":0},null,"I",5,"PFB (nur PTF)",4,"29. Ich bin in informellen Austausch eingebunden (z.B. Mittagessen, Feiern etc.).\n","",""]
[{"$f":"'PFB-Items'!A50","v":"30. Ich bin bei der Vorbereitung und Durchführung schulischer Veranstaltungen beteiligt."},null,{"$f":"'PFB-Items'!B50","v":7},{"$f":"'PFB-Items'!C50","v":0},{"$f":"'PFB-Items'!D50","v":0},{"$f":"'PFB-Items'!E50","v":0},{"$f":"'PFB-Items'!F50","v":0},{"$f":"'PFB-Items'!G50","v":0},{"$f":"'PFB-Items'!H50","v":0},{"$f":"'PFB-Items'!I50","v":0},null,"I",5,"PFB (nur PTF)",4,"30. Ich bin bei der Vorbereitung und Durchführung schulischer Veranstaltungen beteiligt.\n","",""]

{"sheet":"Bedienfeld","index":1,"n_rows":2,"n_cols":9,"rows_kept":2,"cut":false,"hidden":false,"merged":[[1,1,2,4],[1,8,2,11]]}
[]
[null,"Grafiken ein- und ausblenden",null,null,null,null,null,null,"Datenblätter ein- und ausblenden"]

{"sheet":"Rücklaufquoten","index":2,"n_rows":22,"n_cols":9,"rows_kept":22,"cut":false,"hidden":true,"merged":[[9,4,9,6],[8,4,8,6]]}
["Befragtengruppe","Insgesamt","Beantwortet"]
["Pädagoginnen und Pädagogen mit Lehramtsabschluss ",23,16]
["Pädagogisches und Therapeutisches Fachpersonal",12,7,null," ","Insgesamt","Beantwortet","Rücklaufquote"]
["davon im Unterricht",null,6,null,"PFB",{"$f":"$B$6","v":35},{"$f":"$C$6","v":23},{"$f":"IF(Tabelle1[[#This Row],[Insgesamt]]=0,\"-\",Tabelle1[[#This Row],[Beantwortet]]/Tabelle1[[#This Row],[Insgesamt]])","v":0.65714285714285714},{"$f":"IF(H4=\"-\",0,IF(OR(G4<=10,H4<=0.2),0,IF(H4<0.5,0.5,1)))","v":1}]
["davon außerunterrichtlich",null,5,null,"SFB",{"$f":"$B$8","v":132},{"$f":"$C$8","v":53},{"$f":"IF(Tabelle1[[#This Row],[Insgesamt]]=0,\"-\",Tabelle1[[#This Row],[Beantwortet]]/Tabelle1[[#This Row],[Insgesamt]])","v":0.40151515151515149},{"$f":"IF(H5=\"-\",0,IF(OR(G5<=10,H5<=0.2),0,IF(H5<0.5,0.5,1)))","v":0.5}]
["Pädagog*innen Insgesamt",{"$f":"B2+B3","v":35},23,null,"EFB",{"$f":"$B$13","v":244},{"$f":"$C$13","v":89},{"$f":"IF(Tabelle1[[#This Row],[Insgesamt]]=0,\"-\",Tabelle1[[#This Row],[Beantwortet]]/Tabelle1[[#This Row],[Insgesamt]])","v":0.36475409836065575},0.5]
[null,null,null,null,"PTF",{"$f":"$B$3","v":12},{"$f":"$C$3","v":7},{"$f":"IF(F7=0,\"-\",G7/F7)","v":0.58333333333333337},0]
["Schüler*innen Insgesamt",{"$f":"B19+B20","v":132},53]
[null,null,null,null,"Schulname:",null,null,"Schulnummer:"]
["Eltern mit zwei Kindern an der Schule",0,null,null,"Schule Rungwisch",null,null,"5274"]
["Eltern mit drei Kindern an der Schule",0]
["Eltern mit vier oder mehr Kindern an der Schule",0]
["Eltern Insgesamt",{"$f":"SUM(B16:B22)-B10-B11*2-B12*3","v":244},89]
[]
["Nach Klassenstufe","Insgesamt","Beantwortet","RLQ"]
["Vorschulklassen",37,null,null,null,"Klassenstufe 00"]
["Schüler*innen Klassenstufe 1",37,null,null,null,"Klassenstufe 01"]
["Schüler*innen Klassenstufe 2",38,null,null,null,"Klassenstufe 02"]
["Schüler*innen Klassenstufe 3",68,31,{"$f":"IF(A19=\"\",\"\",IF(B19<>0,C19/B19,\"-\"))","v":0.45588235294117646},null,"Klassenstufe 03"]
["Schüler*innen Klassenstufe 4",64,22,0.34375,null,"Klassenstufe 04"]
["Schüler*innen Klassenstufe 5",0,0,"-",null,"Klassenstufe 05"]
["Schüler*innen Klassenstufe 6",0,0,"-",null,"Klassenstufe 06"]

{"sheet":"PFB-Konstrukte","index":3,"n_rows":41,"n_cols":13,"rows_kept":41,"cut":false,"hidden":true,"merged":[[32,0,32,1],[33,0,33,1],[39,0,39,1],[36,0,36,1],[27,0,27,1],[28,0,28,1],[29,0,29,1],[30,0,30,1],[31,0,31,1],[22,0,22,1],[23,0,23,1],[24,0,24,1],[25,0,25,1],[26,0,26,1],[12,0,12,1],[13,0,13,1],[14,0,14,1],[18,0,18,1],[21,0,21,1],[5,0,5,7],[1,0,1,7],[3,0,3,1],[7,0,7,1],[8,0,8,1]]}
[null,null,null,null,null,null,null,null,null,"RLQ","RLQ","Rück"]
["Fragebogen für Pädagoginnen und Pädagogen - Konstrukte",null,null,null,null,null,null,null,null,"gelb","rot","rot"]
[null,null,null,null,null,null,null,null,null,{"$f":"IF(Rücklaufquoten!I4=0.5,\"der Pädagoginnen und Pädagogen\",\"\")","v":""},{"$f":"IF(Rücklaufquoten!H4<=0.2,\"der Pädagoginnen und Pädagogen\",\"\")","v":""},{"$f":"IF(Rücklaufquoten!G4<=10,\"der Pädagoginnen und Pädagogen\",\"\")","v":""},"PFB"]
[{"$f":"'FB nach BerT'!A1","v":"Schule Rungwisch (5274)"},null,null,null,null,null,null,null,null,{"$f":"IF(Rücklaufquoten!I7=0.5,\"des pädagogisch therapeutischen Fachpersonals\",\"\")","v":""},{"$f":"IF(Rücklaufquoten!H7<=0.2,\"des pädagogisch therapeutischen Fachpersonals\",\"\")","v":""},{"$f":"IF(Rücklaufquoten!G7<=10,\"des pädagogisch therapeutischen Fachpersonals\",\"\")","v":"des pädagogisch therapeutischen Fachpersonals"},"PTF"]
[null,null,null,null,null,null,null,null,null,{"$f":"IF(COUNTIF(J3:J4,\"?*\")=0,0,1)","v":0},{"$f":"IF(COUNTIF(K3:K4,\"?*\")=0,0,1)","v":0},{"$f":"IF(COUNTIF(L3:L4,\"?*\")=0,0,1)","v":1}]
[{"$f":"\nIF(SUM(J5:L5)=2,\nIF(J5=1,J6 & K7, K6 & L7),\n\nIF(SUM(J5:L5)=1,\nIF(J5=1, J6, IF(K5=1, K6, L6)),\n\n\"Alle Rücklaufquoten sind ausreichend hoch, sodass alle Daten dargestellt werden.\"))","v":"Der Rücklauf der Befragung des pädagogisch therapeutischen Fachpersonals betrug an Ihrer Schule 10 oder weniger Fragebögen.\nUm die Anonymität der Befragten zu gewährleisten, werden die entsprechenden Ergebnisse weder in grafischer, noch in tabellarischer Form zurückgemeldet. In die Berechnungen zu Items und Konstrukten, die sich an alle Pädagoginnen und Pädagogen der Schule richten, fließen die Daten der PTF jedoch mit ein."},null,null,null,null,null,null,null,null,{"$f":"IF(COUNTIF(J3:J4,\"?*\")=0,\"\",\n\nIF(COUNTIF(J3:J4,\"?*\")=1,CONCATENATE(\n\"Die Rücklaufquote der Befragung \", J3 & J4, \" an Ihrer Schule lag zwischen 20 und 50 Prozent. Die Daten sind bei einer solchen Rücklaufquote in der Regel systematisch verzerrt und können nicht als repräsentativ für die Meinung aller Befragten der Gruppe betrachtet werden.\"),\nIF(COUNTIF(J3:J4,\"?*\")=2,CONCATENATE(\n\"Die Rücklaufquoten der Befragungen \", J3, \", sowie \", J4, \" an Ihrer Schule lagen zwischen 20 und 50 Prozent. Die Daten sind bei einer solchen Rücklaufquote in der Regel systematisch verzerrt und können nicht als repräsentativ für die Meinung aller Befragten der jeweiligen Gruppe betrachtet werden.\"),\"\")) & \"\nAus diesem Grund werden die Ergebnisse grafisch nicht dargestellt. Zu Ihrer Information sind die Daten dennoch in den Tabellen einsehbar, jedoch sind sie mit einer gelben Markierung hinterlegt.\" & IF(SUM(K5,L5)>0,\"\n\n\",\"\"))","v":""},{"$f":"IF(COUNTIF(K3:K4,\"?*\")=0,\"\",\n\nIF(COUNTIF(K3:K4,\"?*\")=1,CONCATENATE(\n\"Die Rücklaufquote der Befragung \", K3 & K4, \" an Ihrer Schule lag unter 20 Prozent. Die Daten sind bei einer solchen Rücklaufquote in der Regel nicht aussagekräftig.\"),\nIF(COUNTIF(K3:K4,\"?*\")=2,CONCATENATE(\n\"Die Rücklaufquoten der Befragungen \", K3, \", sowie \", K4, \" an Ihrer Schule lagen unter 20 Prozent. Die Daten sind bei einer solchen Rücklaufquote in der Regel nicht aussagekräftig.\"),\"\")) & \"\n\" & IF(L5=1,\"\",\"Aus diesem Grund werden die Ergebnisse weder in grafischer, noch in tabellarischer Form zurückgemeldet.\" & IF(AND(K4<>\"\",K3:L3=\"\"),\" In die Berechnungen zu Items und Konstrukten, die sich an alle Pädagoginnen und Pädagogen der Schule richten, fließen die Daten der PTF jedoch mit ein.\",\"\")))","v":""},{"$f":"IF(COUNTIF(L3:L4,\"?*\")=0,\"\",\n\nIF(COUNTIF(L3:L4,\"?*\")=1,CONCATENATE(\n\"Der Rücklauf der Befragung \", L3 & L4, \" betrug an Ihrer Schule 10 oder weniger Fragebögen.\"),\nIF(COUNTIF(L3:L4,\"?*\")=2,CONCATENATE(\n\"Die Rückläufe der Befragungen \", L3, \", sowie \", L4, \" betrugen an Ihrer Schule 10 oder weniger Fragebögen.\"),\"\")) & \"\nUm die Anonymität der Befragten zu gewährleisten, werden die entsprechenden Ergebnisse weder in grafischer, noch in tabellarischer Form zurückgemeldet.\" & IF(AND(L4<>\"\",K3:L3=\"\"),\" In die Berechnungen zu Items und Konstrukten, die sich an alle Pädagoginnen und Pädagogen der Schule richten, fließen die Daten der PTF jedoch mit ein.\",\"\"))","v":"Der Rücklauf der Befragung des pädagogisch therapeutischen Fachpersonals betrug an Ihrer Schule 10 oder weniger Fragebögen.\nUm die Anonymität der Befragten zu gewährleisten, werden die entsprechenden Ergebnisse weder in grafischer, noch in tabellarischer Form zurückgemeldet. In die Berechnungen zu Items und Konstrukten, die sich an alle Pädagoginnen und Pädagogen der Schule richten, fließen die Daten der PTF jedoch mit ein."},"Beginn"]
[null,null,null,null,null,null,null,null,null,null,{"$f":"IF(COUNTIF(K3:K4,\"?*\")=0,\"\",\n\nIF(COUNTIF(K3:K4,\"?*\")=1,CONCATENATE(\n\"Darüber hinaus lag die Rücklaufquote der Befragung \", K3 & K4, \" an Ihrer Schule unter 20 Prozent. Die Daten sind bei einer solchen Rücklaufquote in der Regel nicht aussagekräftig.\"),\nIF(COUNTIF(K3:K4,\"?*\")=2,CONCATENATE(\n\"Darüber hinaus lagen die Rücklaufquoten der Befragungen \", K3, \", sowie \", K4, \" an Ihrer Schule unter 20 Prozent. Die Daten sind bei einer solchen Rücklaufquote in der Regel nicht aussagekräftig.\"),\"\")) & \"\n\" & IF(L5=1,\"\",\"Daher werden diese Ergebnisse weder in grafischer, noch in tabellarischer Form zurückgemeldet.\"  & IF(AND(K4<>\"\",K3:L3=\"\"),\" In die Berechnungen zu Items und Konstrukten, die sich an alle Pädagoginnen und Pädagogen der Schule richten, fließen die Daten der PTF jedoch mit ein.\",\"\")))","v":""},{"$f":"IF(COUNTIF(L3:L4,\"?*\")=0,\"\",\n\nIF(COUNTIF(L3:L4,\"?*\")=1,CONCATENATE(\n\"Darüber hinaus betrug der Rücklauf der Befragung \", L3 & L4, \" an Ihrer Schule 10 oder weniger Fragebögen.\"),\nIF(COUNTIF(L3:L4,\"?*\")=2,CONCATENATE(\n\"Darüber hinaus betrugen die Rückläufe der Befragungen \", L3, \", sowie \", L4, \" an Ihrer Schule 10 oder weniger Fragebögen.\"),\"\")) & \"\n\" & IF(K5=1,\"Aufgrund der geringen Aussagekraft der Daten, bzw. um bei 10 oder weniger Rückläufen die Anonymität der Befragten zu gewährleisten, \",\"Um die Anonymität der Befragten zu gewährleisten, \") & \"werden die entsprechenden Ergebnisse weder in grafischer, noch in tabellarischer Form zurückgemeldet.\" & IF(AND(L3<>\"\",K3:L3=\"\"),\" In die Berechnungen zu Items und Konstrukten, die sich an alle Pädagoginnen und Pädagogen der Schule richten, fließen die Daten der PTF jedoch mit ein.\",\"\"))","v":"Darüber hinaus betrug der Rücklauf der Befragung des pädagogisch therapeutischen Fachpersonals an Ihrer Schule 10 oder weniger Fragebögen.\nUm die Anonymität der Befragten zu gewährleisten, werden die entsprechenden Ergebnisse weder in grafischer, noch in tabellarischer Form zurückgemeldet."},"Ende"]
["Konstrukt",null,"N","Mittelwert","SE","SD","Anzahl Items","Items"]
["Transformationale Führung",null,23,3.3064182194616976,0.12049100842434589,0.57785457647721639,9,"85, 86, 87, 89, 90, 94, 96, 98, 99",null,{"$f":"\" \"&H9&\", \"","v":" 85, 86, 87, 89, 90, 94, 96, 98, 99, "}]
[null,"Motivation durch begeisternde Visionen",20,3.1333333333333337,0.16649113563674803,0.74457099386981274,3,"87, 94, 96",null,{"$f":"\" \"&H10&\", \"","v":" 87, 94, 96, "}]
[null,"Einfluss durch Vorbildlichkeit und Glaubwürdigkeit",23,3.4637681159420293,0.11806359323963032,0.56621310221418952,3,"85, 86, 99",null," 85, 86, 99, "]
[null,"Individuelle Unterstützung und Förderung",23,3.2536231884057973,0.14052944512454554,0.67395554288194048,3,"89, 90, 98",null," 89, 90, 98, "]
["Transaktionale Führung",null,21,3.1507936507936507,0.14724307814453094,0.67475255115561095,3,"92, 95, 97",null," 92, 95, 97, "]
["Aktive Führung",null,23,3.2681159420289854,8.4308608207942351E-2,0.40432988093027139,3,"88, 91, 93",null," 88, 91, 93, "]
["Instruktionale Führung",null,23,2.8119047619047617,0.1237308636889051,0.5933923764859601,8,"77, 78, 79, 80, 81, 82, 83, 84",null," 77, 78, 79, 80, 81, 82, 83, 84, "]
[null,"Supervision",21,2.0238095238095242,0.11688512103460551,0.53563491475515479,2,"82, 83",null," 82, 83, "]
[null,"Schulziel-Management",19,3.0263157894736845,0.16033953065327711,0.69890381077237707,3,"77, 78, 81",null," 77, 78, 81, "]
[null,"Anleitungsmanagement",23,3.1666666666666665,0.11526067913468746,0.55277079839256671,3,"79, 80, 84",null," 79, 80, 84, "]
["Partizipative Führung",null,23,3.2921842650103526,0.11723929679340796,0.5622599153328417,8,"69, 70, 71, 72, 73, 74, 75, 76",null," 69, 70, 71, 72, 73, 74, 75, 76, "]
[null,"Delegation von Führung",23,3.2717391304347827,0.12041063352552153,0.57746911200375151,4,"73, 74, 75, 76",null," 73, 74, 75, 76, "]
[null,"Distribution von Führung",23,3.3188405797101446,0.11885443699536401,0.57000585562795214,4,"69, 70, 71, 72",null," 69, 70, 71, 72, "]
["Positives Innovationsklima",null,22,3.0946969696969697,7.6818864892750985E-2,0.36031241454470603,4,"59, 60, 61, 62",null," 59, 60, 61, 62, "]
["Schülerbezogener Austausch",null,22,3.6212121212121215,0.10585426227360178,0.4965005000125845,3,"1, 2, 3",null," 1, 2, 3, "]
["Synchronisation",null,16,2.9010416666666665,0.16945902999610915,0.6778361199844366,4,"4, 5, 6, 7",null," 4, 5, 6, 7, "]
["Ko-Konstruktion",null,15,1.966666666666667,0.12253927132096477,0.47459255708248871,5,"8, 9, 10, 11, 12",null," 8, 9, 10, 11, 12, "]
["Kooperationsklima",null,23,3.3115942028985503,7.1493838107639235E-2,0.3428724025192324,4,"17, 18, 19, 20",null," 17, 18, 19, 20, "]
["Rahmenbedingungen der Kooperation",null,23,2.865217391304347,0.13039378655989728,0.62534663202806573,6,"21, 22, 23, 24, 25, 26",null," 21, 22, 23, 24, 25, 26, "]
["Fachliche und jahrgangsspezifische Kooperation unter Lehrpersonen",null,16,2.4843750000000004,0.13290267907939807,0.53161071631759227,4,"13, 14, 15, 16",null," 13, 14, 15, 16, "]
["Kollektive Selbstwirksamkeit",null,23,3.0144927536231885,8.6983965805377608E-2,0.41716044523218559,6,"63, 64, 65, 66, 67, 68",null," 63, 64, 65, 66, 67, 68, "]
["Systematische Schul- und Unterrichtsentwicklung",null,23,2.8393374741200823,0.1366664690680045,0.65542936053617862,7,"52, 53, 54, 55, 56, 57, 58",null," 52, 53, 54, 55, 56, 57, 58, "]
["Klassenführung",null,23,3.1858178053830231,6.9706036735604993E-2,0.33429840834180885,8,"44, 45, 46, 47, 48, 49, 50, 51",null," 44, 45, 46, 47, 48, 49, 50, 51, "]
["Konstruktive Unterstützung",null,21,3.646258503401361,7.8009149259725963E-2,0.35748283138180253,7,"37, 38, 39, 40, 41, 42, 43",null," 37, 38, 39, 40, 41, 42, 43, "]
["Potenzial zur kognitiven Aktivierung",null,21,3.6539682539682539,6.7395860896731552E-2,0.30884663408598673,6,"31, 32, 33, 34, 35, 36",null," 31, 32, 33, 34, 35, 36, "]
["Arbeitszufriedenheit",null,23,3.2115942028985507,8.5012301046205788E-2,0.40770467322674458,6,"104, 105, 106, 107, 108, 109",null," 104, 105, 106, 107, 108, 109, "]
[null,"Arbeitszufriedenheit (Nur Lehrpersonen)",null,null,null,0.36797116432918731,6,"104, 105, 106, 107, 108, 109",null," 104, 105, 106, 107, 108, 109, "]
[null,"Arbeitszufriedenheit (Nur PTF)",null,null,null,0.50657058403914113,6,"104, 105, 106, 107, 108, 109",null," 104, 105, 106, 107, 108, 109, "]
["Mitarbeiterbindung",null,23,3.5652173913043472,0.10685195248144878,0.51244396203804476,4,"100, 101, 102, 103",null," 100, 101, 102, 103, "]
[null,"Mitarbeiterbindung (Nur Lehrpersonen)",null,null,null,0.46519485164820984,4,"100, 101, 102, 103",null," 100, 101, 102, 103, "]
[null,"Mitarbeiterbindung (Nur PTF)",null,null,null,0.63620901028035182,4,"100, 101, 102, 103",null," 100, 101, 102, 103, "]
["Eingebundenheit in die Schulgemeinschaft - PTF der Schule",null,null,null,null,0.38188130791298669,4,"27, 28, 29, 30",null," 27, 28, 29, 30, "]
["-"]

{"sheet":"PFB-Items","index":4,"n_rows":183,"n_cols":10,"rows_kept":183,"cut":false,"hidden":true,"merged":[[5,0,5,9],[1,0,1,9]]}
[]
["Fragebogen für Pädagoginnen und Pädagogen - Items"]
[]
[{"$f":"'FB nach BerT'!A1","v":"Schule Rungwisch (5274)"}]
[]
[{"$f":"'PFB-Konstrukte'!A6","v":"Der Rücklauf der Befragung des pädagogisch therapeutischen Fachpersonals betrug an Ihrer Schule 10 oder weniger Fragebögen.\nUm die Anonymität der Befragten zu gewährleisten, werden die entsprechenden Ergebnisse weder in grafischer, noch in tabellarischer Form zurückgemeldet. In die Berechnungen zu Items und Konstrukten, die sich an alle Pädagoginnen und Pädagogen der Schule richten, fließen die Daten der PTF jedoch mit ein."}]
[]
[null,"N","MW","SE","SD","trifft\nnicht zu","trifft eher\nnicht zu","trifft\neher zu","trifft\nvoll zu","Zuordnung zum Konstrukt"]
["01. Ich entwickle mit meinen Kolleginnen und Kollegen bei Schwierigkeiten einzelner Schülerinnen und Schüler eine gemeinsame Lösungsstrategie.",22,3.7272727272727275,0.11736313170325506,0.55048188256318031,0,4.5454545454545456E-2,0.18181818181818182,0.77272727272727271,{"$f":"IF(INDIRECT(\"'PFB-Konstrukte'!A\" & (SMALL(IF(NOT(ISERROR(FIND(IF(LEFT(A9,1)=\"0\",\" \" & MID(A9,2,1) & \",\",IF(MID(A9,3,1)=\".\",LEFT(A9,2),LEFT(A9,3))),'PFB-Konstrukte'!$J$9:$J$40))),ROW($9:$40)),1)+1))=\"\",\n\nIF(LEFT(INDIRECT(\"A\"&MAX(IF($B$1:B9=\"N\",ROW($A$1:A9)))-1),3)=\"nur\",\n\nIF(RIGHT(INDIRECT(\"A\"&MAX(IF($B$1:B9=\"N\",ROW($A$1:A9)))-1),4)=\"PTF!\",\nINDEX('PFB-Konstrukte'!$B$9:$J$40,SMALL(IF(NOT(ISERROR(FIND(IF(LEFT(A9,1)=\"0\",\" \" & MID(A9,2,1) & \",\",IF(MID(A9,3,1)=\".\",LEFT(A9,2),LEFT(A9,3))),'PFB-Konstrukte'!$J$9:$J$40))),ROW($1:$32)),3),1),\nINDEX('PFB-Konstrukte'!$B$9:$J$40,SMALL(IF(NOT(ISERROR(FIND(IF(LEFT(A9,1)=\"0\",\" \" & MID(A9,2,1) & \",\",IF(MID(A9,3,1)=\".\",LEFT(A9,2),LEFT(A9,3))),'PFB-Konstrukte'!$J$9:$J$40))),ROW($1:$32)),2),1)),\n\nIF(RIGHT(INDEX('PFB-Konstrukte'!$A$9:$J$40,SMALL(IF(NOT(ISERROR(FIND(IF(LEFT(A9,1)=\"0\",\" \" & MID(A9,2,1) & \",\",IF(MID(A9,3,1)=\".\",LEFT(A9,2),LEFT(A9,3))),'PFB-Konstrukte'!$J$9:$J$40))),ROW($1:$32)),1),1),7)=\"Führung\",\n\nINDEX('PFB-Konstrukte'!$A$9:$J$40,SMALL(IF(NOT(ISERROR(FIND(IF(LEFT(A9,1)=\"0\",\" \" & MID(A9,2,1) & \",\",IF(MID(A9,3,1)=\".\",LEFT(A9,2),LEFT(A9,3))),'PFB-Konstrukte'!$J$9:$J$40))),ROW($1:$32)),1),1) & \", \n\" & INDEX('PFB-Konstrukte'!$B$9:$J$40,SMALL(IF(NOT(ISERROR(FIND(IF(LEFT(A9,1)=\"0\",\" \" & MID(A9,2,1) & \",\",IF(MID(A9,3,1)=\".\",LEFT(A9,2),LEFT(A9,3))),'PFB-Konstrukte'!$J$9:$J$40))),ROW($1:$32)),2),1),\n\nINDEX('PFB-Konstrukte'!$A$9:$J$40,SMALL(IF(NOT(ISERROR(FIND(IF(LEFT(A9,1)=\"0\",\" \" & MID(A9,2,1) & \",\",IF(MID(A9,3,1)=\".\",LEFT(A9,2),LEFT(A9,3))),'PFB-Konstrukte'!$J$9:$J$40))),ROW($1:$32)),1),1))),\n\nINDEX('PFB-Konstrukte'!$A$9:$J$40,SMALL(IF(NOT(ISERROR(FIND(IF(LEFT(A9,1)=\"0\",\" \" & MID(A9,2,1) & \",\",IF(MID(A9,3,1)=\".\",LEFT(A9,2),LEFT(A9,3))),'PFB-Konstrukte'!$J$9:$J$40))),ROW($1:$32)),1),1))","v":"Schülerbezogener Austausch"}]
["02. Ich reflektiere mit meinen Kolleginnen und Kollegen regelmäßig unsere Erfahrungen bei der Unterstützung einzelner Schülerinnen und Schüler.",22,3.5909090909090908,0.10729033533674225,0.50323627974019647,0,0,0.40909090909090912,0.59090909090909094,{"$f":"IF(INDIRECT(\"'PFB-Konstrukte'!A\" & (SMALL(IF(NOT(ISERROR(FIND(IF(LEFT(A10,1)=\"0\",\" \" & MID(A10,2,1) & \",\",IF(MID(A10,3,1)=\".\",LEFT(A10,2),LEFT(A10,3))),'PFB-Konstrukte'!$J$9:$J$40))),ROW($9:$40)),1)+1))=\"\",\n\nIF(LEFT(INDIRECT(\"A\"&MAX(IF($B$1:B10=\"N\",ROW($A$1:A10)))-1),3)=\"nur\",\n\nIF(RIGHT(INDIRECT(\"A\"&MAX(IF($B$1:B10=\"N\",ROW($A$1:A10)))-1),4)=\"PTF!\",\nINDEX('PFB-Konstrukte'!$B$9:$J$40,SMALL(IF(NOT(ISERROR(FIND(IF(LEFT(A10,1)=\"0\",\" \" & MID(A10,2,1) & \",\",IF(MID(A10,3,1)=\".\",LEFT(A10,2),LEFT(A10,3))),'PFB-Konstrukte'!$J$9:$J$40))),ROW($1:$32)),3),1),\nINDEX('PFB-Konstrukte'!$B$9:$J$40,SMALL(IF(NOT(ISERROR(FIND(IF(LEFT(A10,1)=\"0\",\" \" & MID(A10,2,1) & \",\",IF(MID(A10,3,1)=\".\",LEFT(A10,2),LEFT(A10,3))),'PFB-Konstrukte'!$J$9:$J$40))),ROW($1:$32)),2),1)),\n\nIF(RIGHT(INDEX('PFB-Konstrukte'!$A$9:$J$40,SMALL(IF(NOT(ISERROR(FIND(IF(LEFT(A10,1)=\"0\",\" \" & MID(A10,2,1) & \",\",IF(MID(A10,3,1)=\".\",LEFT(A10,2),LEFT(A10,3))),'PFB-Konstrukte'!$J$9:$J$40))),ROW($1:$32)),1),1),7)=\"Führung\",\n\nINDEX('PFB-Konstrukte'!$A$9:$J$40,SMALL(IF(NOT(ISERROR(FIND(IF(LEFT(A10,1)=\"0\",\" \" & MID(A10,2,1) & \",\",IF(MID(A10,3,1)=\".\",LEFT(A10,2),LEFT(A10,3))),'PFB-Konstrukte'!$J$9:$J$40))),ROW($1:$32)),1),1) & \", \n\" & INDEX('PFB-Konstrukte'!$B$9:$J$40,SMALL(IF(NOT(ISERROR(FIND(IF(LEFT(A10,1)=\"0\",\" \" & MID(A10,2,1) & \",\",IF(MID(A10,3,1)=\".\",LEFT(A10,2),LEFT(A10,3))),'PFB-Konstrukte'!$J$9:$J$40))),ROW($1:$32)),2),1),\n\nINDEX('PFB-Konstrukte'!$A$9:$J$40,SMALL(IF(NOT(ISERROR(FIND(IF(LEFT(A10,1)=\"0\",\" \" & MID(A10,2,1) & \",\",IF(MID(A10,3,1)=\".\",LEFT(A10,2),LEFT(A10,3))),'PFB-Konstrukte'!$J$9:$J$40))),ROW($1:$32)),1),1))),\n\nINDEX('PFB-Konstrukte'!$A$9:$J$40,SMALL(IF(NOT(ISERROR(FIND(IF(LEFT(A10,1)=\"0\",\" \" & MID(A10,2,1) & \",\",IF(MID(A10,3,1)=\".\",LEFT(A10,2),LEFT(A10,3))),'PFB-Konstrukte'!$J$9:$J$40))),ROW($1:$32)),1),1))","v":"Schülerbezogener Austausch"}]
["03. Ich spreche mit Kolleginnen und Kollegen ab, wie wir gemeinsam einzelne Schülerinnen und Schüler fördern können",22,3.5454545454545454,0.12702511472832215,0.59580060001510149,0,4.5454545454545456E-2,0.36363636363636365,0.59090909090909094,{"$f":"IF(INDIRECT(\"'PFB-Konstrukte'!A\" & (SMALL(IF(NOT(ISERROR(FIND(IF(LEFT(A11,1)=\"0\",\" \" & MID(A11,2,1) & \",\",IF(MID(A11,3,1)=\".\",LEFT(A11,2),LEFT(A11,3))),'PFB-Konstrukte'!$J$9:$J$40))),ROW($9:$40)),1)+1))=\"\",\n\nIF(LEFT(INDIRECT(\"A\"&MAX(IF($B$1:B11=\"N\",ROW($A$1:A11)))-1),3)=\"nur\",\n\nIF(RIGHT(INDIRECT(\"A\"&MAX(IF($B$1:B11=\"N\",ROW($A$1:A11)))-1),4)=\"PTF!\",\nINDEX('PFB-Konstrukte'!$B$9:$J$40,SMALL(IF(NOT(ISERROR(FIND(IF(LEFT(A11,1)=\"0\",\" \" & MID(A11,2,1) & \",\",IF(MID(A11,3,1)=\".\",LEFT(A11,2),LEFT(A11,3))),'PFB-Konstrukte'!$J$9:$J$40))),ROW($1:$32)),3),1),\nINDEX('PFB-Konstrukte'!$B$9:$J$40,SMALL(IF(NOT(ISERROR(FIND(IF(LEFT(A11,1)=\"0\",\" \" & MID(A11,2,1) & \",\",IF(MID(A11,3,1)=\".\",LEFT(A11,2),LEFT(A11,3))),'PFB-Konstrukte'!$J$9:$J$40))),ROW($1:$32)),2),1)),\n\nIF(RIGHT(INDEX('PFB-Konstrukte'!$A$9:$J$40,SMALL(IF(NOT(ISERROR(FIND(IF(LEFT(A11,1)=\"0\",\" \" & MID(A11,2,1) & \",\",IF(MID(A11,3,1)=\".\",LEFT(A11,2),LEFT(A11,3))),'PFB-Konstrukte'!$J$9:$J$40))),ROW($1:$32)),1),1),7)=\"Führung\",\n\nINDEX('PFB-Konstrukte'!$A$9:$J$40,SMALL(IF(NOT(ISERROR(FIND(IF(LEFT(A11,1)=\"0\",\" \" & MID(A11,2,1) & \",\",IF(MID(A11,3,1)=\".\",LEFT(A11,2),LEFT(A11,3))),'PFB-Konstrukte'!$J$9:$J$40))),ROW($1:$32)),1),1) & \", \n\" & INDEX('PFB-Konstrukte'!$B$9:$J$40,SMALL(IF(NOT(ISERROR(FIND(IF(LEFT(A11,1)=\"0\",\" \" & MID(A11,2,1) & \",\",IF(MID(A11,3,1)=\".\",LEFT(A11,2),LEFT(A11,3))),'PFB-Konstrukte'!$J$9:$J$40))),ROW($1:$32)),2),1),\n\nINDEX('PFB-Konstrukte'!$A$9:$J$40,SMALL(IF(NOT(ISERROR(FIND(IF(LEFT(A11,1)=\"0\",\" \" & MID(A11,2,1) & \",\",IF(MID(A11,3,1)=\".\",LEFT(A11,2),LEFT(A11,3))),'PFB-Konstrukte'!$J$9:$J$40))),ROW($1:$32)),1),1))),\n\nINDEX('PFB-Konstrukte'!$A$9:$J$40,SMALL(IF(NOT(ISERROR(FIND(IF(LEFT(A11,1)=\"0\",\" \" & MID(A11,2,1) & \",\",IF(MID(A11,3,1)=\".\",LEFT(A11,2),LEFT(A11,3))),'PFB-Konstrukte'!$J$9:$J$40))),ROW($1:$32)),1),1))","v":"Schülerbezogener Austausch"}]
[]
[null,"N","MW","SE","SD","trifft\nnicht zu","trifft eher\nnicht zu","trifft\neher zu","trifft\nvoll zu","Zuordnung zum Konstrukt"]
["04. Ich spreche mich mit meinen Kolleginnen und Kollegen regelmäßig über Aufgaben im Unterricht ab.",16,3.1875,0.1875,0.75,0,0.1875,0.4375,0.375,{"$f":"IF(INDIRECT(\"'PFB-Konstrukte'!A\" & (SMALL(IF(NOT(ISERROR(FIND(IF(LEFT(A14,1)=\"0\",\" \" & MID(A14,2,1) & \",\",IF(MID(A14,3,1)=\".\",LEFT(A14,2),LEFT(A14,3))),'PFB-Konstrukte'!$J$9:$J$40))),ROW($9:$40)),1)+1))=\"\",\n\nIF(LEFT(INDIRECT(\"A\"&MAX(IF($B$1:B14=\"N\",ROW($A$1:A14)))-1),3)=\"nur\",\n\nIF(RIGHT(INDIRECT(\"A\"&MAX(IF($B$1:B14=\"N\",ROW($A$1:A14)))-1),4)=\"PTF!\",\nINDEX('PFB-Konstrukte'!$B$9:$J$40,SMALL(IF(NOT(ISERROR(FIND(IF(LEFT(A14,1)=\"0\",\" \" & MID(A14,2,1) & \",\",IF(MID(A14,3,1)=\".\",LEFT(A14,2),LEFT(A14,3))),'PFB-Konstrukte'!$J$9:$J$40))),ROW($1:$32)),3),1),\nINDEX('PFB-Konstrukte'!$B$9:$J$40,SMALL(IF(NOT(ISERROR(FIND(IF(LEFT(A14,1)=\"0\",\" \" & MID(A14,2,1) & \",\",IF(MID(A14,3,1)=\".\",LEFT(A14,2),LEFT(A14,3))),'PFB-Konstrukte'!$J$9:$J$40))),ROW($1:$32)),2),1)),\n\nIF(RIGHT(INDEX('PFB-Konstrukte'!$A$9:$J$40,SMALL(IF(NOT(ISERROR(FIND(IF(LEFT(A14,1)=\"0\",\" \" & MID(A14,2,1) & \",\",IF(MID(A14,3,1)=\".\",LEFT(A14,2),LEFT(A14,3))),'PFB-Konstrukte'!$J$9:$J$40))),ROW($1:$32)),1),1),7)=\"Führung\",\n\nINDEX('PFB-Konstrukte'!$A$9:$J$40,SMALL(IF(NOT(ISERROR(FIND(IF(LEFT(A14,1)=\"0\",\" \" & MID(A14,2,1) & \",\",IF(MID(A14,3,1)=\".\",LEFT(A14,2),LEFT(A14,3))),'PFB-Konstrukte'!$J$9:$J$40))),ROW($1:$32)),1),1) & \", \n\" & INDEX('PFB-Konstrukte'!$B$9:$J$40,SMALL(IF(NOT(ISERROR(FIND(IF(LEFT(A14,1)=\"0\",\" \" & MID(A14,2,1) & \",\",IF(MID(A14,3,1)=\".\",LEFT(A14,2),LEFT(A14,3))),'PFB-Konstrukte'!$J$9:$J$40))),ROW($1:$32)),2),1),\n\nINDEX('PFB-Konstrukte'!$A$9:$J$40,SMALL(IF(NOT(ISERROR(FIND(IF(LEFT(A14,1)=\"0\",\" \" & MID(A14,2,1) & \",\",IF(MID(A14,3,1)=\".\",LEFT(A14,2),LEFT(A14,3))),'PFB-Konstrukte'!$J$9:$J$40))),ROW($1:$32)),1),1))),\n\nINDEX('PFB-Konstrukte'!$A$9:$J$40,SMALL(IF(NOT(ISERROR(FIND(IF(LEFT(A14,1)=\"0\",\" \" & MID(A14,2,1) & \",\",IF(MID(A14,3,1)=\".\",LEFT(A14,2),LEFT(A14,3))),'PFB-Konstrukte'!$J$9:$J$40))),ROW($1:$32)),1),1))","v":"Synchronisation"}]
["05. Ich spreche mich regelmäßig mit meinen Kolleginnen und Kollegen über Inhalt und Anforderungen von Klassenarbeiten ab.",16,3,0.18257418583505539,0.73029674334022154,0,0.25,0.5,0.25,{"$f":"IF(INDIRECT(\"'PFB-Konstrukte'!A\" & (SMALL(IF(NOT(ISERROR(FIND(IF(LEFT(A15,1)=\"0\",\" \" & MID(A15,2,1) & \",\",IF(MID(A15,3,1)=\".\",LEFT(A15,2),LEFT(A15,3))),'PFB-Konstrukte'!$J$9:$J$40))),ROW($9:$40)),1)+1))=\"\",\n\nIF(LEFT(INDIRECT(\"A\"&MAX(IF($B$1:B15=\"N\",ROW($A$1:A15)))-1),3)=\"nur\",\n\nIF(RIGHT(INDIRECT(\"A\"&MAX(IF($B$1:B15=\"N\",ROW($A$1:A15)))-1),4)=\"PTF!\",\nINDEX('PFB-Konstrukte'!$B$9:$J$40,SMALL(IF(NOT(ISERROR(FIND(IF(LEFT(A15,1)=\"0\",\" \" & MID(A15,2,1) & \",\",IF(MID(A15,3,1)=\".\",LEFT(A15,2),LEFT(A15,3))),'PFB-Konstrukte'!$J$9:$J$40))),ROW($1:$32)),3),1),\nINDEX('PFB-Konstrukte'!$B$9:$J$40,SMALL(IF(NOT(ISERROR(FIND(IF(LEFT(A15,1)=\"0\",\" \" & MID(A15,2,1) & \",\",IF(MID(A15,3,1)=\".\",LEFT(A15,2),LEFT(A15,3))),'PFB-Konstrukte'!$J$9:$J$40))),ROW($1:$32)),2),1)),\n\nIF(RIGHT(INDEX('PFB-Konstrukte'!$A$9:$J$40,SMALL(IF(NOT(ISERROR(FIND(IF(LEFT(A15,1)=\"0\",\" \" & MID(A15,2,1) & \",\",IF(MID(A15,3,1)=\".\",LEFT(A15,2),LEFT(A15,3))),'PFB-Konstrukte'!$J$9:$J$40))),ROW($1:$32)),1),1),7)=\"Führung\",\n\nINDEX('PFB-Konstrukte'!$A$9:$J$40,SMALL(IF(NOT(ISERROR(FIND(IF(LEFT(A15,1)=\"0\",\" \" & MID(A15,2,1) & \",\",IF(MID(A15,3,1)=\".\",LEFT(A15,2),LEFT(A15,3))),'PFB-Konstrukte'!$J$9:$J$40))),ROW($1:$32)),1),1) & \", \n\" & INDEX('PFB-Konstrukte'!$B$9:$J$40,SMALL(IF(NOT(ISERROR(FIND(IF(LEFT(A15,1)=\"0\",\" \" & MID(A15,2,1) & \",\",IF(MID(A15,3,1)=\".\",LEFT(A15,2),LEFT(A15,3))),'PFB-Konstrukte'!$J$9:$J$40))),ROW($1:$32)),2),1),\n\nINDEX('PFB-Konstrukte'!$A$9:$J$40,SMALL(IF(NOT(ISERROR(FIND(IF(LEFT(A15,1)=\"0\",\" \" & MID(A15,2,1) & \",\",IF(MID(A15,3,1)=\".\",LEFT(A15,2),LEFT(A15,3))),'PFB-Konstrukte'!$J$9:$J$40))),ROW($1:$32)),1),1))),\n\nINDEX('PFB-Konstrukte'!$A$9:$J$40,SMALL(IF(NOT(ISERROR(FIND(IF(LEFT(A15,1)=\"0\",\" \" & MID(A15,2,1) & \",\",IF(MID(A15,3,1)=\".\",LEFT(A15,2),LEFT(A15,3))),'PFB-Konstrukte'!$J$9:$J$40))),ROW($1:$32)),1),1))","v":"Synchronisation"}]
["06. Ich spreche mich regelmäßig mit Kolleginnen und Kollegen, die dieselbe Jahrgangsstufe wie ich unterrichten, über Termine für Klassenarbeiten und Tests ab.",15,2.5333333333333332,0.27371634025142694,1.0600988273786194,0.13333333333333333,0.46666666666666662,0.13333333333333333,0.26666666666666666,{"$f":"IF(INDIRECT(\"'PFB-Konstrukte'!A\" & (SMALL(IF(NOT(ISERROR(FIND(IF(LEFT(A16,1)=\"0\",\" \" & MID(A16,2,1) & \",\",IF(MID(A16,3,1)=\".\",LEFT(A16,2),LEFT(A16,3))),'PFB-Konstrukte'!$J$9:$J$40))),ROW($9:$40)),1)+1))=\"\",\n\nIF(LEFT(INDIRECT(\"A\"&MAX(IF($B$1:B16=\"N\",ROW($A$1:A16)))-1),3)=\"nur\",\n\nIF(RIGHT(INDIRECT(\"A\"&MAX(IF($B$1:B16=\"N\",ROW($A$1:A16)))-1),4)=\"PTF!\",\nINDEX('PFB-Konstrukte'!$B$9:$J$40,SMALL(IF(NOT(ISERROR(FIND(IF(LEFT(A16,1)=\"0\",\" \" & MID(A16,2,1) & \",\",IF(MID(A16,3,1)=\".\",LEFT(A16,2),LEFT(A16,3))),'PFB-Konstrukte'!$J$9:$J$40))),ROW($1:$32)),3),1),\nINDEX('PFB-Konstrukte'!$B$9:$J$40,SMALL(IF(NOT(ISERROR(FIND(IF(LEFT(A16,1)=\"0\",\" \" & MID(A16,2,1) & \",\",IF(MID(A16,3,1)=\".\",LEFT(A16,2),LEFT(A16,3))),'PFB-Konstrukte'!$J$9:$J$40))),ROW($1:$32)),2),1)),\n\nIF(RIGHT(INDEX('PFB-Konstrukte'!$A$9:$J$40,SMALL(IF(NOT(ISERROR(FIND(IF(LEFT(A16,1)=\"0\",\" \" & MID(A16,2,1) & \",\",IF(MID(A16,3,1)=\".\",LEFT(A16,2),LEFT(A16,3))),'PFB-Konstrukte'!$J$9:$J$40))),ROW($1:$32)),1),1),7)=\"Führung\",\n\nINDEX('PFB-Konstrukte'!$A$9:$J$40,SMALL(IF(NOT(ISERROR(FIND(IF(LEFT(A16,1)=\"0\",\" \" & MID(A16,2,1) & \",\",IF(MID(A16,3,1)=\".\",LEFT(A16,2),LEFT(A16,3))),'PFB-Konstrukte'!$J$9:$J$40))),ROW($1:$32)),1),1) & \", \n\" & INDEX('PFB-Konstrukte'!$B$9:$J$40,SMALL(IF(NOT(ISERROR(FIND(IF(LEFT(A16,1)=\"0\",\" \" & MID(A16,2,1) & \",\",IF(MID(A16,3,1)=\".\",LEFT(A16,2),LEFT(A16,3))),'PFB-Konstrukte'!$J$9:$J$40))),ROW($1:$32)),2),1),\n\nINDEX('PFB-Konstrukte'!$A$9:$J$40,SMALL(IF(NOT(ISERROR(FIND(IF(LEFT(A16,1)=\"0\",\" \" & MID(A16,2,1) & \",\",IF(MID(A16,3,1)=\".\",LEFT(A16,2),LEFT(A16,3))),'PFB-Konstrukte'!$J$9:$J$40))),ROW($1:$32)),1),1))),\n\nINDEX('PFB-Konstrukte'!$A$9:$J$40,SMALL(IF(NOT(ISERROR(FIND(IF(LEFT(A16,1)=\"0\",\" \" & MID(A16,2,1) & \",\",IF(MID(A16,3,1)=\".\",LEFT(A16,2),LEFT(A16,3))),'PFB-Konstrukte'!$J$9:$J$40))),ROW($1:$32)),1),1))","v":"Synchronisation"}]
["07. Ich gestalte regelmäßig mit Kolleginnen und Kollegen, die dieselbe Jahrgangsstufe wie ich unterrichten, die Themenfolge parallel.",14,2.8571428571428572,0.17719247798458351,0.6629935441317959,0,0.2857142857142857,0.5714285714285714,0.14285714285714285,{"$f":"IF(INDIRECT(\"'PFB-Konstrukte'!A\" & (SMALL(IF(NOT(ISERROR(FIND(IF(LEFT(A17,1)=\"0\",\" \" & MID(A17,2,1) & \",\",IF(MID(A17,3,1)=\".\",LEFT(A17,2),LEFT(A17,3))),'PFB-Konstrukte'!$J$9:$J$40))),ROW($9:$40)),1)+1))=\"\",\n\nIF(LEFT(INDIRECT(\"A\"&MAX(IF($B$1:B17=\"N\",ROW($A$1:A17)))-1),3)=\"nur\",\n\nIF(RIGHT(INDIRECT(\"A\"&MAX(IF($B$1:B17=\"N\",ROW($A$1:A17)))-1),4)=\"PTF!\",\nINDEX('PFB-Konstrukte'!$B$9:$J$40,SMALL(IF(NOT(ISERROR(FIND(IF(LEFT(A17,1)=\"0\",\" \" & MID(A17,2,1) & \",\",IF(MID(A17,3,1)=\".\",LEFT(A17,2),LEFT(A17,3))),'PFB-Konstrukte'!$J$9:$J$40))),ROW($1:$32)),3),1),\nINDEX('PFB-Konstrukte'!$B$9:$J$40,SMALL(IF(NOT(ISERROR(FIND(IF(LEFT(A17,1)=\"0\",\" \" & MID(A17,2,1) & \",\",IF(MID(A17,3,1)=\".\",LEFT(A17,2),LEFT(A17,3))),'PFB-Konstrukte'!$J$9:$J$40))),ROW($1:$32)),2),1)),\n\nIF(RIGHT(INDEX('PFB-Konstrukte'!$A$9:$J$40,SMALL(IF(NOT(ISERROR(FIND(IF(LEFT(A17,1)=\"0\",\" \" & MID(A17,2,1) & \",\",IF(MID(A17,3,1)=\".\",LEFT(A17,2),LEFT(A17,3))),'PFB-Konstrukte'!$J$9:$J$40))),ROW($1:$32)),1),1),7)=\"Führung\",\n\nINDEX('PFB-Konstrukte'!$A$9:$J$40,SMALL(IF(NOT(ISERROR(FIND(IF(LEFT(A17,1)=\"0\",\" \" & MID(A17,2,1) & \",\",IF(MID(A17,3,1)=\".\",LEFT(A17,2),LEFT(A17,3))),'PFB-Konstrukte'!$J$9:$J$40))),ROW($1:$32)),1),1) & \", \n\" & INDEX('PFB-Konstrukte'!$B$9:$J$40,SMALL(IF(NOT(ISERROR(FIND(IF(LEFT(A17,1)=\"0\",\" \" & MID(A17,2,1) & \",\",IF(MID(A17,3,1)=\".\",LEFT(A17,2),LEFT(A17,3))),'PFB-Konstrukte'!$J$9:$J$40))),ROW($1:$32)),2),1),\n\nINDEX('PFB-Konstrukte'!$A$9:$J$40,SMALL(IF(NOT(ISERROR(FIND(IF(LEFT(A17,1)=\"0\",\" \" & MID(A17,2,1) & \",\",IF(MID(A17,3,1)=\".\",LEFT(A17,2),LEFT(A17,3))),'PFB-Konstrukte'!$J$9:$J$40))),ROW($1:$32)),1),1))),\n\nINDEX('PFB-Konstrukte'!$A$9:$J$40,SMALL(IF(NOT(ISERROR(FIND(IF(LEFT(A17,1)=\"0\",\" \" & MID(A17,2,1) & \",\",IF(MID(A17,3,1)=\".\",LEFT(A17,2),LEFT(A17,3))),'PFB-Konstrukte'!$J$9:$J$40))),ROW($1:$32)),1),1))","v":"Synchronisation"}]
[]
[null,"N","MW","SE","SD","trifft\nnicht zu","trifft eher\nnicht zu","trifft\neher zu","trifft\nvoll zu","Zuordnung zum Konstrukt"]
["08. Ich führe mit Kolleginnen und Kollegen regelmäßig gegenseitige Unterrichtshospitationen durch.",14,1.142857142857143,9.7052317212393907E-2,0.3631365196012814,0.8571428571428571,0.14285714285714285,0,0,{"$f":"IF(INDIRECT(\"'PFB-Konstrukte'!A\" & (SMALL(IF(NOT(ISERROR(FIND(IF(LEFT(A20,1)=\"0\",\" \" & MID(A20,2,1) & \",\",IF(MID(A20,3,1)=\".\",LEFT(A20,2),LEFT(A20,3))),'PFB-Konstrukte'!$J$9:$J$40))),ROW($9:$40)),1)+1))=\"\",\n\nIF(LEFT(INDIRECT(\"A\"&MAX(IF($B$1:B20=\"N\",ROW($A$1:A20)))-1),3)=\"nur\",\n\nIF(RIGHT(INDIRECT(\"A\"&MAX(IF($B$1:B20=\"N\",ROW($A$1:A20)))-1),4)=\"PTF!\",\nINDEX('PFB-Konstrukte'!$B$9:$J$40,SMALL(IF(NOT(ISERROR(FIND(IF(LEFT(A20,1)=\"0\",\" \" & MID(A20,2,1) & \",\",IF(MID(A20,3,1)=\".\",LEFT(A20,2),LEFT(A20,3))),'PFB-Konstrukte'!$J$9:$J$40))),ROW($1:$32)),3),1),\nINDEX('PFB-Konstrukte'!$B$9:$J$40,SMALL(IF(NOT(ISERROR(FIND(IF(LEFT(A20,1)=\"0\",\" \" & MID(A20,2,1) & \",\",IF(MID(A20,3,1)=\".\",LEFT(A20,2),LEFT(A20,3))),'PFB-Konstrukte'!$J$9:$J$40))),ROW($1:$32)),2),1)),\n\nIF(RIGHT(INDEX('PFB-Konstrukte'!$A$9:$J$40,SMALL(IF(NOT(ISERROR(FIND(IF(LEFT(A20,1)=\"0\",\" \" & MID(A20,2,1) & \",\",IF(MID(A20,3,1)=\".\",LEFT(A20,2),LEFT(A20,3))),'PFB-Konstrukte'!$J$9:$J$40))),ROW($1:$32)),1),1),7)=\"Führung\",\n\nINDEX('PFB-Konstrukte'!$A$9:$J$40,SMALL(IF(NOT(ISERROR(FIND(IF(LEFT(A20,1)=\"0\",\" \" & MID(A20,2,1) & \",\",IF(MID(A20,3,1)=\".\",LEFT(A20,2),LEFT(A20,3))),'PFB-Konstrukte'!$J$9:$J$40))),ROW($1:$32)),1),1) & \", \n\" & INDEX('PFB-Konstrukte'!$B$9:$J$40,SMALL(IF(NOT(ISERROR(FIND(IF(LEFT(A20,1)=\"0\",\" \" & MID(A20,2,1) & \",\",IF(MID(A20,3,1)=\".\",LEFT(A20,2),LEFT(A20,3))),'PFB-Konstrukte'!$J$9:$J$40))),ROW($1:$32)),2),1),\n\nINDEX('PFB-Konstrukte'!$A$9:$J$40,SMALL(IF(NOT(ISERROR(FIND(IF(LEFT(A20,1)=\"0\",\" \" & MID(A20,2,1) & \",\",IF(MID(A20,3,1)=\".\",LEFT(A20,2),LEFT(A20,3))),'PFB-Konstrukte'!$J$9:$J$40))),ROW($1:$32)),1),1))),\n\nINDEX('PFB-Konstrukte'!$A$9:$J$40,SMALL(IF(NOT(ISERROR(FIND(IF(LEFT(A20,1)=\"0\",\" \" & MID(A20,2,1) & \",\",IF(MID(A20,3,1)=\".\",LEFT(A20,2),LEFT(A20,3))),'PFB-Konstrukte'!$J$9:$J$40))),ROW($1:$32)),1),1))","v":"Ko-Konstruktion"}]
["09. Ich bereite mit meinen Kolleginnen und Kollegen regelmäßig gemeinsam Unterricht vor.",15,2.0666666666666664,0.20625150312102589,0.7988086367179803,0.26666666666666666,0.4,0.33333333333333326,0,{"$f":"IF(INDIRECT(\"'PFB-Konstrukte'!A\" & (SMALL(IF(NOT(ISERROR(FIND(IF(LEFT(A21,1)=\"0\",\" \" & MID(A21,2,1) & \",\",IF(MID(A21,3,1)=\".\",LEFT(A21,2),LEFT(A21,3))),'PFB-Konstrukte'!$J$9:$J$40))),ROW($9:$40)),1)+1))=\"\",\n\nIF(LEFT(INDIRECT(\"A\"&MAX(IF($B$1:B21=\"N\",ROW($A$1:A21)))-1),3)=\"nur\",\n\nIF(RIGHT(INDIRECT(\"A\"&MAX(IF($B$1:B21=\"N\",ROW($A$1:A21)))-1),4)=\"PTF!\",\nINDEX('PFB-Konstrukte'!$B$9:$J$40,SMALL(IF(NOT(ISERROR(FIND(IF(LEFT(A21,1)=\"0\",\" \" & MID(A21,2,1) & \",\",IF(MID(A21,3,1)=\".\",LEFT(A21,2),LEFT(A21,3))),'PFB-Konstrukte'!$J$9:$J$40))),ROW($1:$32)),3),1),\nINDEX('PFB-Konstrukte'!$B$9:$J$40,SMALL(IF(NOT(ISERROR(FIND(IF(LEFT(A21,1)=\"0\",\" \" & MID(A21,2,1) & \",\",IF(MID(A21,3,1)=\".\",LEFT(A21,2),LEFT(A21,3))),'PFB-Konstrukte'!$J$9:$J$40))),ROW($1:$32)),2),1)),\n\nIF(RIGHT(INDEX('PFB-Konstrukte'!$A$9:$J$40,SMALL(IF(NOT(ISERROR(FIND(IF(LEFT(A21,1)=\"0\",\" \" & MID(A21,2,1) & \",\",IF(MID(A21,3,1)=\".\",LEFT(A21,2),LEFT(A21,3))),'PFB-Konstrukte'!$J$9:$J$40))),ROW($1:$32)),1),1),7)=\"Führung\",\n\nINDEX('PFB-Konstrukte'!$A$9:$J$40,SMALL(IF(NOT(ISERROR(FIND(IF(LEFT(A21,1)=\"0\",\" \" & MID(A21,2,1) & \",\",IF(MID(A21,3,1)=\".\",LEFT(A21,2),LEFT(A21,3))),'PFB-Konstrukte'!$J$9:$J$40))),ROW($1:$32)),1),1) & \", \n\" & INDEX('PFB-Konstrukte'!$B$9:$J$40,SMALL(IF(NOT(ISERROR(FIND(IF(LEFT(A21,1)=\"0\",\" \" & MID(A21,2,1) & \",\",IF(MID(A21,3,1)=\".\",LEFT(A21,2),LEFT(A21,3))),'PFB-Konstrukte'!$J$9:$J$40))),ROW($1:$32)),2),1),\n\nINDEX('PFB-Konstrukte'!$A$9:$J$40,SMALL(IF(NOT(ISERROR(FIND(IF(LEFT(A21,1)=\"0\",\" \" & MID(A21,2,1) & \",\",IF(MID(A21,3,1)=\".\",LEFT(A21,2),LEFT(A21,3))),'PFB-Konstrukte'!$J$9:$J$40))),ROW($1:$32)),1),1))),\n\nINDEX('PFB-Konstrukte'!$A$9:$J$40,SMALL(IF(NOT(ISERROR(FIND(IF(LEFT(A21,1)=\"0\",\" \" & MID(A21,2,1) & \",\",IF(MID(A21,3,1)=\".\",LEFT(A21,2),LEFT(A21,3))),'PFB-Konstrukte'!$J$9:$J$40))),ROW($1:$32)),1),1))","v":"Ko-Konstruktion"}]
["10. Ich erprobe mit den Kolleginnen und Kollegen regelmäßig gemeinsam neue Unterrichtsmethoden.",14,2.2142857142857144,0.18689397089774668,0.69929320675306783,0.14285714285714285,0.5,0.35714285714285715,0,{"$f":"IF(INDIRECT(\"'PFB-Konstrukte'!A\" & (SMALL(IF(NOT(ISERROR(FIND(IF(LEFT(A22,1)=\"0\",\" \" & MID(A22,2,1) & \",\",IF(MID(A22,3,1)=\".\",LEFT(A22,2),LEFT(A22,3))),'PFB-Konstrukte'!$J$9:$J$40))),ROW($9:$40)),1)+1))=\"\",\n\nIF(LEFT(INDIRECT(\"A\"&MAX(IF($B$1:B22=\"N\",ROW($A$1:A22)))-1),3)=\"nur\",\n\nIF(RIGHT(INDIRECT(\"A\"&MAX(IF($B$1:B22=\"N\",ROW($A$1:A22)))-1),4)=\"PTF!\",\nINDEX('PFB-Konstrukte'!$B$9:$J$40,SMALL(IF(NOT(ISERROR(FIND(IF(LEFT(A22,1)=\"0\",\" \" & MID(A22,2,1) & \",\",IF(MID(A22,3,1)=\".\",LEFT(A22,2),LEFT(A22,3))),'PFB-Konstrukte'!$J$9:$J$40))),ROW($1:$32)),3),1),\nINDEX('PFB-Konstrukte'!$B$9:$J$40,SMALL(IF(NOT(ISERROR(FIND(IF(LEFT(A22,1)=\"0\",\" \" & MID(A22,2,1) & \",\",IF(MID(A22,3,1)=\".\",LEFT(A22,2),LEFT(A22,3))),'PFB-Konstrukte'!$J$9:$J$40))),ROW($1:$32)),2),1)),\n\nIF(RIGHT(INDEX('PFB-Konstrukte'!$A$9:$J$40,SMALL(IF(NOT(ISERROR(FIND(IF(LEFT(A22,1)=\"0\",\" \" & MID(A22,2,1) & \",\",IF(MID(A22,3,1)=\".\",LEFT(A22,2),LEFT(A22,3))),'PFB-Konstrukte'!$J$9:$J$40))),ROW($1:$32)),1),1),7)=\"Führung\",\n\nINDEX('PFB-Konstrukte'!$A$9:$J$40,SMALL(IF(NOT(ISERROR(FIND(IF(LEFT(A22,1)=\"0\",\" \" & MID(A22,2,1) & \",\",IF(MID(A22,3,1)=\".\",LEFT(A22,2),LEFT(A22,3))),'PFB-Konstrukte'!$J$9:$J$40))),ROW($1:$32)),1),1) & \", \n\" & INDEX('PFB-Konstrukte'!$B$9:$J$40,SMALL(IF(NOT(ISERROR(FIND(IF(LEFT(A22,1)=\"0\",\" \" & MID(A22,2,1) & \",\",IF(MID(A22,3,1)=\".\",LEFT(A22,2),LEFT(A22,3))),'PFB-Konstrukte'!$J$9:$J$40))),ROW($1:$32)),2),1),\n\nINDEX('PFB-Konstrukte'!$A$9:$J$40,SMALL(IF(NOT(ISERROR(FIND(IF(LEFT(A22,1)=\"0\",\" \" & MID(A22,2,1) & \",\",IF(MID(A22,3,1)=\".\",LEFT(A22,2),LEFT(A22,3))),'PFB-Konstrukte'!$J$9:$J$40))),ROW($1:$32)),1),1))),\n\nINDEX('PFB-Konstrukte'!$A$9:$J$40,SMALL(IF(NOT(ISERROR(FIND(IF(LEFT(A22,1)=\"0\",\" \" & MID(A22,2,1) & \",\",IF(MID(A22,3,1)=\".\",LEFT(A22,2),LEFT(A22,3))),'PFB-Konstrukte'!$J$9:$J$40))),ROW($1:$32)),1),1))","v":"Ko-Konstruktion"}]
["11. Ich erprobe mit den Kolleginnen und Kollegen regelmäßig gemeinsam neue Unterrichtsinhalte.",14,2.2142857142857144,0.18689397089774668,0.69929320675306783,0.14285714285714285,0.5,0.35714285714285715,0,{"$f":"IF(INDIRECT(\"'PFB-Konstrukte'!A\" & (SMALL(IF(NOT(ISERROR(FIND(IF(LEFT(A23,1)=\"0\",\" \" & MID(A23,2,1) & \",\",IF(MID(A23,3,1)=\".\",LEFT(A23,2),LEFT(A23,3))),'PFB-Konstrukte'!$J$9:$J$40))),ROW($9:$40)),1)+1))=\"\",\n\nIF(LEFT(INDIRECT(\"A\"&MAX(IF($B$1:B23=\"N\",ROW($A$1:A23)))-1),3)=\"nur\",\n\nIF(RIGHT(INDIRECT(\"A\"&MAX(IF($B$1:B23=\"N\",ROW($A$1:A23)))-1),4)=\"PTF!\",\nINDEX('PFB-Konstrukte'!$B$9:$J$40,SMALL(IF(NOT(ISERROR(FIND(IF(LEFT(A23,1)=\"0\",\" \" & MID(A23,2,1) & \",\",IF(MID(A23,3,1)=\".\",LEFT(A23,2),LEFT(A23,3))),'PFB-Konstrukte'!$J$9:$J$40))),ROW($1:$32)),3),1),\nINDEX('PFB-Konstrukte'!$B$9:$J$40,SMALL(IF(NOT(ISERROR(FIND(IF(LEFT(A23,1)=\"0\",\" \" & MID(A23,2,1) & \",\",IF(MID(A23,3,1)=\".\",LEFT(A23,2),LEFT(A23,3))),'PFB-Konstrukte'!$J$9:$J$40))),ROW($1:$32)),2),1)),\n\nIF(RIGHT(INDEX('PFB-Konstrukte'!$A$9:$J$40,SMALL(IF(NOT(ISERROR(FIND(IF(LEFT(A23,1)=\"0\",\" \" & MID(A23,2,1) & \",\",IF(MID(A23,3,1)=\".\",LEFT(A23,2),LEFT(A23,3))),'PFB-Konstrukte'!$J$9:$J$40))),ROW($1:$32)),1),1),7)=\"Führung\",\n\nINDEX('PFB-Konstrukte'!$A$9:$J$40,SMALL(IF(NOT(ISERROR(FIND(IF(LEFT(A23,1)=\"0\",\" \" & MID(A23,2,1) & \",\",IF(MID(A23,3,1)=\".\",LEFT(A23,2),LEFT(A23,3))),'PFB-Konstrukte'!$J$9:$J$40))),ROW($1:$32)),1),1) & \", \n\" & INDEX('PFB-Konstrukte'!$B$9:$J$40,SMALL(IF(NOT(ISERROR(FIND(IF(LEFT(A23,1)=\"0\",\" \" & MID(A23,2,1) & \",\",IF(MID(A23,3,1)=\".\",LEFT(A23,2),LEFT(A23,3))),'PFB-Konstrukte'!$J$9:$J$40))),ROW($1:$32)),2),1),\n\nINDEX('PFB-Konstrukte'!$A$9:$J$40,SMALL(IF(NOT(ISERROR(FIND(IF(LEFT(A23,1)=\"0\",\" \" & MID(A23,2,1) & \",\",IF(MID(A23,3,1)=\".\",LEFT(A23,2),LEFT(A23,3))),'PFB-Konstrukte'!$J$9:$J$40))),ROW($1:$32)),1),1))),\n\nINDEX('PFB-Konstrukte'!$A$9:$J$40,SMALL(IF(NOT(ISERROR(FIND(IF(LEFT(A23,1)=\"0\",\" \" & MID(A23,2,1) & \",\",IF(MID(A23,3,1)=\".\",LEFT(A23,2),LEFT(A23,3))),'PFB-Konstrukte'!$J$9:$J$40))),ROW($1:$32)),1),1))","v":"Ko-Konstruktion"}]
["12. Ich erarbeite mit meinen Kolleginnen und Kollegen regelmäßig Konzepte für den Unterricht oder Projekte.",14,2.1428571428571432,0.17719247798458351,0.6629935441317959,0.14285714285714285,0.5714285714285714,0.2857142857142857,0,{"$f":"IF(INDIRECT(\"'PFB-Konstrukte'!A\" & (SMALL(IF(NOT(ISERROR(FIND(IF(LEFT(A24,1)=\"0\",\" \" & MID(A24,2,1) & \",\",IF(MID(A24,3,1)=\".\",LEFT(A24,2),LEFT(A24,3))),'PFB-Konstrukte'!$J$9:$J$40))),ROW($9:$40)),1)+1))=\"\",\n\nIF(LEFT(INDIRECT(\"A\"&MAX(IF($B$1:B24=\"N\",ROW($A$1:A24)))-1),3)=\"nur\",\n\nIF(RIGHT(INDIRECT(\"A\"&MAX(IF($B$1:B24=\"N\",ROW($A$1:A24)))-1),4)=\"PTF!\",\nINDEX('PFB-Konstrukte'!$B$9:$J$40,SMALL(IF(NOT(ISERROR(FIND(IF(LEFT(A24,1)=\"0\",\" \" & MID(A24,2,1) & \",\",IF(MID(A24,3,1)=\".\",LEFT(A24,2),LEFT(A24,3))),'PFB-Konstrukte'!$J$9:$J$40))),ROW($1:$32)),3),1),\nINDEX('PFB-Konstrukte'!$B$9:$J$40,SMALL(IF(NOT(ISERROR(FIND(IF(LEFT(A24,1)=\"0\",\" \" & MID(A24,2,1) & \",\",IF(MID(A24,3,1)=\".\",LEFT(A24,2),LEFT(A24,3))),'PFB-Konstrukte'!$J$9:$J$40))),ROW($1:$32)),2),1)),\n\nIF(RIGHT(INDEX('PFB-Konstrukte'!$A$9:$J$40,SMALL(IF(NOT(ISERROR(FIND(IF(LEFT(A24,1)=\"0\",\" \" & MID(A24,2,1) & \",\",IF(MID(A24,3,1)=\".\",LEFT(A24,2),LEFT(A24,3))),'PFB-Konstrukte'!$J$9:$J$40))),ROW($1:$32)),1),1),7)=\"Führung\",\n\nINDEX('PFB-Konstrukte'!$A$9:$J$40,SMALL(IF(NOT(ISERROR(FIND(IF(LEFT(A24,1)=\"0\",\" \" & MID(A24,2,1) & \",\",IF(MID(A24,3,1)=\".\",LEFT(A24,2),LEFT(A24,3))),'PFB-Konstrukte'!$J$9:$J$40))),ROW($1:$32)),1),1) & \", \n\" & INDEX('PFB-Konstrukte'!$B$9:$J$40,SMALL(IF(NOT(ISERROR(FIND(IF(LEFT(A24,1)=\"0\",\" \" & MID(A24,2,1) & \",\",IF(MID(A24,3,1)=\".\",LEFT(A24,2),LEFT(A24,3))),'PFB-Konstrukte'!$J$9:$J$40))),ROW($1:$32)),2),1),\n\nINDEX('PFB-Konstrukte'!$A$9:$J$40,SMALL(IF(NOT(ISERROR(FIND(IF(LEFT(A24,1)=\"0\",\" \" & MID(A24,2,1) & \",\",IF(MID(A24,3,1)=\".\",LEFT(A24,2),LEFT(A24,3))),'PFB-Konstrukte'!$J$9:$J$40))),ROW($1:$32)),1),1))),\n\nINDEX('PFB-Konstrukte'!$A$9:$J$40,SMALL(IF(NOT(ISERROR(FIND(IF(LEFT(A24,1)=\"0\",\" \" & MID(A24,2,1) & \",\",IF(MID(A24,3,1)=\".\",LEFT(A24,2),LEFT(A24,3))),'PFB-Konstrukte'!$J$9:$J$40))),ROW($1:$32)),1),1))","v":"Ko-Konstruktion"}]
[]
[null,"N","MW","SE","SD","trifft\nnicht zu","trifft eher\nnicht zu","trifft\neher zu","trifft\nvoll zu","Zuordnung zum Konstrukt"]
["13. Die fachspezifische Zusammenarbeit ist an unserer Schule fest etabliert.",16,2.6875,0.19830006723817986,0.79320026895271945,0,0.5,0.3125,0.1875,{"$f":"IF(INDIRECT(\"'PFB-Konstrukte'!A\" & (SMALL(IF(NOT(ISERROR(FIND(IF(LEFT(A27,1)=\"0\",\" \" & MID(A27,2,1) & \",\",IF(MID(A27,3,1)=\".\",LEFT(A27,2),LEFT(A27,3))),'PFB-Konstrukte'!$J$9:$J$40))),ROW($9:$40)),1)+1))=\"\",\n\nIF(LEFT(INDIRECT(\"A\"&MAX(IF($B$1:B27=\"N\",ROW($A$1:A27)))-1),3)=\"nur\",\n\nIF(RIGHT(INDIRECT(\"A\"&MAX(IF($B$1:B27=\"N\",ROW($A$1:A27)))-1),4)=\"PTF!\",\nINDEX('PFB-Konstrukte'!$B$9:$J$40,SMALL(IF(NOT(ISERROR(FIND(IF(LEFT(A27,1)=\"0\",\" \" & MID(A27,2,1) & \",\",IF(MID(A27,3,1)=\".\",LEFT(A27,2),LEFT(A27,3))),'PFB-Konstrukte'!$J$9:$J$40))),ROW($1:$32)),3),1),\nINDEX('PFB-Konstrukte'!$B$9:$J$40,SMALL(IF(NOT(ISERROR(FIND(IF(LEFT(A27,1)=\"0\",\" \" & MID(A27,2,1) & \",\",IF(MID(A27,3,1)=\".\",LEFT(A27,2),LEFT(A27,3))),'PFB-Konstrukte'!$J$9:$J$40))),ROW($1:$32)),2),1)),\n\nIF(RIGHT(INDEX('PFB-Konstrukte'!$A$9:$J$40,SMALL(IF(NOT(ISERROR(FIND(IF(LEFT(A27,1)=\"0\",\" \" & MID(A27,2,1) & \",\",IF(MID(A27,3,1)=\".\",LEFT(A27,2),LEFT(A27,3))),'PFB-Konstrukte'!$J$9:$J$40))),ROW($1:$32)),1),1),7)=\"Führung\",\n\nINDEX('PFB-Konstrukte'!$A$9:$J$40,SMALL(IF(NOT(ISERROR(FIND(IF(LEFT(A27,1)=\"0\",\" \" & MID(A27,2,1) & \",\",IF(MID(A27,3,1)=\".\",LEFT(A27,2),LEFT(A27,3))),'PFB-Konstrukte'!$J$9:$J$40))),ROW($1:$32)),1),1) & \", \n\" & INDEX('PFB-Konstrukte'!$B$9:$J$40,SMALL(IF(NOT(ISERROR(FIND(IF(LEFT(A27,1)=\"0\",\" \" & MID(A27,2,1) & \",\",IF(MID(A27,3,1)=\".\",LEFT(A27,2),LEFT(A27,3))),'PFB-Konstrukte'!$J$9:$J$40))),ROW($1:$32)),2),1),\n\nINDEX('PFB-Konstrukte'!$A$9:$J$40,SMALL(IF(NOT(ISERROR(FIND(IF(LEFT(A27,1)=\"0\",\" \" & MID(A27,2,1) & \",\",IF(MID(A27,3,1)=\".\",LEFT(A27,2),LEFT(A27,3))),'PFB-Konstrukte'!$J$9:$J$40))),ROW($1:$32)),1),1))),\n\nINDEX('PFB-Konstrukte'!$A$9:$J$40,SMALL(IF(NOT(ISERROR(FIND(IF(LEFT(A27,1)=\"0\",\" \" & MID(A27,2,1) & \",\",IF(MID(A27,3,1)=\".\",LEFT(A27,2),LEFT(A27,3))),'PFB-Konstrukte'!$J$9:$J$40))),ROW($1:$32)),1),1))","v":"Fachliche und jahrgangsspezifische Kooperation unter Lehrpersonen"}]
["14. Die fachübergreifende Zusammenarbeit ist an unserer Schule fest etabliert.",15,2.333333333333333,0.12598815766974242,0.4879500364742666,0,0.66666666666666652,0.33333333333333326,0,{"$f":"IF(INDIRECT(\"'PFB-Konstrukte'!A\" & (SMALL(IF(NOT(ISERROR(FIND(IF(LEFT(A28,1)=\"0\",\" \" & MID(A28,2,1) & \",\",IF(MID(A28,3,1)=\".\",LEFT(A28,2),LEFT(A28,3))),'PFB-Konstrukte'!$J$9:$J$40))),ROW($9:$40)),1)+1))=\"\",\n\nIF(LEFT(INDIRECT(\"A\"&MAX(IF($B$1:B28=\"N\",ROW($A$1:A28)))-1),3)=\"nur\",\n\nIF(RIGHT(INDIRECT(\"A\"&MAX(IF($B$1:B28=\"N\",ROW($A$1:A28)))-1),4)=\"PTF!\",\nINDEX('PFB-Konstrukte'!$B$9:$J$40,SMALL(IF(NOT(ISERROR(FIND(IF(LEFT(A28,1)=\"0\",\" \" & MID(A28,2,1) & \",\",IF(MID(A28,3,1)=\".\",LEFT(A28,2),LEFT(A28,3))),'PFB-Konstrukte'!$J$9:$J$40))),ROW($1:$32)),3),1),\nINDEX('PFB-Konstrukte'!$B$9:$J$40,SMALL(IF(NOT(ISERROR(FIND(IF(LEFT(A28,1)=\"0\",\" \" & MID(A28,2,1) & \",\",IF(MID(A28,3,1)=\".\",LEFT(A28,2),LEFT(A28,3))),'PFB-Konstrukte'!$J$9:$J$40))),ROW($1:$32)),2),1)),\n\nIF(RIGHT(INDEX('PFB-Konstrukte'!$A$9:$J$40,SMALL(IF(NOT(ISERROR(FIND(IF(LEFT(A28,1)=\"0\",\" \" & MID(A28,2,1) & \",\",IF(MID(A28,3,1)=\".\",LEFT(A28,2),LEFT(A28,3))),'PFB-Konstrukte'!$J$9:$J$40))),ROW($1:$32)),1),1),7)=\"Führung\",\n\nINDEX('PFB-Konstrukte'!$A$9:$J$40,SMALL(IF(NOT(ISERROR(FIND(IF(LEFT(A28,1)=\"0\",\" \" & MID(A28,2,1) & \",\",IF(MID(A28,3,1)=\".\",LEFT(A28,2),LEFT(A28,3))),'PFB-Konstrukte'!$J$9:$J$40))),ROW($1:$32)),1),1) & \", \n\" & INDEX('PFB-Konstrukte'!$B$9:$J$40,SMALL(IF(NOT(ISERROR(FIND(IF(LEFT(A28,1)=\"0\",\" \" & MID(A28,2,1) & \",\",IF(MID(A28,3,1)=\".\",LEFT(A28,2),LEFT(A28,3))),'PFB-Konstrukte'!$J$9:$J$40))),ROW($1:$32)),2),1),\n\nINDEX('PFB-Konstrukte'!$A$9:$J$40,SMALL(IF(NOT(ISERROR(FIND(IF(LEFT(A28,1)=\"0\",\" \" & MID(A28,2,1) & \",\",IF(MID(A28,3,1)=\".\",LEFT(A28,2),LEFT(A28,3))),'PFB-Konstrukte'!$J$9:$J$40))),ROW($1:$32)),1),1))),\n\nINDEX('PFB-Konstrukte'!$A$9:$J$40,SMALL(IF(NOT(ISERROR(FIND(IF(LEFT(A28,1)=\"0\",\" \" & MID(A28,2,1) & \",\",IF(MID(A28,3,1)=\".\",LEFT(A28,2),LEFT(A28,3))),'PFB-Konstrukte'!$J$9:$J$40))),ROW($1:$32)),1),1))","v":"Fachliche und jahrgangsspezifische Kooperation unter Lehrpersonen"}]
["15. Die jahrgangsspezifische Zusammenarbeit ist an unserer Schule fest etabliert.",15,2.8,0.17457431218879391,0.67612340378281333,0,0.33333333333333326,0.53333333333333333,0.13333333333333333,{"$f":"IF(INDIRECT(\"'PFB-Konstrukte'!A\" & (SMALL(IF(NOT(ISERROR(FIND(IF(LEFT(A29,1)=\"0\",\" \" & MID(A29,2,1) & \",\",IF(MID(A29,3,1)=\".\",LEFT(A29,2),LEFT(A29,3))),'PFB-Konstrukte'!$J$9:$J$40))),ROW($9:$40)),1)+1))=\"\",\n\nIF(LEFT(INDIRECT(\"A\"&MAX(IF($B$1:B29=\"N\",ROW($A$1:A29)))-1),3)=\"nur\",\n\nIF(RIGHT(INDIRECT(\"A\"&MAX(IF($B$1:B29=\"N\",ROW($A$1:A29)))-1),4)=\"PTF!\",\nINDEX('PFB-Konstrukte'!$B$9:$J$40,SMALL(IF(NOT(ISERROR(FIND(IF(LEFT(A29,1)=\"0\",\" \" & MID(A29,2,1) & \",\",IF(MID(A29,3,1)=\".\",LEFT(A29,2),LEFT(A29,3))),'PFB-Konstrukte'!$J$9:$J$40))),ROW($1:$32)),3),1),\nINDEX('PFB-Konstrukte'!$B$9:$J$40,SMALL(IF(NOT(ISERROR(FIND(IF(LEFT(A29,1)=\"0\",\" \" & MID(A29,2,1) & \",\",IF(MID(A29,3,1)=\".\",LEFT(A29,2),LEFT(A29,3))),'PFB-Konstrukte'!$J$9:$J$40))),ROW($1:$32)),2),1)),\n\nIF(RIGHT(INDEX('PFB-Konstrukte'!$A$9:$J$40,SMALL(IF(NOT(ISERROR(FIND(IF(LEFT(A29,1)=\"0\",\" \" & MID(A29,2,1) & \",\",IF(MID(A29,3,1)=\".\",LEFT(A29,2),LEFT(A29,3))),'PFB-Konstrukte'!$J$9:$J$40))),ROW($1:$32)),1),1),7)=\"Führung\",\n\nINDEX('PFB-Konstrukte'!$A$9:$J$40,SMALL(IF(NOT(ISERROR(FIND(IF(LEFT(A29,1)=\"0\",\" \" & MID(A29,2,1) & \",\",IF(MID(A29,3,1)=\".\",LEFT(A29,2),LEFT(A29,3))),'PFB-Konstrukte'!$J$9:$J$40))),ROW($1:$32)),1),1) & \", \n\" & INDEX('PFB-Konstrukte'!$B$9:$J$40,SMALL(IF(NOT(ISERROR(FIND(IF(LEFT(A29,1)=\"0\",\" \" & MID(A29,2,1) & \",\",IF(MID(A29,3,1)=\".\",LEFT(A29,2),LEFT(A29,3))),'PFB-Konstrukte'!$J$9:$J$40))),ROW($1:$32)),2),1),\n\nINDEX('PFB-Konstrukte'!$A$9:$J$40,SMALL(IF(NOT(ISERROR(FIND(IF(LEFT(A29,1)=\"0\",\" \" & MID(A29,2,1) & \",\",IF(MID(A29,3,1)=\".\",LEFT(A29,2),LEFT(A29,3))),'PFB-Konstrukte'!$J$9:$J$40))),ROW($1:$32)),1),1))),\n\nINDEX('PFB-Konstrukte'!$A$9:$J$40,SMALL(IF(NOT(ISERROR(FIND(IF(LEFT(A29,1)=\"0\",\" \" & MID(A29,2,1) & \",\",IF(MID(A29,3,1)=\".\",LEFT(A29,2),LEFT(A29,3))),'PFB-Konstrukte'!$J$9:$J$40))),ROW($1:$32)),1),1))","v":"Fachliche und jahrgangsspezifische Kooperation unter Lehrpersonen"}]
["16. Die jahrgangsübergreifende Zusammenarbeit ist an unserer Schule fest etabliert.",14,1.9285714285714284,0.12685050967709008,0.47463114654932337,0.14285714285714285,0.7857142857142857,7.1428571428571425E-2,0,{"$f":"IF(INDIRECT(\"'PFB-Konstrukte'!A\" & (SMALL(IF(NOT(ISERROR(FIND(IF(LEFT(A30,1)=\"0\",\" \" & MID(A30,2,1) & \",\",IF(MID(A30,3,1)=\".\",LEFT(A30,2),LEFT(A30,3))),'PFB-Konstrukte'!$J$9:$J$40))),ROW($9:$40)),1)+1))=\"\",\n\nIF(LEFT(INDIRECT(\"A\"&MAX(IF($B$1:B30=\"N\",ROW($A$1:A30)))-1),3)=\"nur\",\n\nIF(RIGHT(INDIRECT(\"A\"&MAX(IF($B$1:B30=\"N\",ROW($A$1:A30)))-1),4)=\"PTF!\",\nINDEX('PFB-Konstrukte'!$B$9:$J$40,SMALL(IF(NOT(ISERROR(FIND(IF(LEFT(A30,1)=\"0\",\" \" & MID(A30,2,1) & \",\",IF(MID(A30,3,1)=\".\",LEFT(A30,2),LEFT(A30,3))),'PFB-Konstrukte'!$J$9:$J$40))),ROW($1:$32)),3),1),\nINDEX('PFB-Konstrukte'!$B$9:$J$40,SMALL(IF(NOT(ISERROR(FIND(IF(LEFT(A30,1)=\"0\",\" \" & MID(A30,2,1) & \",\",IF(MID(A30,3,1)=\".\",LEFT(A30,2),LEFT(A30,3))),'PFB-Konstrukte'!$J$9:$J$40))),ROW($1:$32)),2),1)),\n\nIF(RIGHT(INDEX('PFB-Konstrukte'!$A$9:$J$40,SMALL(IF(NOT(ISERROR(FIND(IF(LEFT(A30,1)=\"0\",\" \" & MID(A30,2,1) & \",\",IF(MID(A30,3,1)=\".\",LEFT(A30,2),LEFT(A30,3))),'PFB-Konstrukte'!$J$9:$J$40))),ROW($1:$32)),1),1),7)=\"Führung\",\n\nINDEX('PFB-Konstrukte'!$A$9:$J$40,SMALL(IF(NOT(ISERROR(FIND(IF(LEFT(A30,1)=\"0\",\" \" & MID(A30,2,1) & \",\",IF(MID(A30,3,1)=\".\",LEFT(A30,2),LEFT(A30,3))),'PFB-Konstrukte'!$J$9:$J$40))),ROW($1:$32)),1),1) & \", \n\" & INDEX('PFB-Konstrukte'!$B$9:$J$40,SMALL(IF(NOT(ISERROR(FIND(IF(LEFT(A30,1)=\"0\",\" \" & MID(A30,2,1) & \",\",IF(MID(A30,3,1)=\".\",LEFT(A30,2),LEFT(A30,3))),'PFB-Konstrukte'!$J$9:$J$40))),ROW($1:$32)),2),1),\n\nINDEX('PFB-Konstrukte'!$A$9:$J$40,SMALL(IF(NOT(ISERROR(FIND(IF(LEFT(A30,1)=\"0\",\" \" & MID(A30,2,1) & \",\",IF(MID(A30,3,1)=\".\",LEFT(A30,2),LEFT(A30,3))),'PFB-Konstrukte'!$J$9:$J$40))),ROW($1:$32)),1),1))),\n\nINDEX('PFB-Konstrukte'!$A$9:$J$40,SMALL(IF(NOT(ISERROR(FIND(IF(LEFT(A30,1)=\"0\",\" \" & MID(A30,2,1) & \",\",IF(MID(A30,3,1)=\".\",LEFT(A30,2),LEFT(A30,3))),'PFB-Konstrukte'!$J$9:$J$40))),ROW($1:$32)),1),1))","v":"Fachliche und jahrgangsspezifische Kooperation unter Lehrpersonen"}]
[]
[null,"N","MW","SE","SD","trifft\nnicht zu","trifft eher\nnicht zu","trifft\neher zu","trifft\nvoll zu","Zuordnung zum Konstrukt"]
["17. Im Kollegium haben wir gemeinsame Ziele.",22,3.2272727272727271,0.11265812709673684,0.52841345480672541,0,4.5454545454545456E-2,0.68181818181818177,0.27272727272727271,{"$f":"IF(INDIRECT(\"'PFB-Konstrukte'!A\" & (SMALL(IF(NOT(ISERROR(FIND(IF(LEFT(A33,1)=\"0\",\" \" & MID(A33,2,1) & \",\",IF(MID(A33,3,1)=\".\",LEFT(A33,2),LEFT(A33,3))),'PFB-Konstrukte'!$J$9:$J$40))),ROW($9:$40)),1)+1))=\"\",\n\nIF(LEFT(INDIRECT(\"A\"&MAX(IF($B$1:B33=\"N\",ROW($A$1:A33)))-1),3)=\"nur\",\n\nIF(RIGHT(INDIRECT(\"A\"&MAX(IF($B$1:B33=\"N\",ROW($A$1:A33)))-1),4)=\"PTF!\",\nINDEX('PFB-Konstrukte'!$B$9:$J$40,SMALL(IF(NOT(ISERROR(FIND(IF(LEFT(A33,1)=\"0\",\" \" & MID(A33,2,1) & \",\",IF(MID(A33,3,1)=\".\",LEFT(A33,2),LEFT(A33,3))),'PFB-Konstrukte'!$J$9:$J$40))),ROW($1:$32)),3),1),\nINDEX('PFB-Konstrukte'!$B$9:$J$40,SMALL(IF(NOT(ISERROR(FIND(IF(LEFT(A33,1)=\"0\",\" \" & MID(A33,2,1) & \",\",IF(MID(A33,3,1)=\".\",LEFT(A33,2),LEFT(A33,3))),'PFB-Konstrukte'!$J$9:$J$40))),ROW($1:$32)),2),1)),\n\nIF(RIGHT(INDEX('PFB-Konstrukte'!$A$9:$J$40,SMALL(IF(NOT(ISERROR(FIND(IF(LEFT(A33,1)=\"0\",\" \" & MID(A33,2,1) & \",\",IF(MID(A33,3,1)=\".\",LEFT(A33,2),LEFT(A33,3))),'PFB-Konstrukte'!$J$9:$J$40))),ROW($1:$32)),1),1),7)=\"Führung\",\n\nINDEX('PFB-Konstrukte'!$A$9:$J$40,SMALL(IF(NOT(ISERROR(FIND(IF(LEFT(A33,1)=\"0\",\" \" & MID(A33,2,1) & \",\",IF(MID(A33,3,1)=\".\",LEFT(A33,2),LEFT(A33,3))),'PFB-Konstrukte'!$J$9:$J$40))),ROW($1:$32)),1),1) & \", \n\" & INDEX('PFB-Konstrukte'!$B$9:$J$40,SMALL(IF(NOT(ISERROR(FIND(IF(LEFT(A33,1)=\"0\",\" \" & MID(A33,2,1) & \",\",IF(MID(A33,3,1)=\".\",LEFT(A33,2),LEFT(A33,3))),'PFB-Konstrukte'!$J$9:$J$40))),ROW($1:$32)),2),1),\n\nINDEX('PFB-Konstrukte'!$A$9:$J$40,SMALL(IF(NOT(ISERROR(FIND(IF(LEFT(A33,1)=\"0\",\" \" & MID(A33,2,1) & \",\",IF(MID(A33,3,1)=\".\",LEFT(A33,2),LEFT(A33,3))),'PFB-Konstrukte'!$J$9:$J$40))),ROW($1:$32)),1),1))),\n\nINDEX('PFB-Konstrukte'!$A$9:$J$40,SMALL(IF(NOT(ISERROR(FIND(IF(LEFT(A33,1)=\"0\",\" \" & MID(A33,2,1) & \",\",IF(MID(A33,3,1)=\".\",LEFT(A33,2),LEFT(A33,3))),'PFB-Konstrukte'!$J$9:$J$40))),ROW($1:$32)),1),1))","v":"Kooperationsklima"}]
["18. Im Kollegium herrscht ein vertrauensvolles Klima.",23,3.4782608695652169,0.12367184068902778,0.59310931212254803,0,4.3478260869565216E-2,0.43478260869565216,0.52173913043478259,{"$f":"IF(INDIRECT(\"'PFB-Konstrukte'!A\" & (SMALL(IF(NOT(ISERROR(FIND(IF(LEFT(A34,1)=\"0\",\" \" & MID(A34,2,1) & \",\",IF(MID(A34,3,1)=\".\",LEFT(A34,2),LEFT(A34,3))),'PFB-Konstrukte'!$J$9:$J$40))),ROW($9:$40)),1)+1))=\"\",\n\nIF(LEFT(INDIRECT(\"A\"&MAX(IF($B$1:B34=\"N\",ROW($A$1:A34)))-1),3)=\"nur\",\n\nIF(RIGHT(INDIRECT(\"A\"&MAX(IF($B$1:B34=\"N\",ROW($A$1:A34)))-1),4)=\"PTF!\",\nINDEX('PFB-Konstrukte'!$B$9:$J$40,SMALL(IF(NOT(ISERROR(FIND(IF(LEFT(A34,1)=\"0\",\" \" & MID(A34,2,1) & \",\",IF(MID(A34,3,1)=\".\",LEFT(A34,2),LEFT(A34,3))),'PFB-Konstrukte'!$J$9:$J$40))),ROW($1:$32)),3),1),\nINDEX('PFB-Konstrukte'!$B$9:$J$40,SMALL(IF(NOT(ISERROR(FIND(IF(LEFT(A34,1)=\"0\",\" \" & MID(A34,2,1) & \",\",IF(MID(A34,3,1)=\".\",LEFT(A34,2),LEFT(A34,3))),'PFB-Konstrukte'!$J$9:$J$40))),ROW($1:$32)),2),1)),\n\nIF(RIGHT(INDEX('PFB-Konstrukte'!$A$9:$J$40,SMALL(IF(NOT(ISERROR(FIND(IF(LEFT(A34,1)=\"0\",\" \" & MID(A34,2,1) & \",\",IF(MID(A34,3,1)=\".\",LEFT(A34,2),LEFT(A34,3))),'PFB-Konstrukte'!$J$9:$J$40))),ROW($1:$32)),1),1),7)=\"Führung\",\n\nINDEX('PFB-Konstrukte'!$A$9:$J$40,SMALL(IF(NOT(ISERROR(FIND(IF(LEFT(A34,1)=\"0\",\" \" & MID(A34,2,1) & \",\",IF(MID(A34,3,1)=\".\",LEFT(A34,2),LEFT(A34,3))),'PFB-Konstrukte'!$J$9:$J$40))),ROW($1:$32)),1),1) & \", \n\" & INDEX('PFB-Konstrukte'!$B$9:$J$40,SMALL(IF(NOT(ISERROR(FIND(IF(LEFT(A34,1)=\"0\",\" \" & MID(A34,2,1) & \",\",IF(MID(A34,3,1)=\".\",LEFT(A34,2),LEFT(A34,3))),'PFB-Konstrukte'!$J$9:$J$40))),ROW($1:$32)),2),1),\n\nINDEX('PFB-Konstrukte'!$A$9:$J$40,SMALL(IF(NOT(ISERROR(FIND(IF(LEFT(A34,1)=\"0\",\" \" & MID(A34,2,1) & \",\",IF(MID(A34,3,1)=\".\",LEFT(A34,2),LEFT(A34,3))),'PFB-Konstrukte'!$J$9:$J$40))),ROW($1:$32)),1),1))),\n\nINDEX('PFB-Konstrukte'!$A$9:$J$40,SMALL(IF(NOT(ISERROR(FIND(IF(LEFT(A34,1)=\"0\",\" \" & MID(A34,2,1) & \",\",IF(MID(A34,3,1)=\".\",LEFT(A34,2),LEFT(A34,3))),'PFB-Konstrukte'!$J$9:$J$40))),ROW($1:$32)),1),1))","v":"Kooperationsklima"}]
["19. Im Kollegium werden Absprachen verbindlich eingehalten.",23,3,8.8910844894877411E-2,0.42640143271122083,0,8.6956521739130432E-2,0.82608695652173902,8.6956521739130432E-2,{"$f":"IF(INDIRECT(\"'PFB-Konstrukte'!A\" & (SMALL(IF(NOT(ISERROR(FIND(IF(LEFT(A35,1)=\"0\",\" \" & MID(A35,2,1) & \",\",IF(MID(A35,3,1)=\".\",LEFT(A35,2),LEFT(A35,3))),'PFB-Konstrukte'!$J$9:$J$40))),ROW($9:$40)),1)+1))=\"\",\n\nIF(LEFT(INDIRECT(\"A\"&MAX(IF($B$1:B35=\"N\",ROW($A$1:A35)))-1),3)=\"nur\",\n\nIF(RIGHT(INDIRECT(\"A\"&MAX(IF($B$1:B35=\"N\",ROW($A$1:A35)))-1),4)=\"PTF!\",\nINDEX('PFB-Konstrukte'!$B$9:$J$40,SMALL(IF(NOT(ISERROR(FIND(IF(LEFT(A35,1)=\"0\",\" \" & MID(A35,2,1) & \",\",IF(MID(A35,3,1)=\".\",LEFT(A35,2),LEFT(A35,3))),'PFB-Konstrukte'!$J$9:$J$40))),ROW($1:$32)),3),1),\nINDEX('PFB-Konstrukte'!$B$9:$J$40,SMALL(IF(NOT(ISERROR(FIND(IF(LEFT(A35,1)=\"0\",\" \" & MID(A35,2,1) & \",\",IF(MID(A35,3,1)=\".\",LEFT(A35,2),LEFT(A35,3))),'PFB-Konstrukte'!$J$9:$J$40))),ROW($1:$32)),2),1)),\n\nIF(RIGHT(INDEX('PFB-Konstrukte'!$A$9:$J$40,SMALL(IF(NOT(ISERROR(FIND(IF(LEFT(A35,1)=\"0\",\" \" & MID(A35,2,1) & \",\",IF(MID(A35,3,1)=\".\",LEFT(A35,2),LEFT(A35,3))),'PFB-Konstrukte'!$J$9:$J$40))),ROW($1:$32)),1),1),7)=\"Führung\",\n\nINDEX('PFB-Konstrukte'!$A$9:$J$40,SMALL(IF(NOT(ISERROR(FIND(IF(LEFT(A35,1)=\"0\",\" \" & MID(A35,2,1) & \",\",IF(MID(A35,3,1)=\".\",LEFT(A35,2),LEFT(A35,3))),'PFB-Konstrukte'!$J$9:$J$40))),ROW($1:$32)),1),1) & \", \n\" & INDEX('PFB-Konstrukte'!$B$9:$J$40,SMALL(IF(NOT(ISERROR(FIND(IF(LEFT(A35,1)=\"0\",\" \" & MID(A35,2,1) & \",\",IF(MID(A35,3,1)=\".\",LEFT(A35,2),LEFT(A35,3))),'PFB-Konstrukte'!$J$9:$J$40))),ROW($1:$32)),2),1),\n\nINDEX('PFB-Konstrukte'!$A$9:$J$40,SMALL(IF(NOT(ISERROR(FIND(IF(LEFT(A35,1)=\"0\",\" \" & MID(A35,2,1) & \",\",IF(MID(A35,3,1)=\".\",LEFT(A35,2),LEFT(A35,3))),'PFB-Konstrukte'!$J$9:$J$40))),ROW($1:$32)),1),1))),\n\nINDEX('PFB-Konstrukte'!$A$9:$J$40,SMALL(IF(NOT(ISERROR(FIND(IF(LEFT(A35,1)=\"0\",\" \" & MID(A35,2,1) & \",\",IF(MID(A35,3,1)=\".\",LEFT(A35,2),LEFT(A35,3))),'PFB-Konstrukte'!$J$9:$J$40))),ROW($1:$32)),1),1))","v":"Kooperationsklima"}]
["20. Im Kollegium werden alle Professionen anerkannt und geschätzt.",23,3.5217391304347836,0.12367184068902781,0.59310931212254814,0,4.3478260869565216E-2,0.39130434782608697,0.56521739130434778,{"$f":"IF(INDIRECT(\"'PFB-Konstrukte'!A\" & (SMALL(IF(NOT(ISERROR(FIND(IF(LEFT(A36,1)=\"0\",\" \" & MID(A36,2,1) & \",\",IF(MID(A36,3,1)=\".\",LEFT(A36,2),LEFT(A36,3))),'PFB-Konstrukte'!$J$9:$J$40))),ROW($9:$40)),1)+1))=\"\",\n\nIF(LEFT(INDIRECT(\"A\"&MAX(IF($B$1:B36=\"N\",ROW($A$1:A36)))-1),3)=\"nur\",\n\nIF(RIGHT(INDIRECT(\"A\"&MAX(IF($B$1:B36=\"N\",ROW($A$1:A36)))-1),4)=\"PTF!\",\nINDEX('PFB-Konstrukte'!$B$9:$J$40,SMALL(IF(NOT(ISERROR(FIND(IF(LEFT(A36,1)=\"0\",\" \" & MID(A36,2,1) & \",\",IF(MID(A36,3,1)=\".\",LEFT(A36,2),LEFT(A36,3))),'PFB-Konstrukte'!$J$9:$J$40))),ROW($1:$32)),3),1),\nINDEX('PFB-Konstrukte'!$B$9:$J$40,SMALL(IF(NOT(ISERROR(FIND(IF(LEFT(A36,1)=\"0\",\" \" & MID(A36,2,1) & \",\",IF(MID(A36,3,1)=\".\",LEFT(A36,2),LEFT(A36,3))),'PFB-Konstrukte'!$J$9:$J$40))),ROW($1:$32)),2),1)),\n\nIF(RIGHT(INDEX('PFB-Konstrukte'!$A$9:$J$40,SMALL(IF(NOT(ISERROR(FIND(IF(LEFT(A36,1)=\"0\",\" \" & MID(A36,2,1) & \",\",IF(MID(A36,3,1)=\".\",LEFT(A36,2),LEFT(A36,3))),'PFB-Konstrukte'!$J$9:$J$40))),ROW($1:$32)),1),1),7)=\"Führung\",\n\nINDEX('PFB-Konstrukte'!$A$9:$J$40,SMALL(IF(NOT(ISERROR(FIND(IF(LEFT(A36,1)=\"0\",\" \" & MID(A36,2,1) & \",\",IF(MID(A36,3,1)=\".\",LEFT(A36,2),LEFT(A36,3))),'PFB-Konstrukte'!$J$9:$J$40))),ROW($1:$32)),1),1) & \", \n\" & INDEX('PFB-Konstrukte'!$B$9:$J$40,SMALL(IF(NOT(ISERROR(FIND(IF(LEFT(A36,1)=\"0\",\" \" & MID(A36,2,1) & \",\",IF(MID(A36,3,1)=\".\",LEFT(A36,2),LEFT(A36,3))),'PFB-Konstrukte'!$J$9:$J$40))),ROW($1:$32)),2),1),\n\nINDEX('PFB-Konstrukte'!$A$9:$J$40,SMALL(IF(NOT(ISERROR(FIND(IF(LEFT(A36,1)=\"0\",\" \" & MID(A36,2,1) & \",\",IF(MID(A36,3,1)=\".\",LEFT(A36,2),LEFT(A36,3))),'PFB-Konstrukte'!$J$9:$J$40))),ROW($1:$32)),1),1))),\n\nINDEX('PFB-Konstrukte'!$A$9:$J$40,SMALL(IF(NOT(ISERROR(FIND(IF(LEFT(A36,1)=\"0\",\" \" & MID(A36,2,1) & \",\",IF(MID(A36,3,1)=\".\",LEFT(A36,2),LEFT(A36,3))),'PFB-Konstrukte'!$J$9:$J$40))),ROW($1:$32)),1),1))","v":"Kooperationsklima"}]
[]
[null,"N","MW","SE","SD","trifft\nnicht zu","trifft eher\nnicht zu","trifft\neher zu","trifft\nvoll zu","Zuordnung zum Konstrukt"]
["21. Es gibt feste Zeiten, um professionsspezifisch mit Kolleginnen und Kollegen zu kooperieren.",22,2.7727272727272725,0.18530211883830724,0.8691439785278704,4.5454545454545456E-2,0.36363636363636365,0.36363636363636365,0.22727272727272727,{"$f":"IF(INDIRECT(\"'PFB-Konstrukte'!A\" & (SMALL(IF(NOT(ISERROR(FIND(IF(LEFT(A39,1)=\"0\",\" \" & MID(A39,2,1) & \",\",IF(MID(A39,3,1)=\".\",LEFT(A39,2),LEFT(A39,3))),'PFB-Konstrukte'!$J$9:$J$40))),ROW($9:$40)),1)+1))=\"\",\n\nIF(LEFT(INDIRECT(\"A\"&MAX(IF($B$1:B39=\"N\",ROW($A$1:A39)))-1),3)=\"nur\",\n\nIF(RIGHT(INDIRECT(\"A\"&MAX(IF($B$1:B39=\"N\",ROW($A$1:A39)))-1),4)=\"PTF!\",\nINDEX('PFB-Konstrukte'!$B$9:$J$40,SMALL(IF(NOT(ISERROR(FIND(IF(LEFT(A39,1)=\"0\",\" \" & MID(A39,2,1) & \",\",IF(MID(A39,3,1)=\".\",LEFT(A39,2),LEFT(A39,3))),'PFB-Konstrukte'!$J$9:$J$40))),ROW($1:$32)),3),1),\nINDEX('PFB-Konstrukte'!$B$9:$J$40,SMALL(IF(NOT(ISERROR(FIND(IF(LEFT(A39,1)=\"0\",\" \" & MID(A39,2,1) & \",\",IF(MID(A39,3,1)=\".\",LEFT(A39,2),LEFT(A39,3))),'PFB-Konstrukte'!$J$9:$J$40))),ROW($1:$32)),2),1)),\n\nIF(RIGHT(INDEX('PFB-Konstrukte'!$A$9:$J$40,SMALL(IF(NOT(ISERROR(FIND(IF(LEFT(A39,1)=\"0\",\" \" & MID(A39,2,1) & \",\",IF(MID(A39,3,1)=\".\",LEFT(A39,2),LEFT(A39,3))),'PFB-Konstrukte'!$J$9:$J$40))),ROW($1:$32)),1),1),7)=\"Führung\",\n\nINDEX('PFB-Konstrukte'!$A$9:$J$40,SMALL(IF(NOT(ISERROR(FIND(IF(LEFT(A39,1)=\"0\",\" \" & MID(A39,2,1) & \",\",IF(MID(A39,3,1)=\".\",LEFT(A39,2),LEFT(A39,3))),'PFB-Konstrukte'!$J$9:$J$40))),ROW($1:$32)),1),1) & \", \n\" & INDEX('PFB-Konstrukte'!$B$9:$J$40,SMALL(IF(NOT(ISERROR(FIND(IF(LEFT(A39,1)=\"0\",\" \" & MID(A39,2,1) & \",\",IF(MID(A39,3,1)=\".\",LEFT(A39,2),LEFT(A39,3))),'PFB-Konstrukte'!$J$9:$J$40))),ROW($1:$32)),2),1),\n\nINDEX('PFB-Konstrukte'!$A$9:$J$40,SMALL(IF(NOT(ISERROR(FIND(IF(LEFT(A39,1)=\"0\",\" \" & MID(A39,2,1) & \",\",IF(MID(A39,3,1)=\".\",LEFT(A39,2),LEFT(A39,3))),'PFB-Konstrukte'!$J$9:$J$40))),ROW($1:$32)),1),1))),\n\nINDEX('PFB-Konstrukte'!$A$9:$J$40,SMALL(IF(NOT(ISERROR(FIND(IF(LEFT(A39,1)=\"0\",\" \" & MID(A39,2,1) & \",\",IF(MID(A39,3,1)=\".\",LEFT(A39,2),LEFT(A39,3))),'PFB-Konstrukte'!$J$9:$J$40))),ROW($1:$32)),1),1))","v":"Rahmenbedingungen der Kooperation"}]
["22. Es gibt feste Zeiten, um professionsübergreifend mit Kolleginnen und Kollegen zu kooperieren.",23,2.5652173913043481,0.16425766604885494,0.78775209278287195,4.3478260869565216E-2,0.47826086956521741,0.34782608695652173,0.13043478260869565,{"$f":"IF(INDIRECT(\"'PFB-Konstrukte'!A\" & (SMALL(IF(NOT(ISERROR(FIND(IF(LEFT(A40,1)=\"0\",\" \" & MID(A40,2,1) & \",\",IF(MID(A40,3,1)=\".\",LEFT(A40,2),LEFT(A40,3))),'PFB-Konstrukte'!$J$9:$J$40))),ROW($9:$40)),1)+1))=\"\",\n\nIF(LEFT(INDIRECT(\"A\"&MAX(IF($B$1:B40=\"N\",ROW($A$1:A40)))-1),3)=\"nur\",\n\nIF(RIGHT(INDIRECT(\"A\"&MAX(IF($B$1:B40=\"N\",ROW($A$1:A40)))-1),4)=\"PTF!\",\nINDEX('PFB-Konstrukte'!$B$9:$J$40,SMALL(IF(NOT(ISERROR(FIND(IF(LEFT(A40,1)=\"0\",\" \" & MID(A40,2,1) & \",\",IF(MID(A40,3,1)=\".\",LEFT(A40,2),LEFT(A40,3))),'PFB-Konstrukte'!$J$9:$J$40))),ROW($1:$32)),3),1),\nINDEX('PFB-Konstrukte'!$B$9:$J$40,SMALL(IF(NOT(ISERROR(FIND(IF(LEFT(A40,1)=\"0\",\" \" & MID(A40,2,1) & \",\",IF(MID(A40,3,1)=\".\",LEFT(A40,2),LEFT(A40,3))),'PFB-Konstrukte'!$J$9:$J$40))),ROW($1:$32)),2),1)),\n\nIF(RIGHT(INDEX('PFB-Konstrukte'!$A$9:$J$40,SMALL(IF(NOT(ISERROR(FIND(IF(LEFT(A40,1)=\"0\",\" \" & MID(A40,2,1) & \",\",IF(MID(A40,3,1)=\".\",LEFT(A40,2),LEFT(A40,3))),'PFB-Konstrukte'!$J$9:$J$40))),ROW($1:$32)),1),1),7)=\"Führung\",\n\nINDEX('PFB-Konstrukte'!$A$9:$J$40,SMALL(IF(NOT(ISERROR(FIND(IF(LEFT(A40,1)=\"0\",\" \" & MID(A40,2,1) & \",\",IF(MID(A40,3,1)=\".\",LEFT(A40,2),LEFT(A40,3))),'PFB-Konstrukte'!$J$9:$J$40))),ROW($1:$32)),1),1) & \", \n\" & INDEX('PFB-Konstrukte'!$B$9:$J$40,SMALL(IF(NOT(ISERROR(FIND(IF(LEFT(A40,1)=\"0\",\" \" & MID(A40,2,1) & \",\",IF(MID(A40,3,1)=\".\",LEFT(A40,2),LEFT(A40,3))),'PFB-Konstrukte'!$J$9:$J$40))),ROW($1:$32)),2),1),\n\nINDEX('PFB-Konstrukte'!$A$9:$J$40,SMALL(IF(NOT(ISERROR(FIND(IF(LEFT(A40,1)=\"0\",\" \" & MID(A40,2,1) & \",\",IF(MID(A40,3,1)=\".\",LEFT(A40,2),LEFT(A40,3))),'PFB-Konstrukte'!$J$9:$J$40))),ROW($1:$32)),1),1))),\n\nINDEX('PFB-Konstrukte'!$A$9:$J$40,SMALL(IF(NOT(ISERROR(FIND(IF(LEFT(A40,1)=\"0\",\" \" & MID(A40,2,1) & \",\",IF(MID(A40,3,1)=\".\",LEFT(A40,2),LEFT(A40,3))),'PFB-Konstrukte'!$J$9:$J$40))),ROW($1:$32)),1),1))","v":"Rahmenbedingungen der Kooperation"}]
["23. Die Schulleitung unterstützt die professionsspezifische Kooperation zwischen den Kolleginnen und Kollegen durch Anregungen und Ideen.",22,2.7272727272727275,0.16358825651680678,0.76729693648846842,4.5454545454545456E-2,0.31818181818181818,0.5,0.13636363636363635,{"$f":"IF(INDIRECT(\"'PFB-Konstrukte'!A\" & (SMALL(IF(NOT(ISERROR(FIND(IF(LEFT(A41,1)=\"0\",\" \" & MID(A41,2,1) & \",\",IF(MID(A41,3,1)=\".\",LEFT(A41,2),LEFT(A41,3))),'PFB-Konstrukte'!$J$9:$J$40))),ROW($9:$40)),1)+1))=\"\",\n\nIF(LEFT(INDIRECT(\"A\"&MAX(IF($B$1:B41=\"N\",ROW($A$1:A41)))-1),3)=\"nur\",\n\nIF(RIGHT(INDIRECT(\"A\"&MAX(IF($B$1:B41=\"N\",ROW($A$1:A41)))-1),4)=\"PTF!\",\nINDEX('PFB-Konstrukte'!$B$9:$J$40,SMALL(IF(NOT(ISERROR(FIND(IF(LEFT(A41,1)=\"0\",\" \" & MID(A41,2,1) & \",\",IF(MID(A41,3,1)=\".\",LEFT(A41,2),LEFT(A41,3))),'PFB-Konstrukte'!$J$9:$J$40))),ROW($1:$32)),3),1),\nINDEX('PFB-Konstrukte'!$B$9:$J$40,SMALL(IF(NOT(ISERROR(FIND(IF(LEFT(A41,1)=\"0\",\" \" & MID(A41,2,1) & \",\",IF(MID(A41,3,1)=\".\",LEFT(A41,2),LEFT(A41,3))),'PFB-Konstrukte'!$J$9:$J$40))),ROW($1:$32)),2),1)),\n\nIF(RIGHT(INDEX('PFB-Konstrukte'!$A$9:$J$40,SMALL(IF(NOT(ISERROR(FIND(IF(LEFT(A41,1)=\"0\",\" \" & MID(A41,2,1) & \",\",IF(MID(A41,3,1)=\".\",LEFT(A41,2),LEFT(A41,3))),'PFB-Konstrukte'!$J$9:$J$40))),ROW($1:$32)),1),1),7)=\"Führung\",\n\nINDEX('PFB-Konstrukte'!$A$9:$J$40,SMALL(IF(NOT(ISERROR(FIND(IF(LEFT(A41,1)=\"0\",\" \" & MID(A41,2,1) & \",\",IF(MID(A41,3,1)=\".\",LEFT(A41,2),LEFT(A41,3))),'PFB-Konstrukte'!$J$9:$J$40))),ROW($1:$32)),1),1) & \", \n\" & INDEX('PFB-Konstrukte'!$B$9:$J$40,SMALL(IF(NOT(ISERROR(FIND(IF(LEFT(A41,1)=\"0\",\" \" & MID(A41,2,1) & \",\",IF(MID(A41,3,1)=\".\",LEFT(A41,2),LEFT(A41,3))),'PFB-Konstrukte'!$J$9:$J$40))),ROW($1:$32)),2),1),\n\nINDEX('PFB-Konstrukte'!$A$9:$J$40,SMALL(IF(NOT(ISERROR(FIND(IF(LEFT(A41,1)=\"0\",\" \" & MID(A41,2,1) & \",\",IF(MID(A41,3,1)=\".\",LEFT(A41,2),LEFT(A41,3))),'PFB-Konstrukte'!$J$9:$J$40))),ROW($1:$32)),1),1))),\n\nINDEX('PFB-Konstrukte'!$A$9:$J$40,SMALL(IF(NOT(ISERROR(FIND(IF(LEFT(A41,1)=\"0\",\" \" & MID(A41,2,1) & \",\",IF(MID(A41,3,1)=\".\",LEFT(A41,2),LEFT(A41,3))),'PFB-Konstrukte'!$J$9:$J$40))),ROW($1:$32)),1),1))","v":"Rahmenbedingungen der Kooperation"}]
["24. Die Schulleitung unterstützt die professionsübergreifende Kooperation zwischen den Kolleginnen und Kollegen durch Anregungen und Ideen.",21,2.7142857142857135,0.17103128567683779,0.78376381281972574,4.7619047619047616E-2,0.33333333333333326,0.47619047619047611,0.14285714285714285,{"$f":"IF(INDIRECT(\"'PFB-Konstrukte'!A\" & (SMALL(IF(NOT(ISERROR(FIND(IF(LEFT(A42,1)=\"0\",\" \" & MID(A42,2,1) & \",\",IF(MID(A42,3,1)=\".\",LEFT(A42,2),LEFT(A42,3))),'PFB-Konstrukte'!$J$9:$J$40))),ROW($9:$40)),1)+1))=\"\",\n\nIF(LEFT(INDIRECT(\"A\"&MAX(IF($B$1:B42=\"N\",ROW($A$1:A42)))-1),3)=\"nur\",\n\nIF(RIGHT(INDIRECT(\"A\"&MAX(IF($B$1:B42=\"N\",ROW($A$1:A42)))-1),4)=\"PTF!\",\nINDEX('PFB-Konstrukte'!$B$9:$J$40,SMALL(IF(NOT(ISERROR(FIND(IF(LEFT(A42,1)=\"0\",\" \" & MID(A42,2,1) & \",\",IF(MID(A42,3,1)=\".\",LEFT(A42,2),LEFT(A42,3))),'PFB-Konstrukte'!$J$9:$J$40))),ROW($1:$32)),3),1),\nINDEX('PFB-Konstrukte'!$B$9:$J$40,SMALL(IF(NOT(ISERROR(FIND(IF(LEFT(A42,1)=\"0\",\" \" & MID(A42,2,1) & \",\",IF(MID(A42,3,1)=\".\",LEFT(A42,2),LEFT(A42,3))),'PFB-Konstrukte'!$J$9:$J$40))),ROW($1:$32)),2),1)),\n\nIF(RIGHT(INDEX('PFB-Konstrukte'!$A$9:$J$40,SMALL(IF(NOT(ISERROR(FIND(IF(LEFT(A42,1)=\"0\",\" \" & MID(A42,2,1) & \",\",IF(MID(A42,3,1)=\".\",LEFT(A42,2),LEFT(A42,3))),'PFB-Konstrukte'!$J$9:$J$40))),ROW($1:$32)),1),1),7)=\"Führung\",\n\nINDEX('PFB-Konstrukte'!$A$9:$J$40,SMALL(IF(NOT(ISERROR(FIND(IF(LEFT(A42,1)=\"0\",\" \" & MID(A42,2,1) & \",\",IF(MID(A42,3,1)=\".\",LEFT(A42,2),LEFT(A42,3))),'PFB-Konstrukte'!$J$9:$J$40))),ROW($1:$32)),1),1) & \", \n\" & INDEX('PFB-Konstrukte'!$B$9:$J$40,SMALL(IF(NOT(ISERROR(FIND(IF(LEFT(A42,1)=\"0\",\" \" & MID(A42,2,1) & \",\",IF(MID(A42,3,1)=\".\",LEFT(A42,2),LEFT(A42,3))),'PFB-Konstrukte'!$J$9:$J$40))),ROW($1:$32)),2),1),\n\nINDEX('PFB-Konstrukte'!$A$9:$J$40,SMALL(IF(NOT(ISERROR(FIND(IF(LEFT(A42,1)=\"0\",\" \" & MID(A42,2,1) & \",\",IF(MID(A42,3,1)=\".\",LEFT(A42,2),LEFT(A42,3))),'PFB-Konstrukte'!$J$9:$J$40))),ROW($1:$32)),1),1))),\n\nINDEX('PFB-Konstrukte'!$A$9:$J$40,SMALL(IF(NOT(ISERROR(FIND(IF(LEFT(A42,1)=\"0\",\" \" & MID(A42,2,1) & \",\",IF(MID(A42,3,1)=\".\",LEFT(A42,2),LEFT(A42,3))),'PFB-Konstrukte'!$J$9:$J$40))),ROW($1:$32)),1),1))","v":"Rahmenbedingungen der Kooperation"}]
["25. Die Schulleitung motiviert uns zur Kooperation.",23,3.1739130434782612,0.16215171143688553,0.77765228926812313,0,0.21739130434782608,0.39130434782608697,0.39130434782608697,{"$f":"IF(INDIRECT(\"'PFB-Konstrukte'!A\" & (SMALL(IF(NOT(ISERROR(FIND(IF(LEFT(A43,1)=\"0\",\" \" & MID(A43,2,1) & \",\",IF(MID(A43,3,1)=\".\",LEFT(A43,2),LEFT(A43,3))),'PFB-Konstrukte'!$J$9:$J$40))),ROW($9:$40)),1)+1))=\"\",\n\nIF(LEFT(INDIRECT(\"A\"&MAX(IF($B$1:B43=\"N\",ROW($A$1:A43)))-1),3)=\"nur\",\n\nIF(RIGHT(INDIRECT(\"A\"&MAX(IF($B$1:B43=\"N\",ROW($A$1:A43)))-1),4)=\"PTF!\",\nINDEX('PFB-Konstrukte'!$B$9:$J$40,SMALL(IF(NOT(ISERROR(FIND(IF(LEFT(A43,1)=\"0\",\" \" & MID(A43,2,1) & \",\",IF(MID(A43,3,1)=\".\",LEFT(A43,2),LEFT(A43,3))),'PFB-Konstrukte'!$J$9:$J$40))),ROW($1:$32)),3),1),\nINDEX('PFB-Konstrukte'!$B$9:$J$40,SMALL(IF(NOT(ISERROR(FIND(IF(LEFT(A43,1)=\"0\",\" \" & MID(A43,2,1) & \",\",IF(MID(A43,3,1)=\".\",LEFT(A43,2),LEFT(A43,3))),'PFB-Konstrukte'!$J$9:$J$40))),ROW($1:$32)),2),1)),\n\nIF(RIGHT(INDEX('PFB-Konstrukte'!$A$9:$J$40,SMALL(IF(NOT(ISERROR(FIND(IF(LEFT(A43,1)=\"0\",\" \" & MID(A43,2,1) & \",\",IF(MID(A43,3,1)=\".\",LEFT(A43,2),LEFT(A43,3))),'PFB-Konstrukte'!$J$9:$J$40))),ROW($1:$32)),1),1),7)=\"Führung\",\n\nINDEX('PFB-Konstrukte'!$A$9:$J$40,SMALL(IF(NOT(ISERROR(FIND(IF(LEFT(A43,1)=\"0\",\" \" & MID(A43,2,1) & \",\",IF(MID(A43,3,1)=\".\",LEFT(A43,2),LEFT(A43,3))),'PFB-Konstrukte'!$J$9:$J$40))),ROW($1:$32)),1),1) & \", \n\" & INDEX('PFB-Konstrukte'!$B$9:$J$40,SMALL(IF(NOT(ISERROR(FIND(IF(LEFT(A43,1)=\"0\",\" \" & MID(A43,2,1) & \",\",IF(MID(A43,3,1)=\".\",LEFT(A43,2),LEFT(A43,3))),'PFB-Konstrukte'!$J$9:$J$40))),ROW($1:$32)),2),1),\n\nINDEX('PFB-Konstrukte'!$A$9:$J$40,SMALL(IF(NOT(ISERROR(FIND(IF(LEFT(A43,1)=\"0\",\" \" & MID(A43,2,1) & \",\",IF(MID(A43,3,1)=\".\",LEFT(A43,2),LEFT(A43,3))),'PFB-Konstrukte'!$J$9:$J$40))),ROW($1:$32)),1),1))),\n\nINDEX('PFB-Konstrukte'!$A$9:$J$40,SMALL(IF(NOT(ISERROR(FIND(IF(LEFT(A43,1)=\"0\",\" \" & MID(A43,2,1) & \",\",IF(MID(A43,3,1)=\".\",LEFT(A43,2),LEFT(A43,3))),'PFB-Konstrukte'!$J$9:$J$40))),ROW($1:$32)),1),1))","v":"Rahmenbedingungen der Kooperation"}]
["26. Uns stehen Räume für Kooperation zur Verfügung.",22,3.272727272727272,0.17632391215944848,0.82703245642639922,0,0.22727272727272727,0.27272727272727271,0.5,{"$f":"IF(INDIRECT(\"'PFB-Konstrukte'!A\" & (SMALL(IF(NOT(ISERROR(FIND(IF(LEFT(A44,1)=\"0\",\" \" & MID(A44,2,1) & \",\",IF(MID(A44,3,1)=\".\",LEFT(A44,2),LEFT(A44,3))),'PFB-Konstrukte'!$J$9:$J$40))),ROW($9:$40)),1)+1))=\"\",\n\nIF(LEFT(INDIRECT(\"A\"&MAX(IF($B$1:B44=\"N\",ROW($A$1:A44)))-1),3)=\"nur\",\n\nIF(RIGHT(INDIRECT(\"A\"&MAX(IF($B$1:B44=\"N\",ROW($A$1:A44)))-1),4)=\"PTF!\",\nINDEX('PFB-Konstrukte'!$B$9:$J$40,SMALL(IF(NOT(ISERROR(FIND(IF(LEFT(A44,1)=\"0\",\" \" & MID(A44,2,1) & \",\",IF(MID(A44,3,1)=\".\",LEFT(A44,2),LEFT(A44,3))),'PFB-Konstrukte'!$J$9:$J$40))),ROW($1:$32)),3),1),\nINDEX('PFB-Konstrukte'!$B$9:$J$40,SMALL(IF(NOT(ISERROR(FIND(IF(LEFT(A44,1)=\"0\",\" \" & MID(A44,2,1) & \",\",IF(MID(A44,3,1)=\".\",LEFT(A44,2),LEFT(A44,3))),'PFB-Konstrukte'!$J$9:$J$40))),ROW($1:$32)),2),1)),\n\nIF(RIGHT(INDEX('PFB-Konstrukte'!$A$9:$J$40,SMALL(IF(NOT(ISERROR(FIND(IF(LEFT(A44,1)=\"0\",\" \" & MID(A44,2,1) & \",\",IF(MID(A44,3,1)=\".\",LEFT(A44,2),LEFT(A44,3))),'PFB-Konstrukte'!$J$9:$J$40))),ROW($1:$32)),1),1),7)=\"Führung\",\n\nINDEX('PFB-Konstrukte'!$A$9:$J$40,SMALL(IF(NOT(ISERROR(FIND(IF(LEFT(A44,1)=\"0\",\" \" & MID(A44,2,1) & \",\",IF(MID(A44,3,1)=\".\",LEFT(A44,2),LEFT(A44,3))),'PFB-Konstrukte'!$J$9:$J$40))),ROW($1:$32)),1),1) & \", \n\" & INDEX('PFB-Konstrukte'!$B$9:$J$40,SMALL(IF(NOT(ISERROR(FIND(IF(LEFT(A44,1)=\"0\",\" \" & MID(A44,2,1) & \",\",IF(MID(A44,3,1)=\".\",LEFT(A44,2),LEFT(A44,3))),'PFB-Konstrukte'!$J$9:$J$40))),ROW($1:$32)),2),1),\n\nINDEX('PFB-Konstrukte'!$A$9:$J$40,SMALL(IF(NOT(ISERROR(FIND(IF(LEFT(A44,1)=\"0\",\" \" & MID(A44,2,1) & \",\",IF(MID(A44,3,1)=\".\",LEFT(A44,2),LEFT(A44,3))),'PFB-Konstrukte'!$J$9:$J$40))),ROW($1:$32)),1),1))),\n\nINDEX('PFB-Konstrukte'!$A$9:$J$40,SMALL(IF(NOT(ISERROR(FIND(IF(LEFT(A44,1)=\"0\",\" \" & MID(A44,2,1) & \",\",IF(MID(A44,3,1)=\".\",LEFT(A44,2),LEFT(A44,3))),'PFB-Konstrukte'!$J$9:$J$40))),ROW($1:$32)),1),1))","v":"Rahmenbedingungen der Kooperation"}]
[]
[null,"N","MW","SE","SD","trifft\nnicht zu","trifft eher\nnicht zu","trifft\neher zu","trifft\nvoll zu","Zuordnung zum Konstrukt"]
["27. Ich fühle mich gut integriert in die Schulgemeinschaft.",7,null,null,null,null,null,null,null,{"$f":"IF(INDIRECT(\"'PFB-Konstrukte'!A\" & (SMALL(IF(NOT(ISERROR(FIND(IF(LEFT(A47,1)=\"0\",\" \" & MID(A47,2,1) & \",\",IF(MID(A47,3,1)=\".\",LEFT(A47,2),LEFT(A47,3))),'PFB-Konstrukte'!$J$9:$J$40))),ROW($9:$40)),1)+1))=\"\",\n\nIF(LEFT(INDIRECT(\"A\"&MAX(IF($B$1:B47=\"N\",ROW($A$1:A47)))-1),3)=\"nur\",\n\nIF(RIGHT(INDIRECT(\"A\"&MAX(IF($B$1:B47=\"N\",ROW($A$1:A47)))-1),4)=\"PTF!\",\nINDEX('PFB-Konstrukte'!$B$9:$J$40,SMALL(IF(NOT(ISERROR(FIND(IF(LEFT(A47,1)=\"0\",\" \" & MID(A47,2,1) & \",\",IF(MID(A47,3,1)=\".\",LEFT(A47,2),LEFT(A47,3))),'PFB-Konstrukte'!$J$9:$J$40))),ROW($1:$32)),3),1),\nINDEX('PFB-Konstrukte'!$B$9:$J$40,SMALL(IF(NOT(ISERROR(FIND(IF(LEFT(A47,1)=\"0\",\" \" & MID(A47,2,1) & \",\",IF(MID(A47,3,1)=\".\",LEFT(A47,2),LEFT(A47,3))),'PFB-Konstrukte'!$J$9:$J$40))),ROW($1:$32)),2),1)),\n\nIF(RIGHT(INDEX('PFB-Konstrukte'!$A$9:$J$40,SMALL(IF(NOT(ISERROR(FIND(IF(LEFT(A47,1)=\"0\",\" \" & MID(A47,2,1) & \",\",IF(MID(A47,3,1)=\".\",LEFT(A47,2),LEFT(A47,3))),'PFB-Konstrukte'!$J$9:$J$40))),ROW($1:$32)),1),1),7)=\"Führung\",\n\nINDEX('PFB-Konstrukte'!$A$9:$J$40,SMALL(IF(NOT(ISERROR(FIND(IF(LEFT(A47,1)=\"0\",\" \" & MID(A47,2,1) & \",\",IF(MID(A47,3,1)=\".\",LEFT(A47,2),LEFT(A47,3))),'PFB-Konstrukte'!$J$9:$J$40))),ROW($1:$32)),1),1) & \", \n\" & INDEX('PFB-Konstrukte'!$B$9:$J$40,SMALL(IF(NOT(ISERROR(FIND(IF(LEFT(A47,1)=\"0\",\" \" & MID(A47,2,1) & \",\",IF(MID(A47,3,1)=\".\",LEFT(A47,2),LEFT(A47,3))),'PFB-Konstrukte'!$J$9:$J$40))),ROW($1:$32)),2),1),\n\nINDEX('PFB-Konstrukte'!$A$9:$J$40,SMALL(IF(NOT(ISERROR(FIND(IF(LEFT(A47,1)=\"0\",\" \" & MID(A47,2,1) & \",\",IF(MID(A47,3,1)=\".\",LEFT(A47,2),LEFT(A47,3))),'PFB-Konstrukte'!$J$9:$J$40))),ROW($1:$32)),1),1))),\n\nINDEX('PFB-Konstrukte'!$A$9:$J$40,SMALL(IF(NOT(ISERROR(FIND(IF(LEFT(A47,1)=\"0\",\" \" & MID(A47,2,1) & \",\",IF(MID(A47,3,1)=\".\",LEFT(A47,2),LEFT(A47,3))),'PFB-Konstrukte'!$J$9:$J$40))),ROW($1:$32)),1),1))","v":"Eingebundenheit in die Schulgemeinschaft - PTF der Schule"}]
["28. Ich werde bei offiziellen schulischen Veranstaltungen (z.B. Feste, kulturelle Veranstaltungen) eingeladen.",7,null,null,null,null,null,null,null,{"$f":"IF(INDIRECT(\"'PFB-Konstrukte'!A\" & (SMALL(IF(NOT(ISERROR(FIND(IF(LEFT(A48,1)=\"0\",\" \" & MID(A48,2,1) & \",\",IF(MID(A48,3,1)=\".\",LEFT(A48,2),LEFT(A48,3))),'PFB-Konstrukte'!$J$9:$J$40))),ROW($9:$40)),1)+1))=\"\",\n\nIF(LEFT(INDIRECT(\"A\"&MAX(IF($B$1:B48=\"N\",ROW($A$1:A48)))-1),3)=\"nur\",\n\nIF(RIGHT(INDIRECT(\"A\"&MAX(IF($B$1:B48=\"N\",ROW($A$1:A48)))-1),4)=\"PTF!\",\nINDEX('PFB-Konstrukte'!$B$9:$J$40,SMALL(IF(NOT(ISERROR(FIND(IF(LEFT(A48,1)=\"0\",\" \" & MID(A48,2,1) & \",\",IF(MID(A48,3,1)=\".\",LEFT(A48,2),LEFT(A48,3))),'PFB-Konstrukte'!$J$9:$J$40))),ROW($1:$32)),3),1),\nINDEX('PFB-Konstrukte'!$B$9:$J$40,SMALL(IF(NOT(ISERROR(FIND(IF(LEFT(A48,1)=\"0\",\" \" & MID(A48,2,1) & \",\",IF(MID(A48,3,1)=\".\",LEFT(A48,2),LEFT(A48,3))),'PFB-Konstrukte'!$J$9:$J$40))),ROW($1:$32)),2),1)),\n\nIF(RIGHT(INDEX('PFB-Konstrukte'!$A$9:$J$40,SMALL(IF(NOT(ISERROR(FIND(IF(LEFT(A48,1)=\"0\",\" \" & MID(A48,2,1) & \",\",IF(MID(A48,3,1)=\".\",LEFT(A48,2),LEFT(A48,3))),'PFB-Konstrukte'!$J$9:$J$40))),ROW($1:$32)),1),1),7)=\"Führung\",\n\nINDEX('PFB-Konstrukte'!$A$9:$J$40,SMALL(IF(NOT(ISERROR(FIND(IF(LEFT(A48,1)=\"0\",\" \" & MID(A48,2,1) & \",\",IF(MID(A48,3,1)=\".\",LEFT(A48,2),LEFT(A48,3))),'PFB-Konstrukte'!$J$9:$J$40))),ROW($1:$32)),1),1) & \", \n\" & INDEX('PFB-Konstrukte'!$B$9:$J$40,SMALL(IF(NOT(ISERROR(FIND(IF(LEFT(A48,1)=\"0\",\" \" & MID(A48,2,1) & \",\",IF(MID(A48,3,1)=\".\",LEFT(A48,2),LEFT(A48,3))),'PFB-Konstrukte'!$J$9:$J$40))),ROW($1:$32)),2),1),\n\nINDEX('PFB-Konstrukte'!$A$9:$J$40,SMALL(IF(NOT(ISERROR(FIND(IF(LEFT(A48,1)=\"0\",\" \" & MID(A48,2,1) & \",\",IF(MID(A48,3,1)=\".\",LEFT(A48,2),LEFT(A48,3))),'PFB-Konstrukte'!$J$9:$J$40))),ROW($1:$32)),1),1))),\n\nINDEX('PFB-Konstrukte'!$A$9:$J$40,SMALL(IF(NOT(ISERROR(FIND(IF(LEFT(A48,1)=\"0\",\" \" & MID(A48,2,1) & \",\",IF(MID(A48,3,1)=\".\",LEFT(A48,2),LEFT(A48,3))),'PFB-Konstrukte'!$J$9:$J$40))),ROW($1:$32)),1),1))","v":"Eingebundenheit in die Schulgemeinschaft - PTF der Schule"}]
["29. Ich bin in informellen Austausch eingebunden (z.B. Mittagessen, Feiern etc.).",7,null,null,null,null,null,null,null,{"$f":"IF(INDIRECT(\"'PFB-Konstrukte'!A\" & (SMALL(IF(NOT(ISERROR(FIND(IF(LEFT(A49,1)=\"0\",\" \" & MID(A49,2,1) & \",\",IF(MID(A49,3,1)=\".\",LEFT(A49,2),LEFT(A49,3))),'PFB-Konstrukte'!$J$9:$J$40))),ROW($9:$40)),1)+1))=\"\",\n\nIF(LEFT(INDIRECT(\"A\"&MAX(IF($B$1:B49=\"N\",ROW($A$1:A49)))-1),3)=\"nur\",\n\nIF(RIGHT(INDIRECT(\"A\"&MAX(IF($B$1:B49=\"N\",ROW($A$1:A49)))-1),4)=\"PTF!\",\nINDEX('PFB-Konstrukte'!$B$9:$J$40,SMALL(IF(NOT(ISERROR(FIND(IF(LEFT(A49,1)=\"0\",\" \" & MID(A49,2,1) & \",\",IF(MID(A49,3,1)=\".\",LEFT(A49,2),LEFT(A49,3))),'PFB-Konstrukte'!$J$9:$J$40))),ROW($1:$32)),3),1),\nINDEX('PFB-Konstrukte'!$B$9:$J$40,SMALL(IF(NOT(ISERROR(FIND(IF(LEFT(A49,1)=\"0\",\" \" & MID(A49,2,1) & \",\",IF(MID(A49,3,1)=\".\",LEFT(A49,2),LEFT(A49,3))),'PFB-Konstrukte'!$J$9:$J$40))),ROW($1:$32)),2),1)),\n\nIF(RIGHT(INDEX('PFB-Konstrukte'!$A$9:$J$40,SMALL(IF(NOT(ISERROR(FIND(IF(LEFT(A49,1)=\"0\",\" \" & MID(A49,2,1) & \",\",IF(MID(A49,3,1)=\".\",LEFT(A49,2),LEFT(A49,3))),'PFB-Konstrukte'!$J$9:$J$40))),ROW($1:$32)),1),1),7)=\"Führung\",\n\nINDEX('PFB-Konstrukte'!$A$9:$J$40,SMALL(IF(NOT(ISERROR(FIND(IF(LEFT(A49,1)=\"0\",\" \" & MID(A49,2,1) & \",\",IF(MID(A49,3,1)=\".\",LEFT(A49,2),LEFT(A49,3))),'PFB-Konstrukte'!$J$9:$J$40))),ROW($1:$32)),1),1) & \", \n\" & INDEX('PFB-Konstrukte'!$B$9:$J$40,SMALL(IF(NOT(ISERROR(FIND(IF(LEFT(A49,1)=\"0\",\" \" & MID(A49,2,1) & \",\",IF(MID(A49,3,1)=\".\",LEFT(A49,2),LEFT(A49,3))),'PFB-Konstrukte'!$J$9:$J$40))),ROW($1:$32)),2),1),\n\nINDEX('PFB-Konstrukte'!$A$9:$J$40,SMALL(IF(NOT(ISERROR(FIND(IF(LEFT(A49,1)=\"0\",\" \" & MID(A49,2,1) & \",\",IF(MID(A49,3,1)=\".\",LEFT(A49,2),LEFT(A49,3))),'PFB-Konstrukte'!$J$9:$J$40))),ROW($1:$32)),1),1))),\n\nINDEX('PFB-Konstrukte'!$A$9:$J$40,SMALL(IF(NOT(ISERROR(FIND(IF(LEFT(A49,1)=\"0\",\" \" & MID(A49,2,1) & \",\",IF(MID(A49,3,1)=\".\",LEFT(A49,2),LEFT(A49,3))),'PFB-Konstrukte'!$J$9:$J$40))),ROW($1:$32)),1),1))","v":"Eingebundenheit in die Schulgemeinschaft - PTF der Schule"}]
["30. Ich bin bei der Vorbereitung und Durchführung schulischer Veranstaltungen beteiligt.",7,null,null,null,null,null,null,null,{"$f":"IF(INDIRECT(\"'PFB-Konstrukte'!A\" & (SMALL(IF(NOT(ISERROR(FIND(IF(LEFT(A50,1)=\"0\",\" \" & MID(A50,2,1) & \",\",IF(MID(A50,3,1)=\".\",LEFT(A50,2),LEFT(A50,3))),'PFB-Konstrukte'!$J$9:$J$40))),ROW($9:$40)),1)+1))=\"\",\n\nIF(LEFT(INDIRECT(\"A\"&MAX(IF($B$1:B50=\"N\",ROW($A$1:A50)))-1),3)=\"nur\",\n\nIF(RIGHT(INDIRECT(\"A\"&MAX(IF($B$1:B50=\"N\",ROW($A$1:A50)))-1),4)=\"PTF!\",\nINDEX('PFB-Konstrukte'!$B$9:$J$40,SMALL(IF(NOT(ISERROR(FIND(IF(LEFT(A50,1)=\"0\",\" \" & MID(A50,2,1) & \",\",IF(MID(A50,3,1)=\".\",LEFT(A50,2),LEFT(A50,3))),'PFB-Konstrukte'!$J$9:$J$40))),ROW($1:$32)),3),1),\nINDEX('PFB-Konstrukte'!$B$9:$J$40,SMALL(IF(NOT(ISERROR(FIND(IF(LEFT(A50,1)=\"0\",\" \" & MID(A50,2,1) & \",\",IF(MID(A50,3,1)=\".\",LEFT(A50,2),LEFT(A50,3))),'PFB-Konstrukte'!$J$9:$J$40))),ROW($1:$32)),2),1)),\n\nIF(RIGHT(INDEX('PFB-Konstrukte'!$A$9:$J$40,SMALL(IF(NOT(ISERROR(FIND(IF(LEFT(A50,1)=\"0\",\" \" & MID(A50,2,1) & \",\",IF(MID(A50,3,1)=\".\",LEFT(A50,2),LEFT(A50,3))),'PFB-Konstrukte'!$J$9:$J$40))),ROW($1:$32)),1),1),7)=\"Führung\",\n\nINDEX('PFB-Konstrukte'!$A$9:$J$40,SMALL(IF(NOT(ISERROR(FIND(IF(LEFT(A50,1)=\"0\",\" \" & MID(A50,2,1) & \",\",IF(MID(A50,3,1)=\".\",LEFT(A50,2),LEFT(A50,3))),'PFB-Konstrukte'!$J$9:$J$40))),ROW($1:$32)),1),1) & \", \n\" & INDEX('PFB-Konstrukte'!$B$9:$J$40,SMALL(IF(NOT(ISERROR(FIND(IF(LEFT(A50,1)=\"0\",\" \" & MID(A50,2,1) & \",\",IF(MID(A50,3,1)=\".\",LEFT(A50,2),LEFT(A50,3))),'PFB-Konstrukte'!$J$9:$J$40))),ROW($1:$32)),2),1),\n\nINDEX('PFB-Konstrukte'!$A$9:$J$40,SMALL(IF(NOT(ISERROR(FIND(IF(LEFT(A50,1)=\"0\",\" \" & MID(A50,2,1) & \",\",IF(MID(A50,3,1)=\".\",LEFT(A50,2),LEFT(A50,3))),'PFB-Konstrukte'!$J$9:$J$40))),ROW($1:$32)),1),1))),\n\nINDEX('PFB-Konstrukte'!$A$9:$J$40,SMALL(IF(NOT(ISERROR(FIND(IF(LEFT(A50,1)=\"0\",\" \" & MID(A50,2,1) & \",\",IF(MID(A50,3,1)=\".\",LEFT(A50,2),LEFT(A50,3))),'PFB-Konstrukte'!$J$9:$J$40))),ROW($1:$32)),1),1))","v":"Eingebundenheit in die Schulgemeinschaft - PTF der Schule"}]
[]
[null,"N","MW","SE","SD","trifft\nnicht zu","trifft eher\nnicht zu","trifft\neher zu","trifft\nvoll zu","Zuordnung zum Konstrukt"]
["31. Ich ermutige die Schülerinnen und Schüler, ihre eigenen Ideen zu äußern.",21,3.9047619047619042,6.5638327390905832E-2,0.30079260375911926,0,0,9.5238095238095233E-2,0.90476190476190477,{"$f":"IF(INDIRECT(\"'PFB-Konstrukte'!A\" & (SMALL(IF(NOT(ISERROR(FIND(IF(LEFT(A53,1)=\"0\",\" \" & MID(A53,2,1) & \",\",IF(MID(A53,3,1)=\".\",LEFT(A53,2),LEFT(A53,3))),'PFB-Konstrukte'!$J$9:$J$40))),ROW($9:$40)),1)+1))=\"\",\n\nIF(LEFT(INDIRECT(\"A\"&MAX(IF($B$1:B53=\"N\",ROW($A$1:A53)))-1),3)=\"nur\",\n\nIF(RIGHT(INDIRECT(\"A\"&MAX(IF($B$1:B53=\"N\",ROW($A$1:A53)))-1),4)=\"PTF!\",\nINDEX('PFB-Konstrukte'!$B$9:$J$40,SMALL(IF(NOT(ISERROR(FIND(IF(LEFT(A53,1)=\"0\",\" \" & MID(A53,2,1) & \",\",IF(MID(A53,3,1)=\".\",LEFT(A53,2),LEFT(A53,3))),'PFB-Konstrukte'!$J$9:$J$40))),ROW($1:$32)),3),1),\nINDEX('PFB-Konstrukte'!$B$9:$J$40,SMALL(IF(NOT(ISERROR(FIND(IF(LEFT(A53,1)=\"0\",\" \" & MID(A53,2,1) & \",\",IF(MID(A53,3,1)=\".\",LEFT(A53,2),LEFT(A53,3))),'PFB-Konstrukte'!$J$9:$J$40))),ROW($1:$32)),2),1)),\n\nIF(RIGHT(INDEX('PFB-Konstrukte'!$A$9:$J$40,SMALL(IF(NOT(ISERROR(FIND(IF(LEFT(A53,1)=\"0\",\" \" & MID(A53,2,1) & \",\",IF(MID(A53,3,1)=\".\",LEFT(A53,2),LEFT(A53,3))),'PFB-Konstrukte'!$J$9:$J$40))),ROW($1:$32)),1),1),7)=\"Führung\",\n\nINDEX('PFB-Konstrukte'!$A$9:$J$40,SMALL(IF(NOT(ISERROR(FIND(IF(LEFT(A53,1)=\"0\",\" \" & MID(A53,2,1) & \",\",IF(MID(A53,3,1)=\".\",LEFT(A53,2),LEFT(A53,3))),'PFB-Konstrukte'!$J$9:$J$40))),ROW($1:$32)),1),1) & \", \n\" & INDEX('PFB-Konstrukte'!$B$9:$J$40,SMALL(IF(NOT(ISERROR(FIND(IF(LEFT(A53,1)=\"0\",\" \" & MID(A53,2,1) & \",\",IF(MID(A53,3,1)=\".\",LEFT(A53,2),LEFT(A53,3))),'PFB-Konstrukte'!$J$9:$J$40))),ROW($1:$32)),2),1),\n\nINDEX('PFB-Konstrukte'!$A$9:$J$40,SMALL(IF(NOT(ISERROR(FIND(IF(LEFT(A53,1)=\"0\",\" \" & MID(A53,2,1) & \",\",IF(MID(A53,3,1)=\".\",LEFT(A53,2),LEFT(A53,3))),'PFB-Konstrukte'!$J$9:$J$40))),ROW($1:$32)),1),1))),\n\nINDEX('PFB-Konstrukte'!$A$9:$J$40,SMALL(IF(NOT(ISERROR(FIND(IF(LEFT(A53,1)=\"0\",\" \" & MID(A53,2,1) & \",\",IF(MID(A53,3,1)=\".\",LEFT(A53,2),LEFT(A53,3))),'PFB-Konstrukte'!$J$9:$J$40))),ROW($1:$32)),1),1))","v":"Potenzial zur kognitiven Aktivierung"}]
["32. Ich stelle oft Fragen oder Aufgaben, die die Schülerinnen und Schüler zum intensiven Nachdenken anregen sollen.",20,3.5,0.13572417850765922,0.60697697866688394,0,0.05,0.4,0.55000000000000004,{"$f":"IF(INDIRECT(\"'PFB-Konstrukte'!A\" & (SMALL(IF(NOT(ISERROR(FIND(IF(LEFT(A54,1)=\"0\",\" \" & MID(A54,2,1) & \",\",IF(MID(A54,3,1)=\".\",LEFT(A54,2),LEFT(A54,3))),'PFB-Konstrukte'!$J$9:$J$40))),ROW($9:$40)),1)+1))=\"\",\n\nIF(LEFT(INDIRECT(\"A\"&MAX(IF($B$1:B54=\"N\",ROW($A$1:A54)))-1),3)=\"nur\",\n\nIF(RIGHT(INDIRECT(\"A\"&MAX(IF($B$1:B54=\"N\",ROW($A$1:A54)))-1),4)=\"PTF!\",\nINDEX('PFB-Konstrukte'!$B$9:$J$40,SMALL(IF(NOT(ISERROR(FIND(IF(LEFT(A54,1)=\"0\",\" \" & MID(A54,2,1) & \",\",IF(MID(A54,3,1)=\".\",LEFT(A54,2),LEFT(A54,3))),'PFB-Konstrukte'!$J$9:$J$40))),ROW($1:$32)),3),1),\nINDEX('PFB-Konstrukte'!$B$9:$J$40,SMALL(IF(NOT(ISERROR(FIND(IF(LEFT(A54,1)=\"0\",\" \" & MID(A54,2,1) & \",\",IF(MID(A54,3,1)=\".\",LEFT(A54,2),LEFT(A54,3))),'PFB-Konstrukte'!$J$9:$J$40))),ROW($1:$32)),2),1)),\n\nIF(RIGHT(INDEX('PFB-Konstrukte'!$A$9:$J$40,SMALL(IF(NOT(ISERROR(FIND(IF(LEFT(A54,1)=\"0\",\" \" & MID(A54,2,1) & \",\",IF(MID(A54,3,1)=\".\",LEFT(A54,2),LEFT(A54,3))),'PFB-Konstrukte'!$J$9:$J$40))),ROW($1:$32)),1),1),7)=\"Führung\",\n\nINDEX('PFB-Konstrukte'!$A$9:$J$40,SMALL(IF(NOT(ISERROR(FIND(IF(LEFT(A54,1)=\"0\",\" \" & MID(A54,2,1) & \",\",IF(MID(A54,3,1)=\".\",LEFT(A54,2),LEFT(A54,3))),'PFB-Konstrukte'!$J$9:$J$40))),ROW($1:$32)),1),1) & \", \n\" & INDEX('PFB-Konstrukte'!$B$9:$J$40,SMALL(IF(NOT(ISERROR(FIND(IF(LEFT(A54,1)=\"0\",\" \" & MID(A54,2,1) & \",\",IF(MID(A54,3,1)=\".\",LEFT(A54,2),LEFT(A54,3))),'PFB-Konstrukte'!$J$9:$J$40))),ROW($1:$32)),2),1),\n\nINDEX('PFB-Konstrukte'!$A$9:$J$40,SMALL(IF(NOT(ISERROR(FIND(IF(LEFT(A54,1)=\"0\",\" \" & MID(A54,2,1) & \",\",IF(MID(A54,3,1)=\".\",LEFT(A54,2),LEFT(A54,3))),'PFB-Konstrukte'!$J$9:$J$40))),ROW($1:$32)),1),1))),\n\nINDEX('PFB-Konstrukte'!$A$9:$J$40,SMALL(IF(NOT(ISERROR(FIND(IF(LEFT(A54,1)=\"0\",\" \" & MID(A54,2,1) & \",\",IF(MID(A54,3,1)=\".\",LEFT(A54,2),LEFT(A54,3))),'PFB-Konstrukte'!$J$9:$J$40))),ROW($1:$32)),1),1))","v":"Potenzial zur kognitiven Aktivierung"}]
["33. Ich fordere die Schülerinnen und Schüler auf, ihre Aussagen gut zu begründen.",20,3.75,9.9339926779878282E-2,0.4442616583193193,0,0,0.25,0.75,{"$f":"IF(INDIRECT(\"'PFB-Konstrukte'!A\" & (SMALL(IF(NOT(ISERROR(FIND(IF(LEFT(A55,1)=\"0\",\" \" & MID(A55,2,1) & \",\",IF(MID(A55,3,1)=\".\",LEFT(A55,2),LEFT(A55,3))),'PFB-Konstrukte'!$J$9:$J$40))),ROW($9:$40)),1)+1))=\"\",\n\nIF(LEFT(INDIRECT(\"A\"&MAX(IF($B$1:B55=\"N\",ROW($A$1:A55)))-1),3)=\"nur\",\n\nIF(RIGHT(INDIRECT(\"A\"&MAX(IF($B$1:B55=\"N\",ROW($A$1:A55)))-1),4)=\"PTF!\",\nINDEX('PFB-Konstrukte'!$B$9:$J$40,SMALL(IF(NOT(ISERROR(FIND(IF(LEFT(A55,1)=\"0\",\" \" & MID(A55,2,1) & \",\",IF(MID(A55,3,1)=\".\",LEFT(A55,2),LEFT(A55,3))),'PFB-Konstrukte'!$J$9:$J$40))),ROW($1:$32)),3),1),\nINDEX('PFB-Konstrukte'!$B$9:$J$40,SMALL(IF(NOT(ISERROR(FIND(IF(LEFT(A55,1)=\"0\",\" \" & MID(A55,2,1) & \",\",IF(MID(A55,3,1)=\".\",LEFT(A55,2),LEFT(A55,3))),'PFB-Konstrukte'!$J$9:$J$40))),ROW($1:$32)),2),1)),\n\nIF(RIGHT(INDEX('PFB-Konstrukte'!$A$9:$J$40,SMALL(IF(NOT(ISERROR(FIND(IF(LEFT(A55,1)=\"0\",\" \" & MID(A55,2,1) & \",\",IF(MID(A55,3,1)=\".\",LEFT(A55,2),LEFT(A55,3))),'PFB-Konstrukte'!$J$9:$J$40))),ROW($1:$32)),1),1),7)=\"Führung\",\n\nINDEX('PFB-Konstrukte'!$A$9:$J$40,SMALL(IF(NOT(ISERROR(FIND(IF(LEFT(A55,1)=\"0\",\" \" & MID(A55,2,1) & \",\",IF(MID(A55,3,1)=\".\",LEFT(A55,2),LEFT(A55,3))),'PFB-Konstrukte'!$J$9:$J$40))),ROW($1:$32)),1),1) & \", \n\" & INDEX('PFB-Konstrukte'!$B$9:$J$40,SMALL(IF(NOT(ISERROR(FIND(IF(LEFT(A55,1)=\"0\",\" \" & MID(A55,2,1) & \",\",IF(MID(A55,3,1)=\".\",LEFT(A55,2),LEFT(A55,3))),'PFB-Konstrukte'!$J$9:$J$40))),ROW($1:$32)),2),1),\n\nINDEX('PFB-Konstrukte'!$A$9:$J$40,SMALL(IF(NOT(ISERROR(FIND(IF(LEFT(A55,1)=\"0\",\" \" & MID(A55,2,1) & \",\",IF(MID(A55,3,1)=\".\",LEFT(A55,2),LEFT(A55,3))),'PFB-Konstrukte'!$J$9:$J$40))),ROW($1:$32)),1),1))),\n\nINDEX('PFB-Konstrukte'!$A$9:$J$40,SMALL(IF(NOT(ISERROR(FIND(IF(LEFT(A55,1)=\"0\",\" \" & MID(A55,2,1) & \",\",IF(MID(A55,3,1)=\".\",LEFT(A55,2),LEFT(A55,3))),'PFB-Konstrukte'!$J$9:$J$40))),ROW($1:$32)),1),1))","v":"Potenzial zur kognitiven Aktivierung"}]
["34. Ich behandle Fehler von den Schülerinnen und Schülern als Teil des Lernprozesses.",21,3.8095238095238089,8.7805185307551312E-2,0.40237390808147827,0,0,0.19047619047619047,0.80952380952380953,{"$f":"IF(INDIRECT(\"'PFB-Konstrukte'!A\" & (SMALL(IF(NOT(ISERROR(FIND(IF(LEFT(A56,1)=\"0\",\" \" & MID(A56,2,1) & \",\",IF(MID(A56,3,1)=\".\",LEFT(A56,2),LEFT(A56,3))),'PFB-Konstrukte'!$J$9:$J$40))),ROW($9:$40)),1)+1))=\"\",\n\nIF(LEFT(INDIRECT(\"A\"&MAX(IF($B$1:B56=\"N\",ROW($A$1:A56)))-1),3)=\"nur\",\n\nIF(RIGHT(INDIRECT(\"A\"&MAX(IF($B$1:B56=\"N\",ROW($A$1:A56)))-1),4)=\"PTF!\",\nINDEX('PFB-Konstrukte'!$B$9:$J$40,SMALL(IF(NOT(ISERROR(FIND(IF(LEFT(A56,1)=\"0\",\" \" & MID(A56,2,1) & \",\",IF(MID(A56,3,1)=\".\",LEFT(A56,2),LEFT(A56,3))),'PFB-Konstrukte'!$J$9:$J$40))),ROW($1:$32)),3),1),\nINDEX('PFB-Konstrukte'!$B$9:$J$40,SMALL(IF(NOT(ISERROR(FIND(IF(LEFT(A56,1)=\"0\",\" \" & MID(A56,2,1) & \",\",IF(MID(A56,3,1)=\".\",LEFT(A56,2),LEFT(A56,3))),'PFB-Konstrukte'!$J$9:$J$40))),ROW($1:$32)),2),1)),\n\nIF(RIGHT(INDEX('PFB-Konstrukte'!$A$9:$J$40,SMALL(IF(NOT(ISERROR(FIND(IF(LEFT(A56,1)=\"0\",\" \" & MID(A56,2,1) & \",\",IF(MID(A56,3,1)=\".\",LEFT(A56,2),LEFT(A56,3))),'PFB-Konstrukte'!$J$9:$J$40))),ROW($1:$32)),1),1),7)=\"Führung\",\n\nINDEX('PFB-Konstrukte'!$A$9:$J$40,SMALL(IF(NOT(ISERROR(FIND(IF(LEFT(A56,1)=\"0\",\" \" & MID(A56,2,1) & \",\",IF(MID(A56,3,1)=\".\",LEFT(A56,2),LEFT(A56,3))),'PFB-Konstrukte'!$J$9:$J$40))),ROW($1:$32)),1),1) & \", \n\" & INDEX('PFB-Konstrukte'!$B$9:$J$40,SMALL(IF(NOT(ISERROR(FIND(IF(LEFT(A56,1)=\"0\",\" \" & MID(A56,2,1) & \",\",IF(MID(A56,3,1)=\".\",LEFT(A56,2),LEFT(A56,3))),'PFB-Konstrukte'!$J$9:$J$40))),ROW($1:$32)),2),1),\n\nINDEX('PFB-Konstrukte'!$A$9:$J$40,SMALL(IF(NOT(ISERROR(FIND(IF(LEFT(A56,1)=\"0\",\" \" & MID(A56,2,1) & \",\",IF(MID(A56,3,1)=\".\",LEFT(A56,2),LEFT(A56,3))),'PFB-Konstrukte'!$J$9:$J$40))),ROW($1:$32)),1),1))),\n\nINDEX('PFB-Konstrukte'!$A$9:$J$40,SMALL(IF(NOT(ISERROR(FIND(IF(LEFT(A56,1)=\"0\",\" \" & MID(A56,2,1) & \",\",IF(MID(A56,3,1)=\".\",LEFT(A56,2),LEFT(A56,3))),'PFB-Konstrukte'!$J$9:$J$40))),ROW($1:$32)),1),1))","v":"Potenzial zur kognitiven Aktivierung"}]
["35. Ich biete verschiedene Lernwege/Methodenvielfalt an.",21,3.4761904761904763,0.11167656571008167,0.51176631571915898,0,0,0.52380952380952384,0.47619047619047611,{"$f":"IF(INDIRECT(\"'PFB-Konstrukte'!A\" & (SMALL(IF(NOT(ISERROR(FIND(IF(LEFT(A57,1)=\"0\",\" \" & MID(A57,2,1) & \",\",IF(MID(A57,3,1)=\".\",LEFT(A57,2),LEFT(A57,3))),'PFB-Konstrukte'!$J$9:$J$40))),ROW($9:$40)),1)+1))=\"\",\n\nIF(LEFT(INDIRECT(\"A\"&MAX(IF($B$1:B57=\"N\",ROW($A$1:A57)))-1),3)=\"nur\",\n\nIF(RIGHT(INDIRECT(\"A\"&MAX(IF($B$1:B57=\"N\",ROW($A$1:A57)))-1),4)=\"PTF!\",\nINDEX('PFB-Konstrukte'!$B$9:$J$40,SMALL(IF(NOT(ISERROR(FIND(IF(LEFT(A57,1)=\"0\",\" \" & MID(A57,2,1) & \",\",IF(MID(A57,3,1)=\".\",LEFT(A57,2),LEFT(A57,3))),'PFB-Konstrukte'!$J$9:$J$40))),ROW($1:$32)),3),1),\nINDEX('PFB-Konstrukte'!$B$9:$J$40,SMALL(IF(NOT(ISERROR(FIND(IF(LEFT(A57,1)=\"0\",\" \" & MID(A57,2,1) & \",\",IF(MID(A57,3,1)=\".\",LEFT(A57,2),LEFT(A57,3))),'PFB-Konstrukte'!$J$9:$J$40))),ROW($1:$32)),2),1)),\n\nIF(RIGHT(INDEX('PFB-Konstrukte'!$A$9:$J$40,SMALL(IF(NOT(ISERROR(FIND(IF(LEFT(A57,1)=\"0\",\" \" & MID(A57,2,1) & \",\",IF(MID(A57,3,1)=\".\",LEFT(A57,2),LEFT(A57,3))),'PFB-Konstrukte'!$J$9:$J$40))),ROW($1:$32)),1),1),7)=\"Führung\",\n\nINDEX('PFB-Konstrukte'!$A$9:$J$40,SMALL(IF(NOT(ISERROR(FIND(IF(LEFT(A57,1)=\"0\",\" \" & MID(A57,2,1) & \",\",IF(MID(A57,3,1)=\".\",LEFT(A57,2),LEFT(A57,3))),'PFB-Konstrukte'!$J$9:$J$40))),ROW($1:$32)),1),1) & \", \n\" & INDEX('PFB-Konstrukte'!$B$9:$J$40,SMALL(IF(NOT(ISERROR(FIND(IF(LEFT(A57,1)=\"0\",\" \" & MID(A57,2,1) & \",\",IF(MID(A57,3,1)=\".\",LEFT(A57,2),LEFT(A57,3))),'PFB-Konstrukte'!$J$9:$J$40))),ROW($1:$32)),2),1),\n\nINDEX('PFB-Konstrukte'!$A$9:$J$40,SMALL(IF(NOT(ISERROR(FIND(IF(LEFT(A57,1)=\"0\",\" \" & MID(A57,2,1) & \",\",IF(MID(A57,3,1)=\".\",LEFT(A57,2),LEFT(A57,3))),'PFB-Konstrukte'!$J$9:$J$40))),ROW($1:$32)),1),1))),\n\nINDEX('PFB-Konstrukte'!$A$9:$J$40,SMALL(IF(NOT(ISERROR(FIND(IF(LEFT(A57,1)=\"0\",\" \" & MID(A57,2,1) & \",\",IF(MID(A57,3,1)=\".\",LEFT(A57,2),LEFT(A57,3))),'PFB-Konstrukte'!$J$9:$J$40))),ROW($1:$32)),1),1))","v":"Potenzial zur kognitiven Aktivierung"}]
["36. Ich achte darauf, dass möglichst alle Schülerinnen und Schüler den Unterrichtsstoff verstanden haben, bevor ich ein neues Thema beginne.",15,3.4,0.16329931618554516,0.63245553203367577,0,6.6666666666666666E-2,0.46666666666666662,0.46666666666666662,{"$f":"IF(INDIRECT(\"'PFB-Konstrukte'!A\" & (SMALL(IF(NOT(ISERROR(FIND(IF(LEFT(A58,1)=\"0\",\" \" & MID(A58,2,1) & \",\",IF(MID(A58,3,1)=\".\",LEFT(A58,2),LEFT(A58,3))),'PFB-Konstrukte'!$J$9:$J$40))),ROW($9:$40)),1)+1))=\"\",\n\nIF(LEFT(INDIRECT(\"A\"&MAX(IF($B$1:B58=\"N\",ROW($A$1:A58)))-1),3)=\"nur\",\n\nIF(RIGHT(INDIRECT(\"A\"&MAX(IF($B$1:B58=\"N\",ROW($A$1:A58)))-1),4)=\"PTF!\",\nINDEX('PFB-Konstrukte'!$B$9:$J$40,SMALL(IF(NOT(ISERROR(FIND(IF(LEFT(A58,1)=\"0\",\" \" & MID(A58,2,1) & \",\",IF(MID(A58,3,1)=\".\",LEFT(A58,2),LEFT(A58,3))),'PFB-Konstrukte'!$J$9:$J$40))),ROW($1:$32)),3),1),\nINDEX('PFB-Konstrukte'!$B$9:$J$40,SMALL(IF(NOT(ISERROR(FIND(IF(LEFT(A58,1)=\"0\",\" \" & MID(A58,2,1) & \",\",IF(MID(A58,3,1)=\".\",LEFT(A58,2),LEFT(A58,3))),'PFB-Konstrukte'!$J$9:$J$40))),ROW($1:$32)),2),1)),\n\nIF(RIGHT(INDEX('PFB-Konstrukte'!$A$9:$J$40,SMALL(IF(NOT(ISERROR(FIND(IF(LEFT(A58,1)=\"0\",\" \" & MID(A58,2,1) & \",\",IF(MID(A58,3,1)=\".\",LEFT(A58,2),LEFT(A58,3))),'PFB-Konstrukte'!$J$9:$J$40))),ROW($1:$32)),1),1),7)=\"Führung\",\n\nINDEX('PFB-Konstrukte'!$A$9:$J$40,SMALL(IF(NOT(ISERROR(FIND(IF(LEFT(A58,1)=\"0\",\" \" & MID(A58,2,1) & \",\",IF(MID(A58,3,1)=\".\",LEFT(A58,2),LEFT(A58,3))),'PFB-Konstrukte'!$J$9:$J$40))),ROW($1:$32)),1),1) & \", \n\" & INDEX('PFB-Konstrukte'!$B$9:$J$40,SMALL(IF(NOT(ISERROR(FIND(IF(LEFT(A58,1)=\"0\",\" \" & MID(A58,2,1) & \",\",IF(MID(A58,3,1)=\".\",LEFT(A58,2),LEFT(A58,3))),'PFB-Konstrukte'!$J$9:$J$40))),ROW($1:$32)),2),1),\n\nINDEX('PFB-Konstrukte'!$A$9:$J$40,SMALL(IF(NOT(ISERROR(FIND(IF(LEFT(A58,1)=\"0\",\" \" & MID(A58,2,1) & \",\",IF(MID(A58,3,1)=\".\",LEFT(A58,2),LEFT(A58,3))),'PFB-Konstrukte'!$J$9:$J$40))),ROW($1:$32)),1),1))),\n\nINDEX('PFB-Konstrukte'!$A$9:$J$40,SMALL(IF(NOT(ISERROR(FIND(IF(LEFT(A58,1)=\"0\",\" \" & MID(A58,2,1) & \",\",IF(MID(A58,3,1)=\".\",LEFT(A58,2),LEFT(A58,3))),'PFB-Konstrukte'!$J$9:$J$40))),ROW($1:$32)),1),1))","v":"Potenzial zur kognitiven Aktivierung"}]
[]
[null,"N","MW","SE","SD","trifft\nnicht zu","trifft eher\nnicht zu","trifft\neher zu","trifft\nvoll zu","Zuordnung zum Konstrukt"]
["37. Ich traue den Schülerinnen und Schülern auch die Lösung schwieriger Aufgaben zu.",20,3.55,0.11413288653790231,0.51041778553404038,0,0,0.45,0.55000000000000004,{"$f":"IF(INDIRECT(\"'PFB-Konstrukte'!A\" & (SMALL(IF(NOT(ISERROR(FIND(IF(LEFT(A61,1)=\"0\",\" \" & MID(A61,2,1) & \",\",IF(MID(A61,3,1)=\".\",LEFT(A61,2),LEFT(A61,3))),'PFB-Konstrukte'!$J$9:$J$40))),ROW($9:$40)),1)+1))=\"\",\n\nIF(LEFT(INDIRECT(\"A\"&MAX(IF($B$1:B61=\"N\",ROW($A$1:A61)))-1),3)=\"nur\",\n\nIF(RIGHT(INDIRECT(\"A\"&MAX(IF($B$1:B61=\"N\",ROW($A$1:A61)))-1),4)=\"PTF!\",\nINDEX('PFB-Konstrukte'!$B$9:$J$40,SMALL(IF(NOT(ISERROR(FIND(IF(LEFT(A61,1)=\"0\",\" \" & MID(A61,2,1) & \",\",IF(MID(A61,3,1)=\".\",LEFT(A61,2),LEFT(A61,3))),'PFB-Konstrukte'!$J$9:$J$40))),ROW($1:$32)),3),1),\nINDEX('PFB-Konstrukte'!$B$9:$J$40,SMALL(IF(NOT(ISERROR(FIND(IF(LEFT(A61,1)=\"0\",\" \" & MID(A61,2,1) & \",\",IF(MID(A61,3,1)=\".\",LEFT(A61,2),LEFT(A61,3))),'PFB-Konstrukte'!$J$9:$J$40))),ROW($1:$32)),2),1)),\n\nIF(RIGHT(INDEX('PFB-Konstrukte'!$A$9:$J$40,SMALL(IF(NOT(ISERROR(FIND(IF(LEFT(A61,1)=\"0\",\" \" & MID(A61,2,1) & \",\",IF(MID(A61,3,1)=\".\",LEFT(A61,2),LEFT(A61,3))),'PFB-Konstrukte'!$J$9:$J$40))),ROW($1:$32)),1),1),7)=\"Führung\",\n\nINDEX('PFB-Konstrukte'!$A$9:$J$40,SMALL(IF(NOT(ISERROR(FIND(IF(LEFT(A61,1)=\"0\",\" \" & MID(A61,2,1) & \",\",IF(MID(A61,3,1)=\".\",LEFT(A61,2),LEFT(A61,3))),'PFB-Konstrukte'!$J$9:$J$40))),ROW($1:$32)),1),1) & \", \n\" & INDEX('PFB-Konstrukte'!$B$9:$J$40,SMALL(IF(NOT(ISERROR(FIND(IF(LEFT(A61,1)=\"0\",\" \" & MID(A61,2,1) & \",\",IF(MID(A61,3,1)=\".\",LEFT(A61,2),LEFT(A61,3))),'PFB-Konstrukte'!$J$9:$J$40))),ROW($1:$32)),2),1),\n\nINDEX('PFB-Konstrukte'!$A$9:$J$40,SMALL(IF(NOT(ISERROR(FIND(IF(LEFT(A61,1)=\"0\",\" \" & MID(A61,2,1) & \",\",IF(MID(A61,3,1)=\".\",LEFT(A61,2),LEFT(A61,3))),'PFB-Konstrukte'!$J$9:$J$40))),ROW($1:$32)),1),1))),\n\nINDEX('PFB-Konstrukte'!$A$9:$J$40,SMALL(IF(NOT(ISERROR(FIND(IF(LEFT(A61,1)=\"0\",\" \" & MID(A61,2,1) & \",\",IF(MID(A61,3,1)=\".\",LEFT(A61,2),LEFT(A61,3))),'PFB-Konstrukte'!$J$9:$J$40))),ROW($1:$32)),1),1))","v":"Konstruktive Unterstützung"}]
["38. Ich ermuntere die Schülerinnen und Schüler, auch bei schwierigen Aufgaben erst einmal selbst die richtige Lösung zu finden.",20,3.7500000000000004,9.9339926779878268E-2,0.44426165831931919,0,0,0.25,0.75,{"$f":"IF(INDIRECT(\"'PFB-Konstrukte'!A\" & (SMALL(IF(NOT(ISERROR(FIND(IF(LEFT(A62,1)=\"0\",\" \" & MID(A62,2,1) & \",\",IF(MID(A62,3,1)=\".\",LEFT(A62,2),LEFT(A62,3))),'PFB-Konstrukte'!$J$9:$J$40))),ROW($9:$40)),1)+1))=\"\",\n\nIF(LEFT(INDIRECT(\"A\"&MAX(IF($B$1:B62=\"N\",ROW($A$1:A62)))-1),3)=\"nur\",\n\nIF(RIGHT(INDIRECT(\"A\"&MAX(IF($B$1:B62=\"N\",ROW($A$1:A62)))-1),4)=\"PTF!\",\nINDEX('PFB-Konstrukte'!$B$9:$J$40,SMALL(IF(NOT(ISERROR(FIND(IF(LEFT(A62,1)=\"0\",\" \" & MID(A62,2,1) & \",\",IF(MID(A62,3,1)=\".\",LEFT(A62,2),LEFT(A62,3))),'PFB-Konstrukte'!$J$9:$J$40))),ROW($1:$32)),3),1),\nINDEX('PFB-Konstrukte'!$B$9:$J$40,SMALL(IF(NOT(ISERROR(FIND(IF(LEFT(A62,1)=\"0\",\" \" & MID(A62,2,1) & \",\",IF(MID(A62,3,1)=\".\",LEFT(A62,2),LEFT(A62,3))),'PFB-Konstrukte'!$J$9:$J$40))),ROW($1:$32)),2),1)),\n\nIF(RIGHT(INDEX('PFB-Konstrukte'!$A$9:$J$40,SMALL(IF(NOT(ISERROR(FIND(IF(LEFT(A62,1)=\"0\",\" \" & MID(A62,2,1) & \",\",IF(MID(A62,3,1)=\".\",LEFT(A62,2),LEFT(A62,3))),'PFB-Konstrukte'!$J$9:$J$40))),ROW($1:$32)),1),1),7)=\"Führung\",\n\nINDEX('PFB-Konstrukte'!$A$9:$J$40,SMALL(IF(NOT(ISERROR(FIND(IF(LEFT(A62,1)=\"0\",\" \" & MID(A62,2,1) & \",\",IF(MID(A62,3,1)=\".\",LEFT(A62,2),LEFT(A62,3))),'PFB-Konstrukte'!$J$9:$J$40))),ROW($1:$32)),1),1) & \", \n\" & INDEX('PFB-Konstrukte'!$B$9:$J$40,SMALL(IF(NOT(ISERROR(FIND(IF(LEFT(A62,1)=\"0\",\" \" & MID(A62,2,1) & \",\",IF(MID(A62,3,1)=\".\",LEFT(A62,2),LEFT(A62,3))),'PFB-Konstrukte'!$J$9:$J$40))),ROW($1:$32)),2),1),\n\nINDEX('PFB-Konstrukte'!$A$9:$J$40,SMALL(IF(NOT(ISERROR(FIND(IF(LEFT(A62,1)=\"0\",\" \" & MID(A62,2,1) & \",\",IF(MID(A62,3,1)=\".\",LEFT(A62,2),LEFT(A62,3))),'PFB-Konstrukte'!$J$9:$J$40))),ROW($1:$32)),1),1))),\n\nINDEX('PFB-Konstrukte'!$A$9:$J$40,SMALL(IF(NOT(ISERROR(FIND(IF(LEFT(A62,1)=\"0\",\" \" & MID(A62,2,1) & \",\",IF(MID(A62,3,1)=\".\",LEFT(A62,2),LEFT(A62,3))),'PFB-Konstrukte'!$J$9:$J$40))),ROW($1:$32)),1),1))","v":"Konstruktive Unterstützung"}]
["39. Ich versuche, die Schülerinnen und Schüler für den Unterrichtsgegenstand zu begeistern.",20,3.85,8.1917802190912534E-2,0.36634754853252327,0,0,0.15,0.85,{"$f":"IF(INDIRECT(\"'PFB-Konstrukte'!A\" & (SMALL(IF(NOT(ISERROR(FIND(IF(LEFT(A63,1)=\"0\",\" \" & MID(A63,2,1) & \",\",IF(MID(A63,3,1)=\".\",LEFT(A63,2),LEFT(A63,3))),'PFB-Konstrukte'!$J$9:$J$40))),ROW($9:$40)),1)+1))=\"\",\n\nIF(LEFT(INDIRECT(\"A\"&MAX(IF($B$1:B63=\"N\",ROW($A$1:A63)))-1),3)=\"nur\",\n\nIF(RIGHT(INDIRECT(\"A\"&MAX(IF($B$1:B63=\"N\",ROW($A$1:A63)))-1),4)=\"PTF!\",\nINDEX('PFB-Konstrukte'!$B$9:$J$40,SMALL(IF(NOT(ISERROR(FIND(IF(LEFT(A63,1)=\"0\",\" \" & MID(A63,2,1) & \",\",IF(MID(A63,3,1)=\".\",LEFT(A63,2),LEFT(A63,3))),'PFB-Konstrukte'!$J$9:$J$40))),ROW($1:$32)),3),1),\nINDEX('PFB-Konstrukte'!$B$9:$J$40,SMALL(IF(NOT(ISERROR(FIND(IF(LEFT(A63,1)=\"0\",\" \" & MID(A63,2,1) & \",\",IF(MID(A63,3,1)=\".\",LEFT(A63,2),LEFT(A63,3))),'PFB-Konstrukte'!$J$9:$J$40))),ROW($1:$32)),2),1)),\n\nIF(RIGHT(INDEX('PFB-Konstrukte'!$A$9:$J$40,SMALL(IF(NOT(ISERROR(FIND(IF(LEFT(A63,1)=\"0\",\" \" & MID(A63,2,1) & \",\",IF(MID(A63,3,1)=\".\",LEFT(A63,2),LEFT(A63,3))),'PFB-Konstrukte'!$J$9:$J$40))),ROW($1:$32)),1),1),7)=\"Führung\",\n\nINDEX('PFB-Konstrukte'!$A$9:$J$40,SMALL(IF(NOT(ISERROR(FIND(IF(LEFT(A63,1)=\"0\",\" \" & MID(A63,2,1) & \",\",IF(MID(A63,3,1)=\".\",LEFT(A63,2),LEFT(A63,3))),'PFB-Konstrukte'!$J$9:$J$40))),ROW($1:$32)),1),1) & \", \n\" & INDEX('PFB-Konstrukte'!$B$9:$J$40,SMALL(IF(NOT(ISERROR(FIND(IF(LEFT(A63,1)=\"0\",\" \" & MID(A63,2,1) & \",\",IF(MID(A63,3,1)=\".\",LEFT(A63,2),LEFT(A63,3))),'PFB-Konstrukte'!$J$9:$J$40))),ROW($1:$32)),2),1),\n\nINDEX('PFB-Konstrukte'!$A$9:$J$40,SMALL(IF(NOT(ISERROR(FIND(IF(LEFT(A63,1)=\"0\",\" \" & MID(A63,2,1) & \",\",IF(MID(A63,3,1)=\".\",LEFT(A63,2),LEFT(A63,3))),'PFB-Konstrukte'!$J$9:$J$40))),ROW($1:$32)),1),1))),\n\nINDEX('PFB-Konstrukte'!$A$9:$J$40,SMALL(IF(NOT(ISERROR(FIND(IF(LEFT(A63,1)=\"0\",\" \" & MID(A63,2,1) & \",\",IF(MID(A63,3,1)=\".\",LEFT(A63,2),LEFT(A63,3))),'PFB-Konstrukte'!$J$9:$J$40))),ROW($1:$32)),1),1))","v":"Konstruktive Unterstützung"}]
["40. Ich gebe den Schülerinnen und Schülern Aufgaben entsprechend ihrer individuellen Fähigkeiten.",21,3.4761904761904763,0.11167656571008168,0.51176631571915909,0,0,0.52380952380952384,0.47619047619047611,{"$f":"IF(INDIRECT(\"'PFB-Konstrukte'!A\" & (SMALL(IF(NOT(ISERROR(FIND(IF(LEFT(A64,1)=\"0\",\" \" & MID(A64,2,1) & \",\",IF(MID(A64,3,1)=\".\",LEFT(A64,2),LEFT(A64,3))),'PFB-Konstrukte'!$J$9:$J$40))),ROW($9:$40)),1)+1))=\"\",\n\nIF(LEFT(INDIRECT(\"A\"&MAX(IF($B$1:B64=\"N\",ROW($A$1:A64)))-1),3)=\"nur\",\n\nIF(RIGHT(INDIRECT(\"A\"&MAX(IF($B$1:B64=\"N\",ROW($A$1:A64)))-1),4)=\"PTF!\",\nINDEX('PFB-Konstrukte'!$B$9:$J$40,SMALL(IF(NOT(ISERROR(FIND(IF(LEFT(A64,1)=\"0\",\" \" & MID(A64,2,1) & \",\",IF(MID(A64,3,1)=\".\",LEFT(A64,2),LEFT(A64,3))),'PFB-Konstrukte'!$J$9:$J$40))),ROW($1:$32)),3),1),\nINDEX('PFB-Konstrukte'!$B$9:$J$40,SMALL(IF(NOT(ISERROR(FIND(IF(LEFT(A64,1)=\"0\",\" \" & MID(A64,2,1) & \",\",IF(MID(A64,3,1)=\".\",LEFT(A64,2),LEFT(A64,3))),'PFB-Konstrukte'!$J$9:$J$40))),ROW($1:$32)),2),1)),\n\nIF(RIGHT(INDEX('PFB-Konstrukte'!$A$9:$J$40,SMALL(IF(NOT(ISERROR(FIND(IF(LEFT(A64,1)=\"0\",\" \" & MID(A64,2,1) & \",\",IF(MID(A64,3,1)=\".\",LEFT(A64,2),LEFT(A64,3))),'PFB-Konstrukte'!$J$9:$J$40))),ROW($1:$32)),1),1),7)=\"Führung\",\n\nINDEX('PFB-Konstrukte'!$A$9:$J$40,SMALL(IF(NOT(ISERROR(FIND(IF(LEFT(A64,1)=\"0\",\" \" & MID(A64,2,1) & \",\",IF(MID(A64,3,1)=\".\",LEFT(A64,2),LEFT(A64,3))),'PFB-Konstrukte'!$J$9:$J$40))),ROW($1:$32)),1),1) & \", \n\" & INDEX('PFB-Konstrukte'!$B$9:$J$40,SMALL(IF(NOT(ISERROR(FIND(IF(LEFT(A64,1)=\"0\",\" \" & MID(A64,2,1) & \",\",IF(MID(A64,3,1)=\".\",LEFT(A64,2),LEFT(A64,3))),'PFB-Konstrukte'!$J$9:$J$40))),ROW($1:$32)),2),1),\n\nINDEX('PFB-Konstrukte'!$A$9:$J$40,SMALL(IF(NOT(ISERROR(FIND(IF(LEFT(A64,1)=\"0\",\" \" & MID(A64,2,1) & \",\",IF(MID(A64,3,1)=\".\",LEFT(A64,2),LEFT(A64,3))),'PFB-Konstrukte'!$J$9:$J$40))),ROW($1:$32)),1),1))),\n\nINDEX('PFB-Konstrukte'!$A$9:$J$40,SMALL(IF(NOT(ISERROR(FIND(IF(LEFT(A64,1)=\"0\",\" \" & MID(A64,2,1) & \",\",IF(MID(A64,3,1)=\".\",LEFT(A64,2),LEFT(A64,3))),'PFB-Konstrukte'!$J$9:$J$40))),ROW($1:$32)),1),1))","v":"Konstruktive Unterstützung"}]
["41. Ich gestalte den Unterricht so, dass die Schülerinnen und Schüler individuell lernen können.",20,3.5000000000000004,0.11470786693528084,0.51298917604257688,0,0,0.5,0.5,{"$f":"IF(INDIRECT(\"'PFB-Konstrukte'!A\" & (SMALL(IF(NOT(ISERROR(FIND(IF(LEFT(A65,1)=\"0\",\" \" & MID(A65,2,1) & \",\",IF(MID(A65,3,1)=\".\",LEFT(A65,2),LEFT(A65,3))),'PFB-Konstrukte'!$J$9:$J$40))),ROW($9:$40)),1)+1))=\"\",\n\nIF(LEFT(INDIRECT(\"A\"&MAX(IF($B$1:B65=\"N\",ROW($A$1:A65)))-1),3)=\"nur\",\n\nIF(RIGHT(INDIRECT(\"A\"&MAX(IF($B$1:B65=\"N\",ROW($A$1:A65)))-1),4)=\"PTF!\",\nINDEX('PFB-Konstrukte'!$B$9:$J$40,SMALL(IF(NOT(ISERROR(FIND(IF(LEFT(A65,1)=\"0\",\" \" & MID(A65,2,1) & \",\",IF(MID(A65,3,1)=\".\",LEFT(A65,2),LEFT(A65,3))),'PFB-Konstrukte'!$J$9:$J$40))),ROW($1:$32)),3),1),\nINDEX('PFB-Konstrukte'!$B$9:$J$40,SMALL(IF(NOT(ISERROR(FIND(IF(LEFT(A65,1)=\"0\",\" \" & MID(A65,2,1) & \",\",IF(MID(A65,3,1)=\".\",LEFT(A65,2),LEFT(A65,3))),'PFB-Konstrukte'!$J$9:$J$40))),ROW($1:$32)),2),1)),\n\nIF(RIGHT(INDEX('PFB-Konstrukte'!$A$9:$J$40,SMALL(IF(NOT(ISERROR(FIND(IF(LEFT(A65,1)=\"0\",\" \" & MID(A65,2,1) & \",\",IF(MID(A65,3,1)=\".\",LEFT(A65,2),LEFT(A65,3))),'PFB-Konstrukte'!$J$9:$J$40))),ROW($1:$32)),1),1),7)=\"Führung\",\n\nINDEX('PFB-Konstrukte'!$A$9:$J$40,SMALL(IF(NOT(ISERROR(FIND(IF(LEFT(A65,1)=\"0\",\" \" & MID(A65,2,1) & \",\",IF(MID(A65,3,1)=\".\",LEFT(A65,2),LEFT(A65,3))),'PFB-Konstrukte'!$J$9:$J$40))),ROW($1:$32)),1),1) & \", \n\" & INDEX('PFB-Konstrukte'!$B$9:$J$40,SMALL(IF(NOT(ISERROR(FIND(IF(LEFT(A65,1)=\"0\",\" \" & MID(A65,2,1) & \",\",IF(MID(A65,3,1)=\".\",LEFT(A65,2),LEFT(A65,3))),'PFB-Konstrukte'!$J$9:$J$40))),ROW($1:$32)),2),1),\n\nINDEX('PFB-Konstrukte'!$A$9:$J$40,SMALL(IF(NOT(ISERROR(FIND(IF(LEFT(A65,1)=\"0\",\" \" & MID(A65,2,1) & \",\",IF(MID(A65,3,1)=\".\",LEFT(A65,2),LEFT(A65,3))),'PFB-Konstrukte'!$J$9:$J$40))),ROW($1:$32)),1),1))),\n\nINDEX('PFB-Konstrukte'!$A$9:$J$40,SMALL(IF(NOT(ISERROR(FIND(IF(LEFT(A65,1)=\"0\",\" \" & MID(A65,2,1) & \",\",IF(MID(A65,3,1)=\".\",LEFT(A65,2),LEFT(A65,3))),'PFB-Konstrukte'!$J$9:$J$40))),ROW($1:$32)),1),1))","v":"Konstruktive Unterstützung"}]
["42. Im Unterricht gebe ich den Schülerinnen und Schülern individuelle Hinweise, wie sie sich verbessern können.",20,3.6999999999999993,0.12773327473170104,0.57124057057747946,0,0.05,0.2,0.75,{"$f":"IF(INDIRECT(\"'PFB-Konstrukte'!A\" & (SMALL(IF(NOT(ISERROR(FIND(IF(LEFT(A66,1)=\"0\",\" \" & MID(A66,2,1) & \",\",IF(MID(A66,3,1)=\".\",LEFT(A66,2),LEFT(A66,3))),'PFB-Konstrukte'!$J$9:$J$40))),ROW($9:$40)),1)+1))=\"\",\n\nIF(LEFT(INDIRECT(\"A\"&MAX(IF($B$1:B66=\"N\",ROW($A$1:A66)))-1),3)=\"nur\",\n\nIF(RIGHT(INDIRECT(\"A\"&MAX(IF($B$1:B66=\"N\",ROW($A$1:A66)))-1),4)=\"PTF!\",\nINDEX('PFB-Konstrukte'!$B$9:$J$40,SMALL(IF(NOT(ISERROR(FIND(IF(LEFT(A66,1)=\"0\",\" \" & MID(A66,2,1) & \",\",IF(MID(A66,3,1)=\".\",LEFT(A66,2),LEFT(A66,3))),'PFB-Konstrukte'!$J$9:$J$40))),ROW($1:$32)),3),1),\nINDEX('PFB-Konstrukte'!$B$9:$J$40,SMALL(IF(NOT(ISERROR(FIND(IF(LEFT(A66,1)=\"0\",\" \" & MID(A66,2,1) & \",\",IF(MID(A66,3,1)=\".\",LEFT(A66,2),LEFT(A66,3))),'PFB-Konstrukte'!$J$9:$J$40))),ROW($1:$32)),2),1)),\n\nIF(RIGHT(INDEX('PFB-Konstrukte'!$A$9:$J$40,SMALL(IF(NOT(ISERROR(FIND(IF(LEFT(A66,1)=\"0\",\" \" & MID(A66,2,1) & \",\",IF(MID(A66,3,1)=\".\",LEFT(A66,2),LEFT(A66,3))),'PFB-Konstrukte'!$J$9:$J$40))),ROW($1:$32)),1),1),7)=\"Führung\",\n\nINDEX('PFB-Konstrukte'!$A$9:$J$40,SMALL(IF(NOT(ISERROR(FIND(IF(LEFT(A66,1)=\"0\",\" \" & MID(A66,2,1) & \",\",IF(MID(A66,3,1)=\".\",LEFT(A66,2),LEFT(A66,3))),'PFB-Konstrukte'!$J$9:$J$40))),ROW($1:$32)),1),1) & \", \n\" & INDEX('PFB-Konstrukte'!$B$9:$J$40,SMALL(IF(NOT(ISERROR(FIND(IF(LEFT(A66,1)=\"0\",\" \" & MID(A66,2,1) & \",\",IF(MID(A66,3,1)=\".\",LEFT(A66,2),LEFT(A66,3))),'PFB-Konstrukte'!$J$9:$J$40))),ROW($1:$32)),2),1),\n\nINDEX('PFB-Konstrukte'!$A$9:$J$40,SMALL(IF(NOT(ISERROR(FIND(IF(LEFT(A66,1)=\"0\",\" \" & MID(A66,2,1) & \",\",IF(MID(A66,3,1)=\".\",LEFT(A66,2),LEFT(A66,3))),'PFB-Konstrukte'!$J$9:$J$40))),ROW($1:$32)),1),1))),\n\nINDEX('PFB-Konstrukte'!$A$9:$J$40,SMALL(IF(NOT(ISERROR(FIND(IF(LEFT(A66,1)=\"0\",\" \" & MID(A66,2,1) & \",\",IF(MID(A66,3,1)=\".\",LEFT(A66,2),LEFT(A66,3))),'PFB-Konstrukte'!$J$9:$J$40))),ROW($1:$32)),1),1))","v":"Konstruktive Unterstützung"}]
["43. Ich bemühe mich, individuelle Lernfortschritte zu ermöglichen.",21,3.666666666666667,0.10540925533894596,0.48304589153964789,0,0,0.33333333333333326,0.66666666666666652,{"$f":"IF(INDIRECT(\"'PFB-Konstrukte'!A\" & (SMALL(IF(NOT(ISERROR(FIND(IF(LEFT(A67,1)=\"0\",\" \" & MID(A67,2,1) & \",\",IF(MID(A67,3,1)=\".\",LEFT(A67,2),LEFT(A67,3))),'PFB-Konstrukte'!$J$9:$J$40))),ROW($9:$40)),1)+1))=\"\",\n\nIF(LEFT(INDIRECT(\"A\"&MAX(IF($B$1:B67=\"N\",ROW($A$1:A67)))-1),3)=\"nur\",\n\nIF(RIGHT(INDIRECT(\"A\"&MAX(IF($B$1:B67=\"N\",ROW($A$1:A67)))-1),4)=\"PTF!\",\nINDEX('PFB-Konstrukte'!$B$9:$J$40,SMALL(IF(NOT(ISERROR(FIND(IF(LEFT(A67,1)=\"0\",\" \" & MID(A67,2,1) & \",\",IF(MID(A67,3,1)=\".\",LEFT(A67,2),LEFT(A67,3))),'PFB-Konstrukte'!$J$9:$J$40))),ROW($1:$32)),3),1),\nINDEX('PFB-Konstrukte'!$B$9:$J$40,SMALL(IF(NOT(ISERROR(FIND(IF(LEFT(A67,1)=\"0\",\" \" & MID(A67,2,1) & \",\",IF(MID(A67,3,1)=\".\",LEFT(A67,2),LEFT(A67,3))),'PFB-Konstrukte'!$J$9:$J$40))),ROW($1:$32)),2),1)),\n\nIF(RIGHT(INDEX('PFB-Konstrukte'!$A$9:$J$40,SMALL(IF(NOT(ISERROR(FIND(IF(LEFT(A67,1)=\"0\",\" \" & MID(A67,2,1) & \",\",IF(MID(A67,3,1)=\".\",LEFT(A67,2),LEFT(A67,3))),'PFB-Konstrukte'!$J$9:$J$40))),ROW($1:$32)),1),1),7)=\"Führung\",\n\nINDEX('PFB-Konstrukte'!$A$9:$J$40,SMALL(IF(NOT(ISERROR(FIND(IF(LEFT(A67,1)=\"0\",\" \" & MID(A67,2,1) & \",\",IF(MID(A67,3,1)=\".\",LEFT(A67,2),LEFT(A67,3))),'PFB-Konstrukte'!$J$9:$J$40))),ROW($1:$32)),1),1) & \", \n\" & INDEX('PFB-Konstrukte'!$B$9:$J$40,SMALL(IF(NOT(ISERROR(FIND(IF(LEFT(A67,1)=\"0\",\" \" & MID(A67,2,1) & \",\",IF(MID(A67,3,1)=\".\",LEFT(A67,2),LEFT(A67,3))),'PFB-Konstrukte'!$J$9:$J$40))),ROW($1:$32)),2),1),\n\nINDEX('PFB-Konstrukte'!$A$9:$J$40,SMALL(IF(NOT(ISERROR(FIND(IF(LEFT(A67,1)=\"0\",\" \" & MID(A67,2,1) & \",\",IF(MID(A67,3,1)=\".\",LEFT(A67,2),LEFT(A67,3))),'PFB-Konstrukte'!$J$9:$J$40))),ROW($1:$32)),1),1))),\n\nINDEX('PFB-Konstrukte'!$A$9:$J$40,SMALL(IF(NOT(ISERROR(FIND(IF(LEFT(A67,1)=\"0\",\" \" & MID(A67,2,1) & \",\",IF(MID(A67,3,1)=\".\",LEFT(A67,2),LEFT(A67,3))),'PFB-Konstrukte'!$J$9:$J$40))),ROW($1:$32)),1),1))","v":"Konstruktive Unterstützung"}]
[]
[null,"N","MW","SE","SD","trifft\nnicht zu","trifft eher\nnicht zu","trifft\neher zu","trifft\nvoll zu","Zuordnung zum Konstrukt"]
["44. Ich bespreche den Ablauf der Stunde mit den Schülerinnen und Schülern.",15,3,0.13801311186847084,0.53452248382484879,0,0.13333333333333333,0.73333333333333328,0.13333333333333333,{"$f":"IF(INDIRECT(\"'PFB-Konstrukte'!A\" & (SMALL(IF(NOT(ISERROR(FIND(IF(LEFT(A70,1)=\"0\",\" \" & MID(A70,2,1) & \",\",IF(MID(A70,3,1)=\".\",LEFT(A70,2),LEFT(A70,3))),'PFB-Konstrukte'!$J$9:$J$40))),ROW($9:$40)),1)+1))=\"\",\n\nIF(LEFT(INDIRECT(\"A\"&MAX(IF($B$1:B70=\"N\",ROW($A$1:A70)))-1),3)=\"nur\",\n\nIF(RIGHT(INDIRECT(\"A\"&MAX(IF($B$1:B70=\"N\",ROW($A$1:A70)))-1),4)=\"PTF!\",\nINDEX('PFB-Konstrukte'!$B$9:$J$40,SMALL(IF(NOT(ISERROR(FIND(IF(LEFT(A70,1)=\"0\",\" \" & MID(A70,2,1) & \",\",IF(MID(A70,3,1)=\".\",LEFT(A70,2),LEFT(A70,3))),'PFB-Konstrukte'!$J$9:$J$40))),ROW($1:$32)),3),1),\nINDEX('PFB-Konstrukte'!$B$9:$J$40,SMALL(IF(NOT(ISERROR(FIND(IF(LEFT(A70,1)=\"0\",\" \" & MID(A70,2,1) & \",\",IF(MID(A70,3,1)=\".\",LEFT(A70,2),LEFT(A70,3))),'PFB-Konstrukte'!$J$9:$J$40))),ROW($1:$32)),2),1)),\n\nIF(RIGHT(INDEX('PFB-Konstrukte'!$A$9:$J$40,SMALL(IF(NOT(ISERROR(FIND(IF(LEFT(A70,1)=\"0\",\" \" & MID(A70,2,1) & \",\",IF(MID(A70,3,1)=\".\",LEFT(A70,2),LEFT(A70,3))),'PFB-Konstrukte'!$J$9:$J$40))),ROW($1:$32)),1),1),7)=\"Führung\",\n\nINDEX('PFB-Konstrukte'!$A$9:$J$40,SMALL(IF(NOT(ISERROR(FIND(IF(LEFT(A70,1)=\"0\",\" \" & MID(A70,2,1) & \",\",IF(MID(A70,3,1)=\".\",LEFT(A70,2),LEFT(A70,3))),'PFB-Konstrukte'!$J$9:$J$40))),ROW($1:$32)),1),1) & \", \n\" & INDEX('PFB-Konstrukte'!$B$9:$J$40,SMALL(IF(NOT(ISERROR(FIND(IF(LEFT(A70,1)=\"0\",\" \" & MID(A70,2,1) & \",\",IF(MID(A70,3,1)=\".\",LEFT(A70,2),LEFT(A70,3))),'PFB-Konstrukte'!$J$9:$J$40))),ROW($1:$32)),2),1),\n\nINDEX('PFB-Konstrukte'!$A$9:$J$40,SMALL(IF(NOT(ISERROR(FIND(IF(LEFT(A70,1)=\"0\",\" \" & MID(A70,2,1) & \",\",IF(MID(A70,3,1)=\".\",LEFT(A70,2),LEFT(A70,3))),'PFB-Konstrukte'!$J$9:$J$40))),ROW($1:$32)),1),1))),\n\nINDEX('PFB-Konstrukte'!$A$9:$J$40,SMALL(IF(NOT(ISERROR(FIND(IF(LEFT(A70,1)=\"0\",\" \" & MID(A70,2,1) & \",\",IF(MID(A70,3,1)=\".\",LEFT(A70,2),LEFT(A70,3))),'PFB-Konstrukte'!$J$9:$J$40))),ROW($1:$32)),1),1))","v":"Klassenführung"}]
["45. Ich gebe den Schülerinnen und Schülern zu Beginn der Stunde eine Übersicht darüber, was in der Stunde gelernt werden soll.",15,3.0666666666666669,0.15327120894696267,0.59361683970466361,0,0.13333333333333333,0.66666666666666652,0.2,{"$f":"IF(INDIRECT(\"'PFB-Konstrukte'!A\" & (SMALL(IF(NOT(ISERROR(FIND(IF(LEFT(A71,1)=\"0\",\" \" & MID(A71,2,1) & \",\",IF(MID(A71,3,1)=\".\",LEFT(A71,2),LEFT(A71,3))),'PFB-Konstrukte'!$J$9:$J$40))),ROW($9:$40)),1)+1))=\"\",\n\nIF(LEFT(INDIRECT(\"A\"&MAX(IF($B$1:B71=\"N\",ROW($A$1:A71)))-1),3)=\"nur\",\n\nIF(RIGHT(INDIRECT(\"A\"&MAX(IF($B$1:B71=\"N\",ROW($A$1:A71)))-1),4)=\"PTF!\",\nINDEX('PFB-Konstrukte'!$B$9:$J$40,SMALL(IF(NOT(ISERROR(FIND(IF(LEFT(A71,1)=\"0\",\" \" & MID(A71,2,1) & \",\",IF(MID(A71,3,1)=\".\",LEFT(A71,2),LEFT(A71,3))),'PFB-Konstrukte'!$J$9:$J$40))),ROW($1:$32)),3),1),\nINDEX('PFB-Konstrukte'!$B$9:$J$40,SMALL(IF(NOT(ISERROR(FIND(IF(LEFT(A71,1)=\"0\",\" \" & MID(A71,2,1) & \",\",IF(MID(A71,3,1)=\".\",LEFT(A71,2),LEFT(A71,3))),'PFB-Konstrukte'!$J$9:$J$40))),ROW($1:$32)),2),1)),\n\nIF(RIGHT(INDEX('PFB-Konstrukte'!$A$9:$J$40,SMALL(IF(NOT(ISERROR(FIND(IF(LEFT(A71,1)=\"0\",\" \" & MID(A71,2,1) & \",\",IF(MID(A71,3,1)=\".\",LEFT(A71,2),LEFT(A71,3))),'PFB-Konstrukte'!$J$9:$J$40))),ROW($1:$32)),1),1),7)=\"Führung\",\n\nINDEX('PFB-Konstrukte'!$A$9:$J$40,SMALL(IF(NOT(ISERROR(FIND(IF(LEFT(A71,1)=\"0\",\" \" & MID(A71,2,1) & \",\",IF(MID(A71,3,1)=\".\",LEFT(A71,2),LEFT(A71,3))),'PFB-Konstrukte'!$J$9:$J$40))),ROW($1:$32)),1),1) & \", \n\" & INDEX('PFB-Konstrukte'!$B$9:$J$40,SMALL(IF(NOT(ISERROR(FIND(IF(LEFT(A71,1)=\"0\",\" \" & MID(A71,2,1) & \",\",IF(MID(A71,3,1)=\".\",LEFT(A71,2),LEFT(A71,3))),'PFB-Konstrukte'!$J$9:$J$40))),ROW($1:$32)),2),1),\n\nINDEX('PFB-Konstrukte'!$A$9:$J$40,SMALL(IF(NOT(ISERROR(FIND(IF(LEFT(A71,1)=\"0\",\" \" & MID(A71,2,1) & \",\",IF(MID(A71,3,1)=\".\",LEFT(A71,2),LEFT(A71,3))),'PFB-Konstrukte'!$J$9:$J$40))),ROW($1:$32)),1),1))),\n\nINDEX('PFB-Konstrukte'!$A$9:$J$40,SMALL(IF(NOT(ISERROR(FIND(IF(LEFT(A71,1)=\"0\",\" \" & MID(A71,2,1) & \",\",IF(MID(A71,3,1)=\".\",LEFT(A71,2),LEFT(A71,3))),'PFB-Konstrukte'!$J$9:$J$40))),ROW($1:$32)),1),1))","v":"Klassenführung"}]
["46. Die Schülerinnen und Schüler hören im Unterricht zu.",20,3.2000000000000006,0.11697953037312032,0.52314836378059681,0,0.05,0.7,0.25,{"$f":"IF(INDIRECT(\"'PFB-Konstrukte'!A\" & (SMALL(IF(NOT(ISERROR(FIND(IF(LEFT(A72,1)=\"0\",\" \" & MID(A72,2,1) & \",\",IF(MID(A72,3,1)=\".\",LEFT(A72,2),LEFT(A72,3))),'PFB-Konstrukte'!$J$9:$J$40))),ROW($9:$40)),1)+1))=\"\",\n\nIF(LEFT(INDIRECT(\"A\"&MAX(IF($B$1:B72=\"N\",ROW($A$1:A72)))-1),3)=\"nur\",\n\nIF(RIGHT(INDIRECT(\"A\"&MAX(IF($B$1:B72=\"N\",ROW($A$1:A72)))-1),4)=\"PTF!\",\nINDEX('PFB-Konstrukte'!$B$9:$J$40,SMALL(IF(NOT(ISERROR(FIND(IF(LEFT(A72,1)=\"0\",\" \" & MID(A72,2,1) & \",\",IF(MID(A72,3,1)=\".\",LEFT(A72,2),LEFT(A72,3))),'PFB-Konstrukte'!$J$9:$J$40))),ROW($1:$32)),3),1),\nINDEX('PFB-Konstrukte'!$B$9:$J$40,SMALL(IF(NOT(ISERROR(FIND(IF(LEFT(A72,1)=\"0\",\" \" & MID(A72,2,1) & \",\",IF(MID(A72,3,1)=\".\",LEFT(A72,2),LEFT(A72,3))),'PFB-Konstrukte'!$J$9:$J$40))),ROW($1:$32)),2),1)),\n\nIF(RIGHT(INDEX('PFB-Konstrukte'!$A$9:$J$40,SMALL(IF(NOT(ISERROR(FIND(IF(LEFT(A72,1)=\"0\",\" \" & MID(A72,2,1) & \",\",IF(MID(A72,3,1)=\".\",LEFT(A72,2),LEFT(A72,3))),'PFB-Konstrukte'!$J$9:$J$40))),ROW($1:$32)),1),1),7)=\"Führung\",\n\nINDEX('PFB-Konstrukte'!$A$9:$J$40,SMALL(IF(NOT(ISERROR(FIND(IF(LEFT(A72,1)=\"0\",\" \" & MID(A72,2,1) & \",\",IF(MID(A72,3,1)=\".\",LEFT(A72,2),LEFT(A72,3))),'PFB-Konstrukte'!$J$9:$J$40))),ROW($1:$32)),1),1) & \", \n\" & INDEX('PFB-Konstrukte'!$B$9:$J$40,SMALL(IF(NOT(ISERROR(FIND(IF(LEFT(A72,1)=\"0\",\" \" & MID(A72,2,1) & \",\",IF(MID(A72,3,1)=\".\",LEFT(A72,2),LEFT(A72,3))),'PFB-Konstrukte'!$J$9:$J$40))),ROW($1:$32)),2),1),\n\nINDEX('PFB-Konstrukte'!$A$9:$J$40,SMALL(IF(NOT(ISERROR(FIND(IF(LEFT(A72,1)=\"0\",\" \" & MID(A72,2,1) & \",\",IF(MID(A72,3,1)=\".\",LEFT(A72,2),LEFT(A72,3))),'PFB-Konstrukte'!$J$9:$J$40))),ROW($1:$32)),1),1))),\n\nINDEX('PFB-Konstrukte'!$A$9:$J$40,SMALL(IF(NOT(ISERROR(FIND(IF(LEFT(A72,1)=\"0\",\" \" & MID(A72,2,1) & \",\",IF(MID(A72,3,1)=\".\",LEFT(A72,2),LEFT(A72,3))),'PFB-Konstrukte'!$J$9:$J$40))),ROW($1:$32)),1),1))","v":"Klassenführung"}]
["47. Im Unterricht ist es laut und unruhig.",20,2.15,0.13128915456069915,0.58714294861239968,0.1,0.65,0.25,0,{"$f":"IF(INDIRECT(\"'PFB-Konstrukte'!A\" & (SMALL(IF(NOT(ISERROR(FIND(IF(LEFT(A73,1)=\"0\",\" \" & MID(A73,2,1) & \",\",IF(MID(A73,3,1)=\".\",LEFT(A73,2),LEFT(A73,3))),'PFB-Konstrukte'!$J$9:$J$40))),ROW($9:$40)),1)+1))=\"\",\n\nIF(LEFT(INDIRECT(\"A\"&MAX(IF($B$1:B73=\"N\",ROW($A$1:A73)))-1),3)=\"nur\",\n\nIF(RIGHT(INDIRECT(\"A\"&MAX(IF($B$1:B73=\"N\",ROW($A$1:A73)))-1),4)=\"PTF!\",\nINDEX('PFB-Konstrukte'!$B$9:$J$40,SMALL(IF(NOT(ISERROR(FIND(IF(LEFT(A73,1)=\"0\",\" \" & MID(A73,2,1) & \",\",IF(MID(A73,3,1)=\".\",LEFT(A73,2),LEFT(A73,3))),'PFB-Konstrukte'!$J$9:$J$40))),ROW($1:$32)),3),1),\nINDEX('PFB-Konstrukte'!$B$9:$J$40,SMALL(IF(NOT(ISERROR(FIND(IF(LEFT(A73,1)=\"0\",\" \" & MID(A73,2,1) & \",\",IF(MID(A73,3,1)=\".\",LEFT(A73,2),LEFT(A73,3))),'PFB-Konstrukte'!$J$9:$J$40))),ROW($1:$32)),2),1)),\n\nIF(RIGHT(INDEX('PFB-Konstrukte'!$A$9:$J$40,SMALL(IF(NOT(ISERROR(FIND(IF(LEFT(A73,1)=\"0\",\" \" & MID(A73,2,1) & \",\",IF(MID(A73,3,1)=\".\",LEFT(A73,2),LEFT(A73,3))),'PFB-Konstrukte'!$J$9:$J$40))),ROW($1:$32)),1),1),7)=\"Führung\",\n\nINDEX('PFB-Konstrukte'!$A$9:$J$40,SMALL(IF(NOT(ISERROR(FIND(IF(LEFT(A73,1)=\"0\",\" \" & MID(A73,2,1) & \",\",IF(MID(A73,3,1)=\".\",LEFT(A73,2),LEFT(A73,3))),'PFB-Konstrukte'!$J$9:$J$40))),ROW($1:$32)),1),1) & \", \n\" & INDEX('PFB-Konstrukte'!$B$9:$J$40,SMALL(IF(NOT(ISERROR(FIND(IF(LEFT(A73,1)=\"0\",\" \" & MID(A73,2,1) & \",\",IF(MID(A73,3,1)=\".\",LEFT(A73,2),LEFT(A73,3))),'PFB-Konstrukte'!$J$9:$J$40))),ROW($1:$32)),2),1),\n\nINDEX('PFB-Konstrukte'!$A$9:$J$40,SMALL(IF(NOT(ISERROR(FIND(IF(LEFT(A73,1)=\"0\",\" \" & MID(A73,2,1) & \",\",IF(MID(A73,3,1)=\".\",LEFT(A73,2),LEFT(A73,3))),'PFB-Konstrukte'!$J$9:$J$40))),ROW($1:$32)),1),1))),\n\nINDEX('PFB-Konstrukte'!$A$9:$J$40,SMALL(IF(NOT(ISERROR(FIND(IF(LEFT(A73,1)=\"0\",\" \" & MID(A73,2,1) & \",\",IF(MID(A73,3,1)=\".\",LEFT(A73,2),LEFT(A73,3))),'PFB-Konstrukte'!$J$9:$J$40))),ROW($1:$32)),1),1))","v":"Klassenführung"}]
["48. Ich stütze die Organisation des Unterrichts über Rituale und Prozeduren.",18,3.7777777777777768,0.10083169033033673,0.42779263194649875,0,0,0.22222222222222221,0.7777777777777779,{"$f":"IF(INDIRECT(\"'PFB-Konstrukte'!A\" & (SMALL(IF(NOT(ISERROR(FIND(IF(LEFT(A74,1)=\"0\",\" \" & MID(A74,2,1) & \",\",IF(MID(A74,3,1)=\".\",LEFT(A74,2),LEFT(A74,3))),'PFB-Konstrukte'!$J$9:$J$40))),ROW($9:$40)),1)+1))=\"\",\n\nIF(LEFT(INDIRECT(\"A\"&MAX(IF($B$1:B74=\"N\",ROW($A$1:A74)))-1),3)=\"nur\",\n\nIF(RIGHT(INDIRECT(\"A\"&MAX(IF($B$1:B74=\"N\",ROW($A$1:A74)))-1),4)=\"PTF!\",\nINDEX('PFB-Konstrukte'!$B$9:$J$40,SMALL(IF(NOT(ISERROR(FIND(IF(LEFT(A74,1)=\"0\",\" \" & MID(A74,2,1) & \",\",IF(MID(A74,3,1)=\".\",LEFT(A74,2),LEFT(A74,3))),'PFB-Konstrukte'!$J$9:$J$40))),ROW($1:$32)),3),1),\nINDEX('PFB-Konstrukte'!$B$9:$J$40,SMALL(IF(NOT(ISERROR(FIND(IF(LEFT(A74,1)=\"0\",\" \" & MID(A74,2,1) & \",\",IF(MID(A74,3,1)=\".\",LEFT(A74,2),LEFT(A74,3))),'PFB-Konstrukte'!$J$9:$J$40))),ROW($1:$32)),2),1)),\n\nIF(RIGHT(INDEX('PFB-Konstrukte'!$A$9:$J$40,SMALL(IF(NOT(ISERROR(FIND(IF(LEFT(A74,1)=\"0\",\" \" & MID(A74,2,1) & \",\",IF(MID(A74,3,1)=\".\",LEFT(A74,2),LEFT(A74,3))),'PFB-Konstrukte'!$J$9:$J$40))),ROW($1:$32)),1),1),7)=\"Führung\",\n\nINDEX('PFB-Konstrukte'!$A$9:$J$40,SMALL(IF(NOT(ISERROR(FIND(IF(LEFT(A74,1)=\"0\",\" \" & MID(A74,2,1) & \",\",IF(MID(A74,3,1)=\".\",LEFT(A74,2),LEFT(A74,3))),'PFB-Konstrukte'!$J$9:$J$40))),ROW($1:$32)),1),1) & \", \n\" & INDEX('PFB-Konstrukte'!$B$9:$J$40,SMALL(IF(NOT(ISERROR(FIND(IF(LEFT(A74,1)=\"0\",\" \" & MID(A74,2,1) & \",\",IF(MID(A74,3,1)=\".\",LEFT(A74,2),LEFT(A74,3))),'PFB-Konstrukte'!$J$9:$J$40))),ROW($1:$32)),2),1),\n\nINDEX('PFB-Konstrukte'!$A$9:$J$40,SMALL(IF(NOT(ISERROR(FIND(IF(LEFT(A74,1)=\"0\",\" \" & MID(A74,2,1) & \",\",IF(MID(A74,3,1)=\".\",LEFT(A74,2),LEFT(A74,3))),'PFB-Konstrukte'!$J$9:$J$40))),ROW($1:$32)),1),1))),\n\nINDEX('PFB-Konstrukte'!$A$9:$J$40,SMALL(IF(NOT(ISERROR(FIND(IF(LEFT(A74,1)=\"0\",\" \" & MID(A74,2,1) & \",\",IF(MID(A74,3,1)=\".\",LEFT(A74,2),LEFT(A74,3))),'PFB-Konstrukte'!$J$9:$J$40))),ROW($1:$32)),1),1))","v":"Klassenführung"}]
["49. Während des Unterrichts achte ich darauf, dass alle Schülerinnen und Schüler konzentriert mitarbeiten.",20,3.75,9.9339926779878268E-2,0.44426165831931924,0,0,0.25,0.75,{"$f":"IF(INDIRECT(\"'PFB-Konstrukte'!A\" & (SMALL(IF(NOT(ISERROR(FIND(IF(LEFT(A75,1)=\"0\",\" \" & MID(A75,2,1) & \",\",IF(MID(A75,3,1)=\".\",LEFT(A75,2),LEFT(A75,3))),'PFB-Konstrukte'!$J$9:$J$40))),ROW($9:$40)),1)+1))=\"\",\n\nIF(LEFT(INDIRECT(\"A\"&MAX(IF($B$1:B75=\"N\",ROW($A$1:A75)))-1),3)=\"nur\",\n\nIF(RIGHT(INDIRECT(\"A\"&MAX(IF($B$1:B75=\"N\",ROW($A$1:A75)))-1),4)=\"PTF!\",\nINDEX('PFB-Konstrukte'!$B$9:$J$40,SMALL(IF(NOT(ISERROR(FIND(IF(LEFT(A75,1)=\"0\",\" \" & MID(A75,2,1) & \",\",IF(MID(A75,3,1)=\".\",LEFT(A75,2),LEFT(A75,3))),'PFB-Konstrukte'!$J$9:$J$40))),ROW($1:$32)),3),1),\nINDEX('PFB-Konstrukte'!$B$9:$J$40,SMALL(IF(NOT(ISERROR(FIND(IF(LEFT(A75,1)=\"0\",\" \" & MID(A75,2,1) & \",\",IF(MID(A75,3,1)=\".\",LEFT(A75,2),LEFT(A75,3))),'PFB-Konstrukte'!$J$9:$J$40))),ROW($1:$32)),2),1)),\n\nIF(RIGHT(INDEX('PFB-Konstrukte'!$A$9:$J$40,SMALL(IF(NOT(ISERROR(FIND(IF(LEFT(A75,1)=\"0\",\" \" & MID(A75,2,1) & \",\",IF(MID(A75,3,1)=\".\",LEFT(A75,2),LEFT(A75,3))),'PFB-Konstrukte'!$J$9:$J$40))),ROW($1:$32)),1),1),7)=\"Führung\",\n\nINDEX('PFB-Konstrukte'!$A$9:$J$40,SMALL(IF(NOT(ISERROR(FIND(IF(LEFT(A75,1)=\"0\",\" \" & MID(A75,2,1) & \",\",IF(MID(A75,3,1)=\".\",LEFT(A75,2),LEFT(A75,3))),'PFB-Konstrukte'!$J$9:$J$40))),ROW($1:$32)),1),1) & \", \n\" & INDEX('PFB-Konstrukte'!$B$9:$J$40,SMALL(IF(NOT(ISERROR(FIND(IF(LEFT(A75,1)=\"0\",\" \" & MID(A75,2,1) & \",\",IF(MID(A75,3,1)=\".\",LEFT(A75,2),LEFT(A75,3))),'PFB-Konstrukte'!$J$9:$J$40))),ROW($1:$32)),2),1),\n\nINDEX('PFB-Konstrukte'!$A$9:$J$40,SMALL(IF(NOT(ISERROR(FIND(IF(LEFT(A75,1)=\"0\",\" \" & MID(A75,2,1) & \",\",IF(MID(A75,3,1)=\".\",LEFT(A75,2),LEFT(A75,3))),'PFB-Konstrukte'!$J$9:$J$40))),ROW($1:$32)),1),1))),\n\nINDEX('PFB-Konstrukte'!$A$9:$J$40,SMALL(IF(NOT(ISERROR(FIND(IF(LEFT(A75,1)=\"0\",\" \" & MID(A75,2,1) & \",\",IF(MID(A75,3,1)=\".\",LEFT(A75,2),LEFT(A75,3))),'PFB-Konstrukte'!$J$9:$J$40))),ROW($1:$32)),1),1))","v":"Klassenführung"}]
["50. Die Klassenräume bieten mir die Möglichkeit der individuellen Unterstützung.",21,2.8095238095238093,0.17753668459340236,0.81357529578076659,0,0.42857142857142855,0.33333333333333326,0.23809523809523805,{"$f":"IF(INDIRECT(\"'PFB-Konstrukte'!A\" & (SMALL(IF(NOT(ISERROR(FIND(IF(LEFT(A76,1)=\"0\",\" \" & MID(A76,2,1) & \",\",IF(MID(A76,3,1)=\".\",LEFT(A76,2),LEFT(A76,3))),'PFB-Konstrukte'!$J$9:$J$40))),ROW($9:$40)),1)+1))=\"\",\n\nIF(LEFT(INDIRECT(\"A\"&MAX(IF($B$1:B76=\"N\",ROW($A$1:A76)))-1),3)=\"nur\",\n\nIF(RIGHT(INDIRECT(\"A\"&MAX(IF($B$1:B76=\"N\",ROW($A$1:A76)))-1),4)=\"PTF!\",\nINDEX('PFB-Konstrukte'!$B$9:$J$40,SMALL(IF(NOT(ISERROR(FIND(IF(LEFT(A76,1)=\"0\",\" \" & MID(A76,2,1) & \",\",IF(MID(A76,3,1)=\".\",LEFT(A76,2),LEFT(A76,3))),'PFB-Konstrukte'!$J$9:$J$40))),ROW($1:$32)),3),1),\nINDEX('PFB-Konstrukte'!$B$9:$J$40,SMALL(IF(NOT(ISERROR(FIND(IF(LEFT(A76,1)=\"0\",\" \" & MID(A76,2,1) & \",\",IF(MID(A76,3,1)=\".\",LEFT(A76,2),LEFT(A76,3))),'PFB-Konstrukte'!$J$9:$J$40))),ROW($1:$32)),2),1)),\n\nIF(RIGHT(INDEX('PFB-Konstrukte'!$A$9:$J$40,SMALL(IF(NOT(ISERROR(FIND(IF(LEFT(A76,1)=\"0\",\" \" & MID(A76,2,1) & \",\",IF(MID(A76,3,1)=\".\",LEFT(A76,2),LEFT(A76,3))),'PFB-Konstrukte'!$J$9:$J$40))),ROW($1:$32)),1),1),7)=\"Führung\",\n\nINDEX('PFB-Konstrukte'!$A$9:$J$40,SMALL(IF(NOT(ISERROR(FIND(IF(LEFT(A76,1)=\"0\",\" \" & MID(A76,2,1) & \",\",IF(MID(A76,3,1)=\".\",LEFT(A76,2),LEFT(A76,3))),'PFB-Konstrukte'!$J$9:$J$40))),ROW($1:$32)),1),1) & \", \n\" & INDEX('PFB-Konstrukte'!$B$9:$J$40,SMALL(IF(NOT(ISERROR(FIND(IF(LEFT(A76,1)=\"0\",\" \" & MID(A76,2,1) & \",\",IF(MID(A76,3,1)=\".\",LEFT(A76,2),LEFT(A76,3))),'PFB-Konstrukte'!$J$9:$J$40))),ROW($1:$32)),2),1),\n\nINDEX('PFB-Konstrukte'!$A$9:$J$40,SMALL(IF(NOT(ISERROR(FIND(IF(LEFT(A76,1)=\"0\",\" \" & MID(A76,2,1) & \",\",IF(MID(A76,3,1)=\".\",LEFT(A76,2),LEFT(A76,3))),'PFB-Konstrukte'!$J$9:$J$40))),ROW($1:$32)),1),1))),\n\nINDEX('PFB-Konstrukte'!$A$9:$J$40,SMALL(IF(NOT(ISERROR(FIND(IF(LEFT(A76,1)=\"0\",\" \" & MID(A76,2,1) & \",\",IF(MID(A76,3,1)=\".\",LEFT(A76,2),LEFT(A76,3))),'PFB-Konstrukte'!$J$9:$J$40))),ROW($1:$32)),1),1))","v":"Klassenführung"}]
["51. In meinem Unterricht findet nach der Instruktion ein zügiger Übergang in die Arbeitsphase statt.",15,3.4666666666666668,0.1333333333333333,0.5163977794943222,0,0,0.53333333333333333,0.46666666666666662,{"$f":"IF(INDIRECT(\"'PFB-Konstrukte'!A\" & (SMALL(IF(NOT(ISERROR(FIND(IF(LEFT(A77,1)=\"0\",\" \" & MID(A77,2,1) & \",\",IF(MID(A77,3,1)=\".\",LEFT(A77,2),LEFT(A77,3))),'PFB-Konstrukte'!$J$9:$J$40))),ROW($9:$40)),1)+1))=\"\",\n\nIF(LEFT(INDIRECT(\"A\"&MAX(IF($B$1:B77=\"N\",ROW($A$1:A77)))-1),3)=\"nur\",\n\nIF(RIGHT(INDIRECT(\"A\"&MAX(IF($B$1:B77=\"N\",ROW($A$1:A77)))-1),4)=\"PTF!\",\nINDEX('PFB-Konstrukte'!$B$9:$J$40,SMALL(IF(NOT(ISERROR(FIND(IF(LEFT(A77,1)=\"0\",\" \" & MID(A77,2,1) & \",\",IF(MID(A77,3,1)=\".\",LEFT(A77,2),LEFT(A77,3))),'PFB-Konstrukte'!$J$9:$J$40))),ROW($1:$32)),3),1),\nINDEX('PFB-Konstrukte'!$B$9:$J$40,SMALL(IF(NOT(ISERROR(FIND(IF(LEFT(A77,1)=\"0\",\" \" & MID(A77,2,1) & \",\",IF(MID(A77,3,1)=\".\",LEFT(A77,2),LEFT(A77,3))),'PFB-Konstrukte'!$J$9:$J$40))),ROW($1:$32)),2),1)),\n\nIF(RIGHT(INDEX('PFB-Konstrukte'!$A$9:$J$40,SMALL(IF(NOT(ISERROR(FIND(IF(LEFT(A77,1)=\"0\",\" \" & MID(A77,2,1) & \",\",IF(MID(A77,3,1)=\".\",LEFT(A77,2),LEFT(A77,3))),'PFB-Konstrukte'!$J$9:$J$40))),ROW($1:$32)),1),1),7)=\"Führung\",\n\nINDEX('PFB-Konstrukte'!$A$9:$J$40,SMALL(IF(NOT(ISERROR(FIND(IF(LEFT(A77,1)=\"0\",\" \" & MID(A77,2,1) & \",\",IF(MID(A77,3,1)=\".\",LEFT(A77,2),LEFT(A77,3))),'PFB-Konstrukte'!$J$9:$J$40))),ROW($1:$32)),1),1) & \", \n\" & INDEX('PFB-Konstrukte'!$B$9:$J$40,SMALL(IF(NOT(ISERROR(FIND(IF(LEFT(A77,1)=\"0\",\" \" & MID(A77,2,1) & \",\",IF(MID(A77,3,1)=\".\",LEFT(A77,2),LEFT(A77,3))),'PFB-Konstrukte'!$J$9:$J$40))),ROW($1:$32)),2),1),\n\nINDEX('PFB-Konstrukte'!$A$9:$J$40,SMALL(IF(NOT(ISERROR(FIND(IF(LEFT(A77,1)=\"0\",\" \" & MID(A77,2,1) & \",\",IF(MID(A77,3,1)=\".\",LEFT(A77,2),LEFT(A77,3))),'PFB-Konstrukte'!$J$9:$J$40))),ROW($1:$32)),1),1))),\n\nINDEX('PFB-Konstrukte'!$A$9:$J$40,SMALL(IF(NOT(ISERROR(FIND(IF(LEFT(A77,1)=\"0\",\" \" & MID(A77,2,1) & \",\",IF(MID(A77,3,1)=\".\",LEFT(A77,2),LEFT(A77,3))),'PFB-Konstrukte'!$J$9:$J$40))),ROW($1:$32)),1),1))","v":"Klassenführung"}]
[]
["An unserer Schule…","N","MW","SE","SD","trifft\nnicht zu","trifft eher\nnicht zu","trifft\neher zu","trifft\nvoll zu","Zuordnung zum Konstrukt"]
["52. ...sind Zuständigkeiten für Entwicklungsmaßnahmen klar festgelegt.",21,3.0952380952380953,0.13636020060263196,0.62488094104092384,0,0.14285714285714285,0.61904761904761907,0.23809523809523805,{"$f":"IF(INDIRECT(\"'PFB-Konstrukte'!A\" & (SMALL(IF(NOT(ISERROR(FIND(IF(LEFT(A80,1)=\"0\",\" \" & MID(A80,2,1) & \",\",IF(MID(A80,3,1)=\".\",LEFT(A80,2),LEFT(A80,3))),'PFB-Konstrukte'!$J$9:$J$40))),ROW($9:$40)),1)+1))=\"\",\n\nIF(LEFT(INDIRECT(\"A\"&MAX(IF($B$1:B80=\"N\",ROW($A$1:A80)))-1),3)=\"nur\",\n\nIF(RIGHT(INDIRECT(\"A\"&MAX(IF($B$1:B80=\"N\",ROW($A$1:A80)))-1),4)=\"PTF!\",\nINDEX('PFB-Konstrukte'!$B$9:$J$40,SMALL(IF(NOT(ISERROR(FIND(IF(LEFT(A80,1)=\"0\",\" \" & MID(A80,2,1) & \",\",IF(MID(A80,3,1)=\".\",LEFT(A80,2),LEFT(A80,3))),'PFB-Konstrukte'!$J$9:$J$40))),ROW($1:$32)),3),1),\nINDEX('PFB-Konstrukte'!$B$9:$J$40,SMALL(IF(NOT(ISERROR(FIND(IF(LEFT(A80,1)=\"0\",\" \" & MID(A80,2,1) & \",\",IF(MID(A80,3,1)=\".\",LEFT(A80,2),LEFT(A80,3))),'PFB-Konstrukte'!$J$9:$J$40))),ROW($1:$32)),2),1)),\n\nIF(RIGHT(INDEX('PFB-Konstrukte'!$A$9:$J$40,SMALL(IF(NOT(ISERROR(FIND(IF(LEFT(A80,1)=\"0\",\" \" & MID(A80,2,1) & \",\",IF(MID(A80,3,1)=\".\",LEFT(A80,2),LEFT(A80,3))),'PFB-Konstrukte'!$J$9:$J$40))),ROW($1:$32)),1),1),7)=\"Führung\",\n\nINDEX('PFB-Konstrukte'!$A$9:$J$40,SMALL(IF(NOT(ISERROR(FIND(IF(LEFT(A80,1)=\"0\",\" \" & MID(A80,2,1) & \",\",IF(MID(A80,3,1)=\".\",LEFT(A80,2),LEFT(A80,3))),'PFB-Konstrukte'!$J$9:$J$40))),ROW($1:$32)),1),1) & \", \n\" & INDEX('PFB-Konstrukte'!$B$9:$J$40,SMALL(IF(NOT(ISERROR(FIND(IF(LEFT(A80,1)=\"0\",\" \" & MID(A80,2,1) & \",\",IF(MID(A80,3,1)=\".\",LEFT(A80,2),LEFT(A80,3))),'PFB-Konstrukte'!$J$9:$J$40))),ROW($1:$32)),2),1),\n\nINDEX('PFB-Konstrukte'!$A$9:$J$40,SMALL(IF(NOT(ISERROR(FIND(IF(LEFT(A80,1)=\"0\",\" \" & MID(A80,2,1) & \",\",IF(MID(A80,3,1)=\".\",LEFT(A80,2),LEFT(A80,3))),'PFB-Konstrukte'!$J$9:$J$40))),ROW($1:$32)),1),1))),\n\nINDEX('PFB-Konstrukte'!$A$9:$J$40,SMALL(IF(NOT(ISERROR(FIND(IF(LEFT(A80,1)=\"0\",\" \" & MID(A80,2,1) & \",\",IF(MID(A80,3,1)=\".\",LEFT(A80,2),LEFT(A80,3))),'PFB-Konstrukte'!$J$9:$J$40))),ROW($1:$32)),1),1))","v":"Systematische Schul- und Unterrichtsentwicklung"}]
["53. ...werden die Pädagoginnen und Pädagogen bei wichtigen Entscheidungen systematisch beteiligt.",22,3.2727272727272729,0.11736313170325503,0.5504818825631802,0,4.5454545454545456E-2,0.63636363636363635,0.31818181818181818,{"$f":"IF(INDIRECT(\"'PFB-Konstrukte'!A\" & (SMALL(IF(NOT(ISERROR(FIND(IF(LEFT(A81,1)=\"0\",\" \" & MID(A81,2,1) & \",\",IF(MID(A81,3,1)=\".\",LEFT(A81,2),LEFT(A81,3))),'PFB-Konstrukte'!$J$9:$J$40))),ROW($9:$40)),1)+1))=\"\",\n\nIF(LEFT(INDIRECT(\"A\"&MAX(IF($B$1:B81=\"N\",ROW($A$1:A81)))-1),3)=\"nur\",\n\nIF(RIGHT(INDIRECT(\"A\"&MAX(IF($B$1:B81=\"N\",ROW($A$1:A81)))-1),4)=\"PTF!\",\nINDEX('PFB-Konstrukte'!$B$9:$J$40,SMALL(IF(NOT(ISERROR(FIND(IF(LEFT(A81,1)=\"0\",\" \" & MID(A81,2,1) & \",\",IF(MID(A81,3,1)=\".\",LEFT(A81,2),LEFT(A81,3))),'PFB-Konstrukte'!$J$9:$J$40))),ROW($1:$32)),3),1),\nINDEX('PFB-Konstrukte'!$B$9:$J$40,SMALL(IF(NOT(ISERROR(FIND(IF(LEFT(A81,1)=\"0\",\" \" & MID(A81,2,1) & \",\",IF(MID(A81,3,1)=\".\",LEFT(A81,2),LEFT(A81,3))),'PFB-Konstrukte'!$J$9:$J$40))),ROW($1:$32)),2),1)),\n\nIF(RIGHT(INDEX('PFB-Konstrukte'!$A$9:$J$40,SMALL(IF(NOT(ISERROR(FIND(IF(LEFT(A81,1)=\"0\",\" \" & MID(A81,2,1) & \",\",IF(MID(A81,3,1)=\".\",LEFT(A81,2),LEFT(A81,3))),'PFB-Konstrukte'!$J$9:$J$40))),ROW($1:$32)),1),1),7)=\"Führung\",\n\nINDEX('PFB-Konstrukte'!$A$9:$J$40,SMALL(IF(NOT(ISERROR(FIND(IF(LEFT(A81,1)=\"0\",\" \" & MID(A81,2,1) & \",\",IF(MID(A81,3,1)=\".\",LEFT(A81,2),LEFT(A81,3))),'PFB-Konstrukte'!$J$9:$J$40))),ROW($1:$32)),1),1) & \", \n\" & INDEX('PFB-Konstrukte'!$B$9:$J$40,SMALL(IF(NOT(ISERROR(FIND(IF(LEFT(A81,1)=\"0\",\" \" & MID(A81,2,1) & \",\",IF(MID(A81,3,1)=\".\",LEFT(A81,2),LEFT(A81,3))),'PFB-Konstrukte'!$J$9:$J$40))),ROW($1:$32)),2),1),\n\nINDEX('PFB-Konstrukte'!$A$9:$J$40,SMALL(IF(NOT(ISERROR(FIND(IF(LEFT(A81,1)=\"0\",\" \" & MID(A81,2,1) & \",\",IF(MID(A81,3,1)=\".\",LEFT(A81,2),LEFT(A81,3))),'PFB-Konstrukte'!$J$9:$J$40))),ROW($1:$32)),1),1))),\n\nINDEX('PFB-Konstrukte'!$A$9:$J$40,SMALL(IF(NOT(ISERROR(FIND(IF(LEFT(A81,1)=\"0\",\" \" & MID(A81,2,1) & \",\",IF(MID(A81,3,1)=\".\",LEFT(A81,2),LEFT(A81,3))),'PFB-Konstrukte'!$J$9:$J$40))),ROW($1:$32)),1),1))","v":"Systematische Schul- und Unterrichtsentwicklung"}]
["54. ...haben wir Entwicklungsprioritäten erarbeitet.",18,3.1666666666666665,0.16666666666666669,0.70710678118654757,0,0.16666666666666663,0.5,0.33333333333333326,{"$f":"IF(INDIRECT(\"'PFB-Konstrukte'!A\" & (SMALL(IF(NOT(ISERROR(FIND(IF(LEFT(A82,1)=\"0\",\" \" & MID(A82,2,1) & \",\",IF(MID(A82,3,1)=\".\",LEFT(A82,2),LEFT(A82,3))),'PFB-Konstrukte'!$J$9:$J$40))),ROW($9:$40)),1)+1))=\"\",\n\nIF(LEFT(INDIRECT(\"A\"&MAX(IF($B$1:B82=\"N\",ROW($A$1:A82)))-1),3)=\"nur\",\n\nIF(RIGHT(INDIRECT(\"A\"&MAX(IF($B$1:B82=\"N\",ROW($A$1:A82)))-1),4)=\"PTF!\",\nINDEX('PFB-Konstrukte'!$B$9:$J$40,SMALL(IF(NOT(ISERROR(FIND(IF(LEFT(A82,1)=\"0\",\" \" & MID(A82,2,1) & \",\",IF(MID(A82,3,1)=\".\",LEFT(A82,2),LEFT(A82,3))),'PFB-Konstrukte'!$J$9:$J$40))),ROW($1:$32)),3),1),\nINDEX('PFB-Konstrukte'!$B$9:$J$40,SMALL(IF(NOT(ISERROR(FIND(IF(LEFT(A82,1)=\"0\",\" \" & MID(A82,2,1) & \",\",IF(MID(A82,3,1)=\".\",LEFT(A82,2),LEFT(A82,3))),'PFB-Konstrukte'!$J$9:$J$40))),ROW($1:$32)),2),1)),\n\nIF(RIGHT(INDEX('PFB-Konstrukte'!$A$9:$J$40,SMALL(IF(NOT(ISERROR(FIND(IF(LEFT(A82,1)=\"0\",\" \" & MID(A82,2,1) & \",\",IF(MID(A82,3,1)=\".\",LEFT(A82,2),LEFT(A82,3))),'PFB-Konstrukte'!$J$9:$J$40))),ROW($1:$32)),1),1),7)=\"Führung\",\n\nINDEX('PFB-Konstrukte'!$A$9:$J$40,SMALL(IF(NOT(ISERROR(FIND(IF(LEFT(A82,1)=\"0\",\" \" & MID(A82,2,1) & \",\",IF(MID(A82,3,1)=\".\",LEFT(A82,2),LEFT(A82,3))),'PFB-Konstrukte'!$J$9:$J$40))),ROW($1:$32)),1),1) & \", \n\" & INDEX('PFB-Konstrukte'!$B$9:$J$40,SMALL(IF(NOT(ISERROR(FIND(IF(LEFT(A82,1)=\"0\",\" \" & MID(A82,2,1) & \",\",IF(MID(A82,3,1)=\".\",LEFT(A82,2),LEFT(A82,3))),'PFB-Konstrukte'!$J$9:$J$40))),ROW($1:$32)),2),1),\n\nINDEX('PFB-Konstrukte'!$A$9:$J$40,SMALL(IF(NOT(ISERROR(FIND(IF(LEFT(A82,1)=\"0\",\" \" & MID(A82,2,1) & \",\",IF(MID(A82,3,1)=\".\",LEFT(A82,2),LEFT(A82,3))),'PFB-Konstrukte'!$J$9:$J$40))),ROW($1:$32)),1),1))),\n\nINDEX('PFB-Konstrukte'!$A$9:$J$40,SMALL(IF(NOT(ISERROR(FIND(IF(LEFT(A82,1)=\"0\",\" \" & MID(A82,2,1) & \",\",IF(MID(A82,3,1)=\".\",LEFT(A82,2),LEFT(A82,3))),'PFB-Konstrukte'!$J$9:$J$40))),ROW($1:$32)),1),1))","v":"Systematische Schul- und Unterrichtsentwicklung"}]
["55. ...werden die Ergebnisse wichtiger Maßnahmen unserer Schulentwicklung systematisch dokumentiert und öffentlich gemacht.",19,3.2105263157894735,0.1446703728286898,0.63060353528461144,0,0.10526315789473684,0.57894736842105265,0.31578947368421051,{"$f":"IF(INDIRECT(\"'PFB-Konstrukte'!A\" & (SMALL(IF(NOT(ISERROR(FIND(IF(LEFT(A83,1)=\"0\",\" \" & MID(A83,2,1) & \",\",IF(MID(A83,3,1)=\".\",LEFT(A83,2),LEFT(A83,3))),'PFB-Konstrukte'!$J$9:$J$40))),ROW($9:$40)),1)+1))=\"\",\n\nIF(LEFT(INDIRECT(\"A\"&MAX(IF($B$1:B83=\"N\",ROW($A$1:A83)))-1),3)=\"nur\",\n\nIF(RIGHT(INDIRECT(\"A\"&MAX(IF($B$1:B83=\"N\",ROW($A$1:A83)))-1),4)=\"PTF!\",\nINDEX('PFB-Konstrukte'!$B$9:$J$40,SMALL(IF(NOT(ISERROR(FIND(IF(LEFT(A83,1)=\"0\",\" \" & MID(A83,2,1) & \",\",IF(MID(A83,3,1)=\".\",LEFT(A83,2),LEFT(A83,3))),'PFB-Konstrukte'!$J$9:$J$40))),ROW($1:$32)),3),1),\nINDEX('PFB-Konstrukte'!$B$9:$J$40,SMALL(IF(NOT(ISERROR(FIND(IF(LEFT(A83,1)=\"0\",\" \" & MID(A83,2,1) & \",\",IF(MID(A83,3,1)=\".\",LEFT(A83,2),LEFT(A83,3))),'PFB-Konstrukte'!$J$9:$J$40))),ROW($1:$32)),2),1)),\n\nIF(RIGHT(INDEX('PFB-Konstrukte'!$A$9:$J$40,SMALL(IF(NOT(ISERROR(FIND(IF(LEFT(A83,1)=\"0\",\" \" & MID(A83,2,1) & \",\",IF(MID(A83,3,1)=\".\",LEFT(A83,2),LEFT(A83,3))),'PFB-Konstrukte'!$J$9:$J$40))),ROW($1:$32)),1),1),7)=\"Führung\",\n\nINDEX('PFB-Konstrukte'!$A$9:$J$40,SMALL(IF(NOT(ISERROR(FIND(IF(LEFT(A83,1)=\"0\",\" \" & MID(A83,2,1) & \",\",IF(MID(A83,3,1)=\".\",LEFT(A83,2),LEFT(A83,3))),'PFB-Konstrukte'!$J$9:$J$40))),ROW($1:$32)),1),1) & \", \n\" & INDEX('PFB-Konstrukte'!$B$9:$J$40,SMALL(IF(NOT(ISERROR(FIND(IF(LEFT(A83,1)=\"0\",\" \" & MID(A83,2,1) & \",\",IF(MID(A83,3,1)=\".\",LEFT(A83,2),LEFT(A83,3))),'PFB-Konstrukte'!$J$9:$J$40))),ROW($1:$32)),2),1),\n\nINDEX('PFB-Konstrukte'!$A$9:$J$40,SMALL(IF(NOT(ISERROR(FIND(IF(LEFT(A83,1)=\"0\",\" \" & MID(A83,2,1) & \",\",IF(MID(A83,3,1)=\".\",LEFT(A83,2),LEFT(A83,3))),'PFB-Konstrukte'!$J$9:$J$40))),ROW($1:$32)),1),1))),\n\nINDEX('PFB-Konstrukte'!$A$9:$J$40,SMALL(IF(NOT(ISERROR(FIND(IF(LEFT(A83,1)=\"0\",\" \" & MID(A83,2,1) & \",\",IF(MID(A83,3,1)=\".\",LEFT(A83,2),LEFT(A83,3))),'PFB-Konstrukte'!$J$9:$J$40))),ROW($1:$32)),1),1))","v":"Systematische Schul- und Unterrichtsentwicklung"}]
["56. ...werden die schulischen Entwicklungsmaßnahmen regelmäßig empirisch überprüft.",17,2.5294117647058822,0.15140632560275,0.62426427284679775,5.8823529411764698E-2,0.35294117647058826,0.58823529411764708,0,{"$f":"IF(INDIRECT(\"'PFB-Konstrukte'!A\" & (SMALL(IF(NOT(ISERROR(FIND(IF(LEFT(A84,1)=\"0\",\" \" & MID(A84,2,1) & \",\",IF(MID(A84,3,1)=\".\",LEFT(A84,2),LEFT(A84,3))),'PFB-Konstrukte'!$J$9:$J$40))),ROW($9:$40)),1)+1))=\"\",\n\nIF(LEFT(INDIRECT(\"A\"&MAX(IF($B$1:B84=\"N\",ROW($A$1:A84)))-1),3)=\"nur\",\n\nIF(RIGHT(INDIRECT(\"A\"&MAX(IF($B$1:B84=\"N\",ROW($A$1:A84)))-1),4)=\"PTF!\",\nINDEX('PFB-Konstrukte'!$B$9:$J$40,SMALL(IF(NOT(ISERROR(FIND(IF(LEFT(A84,1)=\"0\",\" \" & MID(A84,2,1) & \",\",IF(MID(A84,3,1)=\".\",LEFT(A84,2),LEFT(A84,3))),'PFB-Konstrukte'!$J$9:$J$40))),ROW($1:$32)),3),1),\nINDEX('PFB-Konstrukte'!$B$9:$J$40,SMALL(IF(NOT(ISERROR(FIND(IF(LEFT(A84,1)=\"0\",\" \" & MID(A84,2,1) & \",\",IF(MID(A84,3,1)=\".\",LEFT(A84,2),LEFT(A84,3))),'PFB-Konstrukte'!$J$9:$J$40))),ROW($1:$32)),2),1)),\n\nIF(RIGHT(INDEX('PFB-Konstrukte'!$A$9:$J$40,SMALL(IF(NOT(ISERROR(FIND(IF(LEFT(A84,1)=\"0\",\" \" & MID(A84,2,1) & \",\",IF(MID(A84,3,1)=\".\",LEFT(A84,2),LEFT(A84,3))),'PFB-Konstrukte'!$J$9:$J$40))),ROW($1:$32)),1),1),7)=\"Führung\",\n\nINDEX('PFB-Konstrukte'!$A$9:$J$40,SMALL(IF(NOT(ISERROR(FIND(IF(LEFT(A84,1)=\"0\",\" \" & MID(A84,2,1) & \",\",IF(MID(A84,3,1)=\".\",LEFT(A84,2),LEFT(A84,3))),'PFB-Konstrukte'!$J$9:$J$40))),ROW($1:$32)),1),1) & \", \n\" & INDEX('PFB-Konstrukte'!$B$9:$J$40,SMALL(IF(NOT(ISERROR(FIND(IF(LEFT(A84,1)=\"0\",\" \" & MID(A84,2,1) & \",\",IF(MID(A84,3,1)=\".\",LEFT(A84,2),LEFT(A84,3))),'PFB-Konstrukte'!$J$9:$J$40))),ROW($1:$32)),2),1),\n\nINDEX('PFB-Konstrukte'!$A$9:$J$40,SMALL(IF(NOT(ISERROR(FIND(IF(LEFT(A84,1)=\"0\",\" \" & MID(A84,2,1) & \",\",IF(MID(A84,3,1)=\".\",LEFT(A84,2),LEFT(A84,3))),'PFB-Konstrukte'!$J$9:$J$40))),ROW($1:$32)),1),1))),\n\nINDEX('PFB-Konstrukte'!$A$9:$J$40,SMALL(IF(NOT(ISERROR(FIND(IF(LEFT(A84,1)=\"0\",\" \" & MID(A84,2,1) & \",\",IF(MID(A84,3,1)=\".\",LEFT(A84,2),LEFT(A84,3))),'PFB-Konstrukte'!$J$9:$J$40))),ROW($1:$32)),1),1))","v":"Systematische Schul- und Unterrichtsentwicklung"}]
["57. ...ziehen wir regelmäßig Ergebnisse aus der schulinternen Evaluation zur Unterrichtsentwicklung heran.",15,2.4,0.19023794624226834,0.73678839761300718,0.13333333333333333,0.33333333333333326,0.53333333333333333,0,{"$f":"IF(INDIRECT(\"'PFB-Konstrukte'!A\" & (SMALL(IF(NOT(ISERROR(FIND(IF(LEFT(A85,1)=\"0\",\" \" & MID(A85,2,1) & \",\",IF(MID(A85,3,1)=\".\",LEFT(A85,2),LEFT(A85,3))),'PFB-Konstrukte'!$J$9:$J$40))),ROW($9:$40)),1)+1))=\"\",\n\nIF(LEFT(INDIRECT(\"A\"&MAX(IF($B$1:B85=\"N\",ROW($A$1:A85)))-1),3)=\"nur\",\n\nIF(RIGHT(INDIRECT(\"A\"&MAX(IF($B$1:B85=\"N\",ROW($A$1:A85)))-1),4)=\"PTF!\",\nINDEX('PFB-Konstrukte'!$B$9:$J$40,SMALL(IF(NOT(ISERROR(FIND(IF(LEFT(A85,1)=\"0\",\" \" & MID(A85,2,1) & \",\",IF(MID(A85,3,1)=\".\",LEFT(A85,2),LEFT(A85,3))),'PFB-Konstrukte'!$J$9:$J$40))),ROW($1:$32)),3),1),\nINDEX('PFB-Konstrukte'!$B$9:$J$40,SMALL(IF(NOT(ISERROR(FIND(IF(LEFT(A85,1)=\"0\",\" \" & MID(A85,2,1) & \",\",IF(MID(A85,3,1)=\".\",LEFT(A85,2),LEFT(A85,3))),'PFB-Konstrukte'!$J$9:$J$40))),ROW($1:$32)),2),1)),\n\nIF(RIGHT(INDEX('PFB-Konstrukte'!$A$9:$J$40,SMALL(IF(NOT(ISERROR(FIND(IF(LEFT(A85,1)=\"0\",\" \" & MID(A85,2,1) & \",\",IF(MID(A85,3,1)=\".\",LEFT(A85,2),LEFT(A85,3))),'PFB-Konstrukte'!$J$9:$J$40))),ROW($1:$32)),1),1),7)=\"Führung\",\n\nINDEX('PFB-Konstrukte'!$A$9:$J$40,SMALL(IF(NOT(ISERROR(FIND(IF(LEFT(A85,1)=\"0\",\" \" & MID(A85,2,1) & \",\",IF(MID(A85,3,1)=\".\",LEFT(A85,2),LEFT(A85,3))),'PFB-Konstrukte'!$J$9:$J$40))),ROW($1:$32)),1),1) & \", \n\" & INDEX('PFB-Konstrukte'!$B$9:$J$40,SMALL(IF(NOT(ISERROR(FIND(IF(LEFT(A85,1)=\"0\",\" \" & MID(A85,2,1) & \",\",IF(MID(A85,3,1)=\".\",LEFT(A85,2),LEFT(A85,3))),'PFB-Konstrukte'!$J$9:$J$40))),ROW($1:$32)),2),1),\n\nINDEX('PFB-Konstrukte'!$A$9:$J$40,SMALL(IF(NOT(ISERROR(FIND(IF(LEFT(A85,1)=\"0\",\" \" & MID(A85,2,1) & \",\",IF(MID(A85,3,1)=\".\",LEFT(A85,2),LEFT(A85,3))),'PFB-Konstrukte'!$J$9:$J$40))),ROW($1:$32)),1),1))),\n\nINDEX('PFB-Konstrukte'!$A$9:$J$40,SMALL(IF(NOT(ISERROR(FIND(IF(LEFT(A85,1)=\"0\",\" \" & MID(A85,2,1) & \",\",IF(MID(A85,3,1)=\".\",LEFT(A85,2),LEFT(A85,3))),'PFB-Konstrukte'!$J$9:$J$40))),ROW($1:$32)),1),1))","v":"Systematische Schul- und Unterrichtsentwicklung"}]
["58. ...gibt es ein systematisches Konzept zur Einführung neuer Kolleginnen und Kollegen (bspw. Mentorinnen und Mentoren, Einarbeitungshandbuch).",22,2.3181818181818175,0.15270098722473827,0.71623111701950859,0.13636363636363635,0.40909090909090912,0.45454545454545453,0,{"$f":"IF(INDIRECT(\"'PFB-Konstrukte'!A\" & (SMALL(IF(NOT(ISERROR(FIND(IF(LEFT(A86,1)=\"0\",\" \" & MID(A86,2,1) & \",\",IF(MID(A86,3,1)=\".\",LEFT(A86,2),LEFT(A86,3))),'PFB-Konstrukte'!$J$9:$J$40))),ROW($9:$40)),1)+1))=\"\",\n\nIF(LEFT(INDIRECT(\"A\"&MAX(IF($B$1:B86=\"N\",ROW($A$1:A86)))-1),3)=\"nur\",\n\nIF(RIGHT(INDIRECT(\"A\"&MAX(IF($B$1:B86=\"N\",ROW($A$1:A86)))-1),4)=\"PTF!\",\nINDEX('PFB-Konstrukte'!$B$9:$J$40,SMALL(IF(NOT(ISERROR(FIND(IF(LEFT(A86,1)=\"0\",\" \" & MID(A86,2,1) & \",\",IF(MID(A86,3,1)=\".\",LEFT(A86,2),LEFT(A86,3))),'PFB-Konstrukte'!$J$9:$J$40))),ROW($1:$32)),3),1),\nINDEX('PFB-Konstrukte'!$B$9:$J$40,SMALL(IF(NOT(ISERROR(FIND(IF(LEFT(A86,1)=\"0\",\" \" & MID(A86,2,1) & \",\",IF(MID(A86,3,1)=\".\",LEFT(A86,2),LEFT(A86,3))),'PFB-Konstrukte'!$J$9:$J$40))),ROW($1:$32)),2),1)),\n\nIF(RIGHT(INDEX('PFB-Konstrukte'!$A$9:$J$40,SMALL(IF(NOT(ISERROR(FIND(IF(LEFT(A86,1)=\"0\",\" \" & MID(A86,2,1) & \",\",IF(MID(A86,3,1)=\".\",LEFT(A86,2),LEFT(A86,3))),'PFB-Konstrukte'!$J$9:$J$40))),ROW($1:$32)),1),1),7)=\"Führung\",\n\nINDEX('PFB-Konstrukte'!$A$9:$J$40,SMALL(IF(NOT(ISERROR(FIND(IF(LEFT(A86,1)=\"0\",\" \" & MID(A86,2,1) & \",\",IF(MID(A86,3,1)=\".\",LEFT(A86,2),LEFT(A86,3))),'PFB-Konstrukte'!$J$9:$J$40))),ROW($1:$32)),1),1) & \", \n\" & INDEX('PFB-Konstrukte'!$B$9:$J$40,SMALL(IF(NOT(ISERROR(FIND(IF(LEFT(A86,1)=\"0\",\" \" & MID(A86,2,1) & \",\",IF(MID(A86,3,1)=\".\",LEFT(A86,2),LEFT(A86,3))),'PFB-Konstrukte'!$J$9:$J$40))),ROW($1:$32)),2),1),\n\nINDEX('PFB-Konstrukte'!$A$9:$J$40,SMALL(IF(NOT(ISERROR(FIND(IF(LEFT(A86,1)=\"0\",\" \" & MID(A86,2,1) & \",\",IF(MID(A86,3,1)=\".\",LEFT(A86,2),LEFT(A86,3))),'PFB-Konstrukte'!$J$9:$J$40))),ROW($1:$32)),1),1))),\n\nINDEX('PFB-Konstrukte'!$A$9:$J$40,SMALL(IF(NOT(ISERROR(FIND(IF(LEFT(A86,1)=\"0\",\" \" & MID(A86,2,1) & \",\",IF(MID(A86,3,1)=\".\",LEFT(A86,2),LEFT(A86,3))),'PFB-Konstrukte'!$J$9:$J$40))),ROW($1:$32)),1),1))","v":"Systematische Schul- und Unterrichtsentwicklung"}]
[]
[null,"N","MW","SE","SD","trifft\nnicht zu","trifft eher\nnicht zu","trifft\neher zu","trifft\nvoll zu","Zuordnung zum Konstrukt"]
["59. Gemeinsam denken wir regelmäßig über Veränderungen unserer Schule nach.",22,3.2272727272727271,0.13046401009454231,0.61193044903720428,0,9.0909090909090912E-2,0.59090909090909094,0.31818181818181818,{"$f":"IF(INDIRECT(\"'PFB-Konstrukte'!A\" & (SMALL(IF(NOT(ISERROR(FIND(IF(LEFT(A89,1)=\"0\",\" \" & MID(A89,2,1) & \",\",IF(MID(A89,3,1)=\".\",LEFT(A89,2),LEFT(A89,3))),'PFB-Konstrukte'!$J$9:$J$40))),ROW($9:$40)),1)+1))=\"\",\n\nIF(LEFT(INDIRECT(\"A\"&MAX(IF($B$1:B89=\"N\",ROW($A$1:A89)))-1),3)=\"nur\",\n\nIF(RIGHT(INDIRECT(\"A\"&MAX(IF($B$1:B89=\"N\",ROW($A$1:A89)))-1),4)=\"PTF!\",\nINDEX('PFB-Konstrukte'!$B$9:$J$40,SMALL(IF(NOT(ISERROR(FIND(IF(LEFT(A89,1)=\"0\",\" \" & MID(A89,2,1) & \",\",IF(MID(A89,3,1)=\".\",LEFT(A89,2),LEFT(A89,3))),'PFB-Konstrukte'!$J$9:$J$40))),ROW($1:$32)),3),1),\nINDEX('PFB-Konstrukte'!$B$9:$J$40,SMALL(IF(NOT(ISERROR(FIND(IF(LEFT(A89,1)=\"0\",\" \" & MID(A89,2,1) & \",\",IF(MID(A89,3,1)=\".\",LEFT(A89,2),LEFT(A89,3))),'PFB-Konstrukte'!$J$9:$J$40))),ROW($1:$32)),2),1)),\n\nIF(RIGHT(INDEX('PFB-Konstrukte'!$A$9:$J$40,SMALL(IF(NOT(ISERROR(FIND(IF(LEFT(A89,1)=\"0\",\" \" & MID(A89,2,1) & \",\",IF(MID(A89,3,1)=\".\",LEFT(A89,2),LEFT(A89,3))),'PFB-Konstrukte'!$J$9:$J$40))),ROW($1:$32)),1),1),7)=\"Führung\",\n\nINDEX('PFB-Konstrukte'!$A$9:$J$40,SMALL(IF(NOT(ISERROR(FIND(IF(LEFT(A89,1)=\"0\",\" \" & MID(A89,2,1) & \",\",IF(MID(A89,3,1)=\".\",LEFT(A89,2),LEFT(A89,3))),'PFB-Konstrukte'!$J$9:$J$40))),ROW($1:$32)),1),1) & \", \n\" & INDEX('PFB-Konstrukte'!$B$9:$J$40,SMALL(IF(NOT(ISERROR(FIND(IF(LEFT(A89,1)=\"0\",\" \" & MID(A89,2,1) & \",\",IF(MID(A89,3,1)=\".\",LEFT(A89,2),LEFT(A89,3))),'PFB-Konstrukte'!$J$9:$J$40))),ROW($1:$32)),2),1),\n\nINDEX('PFB-Konstrukte'!$A$9:$J$40,SMALL(IF(NOT(ISERROR(FIND(IF(LEFT(A89,1)=\"0\",\" \" & MID(A89,2,1) & \",\",IF(MID(A89,3,1)=\".\",LEFT(A89,2),LEFT(A89,3))),'PFB-Konstrukte'!$J$9:$J$40))),ROW($1:$32)),1),1))),\n\nINDEX('PFB-Konstrukte'!$A$9:$J$40,SMALL(IF(NOT(ISERROR(FIND(IF(LEFT(A89,1)=\"0\",\" \" & MID(A89,2,1) & \",\",IF(MID(A89,3,1)=\".\",LEFT(A89,2),LEFT(A89,3))),'PFB-Konstrukte'!$J$9:$J$40))),ROW($1:$32)),1),1))","v":"Positives Innovationsklima"}]
["60. Meine Kolleginnen und Kollegen unterstützen mich, wenn ich Innovationen umsetzen möchte.",20,3.2,9.1766293548224701E-2,0.41039134083406165,0,0,0.8,0.2,{"$f":"IF(INDIRECT(\"'PFB-Konstrukte'!A\" & (SMALL(IF(NOT(ISERROR(FIND(IF(LEFT(A90,1)=\"0\",\" \" & MID(A90,2,1) & \",\",IF(MID(A90,3,1)=\".\",LEFT(A90,2),LEFT(A90,3))),'PFB-Konstrukte'!$J$9:$J$40))),ROW($9:$40)),1)+1))=\"\",\n\nIF(LEFT(INDIRECT(\"A\"&MAX(IF($B$1:B90=\"N\",ROW($A$1:A90)))-1),3)=\"nur\",\n\nIF(RIGHT(INDIRECT(\"A\"&MAX(IF($B$1:B90=\"N\",ROW($A$1:A90)))-1),4)=\"PTF!\",\nINDEX('PFB-Konstrukte'!$B$9:$J$40,SMALL(IF(NOT(ISERROR(FIND(IF(LEFT(A90,1)=\"0\",\" \" & MID(A90,2,1) & \",\",IF(MID(A90,3,1)=\".\",LEFT(A90,2),LEFT(A90,3))),'PFB-Konstrukte'!$J$9:$J$40))),ROW($1:$32)),3),1),\nINDEX('PFB-Konstrukte'!$B$9:$J$40,SMALL(IF(NOT(ISERROR(FIND(IF(LEFT(A90,1)=\"0\",\" \" & MID(A90,2,1) & \",\",IF(MID(A90,3,1)=\".\",LEFT(A90,2),LEFT(A90,3))),'PFB-Konstrukte'!$J$9:$J$40))),ROW($1:$32)),2),1)),\n\nIF(RIGHT(INDEX('PFB-Konstrukte'!$A$9:$J$40,SMALL(IF(NOT(ISERROR(FIND(IF(LEFT(A90,1)=\"0\",\" \" & MID(A90,2,1) & \",\",IF(MID(A90,3,1)=\".\",LEFT(A90,2),LEFT(A90,3))),'PFB-Konstrukte'!$J$9:$J$40))),ROW($1:$32)),1),1),7)=\"Führung\",\n\nINDEX('PFB-Konstrukte'!$A$9:$J$40,SMALL(IF(NOT(ISERROR(FIND(IF(LEFT(A90,1)=\"0\",\" \" & MID(A90,2,1) & \",\",IF(MID(A90,3,1)=\".\",LEFT(A90,2),LEFT(A90,3))),'PFB-Konstrukte'!$J$9:$J$40))),ROW($1:$32)),1),1) & \", \n\" & INDEX('PFB-Konstrukte'!$B$9:$J$40,SMALL(IF(NOT(ISERROR(FIND(IF(LEFT(A90,1)=\"0\",\" \" & MID(A90,2,1) & \",\",IF(MID(A90,3,1)=\".\",LEFT(A90,2),LEFT(A90,3))),'PFB-Konstrukte'!$J$9:$J$40))),ROW($1:$32)),2),1),\n\nINDEX('PFB-Konstrukte'!$A$9:$J$40,SMALL(IF(NOT(ISERROR(FIND(IF(LEFT(A90,1)=\"0\",\" \" & MID(A90,2,1) & \",\",IF(MID(A90,3,1)=\".\",LEFT(A90,2),LEFT(A90,3))),'PFB-Konstrukte'!$J$9:$J$40))),ROW($1:$32)),1),1))),\n\nINDEX('PFB-Konstrukte'!$A$9:$J$40,SMALL(IF(NOT(ISERROR(FIND(IF(LEFT(A90,1)=\"0\",\" \" & MID(A90,2,1) & \",\",IF(MID(A90,3,1)=\".\",LEFT(A90,2),LEFT(A90,3))),'PFB-Konstrukte'!$J$9:$J$40))),ROW($1:$32)),1),1))","v":"Positives Innovationsklima"}]
["61. Im Allgemeinen herrscht ein innovationsfreudiges Klima innerhalb des Kollegiums.",22,3.1363636363636367,7.4886770095264912E-2,0.35125008665710444,0,0,0.86363636363636365,0.13636363636363635,{"$f":"IF(INDIRECT(\"'PFB-Konstrukte'!A\" & (SMALL(IF(NOT(ISERROR(FIND(IF(LEFT(A91,1)=\"0\",\" \" & MID(A91,2,1) & \",\",IF(MID(A91,3,1)=\".\",LEFT(A91,2),LEFT(A91,3))),'PFB-Konstrukte'!$J$9:$J$40))),ROW($9:$40)),1)+1))=\"\",\n\nIF(LEFT(INDIRECT(\"A\"&MAX(IF($B$1:B91=\"N\",ROW($A$1:A91)))-1),3)=\"nur\",\n\nIF(RIGHT(INDIRECT(\"A\"&MAX(IF($B$1:B91=\"N\",ROW($A$1:A91)))-1),4)=\"PTF!\",\nINDEX('PFB-Konstrukte'!$B$9:$J$40,SMALL(IF(NOT(ISERROR(FIND(IF(LEFT(A91,1)=\"0\",\" \" & MID(A91,2,1) & \",\",IF(MID(A91,3,1)=\".\",LEFT(A91,2),LEFT(A91,3))),'PFB-Konstrukte'!$J$9:$J$40))),ROW($1:$32)),3),1),\nINDEX('PFB-Konstrukte'!$B$9:$J$40,SMALL(IF(NOT(ISERROR(FIND(IF(LEFT(A91,1)=\"0\",\" \" & MID(A91,2,1) & \",\",IF(MID(A91,3,1)=\".\",LEFT(A91,2),LEFT(A91,3))),'PFB-Konstrukte'!$J$9:$J$40))),ROW($1:$32)),2),1)),\n\nIF(RIGHT(INDEX('PFB-Konstrukte'!$A$9:$J$40,SMALL(IF(NOT(ISERROR(FIND(IF(LEFT(A91,1)=\"0\",\" \" & MID(A91,2,1) & \",\",IF(MID(A91,3,1)=\".\",LEFT(A91,2),LEFT(A91,3))),'PFB-Konstrukte'!$J$9:$J$40))),ROW($1:$32)),1),1),7)=\"Führung\",\n\nINDEX('PFB-Konstrukte'!$A$9:$J$40,SMALL(IF(NOT(ISERROR(FIND(IF(LEFT(A91,1)=\"0\",\" \" & MID(A91,2,1) & \",\",IF(MID(A91,3,1)=\".\",LEFT(A91,2),LEFT(A91,3))),'PFB-Konstrukte'!$J$9:$J$40))),ROW($1:$32)),1),1) & \", \n\" & INDEX('PFB-Konstrukte'!$B$9:$J$40,SMALL(IF(NOT(ISERROR(FIND(IF(LEFT(A91,1)=\"0\",\" \" & MID(A91,2,1) & \",\",IF(MID(A91,3,1)=\".\",LEFT(A91,2),LEFT(A91,3))),'PFB-Konstrukte'!$J$9:$J$40))),ROW($1:$32)),2),1),\n\nINDEX('PFB-Konstrukte'!$A$9:$J$40,SMALL(IF(NOT(ISERROR(FIND(IF(LEFT(A91,1)=\"0\",\" \" & MID(A91,2,1) & \",\",IF(MID(A91,3,1)=\".\",LEFT(A91,2),LEFT(A91,3))),'PFB-Konstrukte'!$J$9:$J$40))),ROW($1:$32)),1),1))),\n\nINDEX('PFB-Konstrukte'!$A$9:$J$40,SMALL(IF(NOT(ISERROR(FIND(IF(LEFT(A91,1)=\"0\",\" \" & MID(A91,2,1) & \",\",IF(MID(A91,3,1)=\".\",LEFT(A91,2),LEFT(A91,3))),'PFB-Konstrukte'!$J$9:$J$40))),ROW($1:$32)),1),1))","v":"Positives Innovationsklima"}]
["62. In die Weiterentwicklung unserer Schule bringen sich alle Kolleginnen und Kollegen ein.",20,2.8000000000000007,0.17167901505579039,0.76777189594991435,0.05,0.25,0.55000000000000004,0.15,{"$f":"IF(INDIRECT(\"'PFB-Konstrukte'!A\" & (SMALL(IF(NOT(ISERROR(FIND(IF(LEFT(A92,1)=\"0\",\" \" & MID(A92,2,1) & \",\",IF(MID(A92,3,1)=\".\",LEFT(A92,2),LEFT(A92,3))),'PFB-Konstrukte'!$J$9:$J$40))),ROW($9:$40)),1)+1))=\"\",\n\nIF(LEFT(INDIRECT(\"A\"&MAX(IF($B$1:B92=\"N\",ROW($A$1:A92)))-1),3)=\"nur\",\n\nIF(RIGHT(INDIRECT(\"A\"&MAX(IF($B$1:B92=\"N\",ROW($A$1:A92)))-1),4)=\"PTF!\",\nINDEX('PFB-Konstrukte'!$B$9:$J$40,SMALL(IF(NOT(ISERROR(FIND(IF(LEFT(A92,1)=\"0\",\" \" & MID(A92,2,1) & \",\",IF(MID(A92,3,1)=\".\",LEFT(A92,2),LEFT(A92,3))),'PFB-Konstrukte'!$J$9:$J$40))),ROW($1:$32)),3),1),\nINDEX('PFB-Konstrukte'!$B$9:$J$40,SMALL(IF(NOT(ISERROR(FIND(IF(LEFT(A92,1)=\"0\",\" \" & MID(A92,2,1) & \",\",IF(MID(A92,3,1)=\".\",LEFT(A92,2),LEFT(A92,3))),'PFB-Konstrukte'!$J$9:$J$40))),ROW($1:$32)),2),1)),\n\nIF(RIGHT(INDEX('PFB-Konstrukte'!$A$9:$J$40,SMALL(IF(NOT(ISERROR(FIND(IF(LEFT(A92,1)=\"0\",\" \" & MID(A92,2,1) & \",\",IF(MID(A92,3,1)=\".\",LEFT(A92,2),LEFT(A92,3))),'PFB-Konstrukte'!$J$9:$J$40))),ROW($1:$32)),1),1),7)=\"Führung\",\n\nINDEX('PFB-Konstrukte'!$A$9:$J$40,SMALL(IF(NOT(ISERROR(FIND(IF(LEFT(A92,1)=\"0\",\" \" & MID(A92,2,1) & \",\",IF(MID(A92,3,1)=\".\",LEFT(A92,2),LEFT(A92,3))),'PFB-Konstrukte'!$J$9:$J$40))),ROW($1:$32)),1),1) & \", \n\" & INDEX('PFB-Konstrukte'!$B$9:$J$40,SMALL(IF(NOT(ISERROR(FIND(IF(LEFT(A92,1)=\"0\",\" \" & MID(A92,2,1) & \",\",IF(MID(A92,3,1)=\".\",LEFT(A92,2),LEFT(A92,3))),'PFB-Konstrukte'!$J$9:$J$40))),ROW($1:$32)),2),1),\n\nINDEX('PFB-Konstrukte'!$A$9:$J$40,SMALL(IF(NOT(ISERROR(FIND(IF(LEFT(A92,1)=\"0\",\" \" & MID(A92,2,1) & \",\",IF(MID(A92,3,1)=\".\",LEFT(A92,2),LEFT(A92,3))),'PFB-Konstrukte'!$J$9:$J$40))),ROW($1:$32)),1),1))),\n\nINDEX('PFB-Konstrukte'!$A$9:$J$40,SMALL(IF(NOT(ISERROR(FIND(IF(LEFT(A92,1)=\"0\",\" \" & MID(A92,2,1) & \",\",IF(MID(A92,3,1)=\".\",LEFT(A92,2),LEFT(A92,3))),'PFB-Konstrukte'!$J$9:$J$40))),ROW($1:$32)),1),1))","v":"Positives Innovationsklima"}]
[]
[null,"N","MW","SE","SD","trifft\nnicht zu","trifft eher\nnicht zu","trifft\neher zu","trifft\nvoll zu","Zuordnung zum Konstrukt"]
["63. Da wir dieselben pädagogischen Absichten verfolgen, können wir auch mit schwierigem Verhalten von Schülerinnen und Schülern klarkommen.",23,3.0434782608695654,0.11725214999360732,0.56232155711553322,0,0.13043478260869565,0.69565217391304346,0.17391304347826086,{"$f":"IF(INDIRECT(\"'PFB-Konstrukte'!A\" & (SMALL(IF(NOT(ISERROR(FIND(IF(LEFT(A95,1)=\"0\",\" \" & MID(A95,2,1) & \",\",IF(MID(A95,3,1)=\".\",LEFT(A95,2),LEFT(A95,3))),'PFB-Konstrukte'!$J$9:$J$40))),ROW($9:$40)),1)+1))=\"\",\n\nIF(LEFT(INDIRECT(\"A\"&MAX(IF($B$1:B95=\"N\",ROW($A$1:A95)))-1),3)=\"nur\",\n\nIF(RIGHT(INDIRECT(\"A\"&MAX(IF($B$1:B95=\"N\",ROW($A$1:A95)))-1),4)=\"PTF!\",\nINDEX('PFB-Konstrukte'!$B$9:$J$40,SMALL(IF(NOT(ISERROR(FIND(IF(LEFT(A95,1)=\"0\",\" \" & MID(A95,2,1) & \",\",IF(MID(A95,3,1)=\".\",LEFT(A95,2),LEFT(A95,3))),'PFB-Konstrukte'!$J$9:$J$40))),ROW($1:$32)),3),1),\nINDEX('PFB-Konstrukte'!$B$9:$J$40,SMALL(IF(NOT(ISERROR(FIND(IF(LEFT(A95,1)=\"0\",\" \" & MID(A95,2,1) & \",\",IF(MID(A95,3,1)=\".\",LEFT(A95,2),LEFT(A95,3))),'PFB-Konstrukte'!$J$9:$J$40))),ROW($1:$32)),2),1)),\n\nIF(RIGHT(INDEX('PFB-Konstrukte'!$A$9:$J$40,SMALL(IF(NOT(ISERROR(FIND(IF(LEFT(A95,1)=\"0\",\" \" & MID(A95,2,1) & \",\",IF(MID(A95,3,1)=\".\",LEFT(A95,2),LEFT(A95,3))),'PFB-Konstrukte'!$J$9:$J$40))),ROW($1:$32)),1),1),7)=\"Führung\",\n\nINDEX('PFB-Konstrukte'!$A$9:$J$40,SMALL(IF(NOT(ISERROR(FIND(IF(LEFT(A95,1)=\"0\",\" \" & MID(A95,2,1) & \",\",IF(MID(A95,3,1)=\".\",LEFT(A95,2),LEFT(A95,3))),'PFB-Konstrukte'!$J$9:$J$40))),ROW($1:$32)),1),1) & \", \n\" & INDEX('PFB-Konstrukte'!$B$9:$J$40,SMALL(IF(NOT(ISERROR(FIND(IF(LEFT(A95,1)=\"0\",\" \" & MID(A95,2,1) & \",\",IF(MID(A95,3,1)=\".\",LEFT(A95,2),LEFT(A95,3))),'PFB-Konstrukte'!$J$9:$J$40))),ROW($1:$32)),2),1),\n\nINDEX('PFB-Konstrukte'!$A$9:$J$40,SMALL(IF(NOT(ISERROR(FIND(IF(LEFT(A95,1)=\"0\",\" \" & MID(A95,2,1) & \",\",IF(MID(A95,3,1)=\".\",LEFT(A95,2),LEFT(A95,3))),'PFB-Konstrukte'!$J$9:$J$40))),ROW($1:$32)),1),1))),\n\nINDEX('PFB-Konstrukte'!$A$9:$J$40,SMALL(IF(NOT(ISERROR(FIND(IF(LEFT(A95,1)=\"0\",\" \" & MID(A95,2,1) & \",\",IF(MID(A95,3,1)=\".\",LEFT(A95,2),LEFT(A95,3))),'PFB-Konstrukte'!$J$9:$J$40))),ROW($1:$32)),1),1))","v":"Kollektive Selbstwirksamkeit"}]
["64. Auch mit außergewöhnlichen Vorfällen können wir zurechtkommen, da wir uns im Kollegium gegenseitig Rückhalt bieten.",23,3.2173913043478257,8.7939112495205501E-2,0.42174116783665,0,0,0.78260869565217395,0.21739130434782608,{"$f":"IF(INDIRECT(\"'PFB-Konstrukte'!A\" & (SMALL(IF(NOT(ISERROR(FIND(IF(LEFT(A96,1)=\"0\",\" \" & MID(A96,2,1) & \",\",IF(MID(A96,3,1)=\".\",LEFT(A96,2),LEFT(A96,3))),'PFB-Konstrukte'!$J$9:$J$40))),ROW($9:$40)),1)+1))=\"\",\n\nIF(LEFT(INDIRECT(\"A\"&MAX(IF($B$1:B96=\"N\",ROW($A$1:A96)))-1),3)=\"nur\",\n\nIF(RIGHT(INDIRECT(\"A\"&MAX(IF($B$1:B96=\"N\",ROW($A$1:A96)))-1),4)=\"PTF!\",\nINDEX('PFB-Konstrukte'!$B$9:$J$40,SMALL(IF(NOT(ISERROR(FIND(IF(LEFT(A96,1)=\"0\",\" \" & MID(A96,2,1) & \",\",IF(MID(A96,3,1)=\".\",LEFT(A96,2),LEFT(A96,3))),'PFB-Konstrukte'!$J$9:$J$40))),ROW($1:$32)),3),1),\nINDEX('PFB-Konstrukte'!$B$9:$J$40,SMALL(IF(NOT(ISERROR(FIND(IF(LEFT(A96,1)=\"0\",\" \" & MID(A96,2,1) & \",\",IF(MID(A96,3,1)=\".\",LEFT(A96,2),LEFT(A96,3))),'PFB-Konstrukte'!$J$9:$J$40))),ROW($1:$32)),2),1)),\n\nIF(RIGHT(INDEX('PFB-Konstrukte'!$A$9:$J$40,SMALL(IF(NOT(ISERROR(FIND(IF(LEFT(A96,1)=\"0\",\" \" & MID(A96,2,1) & \",\",IF(MID(A96,3,1)=\".\",LEFT(A96,2),LEFT(A96,3))),'PFB-Konstrukte'!$J$9:$J$40))),ROW($1:$32)),1),1),7)=\"Führung\",\n\nINDEX('PFB-Konstrukte'!$A$9:$J$40,SMALL(IF(NOT(ISERROR(FIND(IF(LEFT(A96,1)=\"0\",\" \" & MID(A96,2,1) & \",\",IF(MID(A96,3,1)=\".\",LEFT(A96,2),LEFT(A96,3))),'PFB-Konstrukte'!$J$9:$J$40))),ROW($1:$32)),1),1) & \", \n\" & INDEX('PFB-Konstrukte'!$B$9:$J$40,SMALL(IF(NOT(ISERROR(FIND(IF(LEFT(A96,1)=\"0\",\" \" & MID(A96,2,1) & \",\",IF(MID(A96,3,1)=\".\",LEFT(A96,2),LEFT(A96,3))),'PFB-Konstrukte'!$J$9:$J$40))),ROW($1:$32)),2),1),\n\nINDEX('PFB-Konstrukte'!$A$9:$J$40,SMALL(IF(NOT(ISERROR(FIND(IF(LEFT(A96,1)=\"0\",\" \" & MID(A96,2,1) & \",\",IF(MID(A96,3,1)=\".\",LEFT(A96,2),LEFT(A96,3))),'PFB-Konstrukte'!$J$9:$J$40))),ROW($1:$32)),1),1))),\n\nINDEX('PFB-Konstrukte'!$A$9:$J$40,SMALL(IF(NOT(ISERROR(FIND(IF(LEFT(A96,1)=\"0\",\" \" & MID(A96,2,1) & \",\",IF(MID(A96,3,1)=\".\",LEFT(A96,2),LEFT(A96,3))),'PFB-Konstrukte'!$J$9:$J$40))),ROW($1:$32)),1),1))","v":"Kollektive Selbstwirksamkeit"}]
["65. Als kompetentes Kollegium können wir an schwierigen Aufgaben wachsen.",20,3.1,0.14327007988227577,0.64072327551718744,0,0.15,0.6,0.25,{"$f":"IF(INDIRECT(\"'PFB-Konstrukte'!A\" & (SMALL(IF(NOT(ISERROR(FIND(IF(LEFT(A97,1)=\"0\",\" \" & MID(A97,2,1) & \",\",IF(MID(A97,3,1)=\".\",LEFT(A97,2),LEFT(A97,3))),'PFB-Konstrukte'!$J$9:$J$40))),ROW($9:$40)),1)+1))=\"\",\n\nIF(LEFT(INDIRECT(\"A\"&MAX(IF($B$1:B97=\"N\",ROW($A$1:A97)))-1),3)=\"nur\",\n\nIF(RIGHT(INDIRECT(\"A\"&MAX(IF($B$1:B97=\"N\",ROW($A$1:A97)))-1),4)=\"PTF!\",\nINDEX('PFB-Konstrukte'!$B$9:$J$40,SMALL(IF(NOT(ISERROR(FIND(IF(LEFT(A97,1)=\"0\",\" \" & MID(A97,2,1) & \",\",IF(MID(A97,3,1)=\".\",LEFT(A97,2),LEFT(A97,3))),'PFB-Konstrukte'!$J$9:$J$40))),ROW($1:$32)),3),1),\nINDEX('PFB-Konstrukte'!$B$9:$J$40,SMALL(IF(NOT(ISERROR(FIND(IF(LEFT(A97,1)=\"0\",\" \" & MID(A97,2,1) & \",\",IF(MID(A97,3,1)=\".\",LEFT(A97,2),LEFT(A97,3))),'PFB-Konstrukte'!$J$9:$J$40))),ROW($1:$32)),2),1)),\n\nIF(RIGHT(INDEX('PFB-Konstrukte'!$A$9:$J$40,SMALL(IF(NOT(ISERROR(FIND(IF(LEFT(A97,1)=\"0\",\" \" & MID(A97,2,1) & \",\",IF(MID(A97,3,1)=\".\",LEFT(A97,2),LEFT(A97,3))),'PFB-Konstrukte'!$J$9:$J$40))),ROW($1:$32)),1),1),7)=\"Führung\",\n\nINDEX('PFB-Konstrukte'!$A$9:$J$40,SMALL(IF(NOT(ISERROR(FIND(IF(LEFT(A97,1)=\"0\",\" \" & MID(A97,2,1) & \",\",IF(MID(A97,3,1)=\".\",LEFT(A97,2),LEFT(A97,3))),'PFB-Konstrukte'!$J$9:$J$40))),ROW($1:$32)),1),1) & \", \n\" & INDEX('PFB-Konstrukte'!$B$9:$J$40,SMALL(IF(NOT(ISERROR(FIND(IF(LEFT(A97,1)=\"0\",\" \" & MID(A97,2,1) & \",\",IF(MID(A97,3,1)=\".\",LEFT(A97,2),LEFT(A97,3))),'PFB-Konstrukte'!$J$9:$J$40))),ROW($1:$32)),2),1),\n\nINDEX('PFB-Konstrukte'!$A$9:$J$40,SMALL(IF(NOT(ISERROR(FIND(IF(LEFT(A97,1)=\"0\",\" \" & MID(A97,2,1) & \",\",IF(MID(A97,3,1)=\".\",LEFT(A97,2),LEFT(A97,3))),'PFB-Konstrukte'!$J$9:$J$40))),ROW($1:$32)),1),1))),\n\nINDEX('PFB-Konstrukte'!$A$9:$J$40,SMALL(IF(NOT(ISERROR(FIND(IF(LEFT(A97,1)=\"0\",\" \" & MID(A97,2,1) & \",\",IF(MID(A97,3,1)=\".\",LEFT(A97,2),LEFT(A97,3))),'PFB-Konstrukte'!$J$9:$J$40))),ROW($1:$32)),1),1))","v":"Kollektive Selbstwirksamkeit"}]
["66. Auch aus pädagogischen Fehlern und Rückschlägen können wir viel lernen, solange wir auf unsere gemeinsame Handlungskompetenz vertrauen.",20,3.0000000000000004,0.10259783520851541,0.45883146774112354,0,0.1,0.8,0.1,{"$f":"IF(INDIRECT(\"'PFB-Konstrukte'!A\" & (SMALL(IF(NOT(ISERROR(FIND(IF(LEFT(A98,1)=\"0\",\" \" & MID(A98,2,1) & \",\",IF(MID(A98,3,1)=\".\",LEFT(A98,2),LEFT(A98,3))),'PFB-Konstrukte'!$J$9:$J$40))),ROW($9:$40)),1)+1))=\"\",\n\nIF(LEFT(INDIRECT(\"A\"&MAX(IF($B$1:B98=\"N\",ROW($A$1:A98)))-1),3)=\"nur\",\n\nIF(RIGHT(INDIRECT(\"A\"&MAX(IF($B$1:B98=\"N\",ROW($A$1:A98)))-1),4)=\"PTF!\",\nINDEX('PFB-Konstrukte'!$B$9:$J$40,SMALL(IF(NOT(ISERROR(FIND(IF(LEFT(A98,1)=\"0\",\" \" & MID(A98,2,1) & \",\",IF(MID(A98,3,1)=\".\",LEFT(A98,2),LEFT(A98,3))),'PFB-Konstrukte'!$J$9:$J$40))),ROW($1:$32)),3),1),\nINDEX('PFB-Konstrukte'!$B$9:$J$40,SMALL(IF(NOT(ISERROR(FIND(IF(LEFT(A98,1)=\"0\",\" \" & MID(A98,2,1) & \",\",IF(MID(A98,3,1)=\".\",LEFT(A98,2),LEFT(A98,3))),'PFB-Konstrukte'!$J$9:$J$40))),ROW($1:$32)),2),1)),\n\nIF(RIGHT(INDEX('PFB-Konstrukte'!$A$9:$J$40,SMALL(IF(NOT(ISERROR(FIND(IF(LEFT(A98,1)=\"0\",\" \" & MID(A98,2,1) & \",\",IF(MID(A98,3,1)=\".\",LEFT(A98,2),LEFT(A98,3))),'PFB-Konstrukte'!$J$9:$J$40))),ROW($1:$32)),1),1),7)=\"Führung\",\n\nINDEX('PFB-Konstrukte'!$A$9:$J$40,SMALL(IF(NOT(ISERROR(FIND(IF(LEFT(A98,1)=\"0\",\" \" & MID(A98,2,1) & \",\",IF(MID(A98,3,1)=\".\",LEFT(A98,2),LEFT(A98,3))),'PFB-Konstrukte'!$J$9:$J$40))),ROW($1:$32)),1),1) & \", \n\" & INDEX('PFB-Konstrukte'!$B$9:$J$40,SMALL(IF(NOT(ISERROR(FIND(IF(LEFT(A98,1)=\"0\",\" \" & MID(A98,2,1) & \",\",IF(MID(A98,3,1)=\".\",LEFT(A98,2),LEFT(A98,3))),'PFB-Konstrukte'!$J$9:$J$40))),ROW($1:$32)),2),1),\n\nINDEX('PFB-Konstrukte'!$A$9:$J$40,SMALL(IF(NOT(ISERROR(FIND(IF(LEFT(A98,1)=\"0\",\" \" & MID(A98,2,1) & \",\",IF(MID(A98,3,1)=\".\",LEFT(A98,2),LEFT(A98,3))),'PFB-Konstrukte'!$J$9:$J$40))),ROW($1:$32)),1),1))),\n\nINDEX('PFB-Konstrukte'!$A$9:$J$40,SMALL(IF(NOT(ISERROR(FIND(IF(LEFT(A98,1)=\"0\",\" \" & MID(A98,2,1) & \",\",IF(MID(A98,3,1)=\".\",LEFT(A98,2),LEFT(A98,3))),'PFB-Konstrukte'!$J$9:$J$40))),ROW($1:$32)),1),1))","v":"Kollektive Selbstwirksamkeit"}]
["67. Wir als Kollegium erzielen pädagogische Fortschritte und lassen uns nicht von Alltagsschwierigkeiten aus dem Konzept bringen.",22,2.8636363636363629,0.1194405165482372,0.56022568117930294,0,0.22727272727272727,0.68181818181818177,9.0909090909090912E-2,{"$f":"IF(INDIRECT(\"'PFB-Konstrukte'!A\" & (SMALL(IF(NOT(ISERROR(FIND(IF(LEFT(A99,1)=\"0\",\" \" & MID(A99,2,1) & \",\",IF(MID(A99,3,1)=\".\",LEFT(A99,2),LEFT(A99,3))),'PFB-Konstrukte'!$J$9:$J$40))),ROW($9:$40)),1)+1))=\"\",\n\nIF(LEFT(INDIRECT(\"A\"&MAX(IF($B$1:B99=\"N\",ROW($A$1:A99)))-1),3)=\"nur\",\n\nIF(RIGHT(INDIRECT(\"A\"&MAX(IF($B$1:B99=\"N\",ROW($A$1:A99)))-1),4)=\"PTF!\",\nINDEX('PFB-Konstrukte'!$B$9:$J$40,SMALL(IF(NOT(ISERROR(FIND(IF(LEFT(A99,1)=\"0\",\" \" & MID(A99,2,1) & \",\",IF(MID(A99,3,1)=\".\",LEFT(A99,2),LEFT(A99,3))),'PFB-Konstrukte'!$J$9:$J$40))),ROW($1:$32)),3),1),\nINDEX('PFB-Konstrukte'!$B$9:$J$40,SMALL(IF(NOT(ISERROR(FIND(IF(LEFT(A99,1)=\"0\",\" \" & MID(A99,2,1) & \",\",IF(MID(A99,3,1)=\".\",LEFT(A99,2),LEFT(A99,3))),'PFB-Konstrukte'!$J$9:$J$40))),ROW($1:$32)),2),1)),\n\nIF(RIGHT(INDEX('PFB-Konstrukte'!$A$9:$J$40,SMALL(IF(NOT(ISERROR(FIND(IF(LEFT(A99,1)=\"0\",\" \" & MID(A99,2,1) & \",\",IF(MID(A99,3,1)=\".\",LEFT(A99,2),LEFT(A99,3))),'PFB-Konstrukte'!$J$9:$J$40))),ROW($1:$32)),1),1),7)=\"Führung\",\n\nINDEX('PFB-Konstrukte'!$A$9:$J$40,SMALL(IF(NOT(ISERROR(FIND(IF(LEFT(A99,1)=\"0\",\" \" & MID(A99,2,1) & \",\",IF(MID(A99,3,1)=\".\",LEFT(A99,2),LEFT(A99,3))),'PFB-Konstrukte'!$J$9:$J$40))),ROW($1:$32)),1),1) & \", \n\" & INDEX('PFB-Konstrukte'!$B$9:$J$40,SMALL(IF(NOT(ISERROR(FIND(IF(LEFT(A99,1)=\"0\",\" \" & MID(A99,2,1) & \",\",IF(MID(A99,3,1)=\".\",LEFT(A99,2),LEFT(A99,3))),'PFB-Konstrukte'!$J$9:$J$40))),ROW($1:$32)),2),1),\n\nINDEX('PFB-Konstrukte'!$A$9:$J$40,SMALL(IF(NOT(ISERROR(FIND(IF(LEFT(A99,1)=\"0\",\" \" & MID(A99,2,1) & \",\",IF(MID(A99,3,1)=\".\",LEFT(A99,2),LEFT(A99,3))),'PFB-Konstrukte'!$J$9:$J$40))),ROW($1:$32)),1),1))),\n\nINDEX('PFB-Konstrukte'!$A$9:$J$40,SMALL(IF(NOT(ISERROR(FIND(IF(LEFT(A99,1)=\"0\",\" \" & MID(A99,2,1) & \",\",IF(MID(A99,3,1)=\".\",LEFT(A99,2),LEFT(A99,3))),'PFB-Konstrukte'!$J$9:$J$40))),ROW($1:$32)),1),1))","v":"Kollektive Selbstwirksamkeit"}]
["68. Trotz der Systemzwänge können wir als Kollegium die pädagogische Qualität unserer Schule verbessern.",20,2.8,0.15559732104309981,0.69585237393845933,0,0.35,0.5,0.15,{"$f":"IF(INDIRECT(\"'PFB-Konstrukte'!A\" & (SMALL(IF(NOT(ISERROR(FIND(IF(LEFT(A100,1)=\"0\",\" \" & MID(A100,2,1) & \",\",IF(MID(A100,3,1)=\".\",LEFT(A100,2),LEFT(A100,3))),'PFB-Konstrukte'!$J$9:$J$40))),ROW($9:$40)),1)+1))=\"\",\n\nIF(LEFT(INDIRECT(\"A\"&MAX(IF($B$1:B100=\"N\",ROW($A$1:A100)))-1),3)=\"nur\",\n\nIF(RIGHT(INDIRECT(\"A\"&MAX(IF($B$1:B100=\"N\",ROW($A$1:A100)))-1),4)=\"PTF!\",\nINDEX('PFB-Konstrukte'!$B$9:$J$40,SMALL(IF(NOT(ISERROR(FIND(IF(LEFT(A100,1)=\"0\",\" \" & MID(A100,2,1) & \",\",IF(MID(A100,3,1)=\".\",LEFT(A100,2),LEFT(A100,3))),'PFB-Konstrukte'!$J$9:$J$40))),ROW($1:$32)),3),1),\nINDEX('PFB-Konstrukte'!$B$9:$J$40,SMALL(IF(NOT(ISERROR(FIND(IF(LEFT(A100,1)=\"0\",\" \" & MID(A100,2,1) & \",\",IF(MID(A100,3,1)=\".\",LEFT(A100,2),LEFT(A100,3))),'PFB-Konstrukte'!$J$9:$J$40))),ROW($1:$32)),2),1)),\n\nIF(RIGHT(INDEX('PFB-Konstrukte'!$A$9:$J$40,SMALL(IF(NOT(ISERROR(FIND(IF(LEFT(A100,1)=\"0\",\" \" & MID(A100,2,1) & \",\",IF(MID(A100,3,1)=\".\",LEFT(A100,2),LEFT(A100,3))),'PFB-Konstrukte'!$J$9:$J$40))),ROW($1:$32)),1),1),7)=\"Führung\",\n\nINDEX('PFB-Konstrukte'!$A$9:$J$40,SMALL(IF(NOT(ISERROR(FIND(IF(LEFT(A100,1)=\"0\",\" \" & MID(A100,2,1) & \",\",IF(MID(A100,3,1)=\".\",LEFT(A100,2),LEFT(A100,3))),'PFB-Konstrukte'!$J$9:$J$40))),ROW($1:$32)),1),1) & \", \n\" & INDEX('PFB-Konstrukte'!$B$9:$J$40,SMALL(IF(NOT(ISERROR(FIND(IF(LEFT(A100,1)=\"0\",\" \" & MID(A100,2,1) & \",\",IF(MID(A100,3,1)=\".\",LEFT(A100,2),LEFT(A100,3))),'PFB-Konstrukte'!$J$9:$J$40))),ROW($1:$32)),2),1),\n\nINDEX('PFB-Konstrukte'!$A$9:$J$40,SMALL(IF(NOT(ISERROR(FIND(IF(LEFT(A100,1)=\"0\",\" \" & MID(A100,2,1) & \",\",IF(MID(A100,3,1)=\".\",LEFT(A100,2),LEFT(A100,3))),'PFB-Konstrukte'!$J$9:$J$40))),ROW($1:$32)),1),1))),\n\nINDEX('PFB-Konstrukte'!$A$9:$J$40,SMALL(IF(NOT(ISERROR(FIND(IF(LEFT(A100,1)=\"0\",\" \" & MID(A100,2,1) & \",\",IF(MID(A100,3,1)=\".\",LEFT(A100,2),LEFT(A100,3))),'PFB-Konstrukte'!$J$9:$J$40))),ROW($1:$32)),1),1))","v":"Kollektive Selbstwirksamkeit"}]
[]
[null,"N","MW","SE","SD","trifft\nnicht zu","trifft eher\nnicht zu","trifft\neher zu","trifft\nvoll zu","Zuordnung zum Konstrukt"]
["69. Unsere Schulleitung agiert als gut funktionierendes Leitungsteam.",23,3.3043478260869565,0.13239631797979623,0.6349504353380413,0,8.6956521739130432E-2,0.52173913043478259,0.39130434782608697,{"$f":"IF(INDIRECT(\"'PFB-Konstrukte'!A\" & (SMALL(IF(NOT(ISERROR(FIND(IF(LEFT(A103,1)=\"0\",\" \" & MID(A103,2,1) & \",\",IF(MID(A103,3,1)=\".\",LEFT(A103,2),LEFT(A103,3))),'PFB-Konstrukte'!$J$9:$J$40))),ROW($9:$40)),1)+1))=\"\",\n\nIF(LEFT(INDIRECT(\"A\"&MAX(IF($B$1:B103=\"N\",ROW($A$1:A103)))-1),3)=\"nur\",\n\nIF(RIGHT(INDIRECT(\"A\"&MAX(IF($B$1:B103=\"N\",ROW($A$1:A103)))-1),4)=\"PTF!\",\nINDEX('PFB-Konstrukte'!$B$9:$J$40,SMALL(IF(NOT(ISERROR(FIND(IF(LEFT(A103,1)=\"0\",\" \" & MID(A103,2,1) & \",\",IF(MID(A103,3,1)=\".\",LEFT(A103,2),LEFT(A103,3))),'PFB-Konstrukte'!$J$9:$J$40))),ROW($1:$32)),3),1),\nINDEX('PFB-Konstrukte'!$B$9:$J$40,SMALL(IF(NOT(ISERROR(FIND(IF(LEFT(A103,1)=\"0\",\" \" & MID(A103,2,1) & \",\",IF(MID(A103,3,1)=\".\",LEFT(A103,2),LEFT(A103,3))),'PFB-Konstrukte'!$J$9:$J$40))),ROW($1:$32)),2),1)),\n\nIF(RIGHT(INDEX('PFB-Konstrukte'!$A$9:$J$40,SMALL(IF(NOT(ISERROR(FIND(IF(LEFT(A103,1)=\"0\",\" \" & MID(A103,2,1) & \",\",IF(MID(A103,3,1)=\".\",LEFT(A103,2),LEFT(A103,3))),'PFB-Konstrukte'!$J$9:$J$40))),ROW($1:$32)),1),1),7)=\"Führung\",\n\nINDEX('PFB-Konstrukte'!$A$9:$J$40,SMALL(IF(NOT(ISERROR(FIND(IF(LEFT(A103,1)=\"0\",\" \" & MID(A103,2,1) & \",\",IF(MID(A103,3,1)=\".\",LEFT(A103,2),LEFT(A103,3))),'PFB-Konstrukte'!$J$9:$J$40))),ROW($1:$32)),1),1) & \", \n\" & INDEX('PFB-Konstrukte'!$B$9:$J$40,SMALL(IF(NOT(ISERROR(FIND(IF(LEFT(A103,1)=\"0\",\" \" & MID(A103,2,1) & \",\",IF(MID(A103,3,1)=\".\",LEFT(A103,2),LEFT(A103,3))),'PFB-Konstrukte'!$J$9:$J$40))),ROW($1:$32)),2),1),\n\nINDEX('PFB-Konstrukte'!$A$9:$J$40,SMALL(IF(NOT(ISERROR(FIND(IF(LEFT(A103,1)=\"0\",\" \" & MID(A103,2,1) & \",\",IF(MID(A103,3,1)=\".\",LEFT(A103,2),LEFT(A103,3))),'PFB-Konstrukte'!$J$9:$J$40))),ROW($1:$32)),1),1))),\n\nINDEX('PFB-Konstrukte'!$A$9:$J$40,SMALL(IF(NOT(ISERROR(FIND(IF(LEFT(A103,1)=\"0\",\" \" & MID(A103,2,1) & \",\",IF(MID(A103,3,1)=\".\",LEFT(A103,2),LEFT(A103,3))),'PFB-Konstrukte'!$J$9:$J$40))),ROW($1:$32)),1),1))","v":"Partizipative Führung, \nDistribution von Führung"}]
["70. Bei der Weiterentwicklung unserer Schule ziehen alle Mitglieder der Schulleitung an einem Strang.",21,3.4761904761904758,0.13127665478181164,0.6015852075182383,0,4.7619047619047616E-2,0.42857142857142855,0.52380952380952384,{"$f":"IF(INDIRECT(\"'PFB-Konstrukte'!A\" & (SMALL(IF(NOT(ISERROR(FIND(IF(LEFT(A104,1)=\"0\",\" \" & MID(A104,2,1) & \",\",IF(MID(A104,3,1)=\".\",LEFT(A104,2),LEFT(A104,3))),'PFB-Konstrukte'!$J$9:$J$40))),ROW($9:$40)),1)+1))=\"\",\n\nIF(LEFT(INDIRECT(\"A\"&MAX(IF($B$1:B104=\"N\",ROW($A$1:A104)))-1),3)=\"nur\",\n\nIF(RIGHT(INDIRECT(\"A\"&MAX(IF($B$1:B104=\"N\",ROW($A$1:A104)))-1),4)=\"PTF!\",\nINDEX('PFB-Konstrukte'!$B$9:$J$40,SMALL(IF(NOT(ISERROR(FIND(IF(LEFT(A104,1)=\"0\",\" \" & MID(A104,2,1) & \",\",IF(MID(A104,3,1)=\".\",LEFT(A104,2),LEFT(A104,3))),'PFB-Konstrukte'!$J$9:$J$40))),ROW($1:$32)),3),1),\nINDEX('PFB-Konstrukte'!$B$9:$J$40,SMALL(IF(NOT(ISERROR(FIND(IF(LEFT(A104,1)=\"0\",\" \" & MID(A104,2,1) & \",\",IF(MID(A104,3,1)=\".\",LEFT(A104,2),LEFT(A104,3))),'PFB-Konstrukte'!$J$9:$J$40))),ROW($1:$32)),2),1)),\n\nIF(RIGHT(INDEX('PFB-Konstrukte'!$A$9:$J$40,SMALL(IF(NOT(ISERROR(FIND(IF(LEFT(A104,1)=\"0\",\" \" & MID(A104,2,1) & \",\",IF(MID(A104,3,1)=\".\",LEFT(A104,2),LEFT(A104,3))),'PFB-Konstrukte'!$J$9:$J$40))),ROW($1:$32)),1),1),7)=\"Führung\",\n\nINDEX('PFB-Konstrukte'!$A$9:$J$40,SMALL(IF(NOT(ISERROR(FIND(IF(LEFT(A104,1)=\"0\",\" \" & MID(A104,2,1) & \",\",IF(MID(A104,3,1)=\".\",LEFT(A104,2),LEFT(A104,3))),'PFB-Konstrukte'!$J$9:$J$40))),ROW($1:$32)),1),1) & \", \n\" & INDEX('PFB-Konstrukte'!$B$9:$J$40,SMALL(IF(NOT(ISERROR(FIND(IF(LEFT(A104,1)=\"0\",\" \" & MID(A104,2,1) & \",\",IF(MID(A104,3,1)=\".\",LEFT(A104,2),LEFT(A104,3))),'PFB-Konstrukte'!$J$9:$J$40))),ROW($1:$32)),2),1),\n\nINDEX('PFB-Konstrukte'!$A$9:$J$40,SMALL(IF(NOT(ISERROR(FIND(IF(LEFT(A104,1)=\"0\",\" \" & MID(A104,2,1) & \",\",IF(MID(A104,3,1)=\".\",LEFT(A104,2),LEFT(A104,3))),'PFB-Konstrukte'!$J$9:$J$40))),ROW($1:$32)),1),1))),\n\nINDEX('PFB-Konstrukte'!$A$9:$J$40,SMALL(IF(NOT(ISERROR(FIND(IF(LEFT(A104,1)=\"0\",\" \" & MID(A104,2,1) & \",\",IF(MID(A104,3,1)=\".\",LEFT(A104,2),LEFT(A104,3))),'PFB-Konstrukte'!$J$9:$J$40))),ROW($1:$32)),1),1))","v":"Partizipative Führung, \nDistribution von Führung"}]
["71. Es ist klar, wie die Aufgaben innerhalb der Schulleitung an unserer Schule verteilt sind.",22,3.2272727272727271,0.14611592062110537,0.68534441684234193,0,0.13636363636363635,0.5,0.36363636363636365,{"$f":"IF(INDIRECT(\"'PFB-Konstrukte'!A\" & (SMALL(IF(NOT(ISERROR(FIND(IF(LEFT(A105,1)=\"0\",\" \" & MID(A105,2,1) & \",\",IF(MID(A105,3,1)=\".\",LEFT(A105,2),LEFT(A105,3))),'PFB-Konstrukte'!$J$9:$J$40))),ROW($9:$40)),1)+1))=\"\",\n\nIF(LEFT(INDIRECT(\"A\"&MAX(IF($B$1:B105=\"N\",ROW($A$1:A105)))-1),3)=\"nur\",\n\nIF(RIGHT(INDIRECT(\"A\"&MAX(IF($B$1:B105=\"N\",ROW($A$1:A105)))-1),4)=\"PTF!\",\nINDEX('PFB-Konstrukte'!$B$9:$J$40,SMALL(IF(NOT(ISERROR(FIND(IF(LEFT(A105,1)=\"0\",\" \" & MID(A105,2,1) & \",\",IF(MID(A105,3,1)=\".\",LEFT(A105,2),LEFT(A105,3))),'PFB-Konstrukte'!$J$9:$J$40))),ROW($1:$32)),3),1),\nINDEX('PFB-Konstrukte'!$B$9:$J$40,SMALL(IF(NOT(ISERROR(FIND(IF(LEFT(A105,1)=\"0\",\" \" & MID(A105,2,1) & \",\",IF(MID(A105,3,1)=\".\",LEFT(A105,2),LEFT(A105,3))),'PFB-Konstrukte'!$J$9:$J$40))),ROW($1:$32)),2),1)),\n\nIF(RIGHT(INDEX('PFB-Konstrukte'!$A$9:$J$40,SMALL(IF(NOT(ISERROR(FIND(IF(LEFT(A105,1)=\"0\",\" \" & MID(A105,2,1) & \",\",IF(MID(A105,3,1)=\".\",LEFT(A105,2),LEFT(A105,3))),'PFB-Konstrukte'!$J$9:$J$40))),ROW($1:$32)),1),1),7)=\"Führung\",\n\nINDEX('PFB-Konstrukte'!$A$9:$J$40,SMALL(IF(NOT(ISERROR(FIND(IF(LEFT(A105,1)=\"0\",\" \" & MID(A105,2,1) & \",\",IF(MID(A105,3,1)=\".\",LEFT(A105,2),LEFT(A105,3))),'PFB-Konstrukte'!$J$9:$J$40))),ROW($1:$32)),1),1) & \", \n\" & INDEX('PFB-Konstrukte'!$B$9:$J$40,SMALL(IF(NOT(ISERROR(FIND(IF(LEFT(A105,1)=\"0\",\" \" & MID(A105,2,1) & \",\",IF(MID(A105,3,1)=\".\",LEFT(A105,2),LEFT(A105,3))),'PFB-Konstrukte'!$J$9:$J$40))),ROW($1:$32)),2),1),\n\nINDEX('PFB-Konstrukte'!$A$9:$J$40,SMALL(IF(NOT(ISERROR(FIND(IF(LEFT(A105,1)=\"0\",\" \" & MID(A105,2,1) & \",\",IF(MID(A105,3,1)=\".\",LEFT(A105,2),LEFT(A105,3))),'PFB-Konstrukte'!$J$9:$J$40))),ROW($1:$32)),1),1))),\n\nINDEX('PFB-Konstrukte'!$A$9:$J$40,SMALL(IF(NOT(ISERROR(FIND(IF(LEFT(A105,1)=\"0\",\" \" & MID(A105,2,1) & \",\",IF(MID(A105,3,1)=\".\",LEFT(A105,2),LEFT(A105,3))),'PFB-Konstrukte'!$J$9:$J$40))),ROW($1:$32)),1),1))","v":"Partizipative Führung, \nDistribution von Führung"}]
["72. Es ist klar, welche Entscheidungsspielräume die Mitglieder der Schulleitung an unserer Schule haben.",20,3.3500000000000005,0.16662280124501819,0.74515982037059458,0,0.15,0.35,0.5,{"$f":"IF(INDIRECT(\"'PFB-Konstrukte'!A\" & (SMALL(IF(NOT(ISERROR(FIND(IF(LEFT(A106,1)=\"0\",\" \" & MID(A106,2,1) & \",\",IF(MID(A106,3,1)=\".\",LEFT(A106,2),LEFT(A106,3))),'PFB-Konstrukte'!$J$9:$J$40))),ROW($9:$40)),1)+1))=\"\",\n\nIF(LEFT(INDIRECT(\"A\"&MAX(IF($B$1:B106=\"N\",ROW($A$1:A106)))-1),3)=\"nur\",\n\nIF(RIGHT(INDIRECT(\"A\"&MAX(IF($B$1:B106=\"N\",ROW($A$1:A106)))-1),4)=\"PTF!\",\nINDEX('PFB-Konstrukte'!$B$9:$J$40,SMALL(IF(NOT(ISERROR(FIND(IF(LEFT(A106,1)=\"0\",\" \" & MID(A106,2,1) & \",\",IF(MID(A106,3,1)=\".\",LEFT(A106,2),LEFT(A106,3))),'PFB-Konstrukte'!$J$9:$J$40))),ROW($1:$32)),3),1),\nINDEX('PFB-Konstrukte'!$B$9:$J$40,SMALL(IF(NOT(ISERROR(FIND(IF(LEFT(A106,1)=\"0\",\" \" & MID(A106,2,1) & \",\",IF(MID(A106,3,1)=\".\",LEFT(A106,2),LEFT(A106,3))),'PFB-Konstrukte'!$J$9:$J$40))),ROW($1:$32)),2),1)),\n\nIF(RIGHT(INDEX('PFB-Konstrukte'!$A$9:$J$40,SMALL(IF(NOT(ISERROR(FIND(IF(LEFT(A106,1)=\"0\",\" \" & MID(A106,2,1) & \",\",IF(MID(A106,3,1)=\".\",LEFT(A106,2),LEFT(A106,3))),'PFB-Konstrukte'!$J$9:$J$40))),ROW($1:$32)),1),1),7)=\"Führung\",\n\nINDEX('PFB-Konstrukte'!$A$9:$J$40,SMALL(IF(NOT(ISERROR(FIND(IF(LEFT(A106,1)=\"0\",\" \" & MID(A106,2,1) & \",\",IF(MID(A106,3,1)=\".\",LEFT(A106,2),LEFT(A106,3))),'PFB-Konstrukte'!$J$9:$J$40))),ROW($1:$32)),1),1) & \", \n\" & INDEX('PFB-Konstrukte'!$B$9:$J$40,SMALL(IF(NOT(ISERROR(FIND(IF(LEFT(A106,1)=\"0\",\" \" & MID(A106,2,1) & \",\",IF(MID(A106,3,1)=\".\",LEFT(A106,2),LEFT(A106,3))),'PFB-Konstrukte'!$J$9:$J$40))),ROW($1:$32)),2),1),\n\nINDEX('PFB-Konstrukte'!$A$9:$J$40,SMALL(IF(NOT(ISERROR(FIND(IF(LEFT(A106,1)=\"0\",\" \" & MID(A106,2,1) & \",\",IF(MID(A106,3,1)=\".\",LEFT(A106,2),LEFT(A106,3))),'PFB-Konstrukte'!$J$9:$J$40))),ROW($1:$32)),1),1))),\n\nINDEX('PFB-Konstrukte'!$A$9:$J$40,SMALL(IF(NOT(ISERROR(FIND(IF(LEFT(A106,1)=\"0\",\" \" & MID(A106,2,1) & \",\",IF(MID(A106,3,1)=\".\",LEFT(A106,2),LEFT(A106,3))),'PFB-Konstrukte'!$J$9:$J$40))),ROW($1:$32)),1),1))","v":"Partizipative Führung, \nDistribution von Führung"}]
["73. Die Schulleitung behält den Überblick über die Arbeit der verschiedenen Funktionsgruppen.",21,3.4285714285714288,0.13041013273932525,0.59761430466719678,0,4.7619047619047616E-2,0.47619047619047611,0.47619047619047611,{"$f":"IF(INDIRECT(\"'PFB-Konstrukte'!A\" & (SMALL(IF(NOT(ISERROR(FIND(IF(LEFT(A107,1)=\"0\",\" \" & MID(A107,2,1) & \",\",IF(MID(A107,3,1)=\".\",LEFT(A107,2),LEFT(A107,3))),'PFB-Konstrukte'!$J$9:$J$40))),ROW($9:$40)),1)+1))=\"\",\n\nIF(LEFT(INDIRECT(\"A\"&MAX(IF($B$1:B107=\"N\",ROW($A$1:A107)))-1),3)=\"nur\",\n\nIF(RIGHT(INDIRECT(\"A\"&MAX(IF($B$1:B107=\"N\",ROW($A$1:A107)))-1),4)=\"PTF!\",\nINDEX('PFB-Konstrukte'!$B$9:$J$40,SMALL(IF(NOT(ISERROR(FIND(IF(LEFT(A107,1)=\"0\",\" \" & MID(A107,2,1) & \",\",IF(MID(A107,3,1)=\".\",LEFT(A107,2),LEFT(A107,3))),'PFB-Konstrukte'!$J$9:$J$40))),ROW($1:$32)),3),1),\nINDEX('PFB-Konstrukte'!$B$9:$J$40,SMALL(IF(NOT(ISERROR(FIND(IF(LEFT(A107,1)=\"0\",\" \" & MID(A107,2,1) & \",\",IF(MID(A107,3,1)=\".\",LEFT(A107,2),LEFT(A107,3))),'PFB-Konstrukte'!$J$9:$J$40))),ROW($1:$32)),2),1)),\n\nIF(RIGHT(INDEX('PFB-Konstrukte'!$A$9:$J$40,SMALL(IF(NOT(ISERROR(FIND(IF(LEFT(A107,1)=\"0\",\" \" & MID(A107,2,1) & \",\",IF(MID(A107,3,1)=\".\",LEFT(A107,2),LEFT(A107,3))),'PFB-Konstrukte'!$J$9:$J$40))),ROW($1:$32)),1),1),7)=\"Führung\",\n\nINDEX('PFB-Konstrukte'!$A$9:$J$40,SMALL(IF(NOT(ISERROR(FIND(IF(LEFT(A107,1)=\"0\",\" \" & MID(A107,2,1) & \",\",IF(MID(A107,3,1)=\".\",LEFT(A107,2),LEFT(A107,3))),'PFB-Konstrukte'!$J$9:$J$40))),ROW($1:$32)),1),1) & \", \n\" & INDEX('PFB-Konstrukte'!$B$9:$J$40,SMALL(IF(NOT(ISERROR(FIND(IF(LEFT(A107,1)=\"0\",\" \" & MID(A107,2,1) & \",\",IF(MID(A107,3,1)=\".\",LEFT(A107,2),LEFT(A107,3))),'PFB-Konstrukte'!$J$9:$J$40))),ROW($1:$32)),2),1),\n\nINDEX('PFB-Konstrukte'!$A$9:$J$40,SMALL(IF(NOT(ISERROR(FIND(IF(LEFT(A107,1)=\"0\",\" \" & MID(A107,2,1) & \",\",IF(MID(A107,3,1)=\".\",LEFT(A107,2),LEFT(A107,3))),'PFB-Konstrukte'!$J$9:$J$40))),ROW($1:$32)),1),1))),\n\nINDEX('PFB-Konstrukte'!$A$9:$J$40,SMALL(IF(NOT(ISERROR(FIND(IF(LEFT(A107,1)=\"0\",\" \" & MID(A107,2,1) & \",\",IF(MID(A107,3,1)=\".\",LEFT(A107,2),LEFT(A107,3))),'PFB-Konstrukte'!$J$9:$J$40))),ROW($1:$32)),1),1))","v":"Partizipative Führung, \nDelegation von Führung"}]
["74. Der Schulleitung gelingt es, die Arbeit von Funktionsgruppen oder Mitgliedern des Kollegiums strukturiert zusammenzuführen.",22,3.2727272727272725,0.13454779452744636,0.63108509590101902,0,9.0909090909090912E-2,0.54545454545454541,0.36363636363636365,{"$f":"IF(INDIRECT(\"'PFB-Konstrukte'!A\" & (SMALL(IF(NOT(ISERROR(FIND(IF(LEFT(A108,1)=\"0\",\" \" & MID(A108,2,1) & \",\",IF(MID(A108,3,1)=\".\",LEFT(A108,2),LEFT(A108,3))),'PFB-Konstrukte'!$J$9:$J$40))),ROW($9:$40)),1)+1))=\"\",\n\nIF(LEFT(INDIRECT(\"A\"&MAX(IF($B$1:B108=\"N\",ROW($A$1:A108)))-1),3)=\"nur\",\n\nIF(RIGHT(INDIRECT(\"A\"&MAX(IF($B$1:B108=\"N\",ROW($A$1:A108)))-1),4)=\"PTF!\",\nINDEX('PFB-Konstrukte'!$B$9:$J$40,SMALL(IF(NOT(ISERROR(FIND(IF(LEFT(A108,1)=\"0\",\" \" & MID(A108,2,1) & \",\",IF(MID(A108,3,1)=\".\",LEFT(A108,2),LEFT(A108,3))),'PFB-Konstrukte'!$J$9:$J$40))),ROW($1:$32)),3),1),\nINDEX('PFB-Konstrukte'!$B$9:$J$40,SMALL(IF(NOT(ISERROR(FIND(IF(LEFT(A108,1)=\"0\",\" \" & MID(A108,2,1) & \",\",IF(MID(A108,3,1)=\".\",LEFT(A108,2),LEFT(A108,3))),'PFB-Konstrukte'!$J$9:$J$40))),ROW($1:$32)),2),1)),\n\nIF(RIGHT(INDEX('PFB-Konstrukte'!$A$9:$J$40,SMALL(IF(NOT(ISERROR(FIND(IF(LEFT(A108,1)=\"0\",\" \" & MID(A108,2,1) & \",\",IF(MID(A108,3,1)=\".\",LEFT(A108,2),LEFT(A108,3))),'PFB-Konstrukte'!$J$9:$J$40))),ROW($1:$32)),1),1),7)=\"Führung\",\n\nINDEX('PFB-Konstrukte'!$A$9:$J$40,SMALL(IF(NOT(ISERROR(FIND(IF(LEFT(A108,1)=\"0\",\" \" & MID(A108,2,1) & \",\",IF(MID(A108,3,1)=\".\",LEFT(A108,2),LEFT(A108,3))),'PFB-Konstrukte'!$J$9:$J$40))),ROW($1:$32)),1),1) & \", \n\" & INDEX('PFB-Konstrukte'!$B$9:$J$40,SMALL(IF(NOT(ISERROR(FIND(IF(LEFT(A108,1)=\"0\",\" \" & MID(A108,2,1) & \",\",IF(MID(A108,3,1)=\".\",LEFT(A108,2),LEFT(A108,3))),'PFB-Konstrukte'!$J$9:$J$40))),ROW($1:$32)),2),1),\n\nINDEX('PFB-Konstrukte'!$A$9:$J$40,SMALL(IF(NOT(ISERROR(FIND(IF(LEFT(A108,1)=\"0\",\" \" & MID(A108,2,1) & \",\",IF(MID(A108,3,1)=\".\",LEFT(A108,2),LEFT(A108,3))),'PFB-Konstrukte'!$J$9:$J$40))),ROW($1:$32)),1),1))),\n\nINDEX('PFB-Konstrukte'!$A$9:$J$40,SMALL(IF(NOT(ISERROR(FIND(IF(LEFT(A108,1)=\"0\",\" \" & MID(A108,2,1) & \",\",IF(MID(A108,3,1)=\".\",LEFT(A108,2),LEFT(A108,3))),'PFB-Konstrukte'!$J$9:$J$40))),ROW($1:$32)),1),1))","v":"Partizipative Führung, \nDelegation von Führung"}]
["75. Die Schulleitung beteiligt das Kollegium an der Erarbeitung der Fortbildungsplanung für das Schuljahr.",20,3.25,0.17584383023461167,0.78639751565704907,0.05,0.05,0.5,0.4,{"$f":"IF(INDIRECT(\"'PFB-Konstrukte'!A\" & (SMALL(IF(NOT(ISERROR(FIND(IF(LEFT(A109,1)=\"0\",\" \" & MID(A109,2,1) & \",\",IF(MID(A109,3,1)=\".\",LEFT(A109,2),LEFT(A109,3))),'PFB-Konstrukte'!$J$9:$J$40))),ROW($9:$40)),1)+1))=\"\",\n\nIF(LEFT(INDIRECT(\"A\"&MAX(IF($B$1:B109=\"N\",ROW($A$1:A109)))-1),3)=\"nur\",\n\nIF(RIGHT(INDIRECT(\"A\"&MAX(IF($B$1:B109=\"N\",ROW($A$1:A109)))-1),4)=\"PTF!\",\nINDEX('PFB-Konstrukte'!$B$9:$J$40,SMALL(IF(NOT(ISERROR(FIND(IF(LEFT(A109,1)=\"0\",\" \" & MID(A109,2,1) & \",\",IF(MID(A109,3,1)=\".\",LEFT(A109,2),LEFT(A109,3))),'PFB-Konstrukte'!$J$9:$J$40))),ROW($1:$32)),3),1),\nINDEX('PFB-Konstrukte'!$B$9:$J$40,SMALL(IF(NOT(ISERROR(FIND(IF(LEFT(A109,1)=\"0\",\" \" & MID(A109,2,1) & \",\",IF(MID(A109,3,1)=\".\",LEFT(A109,2),LEFT(A109,3))),'PFB-Konstrukte'!$J$9:$J$40))),ROW($1:$32)),2),1)),\n\nIF(RIGHT(INDEX('PFB-Konstrukte'!$A$9:$J$40,SMALL(IF(NOT(ISERROR(FIND(IF(LEFT(A109,1)=\"0\",\" \" & MID(A109,2,1) & \",\",IF(MID(A109,3,1)=\".\",LEFT(A109,2),LEFT(A109,3))),'PFB-Konstrukte'!$J$9:$J$40))),ROW($1:$32)),1),1),7)=\"Führung\",\n\nINDEX('PFB-Konstrukte'!$A$9:$J$40,SMALL(IF(NOT(ISERROR(FIND(IF(LEFT(A109,1)=\"0\",\" \" & MID(A109,2,1) & \",\",IF(MID(A109,3,1)=\".\",LEFT(A109,2),LEFT(A109,3))),'PFB-Konstrukte'!$J$9:$J$40))),ROW($1:$32)),1),1) & \", \n\" & INDEX('PFB-Konstrukte'!$B$9:$J$40,SMALL(IF(NOT(ISERROR(FIND(IF(LEFT(A109,1)=\"0\",\" \" & MID(A109,2,1) & \",\",IF(MID(A109,3,1)=\".\",LEFT(A109,2),LEFT(A109,3))),'PFB-Konstrukte'!$J$9:$J$40))),ROW($1:$32)),2),1),\n\nINDEX('PFB-Konstrukte'!$A$9:$J$40,SMALL(IF(NOT(ISERROR(FIND(IF(LEFT(A109,1)=\"0\",\" \" & MID(A109,2,1) & \",\",IF(MID(A109,3,1)=\".\",LEFT(A109,2),LEFT(A109,3))),'PFB-Konstrukte'!$J$9:$J$40))),ROW($1:$32)),1),1))),\n\nINDEX('PFB-Konstrukte'!$A$9:$J$40,SMALL(IF(NOT(ISERROR(FIND(IF(LEFT(A109,1)=\"0\",\" \" & MID(A109,2,1) & \",\",IF(MID(A109,3,1)=\".\",LEFT(A109,2),LEFT(A109,3))),'PFB-Konstrukte'!$J$9:$J$40))),ROW($1:$32)),1),1))","v":"Partizipative Führung, \nDelegation von Führung"}]
["76. Die Schulleitung macht die Zuständigkeiten im Kollegium transparent.",23,3.2173913043478257,0.12505369185420059,0.59973643750101024,0,8.6956521739130432E-2,0.60869565217391308,0.30434782608695654,{"$f":"IF(INDIRECT(\"'PFB-Konstrukte'!A\" & (SMALL(IF(NOT(ISERROR(FIND(IF(LEFT(A110,1)=\"0\",\" \" & MID(A110,2,1) & \",\",IF(MID(A110,3,1)=\".\",LEFT(A110,2),LEFT(A110,3))),'PFB-Konstrukte'!$J$9:$J$40))),ROW($9:$40)),1)+1))=\"\",\n\nIF(LEFT(INDIRECT(\"A\"&MAX(IF($B$1:B110=\"N\",ROW($A$1:A110)))-1),3)=\"nur\",\n\nIF(RIGHT(INDIRECT(\"A\"&MAX(IF($B$1:B110=\"N\",ROW($A$1:A110)))-1),4)=\"PTF!\",\nINDEX('PFB-Konstrukte'!$B$9:$J$40,SMALL(IF(NOT(ISERROR(FIND(IF(LEFT(A110,1)=\"0\",\" \" & MID(A110,2,1) & \",\",IF(MID(A110,3,1)=\".\",LEFT(A110,2),LEFT(A110,3))),'PFB-Konstrukte'!$J$9:$J$40))),ROW($1:$32)),3),1),\nINDEX('PFB-Konstrukte'!$B$9:$J$40,SMALL(IF(NOT(ISERROR(FIND(IF(LEFT(A110,1)=\"0\",\" \" & MID(A110,2,1) & \",\",IF(MID(A110,3,1)=\".\",LEFT(A110,2),LEFT(A110,3))),'PFB-Konstrukte'!$J$9:$J$40))),ROW($1:$32)),2),1)),\n\nIF(RIGHT(INDEX('PFB-Konstrukte'!$A$9:$J$40,SMALL(IF(NOT(ISERROR(FIND(IF(LEFT(A110,1)=\"0\",\" \" & MID(A110,2,1) & \",\",IF(MID(A110,3,1)=\".\",LEFT(A110,2),LEFT(A110,3))),'PFB-Konstrukte'!$J$9:$J$40))),ROW($1:$32)),1),1),7)=\"Führung\",\n\nINDEX('PFB-Konstrukte'!$A$9:$J$40,SMALL(IF(NOT(ISERROR(FIND(IF(LEFT(A110,1)=\"0\",\" \" & MID(A110,2,1) & \",\",IF(MID(A110,3,1)=\".\",LEFT(A110,2),LEFT(A110,3))),'PFB-Konstrukte'!$J$9:$J$40))),ROW($1:$32)),1),1) & \", \n\" & INDEX('PFB-Konstrukte'!$B$9:$J$40,SMALL(IF(NOT(ISERROR(FIND(IF(LEFT(A110,1)=\"0\",\" \" & MID(A110,2,1) & \",\",IF(MID(A110,3,1)=\".\",LEFT(A110,2),LEFT(A110,3))),'PFB-Konstrukte'!$J$9:$J$40))),ROW($1:$32)),2),1),\n\nINDEX('PFB-Konstrukte'!$A$9:$J$40,SMALL(IF(NOT(ISERROR(FIND(IF(LEFT(A110,1)=\"0\",\" \" & MID(A110,2,1) & \",\",IF(MID(A110,3,1)=\".\",LEFT(A110,2),LEFT(A110,3))),'PFB-Konstrukte'!$J$9:$J$40))),ROW($1:$32)),1),1))),\n\nINDEX('PFB-Konstrukte'!$A$9:$J$40,SMALL(IF(NOT(ISERROR(FIND(IF(LEFT(A110,1)=\"0\",\" \" & MID(A110,2,1) & \",\",IF(MID(A110,3,1)=\".\",LEFT(A110,2),LEFT(A110,3))),'PFB-Konstrukte'!$J$9:$J$40))),ROW($1:$32)),1),1))","v":"Partizipative Führung, \nDelegation von Führung"}]
[]
[null,"N","MW","SE","SD","trifft\nnicht zu","trifft eher\nnicht zu","trifft\neher zu","trifft\nvoll zu","Zuordnung zum Konstrukt"]
["77. Die Schulleitung stellt sicher, dass die Fortbildungsaktivitäten der Pädagoginnen und Pädagogen auf die curricularen und pädagogischen Ziele der Schule abgestimmt sind.",16,3.0625,0.1929756029484902,0.7719024117939608,6.25E-2,6.25E-2,0.625,0.25,{"$f":"IF(INDIRECT(\"'PFB-Konstrukte'!A\" & (SMALL(IF(NOT(ISERROR(FIND(IF(LEFT(A113,1)=\"0\",\" \" & MID(A113,2,1) & \",\",IF(MID(A113,3,1)=\".\",LEFT(A113,2),LEFT(A113,3))),'PFB-Konstrukte'!$J$9:$J$40))),ROW($9:$40)),1)+1))=\"\",\n\nIF(LEFT(INDIRECT(\"A\"&MAX(IF($B$1:B113=\"N\",ROW($A$1:A113)))-1),3)=\"nur\",\n\nIF(RIGHT(INDIRECT(\"A\"&MAX(IF($B$1:B113=\"N\",ROW($A$1:A113)))-1),4)=\"PTF!\",\nINDEX('PFB-Konstrukte'!$B$9:$J$40,SMALL(IF(NOT(ISERROR(FIND(IF(LEFT(A113,1)=\"0\",\" \" & MID(A113,2,1) & \",\",IF(MID(A113,3,1)=\".\",LEFT(A113,2),LEFT(A113,3))),'PFB-Konstrukte'!$J$9:$J$40))),ROW($1:$32)),3),1),\nINDEX('PFB-Konstrukte'!$B$9:$J$40,SMALL(IF(NOT(ISERROR(FIND(IF(LEFT(A113,1)=\"0\",\" \" & MID(A113,2,1) & \",\",IF(MID(A113,3,1)=\".\",LEFT(A113,2),LEFT(A113,3))),'PFB-Konstrukte'!$J$9:$J$40))),ROW($1:$32)),2),1)),\n\nIF(RIGHT(INDEX('PFB-Konstrukte'!$A$9:$J$40,SMALL(IF(NOT(ISERROR(FIND(IF(LEFT(A113,1)=\"0\",\" \" & MID(A113,2,1) & \",\",IF(MID(A113,3,1)=\".\",LEFT(A113,2),LEFT(A113,3))),'PFB-Konstrukte'!$J$9:$J$40))),ROW($1:$32)),1),1),7)=\"Führung\",\n\nINDEX('PFB-Konstrukte'!$A$9:$J$40,SMALL(IF(NOT(ISERROR(FIND(IF(LEFT(A113,1)=\"0\",\" \" & MID(A113,2,1) & \",\",IF(MID(A113,3,1)=\".\",LEFT(A113,2),LEFT(A113,3))),'PFB-Konstrukte'!$J$9:$J$40))),ROW($1:$32)),1),1) & \", \n\" & INDEX('PFB-Konstrukte'!$B$9:$J$40,SMALL(IF(NOT(ISERROR(FIND(IF(LEFT(A113,1)=\"0\",\" \" & MID(A113,2,1) & \",\",IF(MID(A113,3,1)=\".\",LEFT(A113,2),LEFT(A113,3))),'PFB-Konstrukte'!$J$9:$J$40))),ROW($1:$32)),2),1),\n\nINDEX('PFB-Konstrukte'!$A$9:$J$40,SMALL(IF(NOT(ISERROR(FIND(IF(LEFT(A113,1)=\"0\",\" \" & MID(A113,2,1) & \",\",IF(MID(A113,3,1)=\".\",LEFT(A113,2),LEFT(A113,3))),'PFB-Konstrukte'!$J$9:$J$40))),ROW($1:$32)),1),1))),\n\nINDEX('PFB-Konstrukte'!$A$9:$J$40,SMALL(IF(NOT(ISERROR(FIND(IF(LEFT(A113,1)=\"0\",\" \" & MID(A113,2,1) & \",\",IF(MID(A113,3,1)=\".\",LEFT(A113,2),LEFT(A113,3))),'PFB-Konstrukte'!$J$9:$J$40))),ROW($1:$32)),1),1))","v":"Instruktionale Führung, \nSchulziel-Management"}]
["78. Die Schulleitung sorgt für Klarheit bezüglich der internen Verantwortung für die Entwicklung des schulinternen Curriculums.",17,3.1764705882352939,0.19620094211950492,0.80895720820441575,5.8823529411764698E-2,5.8823529411764698E-2,0.52941176470588236,0.35294117647058826,{"$f":"IF(INDIRECT(\"'PFB-Konstrukte'!A\" & (SMALL(IF(NOT(ISERROR(FIND(IF(LEFT(A114,1)=\"0\",\" \" & MID(A114,2,1) & \",\",IF(MID(A114,3,1)=\".\",LEFT(A114,2),LEFT(A114,3))),'PFB-Konstrukte'!$J$9:$J$40))),ROW($9:$40)),1)+1))=\"\",\n\nIF(LEFT(INDIRECT(\"A\"&MAX(IF($B$1:B114=\"N\",ROW($A$1:A114)))-1),3)=\"nur\",\n\nIF(RIGHT(INDIRECT(\"A\"&MAX(IF($B$1:B114=\"N\",ROW($A$1:A114)))-1),4)=\"PTF!\",\nINDEX('PFB-Konstrukte'!$B$9:$J$40,SMALL(IF(NOT(ISERROR(FIND(IF(LEFT(A114,1)=\"0\",\" \" & MID(A114,2,1) & \",\",IF(MID(A114,3,1)=\".\",LEFT(A114,2),LEFT(A114,3))),'PFB-Konstrukte'!$J$9:$J$40))),ROW($1:$32)),3),1),\nINDEX('PFB-Konstrukte'!$B$9:$J$40,SMALL(IF(NOT(ISERROR(FIND(IF(LEFT(A114,1)=\"0\",\" \" & MID(A114,2,1) & \",\",IF(MID(A114,3,1)=\".\",LEFT(A114,2),LEFT(A114,3))),'PFB-Konstrukte'!$J$9:$J$40))),ROW($1:$32)),2),1)),\n\nIF(RIGHT(INDEX('PFB-Konstrukte'!$A$9:$J$40,SMALL(IF(NOT(ISERROR(FIND(IF(LEFT(A114,1)=\"0\",\" \" & MID(A114,2,1) & \",\",IF(MID(A114,3,1)=\".\",LEFT(A114,2),LEFT(A114,3))),'PFB-Konstrukte'!$J$9:$J$40))),ROW($1:$32)),1),1),7)=\"Führung\",\n\nINDEX('PFB-Konstrukte'!$A$9:$J$40,SMALL(IF(NOT(ISERROR(FIND(IF(LEFT(A114,1)=\"0\",\" \" & MID(A114,2,1) & \",\",IF(MID(A114,3,1)=\".\",LEFT(A114,2),LEFT(A114,3))),'PFB-Konstrukte'!$J$9:$J$40))),ROW($1:$32)),1),1) & \", \n\" & INDEX('PFB-Konstrukte'!$B$9:$J$40,SMALL(IF(NOT(ISERROR(FIND(IF(LEFT(A114,1)=\"0\",\" \" & MID(A114,2,1) & \",\",IF(MID(A114,3,1)=\".\",LEFT(A114,2),LEFT(A114,3))),'PFB-Konstrukte'!$J$9:$J$40))),ROW($1:$32)),2),1),\n\nINDEX('PFB-Konstrukte'!$A$9:$J$40,SMALL(IF(NOT(ISERROR(FIND(IF(LEFT(A114,1)=\"0\",\" \" & MID(A114,2,1) & \",\",IF(MID(A114,3,1)=\".\",LEFT(A114,2),LEFT(A114,3))),'PFB-Konstrukte'!$J$9:$J$40))),ROW($1:$32)),1),1))),\n\nINDEX('PFB-Konstrukte'!$A$9:$J$40,SMALL(IF(NOT(ISERROR(FIND(IF(LEFT(A114,1)=\"0\",\" \" & MID(A114,2,1) & \",\",IF(MID(A114,3,1)=\".\",LEFT(A114,2),LEFT(A114,3))),'PFB-Konstrukte'!$J$9:$J$40))),ROW($1:$32)),1),1))","v":"Instruktionale Führung, \nSchulziel-Management"}]
["79. Die Schulleitung stellt sicher, dass Pädagoginnen und Pädagogen über die Möglichkeiten informiert sind, ihr Wissen und ihre Fähigkeiten auf den neuesten Stand zu bringen.",22,3.0454545454545454,0.15398421135785639,0.72224997171687155,4.5454545454545456E-2,9.0909090909090912E-2,0.63636363636363635,0.22727272727272727,{"$f":"IF(INDIRECT(\"'PFB-Konstrukte'!A\" & (SMALL(IF(NOT(ISERROR(FIND(IF(LEFT(A115,1)=\"0\",\" \" & MID(A115,2,1) & \",\",IF(MID(A115,3,1)=\".\",LEFT(A115,2),LEFT(A115,3))),'PFB-Konstrukte'!$J$9:$J$40))),ROW($9:$40)),1)+1))=\"\",\n\nIF(LEFT(INDIRECT(\"A\"&MAX(IF($B$1:B115=\"N\",ROW($A$1:A115)))-1),3)=\"nur\",\n\nIF(RIGHT(INDIRECT(\"A\"&MAX(IF($B$1:B115=\"N\",ROW($A$1:A115)))-1),4)=\"PTF!\",\nINDEX('PFB-Konstrukte'!$B$9:$J$40,SMALL(IF(NOT(ISERROR(FIND(IF(LEFT(A115,1)=\"0\",\" \" & MID(A115,2,1) & \",\",IF(MID(A115,3,1)=\".\",LEFT(A115,2),LEFT(A115,3))),'PFB-Konstrukte'!$J$9:$J$40))),ROW($1:$32)),3),1),\nINDEX('PFB-Konstrukte'!$B$9:$J$40,SMALL(IF(NOT(ISERROR(FIND(IF(LEFT(A115,1)=\"0\",\" \" & MID(A115,2,1) & \",\",IF(MID(A115,3,1)=\".\",LEFT(A115,2),LEFT(A115,3))),'PFB-Konstrukte'!$J$9:$J$40))),ROW($1:$32)),2),1)),\n\nIF(RIGHT(INDEX('PFB-Konstrukte'!$A$9:$J$40,SMALL(IF(NOT(ISERROR(FIND(IF(LEFT(A115,1)=\"0\",\" \" & MID(A115,2,1) & \",\",IF(MID(A115,3,1)=\".\",LEFT(A115,2),LEFT(A115,3))),'PFB-Konstrukte'!$J$9:$J$40))),ROW($1:$32)),1),1),7)=\"Führung\",\n\nINDEX('PFB-Konstrukte'!$A$9:$J$40,SMALL(IF(NOT(ISERROR(FIND(IF(LEFT(A115,1)=\"0\",\" \" & MID(A115,2,1) & \",\",IF(MID(A115,3,1)=\".\",LEFT(A115,2),LEFT(A115,3))),'PFB-Konstrukte'!$J$9:$J$40))),ROW($1:$32)),1),1) & \", \n\" & INDEX('PFB-Konstrukte'!$B$9:$J$40,SMALL(IF(NOT(ISERROR(FIND(IF(LEFT(A115,1)=\"0\",\" \" & MID(A115,2,1) & \",\",IF(MID(A115,3,1)=\".\",LEFT(A115,2),LEFT(A115,3))),'PFB-Konstrukte'!$J$9:$J$40))),ROW($1:$32)),2),1),\n\nINDEX('PFB-Konstrukte'!$A$9:$J$40,SMALL(IF(NOT(ISERROR(FIND(IF(LEFT(A115,1)=\"0\",\" \" & MID(A115,2,1) & \",\",IF(MID(A115,3,1)=\".\",LEFT(A115,2),LEFT(A115,3))),'PFB-Konstrukte'!$J$9:$J$40))),ROW($1:$32)),1),1))),\n\nINDEX('PFB-Konstrukte'!$A$9:$J$40,SMALL(IF(NOT(ISERROR(FIND(IF(LEFT(A115,1)=\"0\",\" \" & MID(A115,2,1) & \",\",IF(MID(A115,3,1)=\".\",LEFT(A115,2),LEFT(A115,3))),'PFB-Konstrukte'!$J$9:$J$40))),ROW($1:$32)),1),1))","v":"Instruktionale Führung, \nAnleitungsmanagement"}]
["80. Wenn eine Pädagogin/ein Pädagoge Probleme in einer Klasse hat, ergreift die Schulleitung die Initiative, um darüber zu sprechen.",20,3.1499999999999995,0.18173143863810051,0.8127277008872491,0,0.25,0.35,0.4,{"$f":"IF(INDIRECT(\"'PFB-Konstrukte'!A\" & (SMALL(IF(NOT(ISERROR(FIND(IF(LEFT(A116,1)=\"0\",\" \" & MID(A116,2,1) & \",\",IF(MID(A116,3,1)=\".\",LEFT(A116,2),LEFT(A116,3))),'PFB-Konstrukte'!$J$9:$J$40))),ROW($9:$40)),1)+1))=\"\",\n\nIF(LEFT(INDIRECT(\"A\"&MAX(IF($B$1:B116=\"N\",ROW($A$1:A116)))-1),3)=\"nur\",\n\nIF(RIGHT(INDIRECT(\"A\"&MAX(IF($B$1:B116=\"N\",ROW($A$1:A116)))-1),4)=\"PTF!\",\nINDEX('PFB-Konstrukte'!$B$9:$J$40,SMALL(IF(NOT(ISERROR(FIND(IF(LEFT(A116,1)=\"0\",\" \" & MID(A116,2,1) & \",\",IF(MID(A116,3,1)=\".\",LEFT(A116,2),LEFT(A116,3))),'PFB-Konstrukte'!$J$9:$J$40))),ROW($1:$32)),3),1),\nINDEX('PFB-Konstrukte'!$B$9:$J$40,SMALL(IF(NOT(ISERROR(FIND(IF(LEFT(A116,1)=\"0\",\" \" & MID(A116,2,1) & \",\",IF(MID(A116,3,1)=\".\",LEFT(A116,2),LEFT(A116,3))),'PFB-Konstrukte'!$J$9:$J$40))),ROW($1:$32)),2),1)),\n\nIF(RIGHT(INDEX('PFB-Konstrukte'!$A$9:$J$40,SMALL(IF(NOT(ISERROR(FIND(IF(LEFT(A116,1)=\"0\",\" \" & MID(A116,2,1) & \",\",IF(MID(A116,3,1)=\".\",LEFT(A116,2),LEFT(A116,3))),'PFB-Konstrukte'!$J$9:$J$40))),ROW($1:$32)),1),1),7)=\"Führung\",\n\nINDEX('PFB-Konstrukte'!$A$9:$J$40,SMALL(IF(NOT(ISERROR(FIND(IF(LEFT(A116,1)=\"0\",\" \" & MID(A116,2,1) & \",\",IF(MID(A116,3,1)=\".\",LEFT(A116,2),LEFT(A116,3))),'PFB-Konstrukte'!$J$9:$J$40))),ROW($1:$32)),1),1) & \", \n\" & INDEX('PFB-Konstrukte'!$B$9:$J$40,SMALL(IF(NOT(ISERROR(FIND(IF(LEFT(A116,1)=\"0\",\" \" & MID(A116,2,1) & \",\",IF(MID(A116,3,1)=\".\",LEFT(A116,2),LEFT(A116,3))),'PFB-Konstrukte'!$J$9:$J$40))),ROW($1:$32)),2),1),\n\nINDEX('PFB-Konstrukte'!$A$9:$J$40,SMALL(IF(NOT(ISERROR(FIND(IF(LEFT(A116,1)=\"0\",\" \" & MID(A116,2,1) & \",\",IF(MID(A116,3,1)=\".\",LEFT(A116,2),LEFT(A116,3))),'PFB-Konstrukte'!$J$9:$J$40))),ROW($1:$32)),1),1))),\n\nINDEX('PFB-Konstrukte'!$A$9:$J$40,SMALL(IF(NOT(ISERROR(FIND(IF(LEFT(A116,1)=\"0\",\" \" & MID(A116,2,1) & \",\",IF(MID(A116,3,1)=\".\",LEFT(A116,2),LEFT(A116,3))),'PFB-Konstrukte'!$J$9:$J$40))),ROW($1:$32)),1),1))","v":"Instruktionale Führung, \nAnleitungsmanagement"}]
["81. Die Schulleitung stellt sicher, dass die Arbeit der Pädagoginnen und Pädagogen mit den curricularen und pädagogischen Zielen der Schule übereinstimmt.",19,3,0.15294382258037448,0.66666666666666663,0,0.21052631578947367,0.57894736842105265,0.21052631578947367,{"$f":"IF(INDIRECT(\"'PFB-Konstrukte'!A\" & (SMALL(IF(NOT(ISERROR(FIND(IF(LEFT(A117,1)=\"0\",\" \" & MID(A117,2,1) & \",\",IF(MID(A117,3,1)=\".\",LEFT(A117,2),LEFT(A117,3))),'PFB-Konstrukte'!$J$9:$J$40))),ROW($9:$40)),1)+1))=\"\",\n\nIF(LEFT(INDIRECT(\"A\"&MAX(IF($B$1:B117=\"N\",ROW($A$1:A117)))-1),3)=\"nur\",\n\nIF(RIGHT(INDIRECT(\"A\"&MAX(IF($B$1:B117=\"N\",ROW($A$1:A117)))-1),4)=\"PTF!\",\nINDEX('PFB-Konstrukte'!$B$9:$J$40,SMALL(IF(NOT(ISERROR(FIND(IF(LEFT(A117,1)=\"0\",\" \" & MID(A117,2,1) & \",\",IF(MID(A117,3,1)=\".\",LEFT(A117,2),LEFT(A117,3))),'PFB-Konstrukte'!$J$9:$J$40))),ROW($1:$32)),3),1),\nINDEX('PFB-Konstrukte'!$B$9:$J$40,SMALL(IF(NOT(ISERROR(FIND(IF(LEFT(A117,1)=\"0\",\" \" & MID(A117,2,1) & \",\",IF(MID(A117,3,1)=\".\",LEFT(A117,2),LEFT(A117,3))),'PFB-Konstrukte'!$J$9:$J$40))),ROW($1:$32)),2),1)),\n\nIF(RIGHT(INDEX('PFB-Konstrukte'!$A$9:$J$40,SMALL(IF(NOT(ISERROR(FIND(IF(LEFT(A117,1)=\"0\",\" \" & MID(A117,2,1) & \",\",IF(MID(A117,3,1)=\".\",LEFT(A117,2),LEFT(A117,3))),'PFB-Konstrukte'!$J$9:$J$40))),ROW($1:$32)),1),1),7)=\"Führung\",\n\nINDEX('PFB-Konstrukte'!$A$9:$J$40,SMALL(IF(NOT(ISERROR(FIND(IF(LEFT(A117,1)=\"0\",\" \" & MID(A117,2,1) & \",\",IF(MID(A117,3,1)=\".\",LEFT(A117,2),LEFT(A117,3))),'PFB-Konstrukte'!$J$9:$J$40))),ROW($1:$32)),1),1) & \", \n\" & INDEX('PFB-Konstrukte'!$B$9:$J$40,SMALL(IF(NOT(ISERROR(FIND(IF(LEFT(A117,1)=\"0\",\" \" & MID(A117,2,1) & \",\",IF(MID(A117,3,1)=\".\",LEFT(A117,2),LEFT(A117,3))),'PFB-Konstrukte'!$J$9:$J$40))),ROW($1:$32)),2),1),\n\nINDEX('PFB-Konstrukte'!$A$9:$J$40,SMALL(IF(NOT(ISERROR(FIND(IF(LEFT(A117,1)=\"0\",\" \" & MID(A117,2,1) & \",\",IF(MID(A117,3,1)=\".\",LEFT(A117,2),LEFT(A117,3))),'PFB-Konstrukte'!$J$9:$J$40))),ROW($1:$32)),1),1))),\n\nINDEX('PFB-Konstrukte'!$A$9:$J$40,SMALL(IF(NOT(ISERROR(FIND(IF(LEFT(A117,1)=\"0\",\" \" & MID(A117,2,1) & \",\",IF(MID(A117,3,1)=\".\",LEFT(A117,2),LEFT(A117,3))),'PFB-Konstrukte'!$J$9:$J$40))),ROW($1:$32)),1),1))","v":"Instruktionale Führung, \nSchulziel-Management"}]
["82. Die Schulleitung gibt den Pädagoginnen und Pädagogen Anregungen, wie sie ihren Unterricht oder ihre pädagogische Arbeit verbessern können.",21,2.4285714285714284,0.14754222271266351,0.67612340378281333,4.7619047619047616E-2,0.52380952380952384,0.38095238095238093,4.7619047619047616E-2,{"$f":"IF(INDIRECT(\"'PFB-Konstrukte'!A\" & (SMALL(IF(NOT(ISERROR(FIND(IF(LEFT(A118,1)=\"0\",\" \" & MID(A118,2,1) & \",\",IF(MID(A118,3,1)=\".\",LEFT(A118,2),LEFT(A118,3))),'PFB-Konstrukte'!$J$9:$J$40))),ROW($9:$40)),1)+1))=\"\",\n\nIF(LEFT(INDIRECT(\"A\"&MAX(IF($B$1:B118=\"N\",ROW($A$1:A118)))-1),3)=\"nur\",\n\nIF(RIGHT(INDIRECT(\"A\"&MAX(IF($B$1:B118=\"N\",ROW($A$1:A118)))-1),4)=\"PTF!\",\nINDEX('PFB-Konstrukte'!$B$9:$J$40,SMALL(IF(NOT(ISERROR(FIND(IF(LEFT(A118,1)=\"0\",\" \" & MID(A118,2,1) & \",\",IF(MID(A118,3,1)=\".\",LEFT(A118,2),LEFT(A118,3))),'PFB-Konstrukte'!$J$9:$J$40))),ROW($1:$32)),3),1),\nINDEX('PFB-Konstrukte'!$B$9:$J$40,SMALL(IF(NOT(ISERROR(FIND(IF(LEFT(A118,1)=\"0\",\" \" & MID(A118,2,1) & \",\",IF(MID(A118,3,1)=\".\",LEFT(A118,2),LEFT(A118,3))),'PFB-Konstrukte'!$J$9:$J$40))),ROW($1:$32)),2),1)),\n\nIF(RIGHT(INDEX('PFB-Konstrukte'!$A$9:$J$40,SMALL(IF(NOT(ISERROR(FIND(IF(LEFT(A118,1)=\"0\",\" \" & MID(A118,2,1) & \",\",IF(MID(A118,3,1)=\".\",LEFT(A118,2),LEFT(A118,3))),'PFB-Konstrukte'!$J$9:$J$40))),ROW($1:$32)),1),1),7)=\"Führung\",\n\nINDEX('PFB-Konstrukte'!$A$9:$J$40,SMALL(IF(NOT(ISERROR(FIND(IF(LEFT(A118,1)=\"0\",\" \" & MID(A118,2,1) & \",\",IF(MID(A118,3,1)=\".\",LEFT(A118,2),LEFT(A118,3))),'PFB-Konstrukte'!$J$9:$J$40))),ROW($1:$32)),1),1) & \", \n\" & INDEX('PFB-Konstrukte'!$B$9:$J$40,SMALL(IF(NOT(ISERROR(FIND(IF(LEFT(A118,1)=\"0\",\" \" & MID(A118,2,1) & \",\",IF(MID(A118,3,1)=\".\",LEFT(A118,2),LEFT(A118,3))),'PFB-Konstrukte'!$J$9:$J$40))),ROW($1:$32)),2),1),\n\nINDEX('PFB-Konstrukte'!$A$9:$J$40,SMALL(IF(NOT(ISERROR(FIND(IF(LEFT(A118,1)=\"0\",\" \" & MID(A118,2,1) & \",\",IF(MID(A118,3,1)=\".\",LEFT(A118,2),LEFT(A118,3))),'PFB-Konstrukte'!$J$9:$J$40))),ROW($1:$32)),1),1))),\n\nINDEX('PFB-Konstrukte'!$A$9:$J$40,SMALL(IF(NOT(ISERROR(FIND(IF(LEFT(A118,1)=\"0\",\" \" & MID(A118,2,1) & \",\",IF(MID(A118,3,1)=\".\",LEFT(A118,2),LEFT(A118,3))),'PFB-Konstrukte'!$J$9:$J$40))),ROW($1:$32)),1),1))","v":"Instruktionale Führung, \nSupervision"}]
["83. Die Schulleitung hospitiert im Unterricht.",18,1.5,0.14574577203253439,0.61834694240084231,0.55555555555555558,0.38888888888888895,5.5555555555555552E-2,0,{"$f":"IF(INDIRECT(\"'PFB-Konstrukte'!A\" & (SMALL(IF(NOT(ISERROR(FIND(IF(LEFT(A119,1)=\"0\",\" \" & MID(A119,2,1) & \",\",IF(MID(A119,3,1)=\".\",LEFT(A119,2),LEFT(A119,3))),'PFB-Konstrukte'!$J$9:$J$40))),ROW($9:$40)),1)+1))=\"\",\n\nIF(LEFT(INDIRECT(\"A\"&MAX(IF($B$1:B119=\"N\",ROW($A$1:A119)))-1),3)=\"nur\",\n\nIF(RIGHT(INDIRECT(\"A\"&MAX(IF($B$1:B119=\"N\",ROW($A$1:A119)))-1),4)=\"PTF!\",\nINDEX('PFB-Konstrukte'!$B$9:$J$40,SMALL(IF(NOT(ISERROR(FIND(IF(LEFT(A119,1)=\"0\",\" \" & MID(A119,2,1) & \",\",IF(MID(A119,3,1)=\".\",LEFT(A119,2),LEFT(A119,3))),'PFB-Konstrukte'!$J$9:$J$40))),ROW($1:$32)),3),1),\nINDEX('PFB-Konstrukte'!$B$9:$J$40,SMALL(IF(NOT(ISERROR(FIND(IF(LEFT(A119,1)=\"0\",\" \" & MID(A119,2,1) & \",\",IF(MID(A119,3,1)=\".\",LEFT(A119,2),LEFT(A119,3))),'PFB-Konstrukte'!$J$9:$J$40))),ROW($1:$32)),2),1)),\n\nIF(RIGHT(INDEX('PFB-Konstrukte'!$A$9:$J$40,SMALL(IF(NOT(ISERROR(FIND(IF(LEFT(A119,1)=\"0\",\" \" & MID(A119,2,1) & \",\",IF(MID(A119,3,1)=\".\",LEFT(A119,2),LEFT(A119,3))),'PFB-Konstrukte'!$J$9:$J$40))),ROW($1:$32)),1),1),7)=\"Führung\",\n\nINDEX('PFB-Konstrukte'!$A$9:$J$40,SMALL(IF(NOT(ISERROR(FIND(IF(LEFT(A119,1)=\"0\",\" \" & MID(A119,2,1) & \",\",IF(MID(A119,3,1)=\".\",LEFT(A119,2),LEFT(A119,3))),'PFB-Konstrukte'!$J$9:$J$40))),ROW($1:$32)),1),1) & \", \n\" & INDEX('PFB-Konstrukte'!$B$9:$J$40,SMALL(IF(NOT(ISERROR(FIND(IF(LEFT(A119,1)=\"0\",\" \" & MID(A119,2,1) & \",\",IF(MID(A119,3,1)=\".\",LEFT(A119,2),LEFT(A119,3))),'PFB-Konstrukte'!$J$9:$J$40))),ROW($1:$32)),2),1),\n\nINDEX('PFB-Konstrukte'!$A$9:$J$40,SMALL(IF(NOT(ISERROR(FIND(IF(LEFT(A119,1)=\"0\",\" \" & MID(A119,2,1) & \",\",IF(MID(A119,3,1)=\".\",LEFT(A119,2),LEFT(A119,3))),'PFB-Konstrukte'!$J$9:$J$40))),ROW($1:$32)),1),1))),\n\nINDEX('PFB-Konstrukte'!$A$9:$J$40,SMALL(IF(NOT(ISERROR(FIND(IF(LEFT(A119,1)=\"0\",\" \" & MID(A119,2,1) & \",\",IF(MID(A119,3,1)=\".\",LEFT(A119,2),LEFT(A119,3))),'PFB-Konstrukte'!$J$9:$J$40))),ROW($1:$32)),1),1))","v":"Instruktionale Führung, \nSupervision"}]
["84. Die Schulleitung kümmert sich um Probleme in Bezug auf störendes Verhalten in den Klassen.",21,3.3333333333333335,0.12598815766974239,0.57735026918962562,0,4.7619047619047616E-2,0.5714285714285714,0.38095238095238093,{"$f":"IF(INDIRECT(\"'PFB-Konstrukte'!A\" & (SMALL(IF(NOT(ISERROR(FIND(IF(LEFT(A120,1)=\"0\",\" \" & MID(A120,2,1) & \",\",IF(MID(A120,3,1)=\".\",LEFT(A120,2),LEFT(A120,3))),'PFB-Konstrukte'!$J$9:$J$40))),ROW($9:$40)),1)+1))=\"\",\n\nIF(LEFT(INDIRECT(\"A\"&MAX(IF($B$1:B120=\"N\",ROW($A$1:A120)))-1),3)=\"nur\",\n\nIF(RIGHT(INDIRECT(\"A\"&MAX(IF($B$1:B120=\"N\",ROW($A$1:A120)))-1),4)=\"PTF!\",\nINDEX('PFB-Konstrukte'!$B$9:$J$40,SMALL(IF(NOT(ISERROR(FIND(IF(LEFT(A120,1)=\"0\",\" \" & MID(A120,2,1) & \",\",IF(MID(A120,3,1)=\".\",LEFT(A120,2),LEFT(A120,3))),'PFB-Konstrukte'!$J$9:$J$40))),ROW($1:$32)),3),1),\nINDEX('PFB-Konstrukte'!$B$9:$J$40,SMALL(IF(NOT(ISERROR(FIND(IF(LEFT(A120,1)=\"0\",\" \" & MID(A120,2,1) & \",\",IF(MID(A120,3,1)=\".\",LEFT(A120,2),LEFT(A120,3))),'PFB-Konstrukte'!$J$9:$J$40))),ROW($1:$32)),2),1)),\n\nIF(RIGHT(INDEX('PFB-Konstrukte'!$A$9:$J$40,SMALL(IF(NOT(ISERROR(FIND(IF(LEFT(A120,1)=\"0\",\" \" & MID(A120,2,1) & \",\",IF(MID(A120,3,1)=\".\",LEFT(A120,2),LEFT(A120,3))),'PFB-Konstrukte'!$J$9:$J$40))),ROW($1:$32)),1),1),7)=\"Führung\",\n\nINDEX('PFB-Konstrukte'!$A$9:$J$40,SMALL(IF(NOT(ISERROR(FIND(IF(LEFT(A120,1)=\"0\",\" \" & MID(A120,2,1) & \",\",IF(MID(A120,3,1)=\".\",LEFT(A120,2),LEFT(A120,3))),'PFB-Konstrukte'!$J$9:$J$40))),ROW($1:$32)),1),1) & \", \n\" & INDEX('PFB-Konstrukte'!$B$9:$J$40,SMALL(IF(NOT(ISERROR(FIND(IF(LEFT(A120,1)=\"0\",\" \" & MID(A120,2,1) & \",\",IF(MID(A120,3,1)=\".\",LEFT(A120,2),LEFT(A120,3))),'PFB-Konstrukte'!$J$9:$J$40))),ROW($1:$32)),2),1),\n\nINDEX('PFB-Konstrukte'!$A$9:$J$40,SMALL(IF(NOT(ISERROR(FIND(IF(LEFT(A120,1)=\"0\",\" \" & MID(A120,2,1) & \",\",IF(MID(A120,3,1)=\".\",LEFT(A120,2),LEFT(A120,3))),'PFB-Konstrukte'!$J$9:$J$40))),ROW($1:$32)),1),1))),\n\nINDEX('PFB-Konstrukte'!$A$9:$J$40,SMALL(IF(NOT(ISERROR(FIND(IF(LEFT(A120,1)=\"0\",\" \" & MID(A120,2,1) & \",\",IF(MID(A120,3,1)=\".\",LEFT(A120,2),LEFT(A120,3))),'PFB-Konstrukte'!$J$9:$J$40))),ROW($1:$32)),1),1))","v":"Instruktionale Führung, \nAnleitungsmanagement"}]
[]
[null,"N","MW","SE","SD","trifft\nnicht zu","trifft eher\nnicht zu","trifft\neher zu","trifft\nvoll zu","Zuordnung zum Konstrukt"]
["85. Auf mich strahlt die Schulleitung Stärke und Vertrauen aus.",23,3.4347826086956528,0.12297509238026913,0.58976782461958843,0,4.3478260869565216E-2,0.47826086956521741,0.47826086956521741,{"$f":"IF(INDIRECT(\"'PFB-Konstrukte'!A\" & (SMALL(IF(NOT(ISERROR(FIND(IF(LEFT(A123,1)=\"0\",\" \" & MID(A123,2,1) & \",\",IF(MID(A123,3,1)=\".\",LEFT(A123,2),LEFT(A123,3))),'PFB-Konstrukte'!$J$9:$J$40))),ROW($9:$40)),1)+1))=\"\",\n\nIF(LEFT(INDIRECT(\"A\"&MAX(IF($B$1:B123=\"N\",ROW($A$1:A123)))-1),3)=\"nur\",\n\nIF(RIGHT(INDIRECT(\"A\"&MAX(IF($B$1:B123=\"N\",ROW($A$1:A123)))-1),4)=\"PTF!\",\nINDEX('PFB-Konstrukte'!$B$9:$J$40,SMALL(IF(NOT(ISERROR(FIND(IF(LEFT(A123,1)=\"0\",\" \" & MID(A123,2,1) & \",\",IF(MID(A123,3,1)=\".\",LEFT(A123,2),LEFT(A123,3))),'PFB-Konstrukte'!$J$9:$J$40))),ROW($1:$32)),3),1),\nINDEX('PFB-Konstrukte'!$B$9:$J$40,SMALL(IF(NOT(ISERROR(FIND(IF(LEFT(A123,1)=\"0\",\" \" & MID(A123,2,1) & \",\",IF(MID(A123,3,1)=\".\",LEFT(A123,2),LEFT(A123,3))),'PFB-Konstrukte'!$J$9:$J$40))),ROW($1:$32)),2),1)),\n\nIF(RIGHT(INDEX('PFB-Konstrukte'!$A$9:$J$40,SMALL(IF(NOT(ISERROR(FIND(IF(LEFT(A123,1)=\"0\",\" \" & MID(A123,2,1) & \",\",IF(MID(A123,3,1)=\".\",LEFT(A123,2),LEFT(A123,3))),'PFB-Konstrukte'!$J$9:$J$40))),ROW($1:$32)),1),1),7)=\"Führung\",\n\nINDEX('PFB-Konstrukte'!$A$9:$J$40,SMALL(IF(NOT(ISERROR(FIND(IF(LEFT(A123,1)=\"0\",\" \" & MID(A123,2,1) & \",\",IF(MID(A123,3,1)=\".\",LEFT(A123,2),LEFT(A123,3))),'PFB-Konstrukte'!$J$9:$J$40))),ROW($1:$32)),1),1) & \", \n\" & INDEX('PFB-Konstrukte'!$B$9:$J$40,SMALL(IF(NOT(ISERROR(FIND(IF(LEFT(A123,1)=\"0\",\" \" & MID(A123,2,1) & \",\",IF(MID(A123,3,1)=\".\",LEFT(A123,2),LEFT(A123,3))),'PFB-Konstrukte'!$J$9:$J$40))),ROW($1:$32)),2),1),\n\nINDEX('PFB-Konstrukte'!$A$9:$J$40,SMALL(IF(NOT(ISERROR(FIND(IF(LEFT(A123,1)=\"0\",\" \" & MID(A123,2,1) & \",\",IF(MID(A123,3,1)=\".\",LEFT(A123,2),LEFT(A123,3))),'PFB-Konstrukte'!$J$9:$J$40))),ROW($1:$32)),1),1))),\n\nINDEX('PFB-Konstrukte'!$A$9:$J$40,SMALL(IF(NOT(ISERROR(FIND(IF(LEFT(A123,1)=\"0\",\" \" & MID(A123,2,1) & \",\",IF(MID(A123,3,1)=\".\",LEFT(A123,2),LEFT(A123,3))),'PFB-Konstrukte'!$J$9:$J$40))),ROW($1:$32)),1),1))","v":"Transformationale Führung, \nEinfluss durch Vorbildlichkeit und Glaubwürdigkeit"}]
["86. Ich schätze die Weise, in der die Schulleitung handelt.",23,3.3913043478260869,0.13686395014372163,0.65637644650436056,0,8.6956521739130432E-2,0.43478260869565216,0.47826086956521741,{"$f":"IF(INDIRECT(\"'PFB-Konstrukte'!A\" & (SMALL(IF(NOT(ISERROR(FIND(IF(LEFT(A124,1)=\"0\",\" \" & MID(A124,2,1) & \",\",IF(MID(A124,3,1)=\".\",LEFT(A124,2),LEFT(A124,3))),'PFB-Konstrukte'!$J$9:$J$40))),ROW($9:$40)),1)+1))=\"\",\n\nIF(LEFT(INDIRECT(\"A\"&MAX(IF($B$1:B124=\"N\",ROW($A$1:A124)))-1),3)=\"nur\",\n\nIF(RIGHT(INDIRECT(\"A\"&MAX(IF($B$1:B124=\"N\",ROW($A$1:A124)))-1),4)=\"PTF!\",\nINDEX('PFB-Konstrukte'!$B$9:$J$40,SMALL(IF(NOT(ISERROR(FIND(IF(LEFT(A124,1)=\"0\",\" \" & MID(A124,2,1) & \",\",IF(MID(A124,3,1)=\".\",LEFT(A124,2),LEFT(A124,3))),'PFB-Konstrukte'!$J$9:$J$40))),ROW($1:$32)),3),1),\nINDEX('PFB-Konstrukte'!$B$9:$J$40,SMALL(IF(NOT(ISERROR(FIND(IF(LEFT(A124,1)=\"0\",\" \" & MID(A124,2,1) & \",\",IF(MID(A124,3,1)=\".\",LEFT(A124,2),LEFT(A124,3))),'PFB-Konstrukte'!$J$9:$J$40))),ROW($1:$32)),2),1)),\n\nIF(RIGHT(INDEX('PFB-Konstrukte'!$A$9:$J$40,SMALL(IF(NOT(ISERROR(FIND(IF(LEFT(A124,1)=\"0\",\" \" & MID(A124,2,1) & \",\",IF(MID(A124,3,1)=\".\",LEFT(A124,2),LEFT(A124,3))),'PFB-Konstrukte'!$J$9:$J$40))),ROW($1:$32)),1),1),7)=\"Führung\",\n\nINDEX('PFB-Konstrukte'!$A$9:$J$40,SMALL(IF(NOT(ISERROR(FIND(IF(LEFT(A124,1)=\"0\",\" \" & MID(A124,2,1) & \",\",IF(MID(A124,3,1)=\".\",LEFT(A124,2),LEFT(A124,3))),'PFB-Konstrukte'!$J$9:$J$40))),ROW($1:$32)),1),1) & \", \n\" & INDEX('PFB-Konstrukte'!$B$9:$J$40,SMALL(IF(NOT(ISERROR(FIND(IF(LEFT(A124,1)=\"0\",\" \" & MID(A124,2,1) & \",\",IF(MID(A124,3,1)=\".\",LEFT(A124,2),LEFT(A124,3))),'PFB-Konstrukte'!$J$9:$J$40))),ROW($1:$32)),2),1),\n\nINDEX('PFB-Konstrukte'!$A$9:$J$40,SMALL(IF(NOT(ISERROR(FIND(IF(LEFT(A124,1)=\"0\",\" \" & MID(A124,2,1) & \",\",IF(MID(A124,3,1)=\".\",LEFT(A124,2),LEFT(A124,3))),'PFB-Konstrukte'!$J$9:$J$40))),ROW($1:$32)),1),1))),\n\nINDEX('PFB-Konstrukte'!$A$9:$J$40,SMALL(IF(NOT(ISERROR(FIND(IF(LEFT(A124,1)=\"0\",\" \" & MID(A124,2,1) & \",\",IF(MID(A124,3,1)=\".\",LEFT(A124,2),LEFT(A124,3))),'PFB-Konstrukte'!$J$9:$J$40))),ROW($1:$32)),1),1))","v":"Transformationale Führung, \nEinfluss durch Vorbildlichkeit und Glaubwürdigkeit"}]
["87. Die Schulleitung formuliert eine überzeugende Zukunftsvision.",19,3.1578947368421049,0.15789473684210528,0.6882472016116854,0,0.15789473684210525,0.52631578947368418,0.31578947368421051,{"$f":"IF(INDIRECT(\"'PFB-Konstrukte'!A\" & (SMALL(IF(NOT(ISERROR(FIND(IF(LEFT(A125,1)=\"0\",\" \" & MID(A125,2,1) & \",\",IF(MID(A125,3,1)=\".\",LEFT(A125,2),LEFT(A125,3))),'PFB-Konstrukte'!$J$9:$J$40))),ROW($9:$40)),1)+1))=\"\",\n\nIF(LEFT(INDIRECT(\"A\"&MAX(IF($B$1:B125=\"N\",ROW($A$1:A125)))-1),3)=\"nur\",\n\nIF(RIGHT(INDIRECT(\"A\"&MAX(IF($B$1:B125=\"N\",ROW($A$1:A125)))-1),4)=\"PTF!\",\nINDEX('PFB-Konstrukte'!$B$9:$J$40,SMALL(IF(NOT(ISERROR(FIND(IF(LEFT(A125,1)=\"0\",\" \" & MID(A125,2,1) & \",\",IF(MID(A125,3,1)=\".\",LEFT(A125,2),LEFT(A125,3))),'PFB-Konstrukte'!$J$9:$J$40))),ROW($1:$32)),3),1),\nINDEX('PFB-Konstrukte'!$B$9:$J$40,SMALL(IF(NOT(ISERROR(FIND(IF(LEFT(A125,1)=\"0\",\" \" & MID(A125,2,1) & \",\",IF(MID(A125,3,1)=\".\",LEFT(A125,2),LEFT(A125,3))),'PFB-Konstrukte'!$J$9:$J$40))),ROW($1:$32)),2),1)),\n\nIF(RIGHT(INDEX('PFB-Konstrukte'!$A$9:$J$40,SMALL(IF(NOT(ISERROR(FIND(IF(LEFT(A125,1)=\"0\",\" \" & MID(A125,2,1) & \",\",IF(MID(A125,3,1)=\".\",LEFT(A125,2),LEFT(A125,3))),'PFB-Konstrukte'!$J$9:$J$40))),ROW($1:$32)),1),1),7)=\"Führung\",\n\nINDEX('PFB-Konstrukte'!$A$9:$J$40,SMALL(IF(NOT(ISERROR(FIND(IF(LEFT(A125,1)=\"0\",\" \" & MID(A125,2,1) & \",\",IF(MID(A125,3,1)=\".\",LEFT(A125,2),LEFT(A125,3))),'PFB-Konstrukte'!$J$9:$J$40))),ROW($1:$32)),1),1) & \", \n\" & INDEX('PFB-Konstrukte'!$B$9:$J$40,SMALL(IF(NOT(ISERROR(FIND(IF(LEFT(A125,1)=\"0\",\" \" & MID(A125,2,1) & \",\",IF(MID(A125,3,1)=\".\",LEFT(A125,2),LEFT(A125,3))),'PFB-Konstrukte'!$J$9:$J$40))),ROW($1:$32)),2),1),\n\nINDEX('PFB-Konstrukte'!$A$9:$J$40,SMALL(IF(NOT(ISERROR(FIND(IF(LEFT(A125,1)=\"0\",\" \" & MID(A125,2,1) & \",\",IF(MID(A125,3,1)=\".\",LEFT(A125,2),LEFT(A125,3))),'PFB-Konstrukte'!$J$9:$J$40))),ROW($1:$32)),1),1))),\n\nINDEX('PFB-Konstrukte'!$A$9:$J$40,SMALL(IF(NOT(ISERROR(FIND(IF(LEFT(A125,1)=\"0\",\" \" & MID(A125,2,1) & \",\",IF(MID(A125,3,1)=\".\",LEFT(A125,2),LEFT(A125,3))),'PFB-Konstrukte'!$J$9:$J$40))),ROW($1:$32)),1),1))","v":"Transformationale Führung, \nMotivation durch begeisternde Visionen"}]
["88. Die Schulleitung trifft schnell und ohne zu zögern Entscheidungen.",20,3.2,0.13764944032233703,0.61558701125109239,0,0.1,0.6,0.3,{"$f":"IF(INDIRECT(\"'PFB-Konstrukte'!A\" & (SMALL(IF(NOT(ISERROR(FIND(IF(LEFT(A126,1)=\"0\",\" \" & MID(A126,2,1) & \",\",IF(MID(A126,3,1)=\".\",LEFT(A126,2),LEFT(A126,3))),'PFB-Konstrukte'!$J$9:$J$40))),ROW($9:$40)),1)+1))=\"\",\n\nIF(LEFT(INDIRECT(\"A\"&MAX(IF($B$1:B126=\"N\",ROW($A$1:A126)))-1),3)=\"nur\",\n\nIF(RIGHT(INDIRECT(\"A\"&MAX(IF($B$1:B126=\"N\",ROW($A$1:A126)))-1),4)=\"PTF!\",\nINDEX('PFB-Konstrukte'!$B$9:$J$40,SMALL(IF(NOT(ISERROR(FIND(IF(LEFT(A126,1)=\"0\",\" \" & MID(A126,2,1) & \",\",IF(MID(A126,3,1)=\".\",LEFT(A126,2),LEFT(A126,3))),'PFB-Konstrukte'!$J$9:$J$40))),ROW($1:$32)),3),1),\nINDEX('PFB-Konstrukte'!$B$9:$J$40,SMALL(IF(NOT(ISERROR(FIND(IF(LEFT(A126,1)=\"0\",\" \" & MID(A126,2,1) & \",\",IF(MID(A126,3,1)=\".\",LEFT(A126,2),LEFT(A126,3))),'PFB-Konstrukte'!$J$9:$J$40))),ROW($1:$32)),2),1)),\n\nIF(RIGHT(INDEX('PFB-Konstrukte'!$A$9:$J$40,SMALL(IF(NOT(ISERROR(FIND(IF(LEFT(A126,1)=\"0\",\" \" & MID(A126,2,1) & \",\",IF(MID(A126,3,1)=\".\",LEFT(A126,2),LEFT(A126,3))),'PFB-Konstrukte'!$J$9:$J$40))),ROW($1:$32)),1),1),7)=\"Führung\",\n\nINDEX('PFB-Konstrukte'!$A$9:$J$40,SMALL(IF(NOT(ISERROR(FIND(IF(LEFT(A126,1)=\"0\",\" \" & MID(A126,2,1) & \",\",IF(MID(A126,3,1)=\".\",LEFT(A126,2),LEFT(A126,3))),'PFB-Konstrukte'!$J$9:$J$40))),ROW($1:$32)),1),1) & \", \n\" & INDEX('PFB-Konstrukte'!$B$9:$J$40,SMALL(IF(NOT(ISERROR(FIND(IF(LEFT(A126,1)=\"0\",\" \" & MID(A126,2,1) & \",\",IF(MID(A126,3,1)=\".\",LEFT(A126,2),LEFT(A126,3))),'PFB-Konstrukte'!$J$9:$J$40))),ROW($1:$32)),2),1),\n\nINDEX('PFB-Konstrukte'!$A$9:$J$40,SMALL(IF(NOT(ISERROR(FIND(IF(LEFT(A126,1)=\"0\",\" \" & MID(A126,2,1) & \",\",IF(MID(A126,3,1)=\".\",LEFT(A126,2),LEFT(A126,3))),'PFB-Konstrukte'!$J$9:$J$40))),ROW($1:$32)),1),1))),\n\nINDEX('PFB-Konstrukte'!$A$9:$J$40,SMALL(IF(NOT(ISERROR(FIND(IF(LEFT(A126,1)=\"0\",\" \" & MID(A126,2,1) & \",\",IF(MID(A126,3,1)=\".\",LEFT(A126,2),LEFT(A126,3))),'PFB-Konstrukte'!$J$9:$J$40))),ROW($1:$32)),1),1))","v":"Aktive Führung"}]
["89. Die Schulleitung erkennt meine individuellen Bedürfnisse, Fähigkeiten und Ziele.",22,3.1818181818181812,0.16949586104287354,0.79500605786033618,0,0.22727272727272727,0.36363636363636365,0.40909090909090912,{"$f":"IF(INDIRECT(\"'PFB-Konstrukte'!A\" & (SMALL(IF(NOT(ISERROR(FIND(IF(LEFT(A127,1)=\"0\",\" \" & MID(A127,2,1) & \",\",IF(MID(A127,3,1)=\".\",LEFT(A127,2),LEFT(A127,3))),'PFB-Konstrukte'!$J$9:$J$40))),ROW($9:$40)),1)+1))=\"\",\n\nIF(LEFT(INDIRECT(\"A\"&MAX(IF($B$1:B127=\"N\",ROW($A$1:A127)))-1),3)=\"nur\",\n\nIF(RIGHT(INDIRECT(\"A\"&MAX(IF($B$1:B127=\"N\",ROW($A$1:A127)))-1),4)=\"PTF!\",\nINDEX('PFB-Konstrukte'!$B$9:$J$40,SMALL(IF(NOT(ISERROR(FIND(IF(LEFT(A127,1)=\"0\",\" \" & MID(A127,2,1) & \",\",IF(MID(A127,3,1)=\".\",LEFT(A127,2),LEFT(A127,3))),'PFB-Konstrukte'!$J$9:$J$40))),ROW($1:$32)),3),1),\nINDEX('PFB-Konstrukte'!$B$9:$J$40,SMALL(IF(NOT(ISERROR(FIND(IF(LEFT(A127,1)=\"0\",\" \" & MID(A127,2,1) & \",\",IF(MID(A127,3,1)=\".\",LEFT(A127,2),LEFT(A127,3))),'PFB-Konstrukte'!$J$9:$J$40))),ROW($1:$32)),2),1)),\n\nIF(RIGHT(INDEX('PFB-Konstrukte'!$A$9:$J$40,SMALL(IF(NOT(ISERROR(FIND(IF(LEFT(A127,1)=\"0\",\" \" & MID(A127,2,1) & \",\",IF(MID(A127,3,1)=\".\",LEFT(A127,2),LEFT(A127,3))),'PFB-Konstrukte'!$J$9:$J$40))),ROW($1:$32)),1),1),7)=\"Führung\",\n\nINDEX('PFB-Konstrukte'!$A$9:$J$40,SMALL(IF(NOT(ISERROR(FIND(IF(LEFT(A127,1)=\"0\",\" \" & MID(A127,2,1) & \",\",IF(MID(A127,3,1)=\".\",LEFT(A127,2),LEFT(A127,3))),'PFB-Konstrukte'!$J$9:$J$40))),ROW($1:$32)),1),1) & \", \n\" & INDEX('PFB-Konstrukte'!$B$9:$J$40,SMALL(IF(NOT(ISERROR(FIND(IF(LEFT(A127,1)=\"0\",\" \" & MID(A127,2,1) & \",\",IF(MID(A127,3,1)=\".\",LEFT(A127,2),LEFT(A127,3))),'PFB-Konstrukte'!$J$9:$J$40))),ROW($1:$32)),2),1),\n\nINDEX('PFB-Konstrukte'!$A$9:$J$40,SMALL(IF(NOT(ISERROR(FIND(IF(LEFT(A127,1)=\"0\",\" \" & MID(A127,2,1) & \",\",IF(MID(A127,3,1)=\".\",LEFT(A127,2),LEFT(A127,3))),'PFB-Konstrukte'!$J$9:$J$40))),ROW($1:$32)),1),1))),\n\nINDEX('PFB-Konstrukte'!$A$9:$J$40,SMALL(IF(NOT(ISERROR(FIND(IF(LEFT(A127,1)=\"0\",\" \" & MID(A127,2,1) & \",\",IF(MID(A127,3,1)=\".\",LEFT(A127,2),LEFT(A127,3))),'PFB-Konstrukte'!$J$9:$J$40))),ROW($1:$32)),1),1))","v":"Transformationale Führung, \nIndividuelle Unterstützung und Förderung"}]
["90. Die Schulleitung hilft mir, meine Stärken auszubauen.",23,3.1304347826086958,0.14479572398430202,0.69441589752480315,0,0.17391304347826086,0.52173913043478259,0.30434782608695654,{"$f":"IF(INDIRECT(\"'PFB-Konstrukte'!A\" & (SMALL(IF(NOT(ISERROR(FIND(IF(LEFT(A128,1)=\"0\",\" \" & MID(A128,2,1) & \",\",IF(MID(A128,3,1)=\".\",LEFT(A128,2),LEFT(A128,3))),'PFB-Konstrukte'!$J$9:$J$40))),ROW($9:$40)),1)+1))=\"\",\n\nIF(LEFT(INDIRECT(\"A\"&MAX(IF($B$1:B128=\"N\",ROW($A$1:A128)))-1),3)=\"nur\",\n\nIF(RIGHT(INDIRECT(\"A\"&MAX(IF($B$1:B128=\"N\",ROW($A$1:A128)))-1),4)=\"PTF!\",\nINDEX('PFB-Konstrukte'!$B$9:$J$40,SMALL(IF(NOT(ISERROR(FIND(IF(LEFT(A128,1)=\"0\",\" \" & MID(A128,2,1) & \",\",IF(MID(A128,3,1)=\".\",LEFT(A128,2),LEFT(A128,3))),'PFB-Konstrukte'!$J$9:$J$40))),ROW($1:$32)),3),1),\nINDEX('PFB-Konstrukte'!$B$9:$J$40,SMALL(IF(NOT(ISERROR(FIND(IF(LEFT(A128,1)=\"0\",\" \" & MID(A128,2,1) & \",\",IF(MID(A128,3,1)=\".\",LEFT(A128,2),LEFT(A128,3))),'PFB-Konstrukte'!$J$9:$J$40))),ROW($1:$32)),2),1)),\n\nIF(RIGHT(INDEX('PFB-Konstrukte'!$A$9:$J$40,SMALL(IF(NOT(ISERROR(FIND(IF(LEFT(A128,1)=\"0\",\" \" & MID(A128,2,1) & \",\",IF(MID(A128,3,1)=\".\",LEFT(A128,2),LEFT(A128,3))),'PFB-Konstrukte'!$J$9:$J$40))),ROW($1:$32)),1),1),7)=\"Führung\",\n\nINDEX('PFB-Konstrukte'!$A$9:$J$40,SMALL(IF(NOT(ISERROR(FIND(IF(LEFT(A128,1)=\"0\",\" \" & MID(A128,2,1) & \",\",IF(MID(A128,3,1)=\".\",LEFT(A128,2),LEFT(A128,3))),'PFB-Konstrukte'!$J$9:$J$40))),ROW($1:$32)),1),1) & \", \n\" & INDEX('PFB-Konstrukte'!$B$9:$J$40,SMALL(IF(NOT(ISERROR(FIND(IF(LEFT(A128,1)=\"0\",\" \" & MID(A128,2,1) & \",\",IF(MID(A128,3,1)=\".\",LEFT(A128,2),LEFT(A128,3))),'PFB-Konstrukte'!$J$9:$J$40))),ROW($1:$32)),2),1),\n\nINDEX('PFB-Konstrukte'!$A$9:$J$40,SMALL(IF(NOT(ISERROR(FIND(IF(LEFT(A128,1)=\"0\",\" \" & MID(A128,2,1) & \",\",IF(MID(A128,3,1)=\".\",LEFT(A128,2),LEFT(A128,3))),'PFB-Konstrukte'!$J$9:$J$40))),ROW($1:$32)),1),1))),\n\nINDEX('PFB-Konstrukte'!$A$9:$J$40,SMALL(IF(NOT(ISERROR(FIND(IF(LEFT(A128,1)=\"0\",\" \" & MID(A128,2,1) & \",\",IF(MID(A128,3,1)=\".\",LEFT(A128,2),LEFT(A128,3))),'PFB-Konstrukte'!$J$9:$J$40))),ROW($1:$32)),1),1))","v":"Transformationale Führung, \nIndividuelle Unterstützung und Förderung"}]
["91. Die Schulleitung klärt wichtige Fragen sofort.",23,3.4782608695652173,0.12367184068902778,0.59310931212254803,0,4.3478260869565216E-2,0.43478260869565216,0.52173913043478259,{"$f":"IF(INDIRECT(\"'PFB-Konstrukte'!A\" & (SMALL(IF(NOT(ISERROR(FIND(IF(LEFT(A129,1)=\"0\",\" \" & MID(A129,2,1) & \",\",IF(MID(A129,3,1)=\".\",LEFT(A129,2),LEFT(A129,3))),'PFB-Konstrukte'!$J$9:$J$40))),ROW($9:$40)),1)+1))=\"\",\n\nIF(LEFT(INDIRECT(\"A\"&MAX(IF($B$1:B129=\"N\",ROW($A$1:A129)))-1),3)=\"nur\",\n\nIF(RIGHT(INDIRECT(\"A\"&MAX(IF($B$1:B129=\"N\",ROW($A$1:A129)))-1),4)=\"PTF!\",\nINDEX('PFB-Konstrukte'!$B$9:$J$40,SMALL(IF(NOT(ISERROR(FIND(IF(LEFT(A129,1)=\"0\",\" \" & MID(A129,2,1) & \",\",IF(MID(A129,3,1)=\".\",LEFT(A129,2),LEFT(A129,3))),'PFB-Konstrukte'!$J$9:$J$40))),ROW($1:$32)),3),1),\nINDEX('PFB-Konstrukte'!$B$9:$J$40,SMALL(IF(NOT(ISERROR(FIND(IF(LEFT(A129,1)=\"0\",\" \" & MID(A129,2,1) & \",\",IF(MID(A129,3,1)=\".\",LEFT(A129,2),LEFT(A129,3))),'PFB-Konstrukte'!$J$9:$J$40))),ROW($1:$32)),2),1)),\n\nIF(RIGHT(INDEX('PFB-Konstrukte'!$A$9:$J$40,SMALL(IF(NOT(ISERROR(FIND(IF(LEFT(A129,1)=\"0\",\" \" & MID(A129,2,1) & \",\",IF(MID(A129,3,1)=\".\",LEFT(A129,2),LEFT(A129,3))),'PFB-Konstrukte'!$J$9:$J$40))),ROW($1:$32)),1),1),7)=\"Führung\",\n\nINDEX('PFB-Konstrukte'!$A$9:$J$40,SMALL(IF(NOT(ISERROR(FIND(IF(LEFT(A129,1)=\"0\",\" \" & MID(A129,2,1) & \",\",IF(MID(A129,3,1)=\".\",LEFT(A129,2),LEFT(A129,3))),'PFB-Konstrukte'!$J$9:$J$40))),ROW($1:$32)),1),1) & \", \n\" & INDEX('PFB-Konstrukte'!$B$9:$J$40,SMALL(IF(NOT(ISERROR(FIND(IF(LEFT(A129,1)=\"0\",\" \" & MID(A129,2,1) & \",\",IF(MID(A129,3,1)=\".\",LEFT(A129,2),LEFT(A129,3))),'PFB-Konstrukte'!$J$9:$J$40))),ROW($1:$32)),2),1),\n\nINDEX('PFB-Konstrukte'!$A$9:$J$40,SMALL(IF(NOT(ISERROR(FIND(IF(LEFT(A129,1)=\"0\",\" \" & MID(A129,2,1) & \",\",IF(MID(A129,3,1)=\".\",LEFT(A129,2),LEFT(A129,3))),'PFB-Konstrukte'!$J$9:$J$40))),ROW($1:$32)),1),1))),\n\nINDEX('PFB-Konstrukte'!$A$9:$J$40,SMALL(IF(NOT(ISERROR(FIND(IF(LEFT(A129,1)=\"0\",\" \" & MID(A129,2,1) & \",\",IF(MID(A129,3,1)=\".\",LEFT(A129,2),LEFT(A129,3))),'PFB-Konstrukte'!$J$9:$J$40))),ROW($1:$32)),1),1))","v":"Aktive Führung"}]
["92. Die Schulleitung zeigt Zufriedenheit, wenn andere die Erwartungen erfüllen.",18,3.3888888888888888,0.20030840419244386,0.84983658559879749,5.5555555555555552E-2,5.5555555555555552E-2,0.33333333333333326,0.55555555555555558,{"$f":"IF(INDIRECT(\"'PFB-Konstrukte'!A\" & (SMALL(IF(NOT(ISERROR(FIND(IF(LEFT(A130,1)=\"0\",\" \" & MID(A130,2,1) & \",\",IF(MID(A130,3,1)=\".\",LEFT(A130,2),LEFT(A130,3))),'PFB-Konstrukte'!$J$9:$J$40))),ROW($9:$40)),1)+1))=\"\",\n\nIF(LEFT(INDIRECT(\"A\"&MAX(IF($B$1:B130=\"N\",ROW($A$1:A130)))-1),3)=\"nur\",\n\nIF(RIGHT(INDIRECT(\"A\"&MAX(IF($B$1:B130=\"N\",ROW($A$1:A130)))-1),4)=\"PTF!\",\nINDEX('PFB-Konstrukte'!$B$9:$J$40,SMALL(IF(NOT(ISERROR(FIND(IF(LEFT(A130,1)=\"0\",\" \" & MID(A130,2,1) & \",\",IF(MID(A130,3,1)=\".\",LEFT(A130,2),LEFT(A130,3))),'PFB-Konstrukte'!$J$9:$J$40))),ROW($1:$32)),3),1),\nINDEX('PFB-Konstrukte'!$B$9:$J$40,SMALL(IF(NOT(ISERROR(FIND(IF(LEFT(A130,1)=\"0\",\" \" & MID(A130,2,1) & \",\",IF(MID(A130,3,1)=\".\",LEFT(A130,2),LEFT(A130,3))),'PFB-Konstrukte'!$J$9:$J$40))),ROW($1:$32)),2),1)),\n\nIF(RIGHT(INDEX('PFB-Konstrukte'!$A$9:$J$40,SMALL(IF(NOT(ISERROR(FIND(IF(LEFT(A130,1)=\"0\",\" \" & MID(A130,2,1) & \",\",IF(MID(A130,3,1)=\".\",LEFT(A130,2),LEFT(A130,3))),'PFB-Konstrukte'!$J$9:$J$40))),ROW($1:$32)),1),1),7)=\"Führung\",\n\nINDEX('PFB-Konstrukte'!$A$9:$J$40,SMALL(IF(NOT(ISERROR(FIND(IF(LEFT(A130,1)=\"0\",\" \" & MID(A130,2,1) & \",\",IF(MID(A130,3,1)=\".\",LEFT(A130,2),LEFT(A130,3))),'PFB-Konstrukte'!$J$9:$J$40))),ROW($1:$32)),1),1) & \", \n\" & INDEX('PFB-Konstrukte'!$B$9:$J$40,SMALL(IF(NOT(ISERROR(FIND(IF(LEFT(A130,1)=\"0\",\" \" & MID(A130,2,1) & \",\",IF(MID(A130,3,1)=\".\",LEFT(A130,2),LEFT(A130,3))),'PFB-Konstrukte'!$J$9:$J$40))),ROW($1:$32)),2),1),\n\nINDEX('PFB-Konstrukte'!$A$9:$J$40,SMALL(IF(NOT(ISERROR(FIND(IF(LEFT(A130,1)=\"0\",\" \" & MID(A130,2,1) & \",\",IF(MID(A130,3,1)=\".\",LEFT(A130,2),LEFT(A130,3))),'PFB-Konstrukte'!$J$9:$J$40))),ROW($1:$32)),1),1))),\n\nINDEX('PFB-Konstrukte'!$A$9:$J$40,SMALL(IF(NOT(ISERROR(FIND(IF(LEFT(A130,1)=\"0\",\" \" & MID(A130,2,1) & \",\",IF(MID(A130,3,1)=\".\",LEFT(A130,2),LEFT(A130,3))),'PFB-Konstrukte'!$J$9:$J$40))),ROW($1:$32)),1),1))","v":"Transaktionale Führung"}]
["93. Die Schulleitung ist immer da, wenn sie gebraucht wird.",22,3.1363636363636367,0.1194405165482372,0.56022568117930294,0,9.0909090909090912E-2,0.68181818181818177,0.22727272727272727,{"$f":"IF(INDIRECT(\"'PFB-Konstrukte'!A\" & (SMALL(IF(NOT(ISERROR(FIND(IF(LEFT(A131,1)=\"0\",\" \" & MID(A131,2,1) & \",\",IF(MID(A131,3,1)=\".\",LEFT(A131,2),LEFT(A131,3))),'PFB-Konstrukte'!$J$9:$J$40))),ROW($9:$40)),1)+1))=\"\",\n\nIF(LEFT(INDIRECT(\"A\"&MAX(IF($B$1:B131=\"N\",ROW($A$1:A131)))-1),3)=\"nur\",\n\nIF(RIGHT(INDIRECT(\"A\"&MAX(IF($B$1:B131=\"N\",ROW($A$1:A131)))-1),4)=\"PTF!\",\nINDEX('PFB-Konstrukte'!$B$9:$J$40,SMALL(IF(NOT(ISERROR(FIND(IF(LEFT(A131,1)=\"0\",\" \" & MID(A131,2,1) & \",\",IF(MID(A131,3,1)=\".\",LEFT(A131,2),LEFT(A131,3))),'PFB-Konstrukte'!$J$9:$J$40))),ROW($1:$32)),3),1),\nINDEX('PFB-Konstrukte'!$B$9:$J$40,SMALL(IF(NOT(ISERROR(FIND(IF(LEFT(A131,1)=\"0\",\" \" & MID(A131,2,1) & \",\",IF(MID(A131,3,1)=\".\",LEFT(A131,2),LEFT(A131,3))),'PFB-Konstrukte'!$J$9:$J$40))),ROW($1:$32)),2),1)),\n\nIF(RIGHT(INDEX('PFB-Konstrukte'!$A$9:$J$40,SMALL(IF(NOT(ISERROR(FIND(IF(LEFT(A131,1)=\"0\",\" \" & MID(A131,2,1) & \",\",IF(MID(A131,3,1)=\".\",LEFT(A131,2),LEFT(A131,3))),'PFB-Konstrukte'!$J$9:$J$40))),ROW($1:$32)),1),1),7)=\"Führung\",\n\nINDEX('PFB-Konstrukte'!$A$9:$J$40,SMALL(IF(NOT(ISERROR(FIND(IF(LEFT(A131,1)=\"0\",\" \" & MID(A131,2,1) & \",\",IF(MID(A131,3,1)=\".\",LEFT(A131,2),LEFT(A131,3))),'PFB-Konstrukte'!$J$9:$J$40))),ROW($1:$32)),1),1) & \", \n\" & INDEX('PFB-Konstrukte'!$B$9:$J$40,SMALL(IF(NOT(ISERROR(FIND(IF(LEFT(A131,1)=\"0\",\" \" & MID(A131,2,1) & \",\",IF(MID(A131,3,1)=\".\",LEFT(A131,2),LEFT(A131,3))),'PFB-Konstrukte'!$J$9:$J$40))),ROW($1:$32)),2),1),\n\nINDEX('PFB-Konstrukte'!$A$9:$J$40,SMALL(IF(NOT(ISERROR(FIND(IF(LEFT(A131,1)=\"0\",\" \" & MID(A131,2,1) & \",\",IF(MID(A131,3,1)=\".\",LEFT(A131,2),LEFT(A131,3))),'PFB-Konstrukte'!$J$9:$J$40))),ROW($1:$32)),1),1))),\n\nINDEX('PFB-Konstrukte'!$A$9:$J$40,SMALL(IF(NOT(ISERROR(FIND(IF(LEFT(A131,1)=\"0\",\" \" & MID(A131,2,1) & \",\",IF(MID(A131,3,1)=\".\",LEFT(A131,2),LEFT(A131,3))),'PFB-Konstrukte'!$J$9:$J$40))),ROW($1:$32)),1),1))","v":"Aktive Führung"}]
["94. Die Schulleitung äußert sich optimistisch über die Zukunft.",17,3.2352941176470593,0.18249520067633609,0.75244698855682524,0,0.17647058823529413,0.41176470588235292,0.41176470588235292,{"$f":"IF(INDIRECT(\"'PFB-Konstrukte'!A\" & (SMALL(IF(NOT(ISERROR(FIND(IF(LEFT(A132,1)=\"0\",\" \" & MID(A132,2,1) & \",\",IF(MID(A132,3,1)=\".\",LEFT(A132,2),LEFT(A132,3))),'PFB-Konstrukte'!$J$9:$J$40))),ROW($9:$40)),1)+1))=\"\",\n\nIF(LEFT(INDIRECT(\"A\"&MAX(IF($B$1:B132=\"N\",ROW($A$1:A132)))-1),3)=\"nur\",\n\nIF(RIGHT(INDIRECT(\"A\"&MAX(IF($B$1:B132=\"N\",ROW($A$1:A132)))-1),4)=\"PTF!\",\nINDEX('PFB-Konstrukte'!$B$9:$J$40,SMALL(IF(NOT(ISERROR(FIND(IF(LEFT(A132,1)=\"0\",\" \" & MID(A132,2,1) & \",\",IF(MID(A132,3,1)=\".\",LEFT(A132,2),LEFT(A132,3))),'PFB-Konstrukte'!$J$9:$J$40))),ROW($1:$32)),3),1),\nINDEX('PFB-Konstrukte'!$B$9:$J$40,SMALL(IF(NOT(ISERROR(FIND(IF(LEFT(A132,1)=\"0\",\" \" & MID(A132,2,1) & \",\",IF(MID(A132,3,1)=\".\",LEFT(A132,2),LEFT(A132,3))),'PFB-Konstrukte'!$J$9:$J$40))),ROW($1:$32)),2),1)),\n\nIF(RIGHT(INDEX('PFB-Konstrukte'!$A$9:$J$40,SMALL(IF(NOT(ISERROR(FIND(IF(LEFT(A132,1)=\"0\",\" \" & MID(A132,2,1) & \",\",IF(MID(A132,3,1)=\".\",LEFT(A132,2),LEFT(A132,3))),'PFB-Konstrukte'!$J$9:$J$40))),ROW($1:$32)),1),1),7)=\"Führung\",\n\nINDEX('PFB-Konstrukte'!$A$9:$J$40,SMALL(IF(NOT(ISERROR(FIND(IF(LEFT(A132,1)=\"0\",\" \" & MID(A132,2,1) & \",\",IF(MID(A132,3,1)=\".\",LEFT(A132,2),LEFT(A132,3))),'PFB-Konstrukte'!$J$9:$J$40))),ROW($1:$32)),1),1) & \", \n\" & INDEX('PFB-Konstrukte'!$B$9:$J$40,SMALL(IF(NOT(ISERROR(FIND(IF(LEFT(A132,1)=\"0\",\" \" & MID(A132,2,1) & \",\",IF(MID(A132,3,1)=\".\",LEFT(A132,2),LEFT(A132,3))),'PFB-Konstrukte'!$J$9:$J$40))),ROW($1:$32)),2),1),\n\nINDEX('PFB-Konstrukte'!$A$9:$J$40,SMALL(IF(NOT(ISERROR(FIND(IF(LEFT(A132,1)=\"0\",\" \" & MID(A132,2,1) & \",\",IF(MID(A132,3,1)=\".\",LEFT(A132,2),LEFT(A132,3))),'PFB-Konstrukte'!$J$9:$J$40))),ROW($1:$32)),1),1))),\n\nINDEX('PFB-Konstrukte'!$A$9:$J$40,SMALL(IF(NOT(ISERROR(FIND(IF(LEFT(A132,1)=\"0\",\" \" & MID(A132,2,1) & \",\",IF(MID(A132,3,1)=\".\",LEFT(A132,2),LEFT(A132,3))),'PFB-Konstrukte'!$J$9:$J$40))),ROW($1:$32)),1),1))","v":"Transformationale Führung, \nMotivation durch begeisternde Visionen"}]
["95. Die Schulleitung macht deutlich, wer für bestimmte Leistungen verantwortlich ist.",19,2.8421052631578947,0.15789473684210523,0.68824720161168518,0,0.31578947368421051,0.52631578947368418,0.15789473684210525,{"$f":"IF(INDIRECT(\"'PFB-Konstrukte'!A\" & (SMALL(IF(NOT(ISERROR(FIND(IF(LEFT(A133,1)=\"0\",\" \" & MID(A133,2,1) & \",\",IF(MID(A133,3,1)=\".\",LEFT(A133,2),LEFT(A133,3))),'PFB-Konstrukte'!$J$9:$J$40))),ROW($9:$40)),1)+1))=\"\",\n\nIF(LEFT(INDIRECT(\"A\"&MAX(IF($B$1:B133=\"N\",ROW($A$1:A133)))-1),3)=\"nur\",\n\nIF(RIGHT(INDIRECT(\"A\"&MAX(IF($B$1:B133=\"N\",ROW($A$1:A133)))-1),4)=\"PTF!\",\nINDEX('PFB-Konstrukte'!$B$9:$J$40,SMALL(IF(NOT(ISERROR(FIND(IF(LEFT(A133,1)=\"0\",\" \" & MID(A133,2,1) & \",\",IF(MID(A133,3,1)=\".\",LEFT(A133,2),LEFT(A133,3))),'PFB-Konstrukte'!$J$9:$J$40))),ROW($1:$32)),3),1),\nINDEX('PFB-Konstrukte'!$B$9:$J$40,SMALL(IF(NOT(ISERROR(FIND(IF(LEFT(A133,1)=\"0\",\" \" & MID(A133,2,1) & \",\",IF(MID(A133,3,1)=\".\",LEFT(A133,2),LEFT(A133,3))),'PFB-Konstrukte'!$J$9:$J$40))),ROW($1:$32)),2),1)),\n\nIF(RIGHT(INDEX('PFB-Konstrukte'!$A$9:$J$40,SMALL(IF(NOT(ISERROR(FIND(IF(LEFT(A133,1)=\"0\",\" \" & MID(A133,2,1) & \",\",IF(MID(A133,3,1)=\".\",LEFT(A133,2),LEFT(A133,3))),'PFB-Konstrukte'!$J$9:$J$40))),ROW($1:$32)),1),1),7)=\"Führung\",\n\nINDEX('PFB-Konstrukte'!$A$9:$J$40,SMALL(IF(NOT(ISERROR(FIND(IF(LEFT(A133,1)=\"0\",\" \" & MID(A133,2,1) & \",\",IF(MID(A133,3,1)=\".\",LEFT(A133,2),LEFT(A133,3))),'PFB-Konstrukte'!$J$9:$J$40))),ROW($1:$32)),1),1) & \", \n\" & INDEX('PFB-Konstrukte'!$B$9:$J$40,SMALL(IF(NOT(ISERROR(FIND(IF(LEFT(A133,1)=\"0\",\" \" & MID(A133,2,1) & \",\",IF(MID(A133,3,1)=\".\",LEFT(A133,2),LEFT(A133,3))),'PFB-Konstrukte'!$J$9:$J$40))),ROW($1:$32)),2),1),\n\nINDEX('PFB-Konstrukte'!$A$9:$J$40,SMALL(IF(NOT(ISERROR(FIND(IF(LEFT(A133,1)=\"0\",\" \" & MID(A133,2,1) & \",\",IF(MID(A133,3,1)=\".\",LEFT(A133,2),LEFT(A133,3))),'PFB-Konstrukte'!$J$9:$J$40))),ROW($1:$32)),1),1))),\n\nINDEX('PFB-Konstrukte'!$A$9:$J$40,SMALL(IF(NOT(ISERROR(FIND(IF(LEFT(A133,1)=\"0\",\" \" & MID(A133,2,1) & \",\",IF(MID(A133,3,1)=\".\",LEFT(A133,2),LEFT(A133,3))),'PFB-Konstrukte'!$J$9:$J$40))),ROW($1:$32)),1),1))","v":"Transaktionale Führung"}]
["96. Die Schulleitung spricht mit Begeisterung über das, was erreicht werden soll.",19,3.1052631578947367,0.22807017543859648,0.99413484677243436,5.2631578947368418E-2,0.26315789473684209,0.21052631578947367,0.47368421052631576,{"$f":"IF(INDIRECT(\"'PFB-Konstrukte'!A\" & (SMALL(IF(NOT(ISERROR(FIND(IF(LEFT(A134,1)=\"0\",\" \" & MID(A134,2,1) & \",\",IF(MID(A134,3,1)=\".\",LEFT(A134,2),LEFT(A134,3))),'PFB-Konstrukte'!$J$9:$J$40))),ROW($9:$40)),1)+1))=\"\",\n\nIF(LEFT(INDIRECT(\"A\"&MAX(IF($B$1:B134=\"N\",ROW($A$1:A134)))-1),3)=\"nur\",\n\nIF(RIGHT(INDIRECT(\"A\"&MAX(IF($B$1:B134=\"N\",ROW($A$1:A134)))-1),4)=\"PTF!\",\nINDEX('PFB-Konstrukte'!$B$9:$J$40,SMALL(IF(NOT(ISERROR(FIND(IF(LEFT(A134,1)=\"0\",\" \" & MID(A134,2,1) & \",\",IF(MID(A134,3,1)=\".\",LEFT(A134,2),LEFT(A134,3))),'PFB-Konstrukte'!$J$9:$J$40))),ROW($1:$32)),3),1),\nINDEX('PFB-Konstrukte'!$B$9:$J$40,SMALL(IF(NOT(ISERROR(FIND(IF(LEFT(A134,1)=\"0\",\" \" & MID(A134,2,1) & \",\",IF(MID(A134,3,1)=\".\",LEFT(A134,2),LEFT(A134,3))),'PFB-Konstrukte'!$J$9:$J$40))),ROW($1:$32)),2),1)),\n\nIF(RIGHT(INDEX('PFB-Konstrukte'!$A$9:$J$40,SMALL(IF(NOT(ISERROR(FIND(IF(LEFT(A134,1)=\"0\",\" \" & MID(A134,2,1) & \",\",IF(MID(A134,3,1)=\".\",LEFT(A134,2),LEFT(A134,3))),'PFB-Konstrukte'!$J$9:$J$40))),ROW($1:$32)),1),1),7)=\"Führung\",\n\nINDEX('PFB-Konstrukte'!$A$9:$J$40,SMALL(IF(NOT(ISERROR(FIND(IF(LEFT(A134,1)=\"0\",\" \" & MID(A134,2,1) & \",\",IF(MID(A134,3,1)=\".\",LEFT(A134,2),LEFT(A134,3))),'PFB-Konstrukte'!$J$9:$J$40))),ROW($1:$32)),1),1) & \", \n\" & INDEX('PFB-Konstrukte'!$B$9:$J$40,SMALL(IF(NOT(ISERROR(FIND(IF(LEFT(A134,1)=\"0\",\" \" & MID(A134,2,1) & \",\",IF(MID(A134,3,1)=\".\",LEFT(A134,2),LEFT(A134,3))),'PFB-Konstrukte'!$J$9:$J$40))),ROW($1:$32)),2),1),\n\nINDEX('PFB-Konstrukte'!$A$9:$J$40,SMALL(IF(NOT(ISERROR(FIND(IF(LEFT(A134,1)=\"0\",\" \" & MID(A134,2,1) & \",\",IF(MID(A134,3,1)=\".\",LEFT(A134,2),LEFT(A134,3))),'PFB-Konstrukte'!$J$9:$J$40))),ROW($1:$32)),1),1))),\n\nINDEX('PFB-Konstrukte'!$A$9:$J$40,SMALL(IF(NOT(ISERROR(FIND(IF(LEFT(A134,1)=\"0\",\" \" & MID(A134,2,1) & \",\",IF(MID(A134,3,1)=\".\",LEFT(A134,2),LEFT(A134,3))),'PFB-Konstrukte'!$J$9:$J$40))),ROW($1:$32)),1),1))","v":"Transformationale Führung, \nMotivation durch begeisternde Visionen"}]
["97. Die Schulleitung spricht klar aus, was man erwarten kann, wenn die gesteckten Ziele erreicht worden sind.",18,3.0555555555555554,0.18911942870889267,0.80236578296510297,5.5555555555555552E-2,0.1111111111111111,0.55555555555555558,0.27777777777777779,{"$f":"IF(INDIRECT(\"'PFB-Konstrukte'!A\" & (SMALL(IF(NOT(ISERROR(FIND(IF(LEFT(A135,1)=\"0\",\" \" & MID(A135,2,1) & \",\",IF(MID(A135,3,1)=\".\",LEFT(A135,2),LEFT(A135,3))),'PFB-Konstrukte'!$J$9:$J$40))),ROW($9:$40)),1)+1))=\"\",\n\nIF(LEFT(INDIRECT(\"A\"&MAX(IF($B$1:B135=\"N\",ROW($A$1:A135)))-1),3)=\"nur\",\n\nIF(RIGHT(INDIRECT(\"A\"&MAX(IF($B$1:B135=\"N\",ROW($A$1:A135)))-1),4)=\"PTF!\",\nINDEX('PFB-Konstrukte'!$B$9:$J$40,SMALL(IF(NOT(ISERROR(FIND(IF(LEFT(A135,1)=\"0\",\" \" & MID(A135,2,1) & \",\",IF(MID(A135,3,1)=\".\",LEFT(A135,2),LEFT(A135,3))),'PFB-Konstrukte'!$J$9:$J$40))),ROW($1:$32)),3),1),\nINDEX('PFB-Konstrukte'!$B$9:$J$40,SMALL(IF(NOT(ISERROR(FIND(IF(LEFT(A135,1)=\"0\",\" \" & MID(A135,2,1) & \",\",IF(MID(A135,3,1)=\".\",LEFT(A135,2),LEFT(A135,3))),'PFB-Konstrukte'!$J$9:$J$40))),ROW($1:$32)),2),1)),\n\nIF(RIGHT(INDEX('PFB-Konstrukte'!$A$9:$J$40,SMALL(IF(NOT(ISERROR(FIND(IF(LEFT(A135,1)=\"0\",\" \" & MID(A135,2,1) & \",\",IF(MID(A135,3,1)=\".\",LEFT(A135,2),LEFT(A135,3))),'PFB-Konstrukte'!$J$9:$J$40))),ROW($1:$32)),1),1),7)=\"Führung\",\n\nINDEX('PFB-Konstrukte'!$A$9:$J$40,SMALL(IF(NOT(ISERROR(FIND(IF(LEFT(A135,1)=\"0\",\" \" & MID(A135,2,1) & \",\",IF(MID(A135,3,1)=\".\",LEFT(A135,2),LEFT(A135,3))),'PFB-Konstrukte'!$J$9:$J$40))),ROW($1:$32)),1),1) & \", \n\" & INDEX('PFB-Konstrukte'!$B$9:$J$40,SMALL(IF(NOT(ISERROR(FIND(IF(LEFT(A135,1)=\"0\",\" \" & MID(A135,2,1) & \",\",IF(MID(A135,3,1)=\".\",LEFT(A135,2),LEFT(A135,3))),'PFB-Konstrukte'!$J$9:$J$40))),ROW($1:$32)),2),1),\n\nINDEX('PFB-Konstrukte'!$A$9:$J$40,SMALL(IF(NOT(ISERROR(FIND(IF(LEFT(A135,1)=\"0\",\" \" & MID(A135,2,1) & \",\",IF(MID(A135,3,1)=\".\",LEFT(A135,2),LEFT(A135,3))),'PFB-Konstrukte'!$J$9:$J$40))),ROW($1:$32)),1),1))),\n\nINDEX('PFB-Konstrukte'!$A$9:$J$40,SMALL(IF(NOT(ISERROR(FIND(IF(LEFT(A135,1)=\"0\",\" \" & MID(A135,2,1) & \",\",IF(MID(A135,3,1)=\".\",LEFT(A135,2),LEFT(A135,3))),'PFB-Konstrukte'!$J$9:$J$40))),ROW($1:$32)),1),1))","v":"Transaktionale Führung"}]
["98. Die Schulleitung berücksichtigt meine Individualität und behandelt mich nicht nur als irgendeine Mitarbeiterin/irgendeinen Mitarbeiter.",23,3.4782608695652173,0.152315010814211,0.73047713033651085,4.3478260869565216E-2,0,0.39130434782608697,0.56521739130434778,{"$f":"IF(INDIRECT(\"'PFB-Konstrukte'!A\" & (SMALL(IF(NOT(ISERROR(FIND(IF(LEFT(A136,1)=\"0\",\" \" & MID(A136,2,1) & \",\",IF(MID(A136,3,1)=\".\",LEFT(A136,2),LEFT(A136,3))),'PFB-Konstrukte'!$J$9:$J$40))),ROW($9:$40)),1)+1))=\"\",\n\nIF(LEFT(INDIRECT(\"A\"&MAX(IF($B$1:B136=\"N\",ROW($A$1:A136)))-1),3)=\"nur\",\n\nIF(RIGHT(INDIRECT(\"A\"&MAX(IF($B$1:B136=\"N\",ROW($A$1:A136)))-1),4)=\"PTF!\",\nINDEX('PFB-Konstrukte'!$B$9:$J$40,SMALL(IF(NOT(ISERROR(FIND(IF(LEFT(A136,1)=\"0\",\" \" & MID(A136,2,1) & \",\",IF(MID(A136,3,1)=\".\",LEFT(A136,2),LEFT(A136,3))),'PFB-Konstrukte'!$J$9:$J$40))),ROW($1:$32)),3),1),\nINDEX('PFB-Konstrukte'!$B$9:$J$40,SMALL(IF(NOT(ISERROR(FIND(IF(LEFT(A136,1)=\"0\",\" \" & MID(A136,2,1) & \",\",IF(MID(A136,3,1)=\".\",LEFT(A136,2),LEFT(A136,3))),'PFB-Konstrukte'!$J$9:$J$40))),ROW($1:$32)),2),1)),\n\nIF(RIGHT(INDEX('PFB-Konstrukte'!$A$9:$J$40,SMALL(IF(NOT(ISERROR(FIND(IF(LEFT(A136,1)=\"0\",\" \" & MID(A136,2,1) & \",\",IF(MID(A136,3,1)=\".\",LEFT(A136,2),LEFT(A136,3))),'PFB-Konstrukte'!$J$9:$J$40))),ROW($1:$32)),1),1),7)=\"Führung\",\n\nINDEX('PFB-Konstrukte'!$A$9:$J$40,SMALL(IF(NOT(ISERROR(FIND(IF(LEFT(A136,1)=\"0\",\" \" & MID(A136,2,1) & \",\",IF(MID(A136,3,1)=\".\",LEFT(A136,2),LEFT(A136,3))),'PFB-Konstrukte'!$J$9:$J$40))),ROW($1:$32)),1),1) & \", \n\" & INDEX('PFB-Konstrukte'!$B$9:$J$40,SMALL(IF(NOT(ISERROR(FIND(IF(LEFT(A136,1)=\"0\",\" \" & MID(A136,2,1) & \",\",IF(MID(A136,3,1)=\".\",LEFT(A136,2),LEFT(A136,3))),'PFB-Konstrukte'!$J$9:$J$40))),ROW($1:$32)),2),1),\n\nINDEX('PFB-Konstrukte'!$A$9:$J$40,SMALL(IF(NOT(ISERROR(FIND(IF(LEFT(A136,1)=\"0\",\" \" & MID(A136,2,1) & \",\",IF(MID(A136,3,1)=\".\",LEFT(A136,2),LEFT(A136,3))),'PFB-Konstrukte'!$J$9:$J$40))),ROW($1:$32)),1),1))),\n\nINDEX('PFB-Konstrukte'!$A$9:$J$40,SMALL(IF(NOT(ISERROR(FIND(IF(LEFT(A136,1)=\"0\",\" \" & MID(A136,2,1) & \",\",IF(MID(A136,3,1)=\".\",LEFT(A136,2),LEFT(A136,3))),'PFB-Konstrukte'!$J$9:$J$40))),ROW($1:$32)),1),1))","v":"Transformationale Führung, \nIndividuelle Unterstützung und Förderung"}]
["99. Ich bin froh, mit der Schulleitung zu tun zu haben.",22,3.6363636363636362,0.10497277621629555,0.49236596391733078,0,0,0.36363636363636365,0.63636363636363635,{"$f":"IF(INDIRECT(\"'PFB-Konstrukte'!A\" & (SMALL(IF(NOT(ISERROR(FIND(IF(LEFT(A137,1)=\"0\",\" \" & MID(A137,2,1) & \",\",IF(MID(A137,3,1)=\".\",LEFT(A137,2),LEFT(A137,3))),'PFB-Konstrukte'!$J$9:$J$40))),ROW($9:$40)),1)+1))=\"\",\n\nIF(LEFT(INDIRECT(\"A\"&MAX(IF($B$1:B137=\"N\",ROW($A$1:A137)))-1),3)=\"nur\",\n\nIF(RIGHT(INDIRECT(\"A\"&MAX(IF($B$1:B137=\"N\",ROW($A$1:A137)))-1),4)=\"PTF!\",\nINDEX('PFB-Konstrukte'!$B$9:$J$40,SMALL(IF(NOT(ISERROR(FIND(IF(LEFT(A137,1)=\"0\",\" \" & MID(A137,2,1) & \",\",IF(MID(A137,3,1)=\".\",LEFT(A137,2),LEFT(A137,3))),'PFB-Konstrukte'!$J$9:$J$40))),ROW($1:$32)),3),1),\nINDEX('PFB-Konstrukte'!$B$9:$J$40,SMALL(IF(NOT(ISERROR(FIND(IF(LEFT(A137,1)=\"0\",\" \" & MID(A137,2,1) & \",\",IF(MID(A137,3,1)=\".\",LEFT(A137,2),LEFT(A137,3))),'PFB-Konstrukte'!$J$9:$J$40))),ROW($1:$32)),2),1)),\n\nIF(RIGHT(INDEX('PFB-Konstrukte'!$A$9:$J$40,SMALL(IF(NOT(ISERROR(FIND(IF(LEFT(A137,1)=\"0\",\" \" & MID(A137,2,1) & \",\",IF(MID(A137,3,1)=\".\",LEFT(A137,2),LEFT(A137,3))),'PFB-Konstrukte'!$J$9:$J$40))),ROW($1:$32)),1),1),7)=\"Führung\",\n\nINDEX('PFB-Konstrukte'!$A$9:$J$40,SMALL(IF(NOT(ISERROR(FIND(IF(LEFT(A137,1)=\"0\",\" \" & MID(A137,2,1) & \",\",IF(MID(A137,3,1)=\".\",LEFT(A137,2),LEFT(A137,3))),'PFB-Konstrukte'!$J$9:$J$40))),ROW($1:$32)),1),1) & \", \n\" & INDEX('PFB-Konstrukte'!$B$9:$J$40,SMALL(IF(NOT(ISERROR(FIND(IF(LEFT(A137,1)=\"0\",\" \" & MID(A137,2,1) & \",\",IF(MID(A137,3,1)=\".\",LEFT(A137,2),LEFT(A137,3))),'PFB-Konstrukte'!$J$9:$J$40))),ROW($1:$32)),2),1),\n\nINDEX('PFB-Konstrukte'!$A$9:$J$40,SMALL(IF(NOT(ISERROR(FIND(IF(LEFT(A137,1)=\"0\",\" \" & MID(A137,2,1) & \",\",IF(MID(A137,3,1)=\".\",LEFT(A137,2),LEFT(A137,3))),'PFB-Konstrukte'!$J$9:$J$40))),ROW($1:$32)),1),1))),\n\nINDEX('PFB-Konstrukte'!$A$9:$J$40,SMALL(IF(NOT(ISERROR(FIND(IF(LEFT(A137,1)=\"0\",\" \" & MID(A137,2,1) & \",\",IF(MID(A137,3,1)=\".\",LEFT(A137,2),LEFT(A137,3))),'PFB-Konstrukte'!$J$9:$J$40))),ROW($1:$32)),1),1))","v":"Transformationale Führung, \nEinfluss durch Vorbildlichkeit und Glaubwürdigkeit"}]
[]
[null,"N","MW","SE","SD","trifft\nnicht zu","trifft eher\nnicht zu","trifft\neher zu","trifft\nvoll zu","Zuordnung zum Konstrukt"]
["100. Ich bin ausgesprochen froh, dass ich gerade an dieser Schule arbeite.",23,3.652173913043478,0.10154334054280732,0.48698475355767384,0,0,0.34782608695652173,0.65217391304347827,{"$f":"IF(INDIRECT(\"'PFB-Konstrukte'!A\" & (SMALL(IF(NOT(ISERROR(FIND(IF(LEFT(A140,1)=\"0\",\" \" & MID(A140,2,1) & \",\",IF(MID(A140,3,1)=\".\",LEFT(A140,2),LEFT(A140,3))),'PFB-Konstrukte'!$J$9:$J$40))),ROW($9:$40)),1)+1))=\"\",\n\nIF(LEFT(INDIRECT(\"A\"&MAX(IF($B$1:B140=\"N\",ROW($A$1:A140)))-1),3)=\"nur\",\n\nIF(RIGHT(INDIRECT(\"A\"&MAX(IF($B$1:B140=\"N\",ROW($A$1:A140)))-1),4)=\"PTF!\",\nINDEX('PFB-Konstrukte'!$B$9:$J$40,SMALL(IF(NOT(ISERROR(FIND(IF(LEFT(A140,1)=\"0\",\" \" & MID(A140,2,1) & \",\",IF(MID(A140,3,1)=\".\",LEFT(A140,2),LEFT(A140,3))),'PFB-Konstrukte'!$J$9:$J$40))),ROW($1:$32)),3),1),\nINDEX('PFB-Konstrukte'!$B$9:$J$40,SMALL(IF(NOT(ISERROR(FIND(IF(LEFT(A140,1)=\"0\",\" \" & MID(A140,2,1) & \",\",IF(MID(A140,3,1)=\".\",LEFT(A140,2),LEFT(A140,3))),'PFB-Konstrukte'!$J$9:$J$40))),ROW($1:$32)),2),1)),\n\nIF(RIGHT(INDEX('PFB-Konstrukte'!$A$9:$J$40,SMALL(IF(NOT(ISERROR(FIND(IF(LEFT(A140,1)=\"0\",\" \" & MID(A140,2,1) & \",\",IF(MID(A140,3,1)=\".\",LEFT(A140,2),LEFT(A140,3))),'PFB-Konstrukte'!$J$9:$J$40))),ROW($1:$32)),1),1),7)=\"Führung\",\n\nINDEX('PFB-Konstrukte'!$A$9:$J$40,SMALL(IF(NOT(ISERROR(FIND(IF(LEFT(A140,1)=\"0\",\" \" & MID(A140,2,1) & \",\",IF(MID(A140,3,1)=\".\",LEFT(A140,2),LEFT(A140,3))),'PFB-Konstrukte'!$J$9:$J$40))),ROW($1:$32)),1),1) & \", \n\" & INDEX('PFB-Konstrukte'!$B$9:$J$40,SMALL(IF(NOT(ISERROR(FIND(IF(LEFT(A140,1)=\"0\",\" \" & MID(A140,2,1) & \",\",IF(MID(A140,3,1)=\".\",LEFT(A140,2),LEFT(A140,3))),'PFB-Konstrukte'!$J$9:$J$40))),ROW($1:$32)),2),1),\n\nINDEX('PFB-Konstrukte'!$A$9:$J$40,SMALL(IF(NOT(ISERROR(FIND(IF(LEFT(A140,1)=\"0\",\" \" & MID(A140,2,1) & \",\",IF(MID(A140,3,1)=\".\",LEFT(A140,2),LEFT(A140,3))),'PFB-Konstrukte'!$J$9:$J$40))),ROW($1:$32)),1),1))),\n\nINDEX('PFB-Konstrukte'!$A$9:$J$40,SMALL(IF(NOT(ISERROR(FIND(IF(LEFT(A140,1)=\"0\",\" \" & MID(A140,2,1) & \",\",IF(MID(A140,3,1)=\".\",LEFT(A140,2),LEFT(A140,3))),'PFB-Konstrukte'!$J$9:$J$40))),ROW($1:$32)),1),1))","v":"Mitarbeiterbindung"}]
["101. Ich stehe voll und ganz hinter dem Konzept meiner Schule.",23,3.4782608695652169,0.15231501081421106,0.73047713033651107,0,0.13043478260869565,0.2608695652173913,0.60869565217391308,{"$f":"IF(INDIRECT(\"'PFB-Konstrukte'!A\" & (SMALL(IF(NOT(ISERROR(FIND(IF(LEFT(A141,1)=\"0\",\" \" & MID(A141,2,1) & \",\",IF(MID(A141,3,1)=\".\",LEFT(A141,2),LEFT(A141,3))),'PFB-Konstrukte'!$J$9:$J$40))),ROW($9:$40)),1)+1))=\"\",\n\nIF(LEFT(INDIRECT(\"A\"&MAX(IF($B$1:B141=\"N\",ROW($A$1:A141)))-1),3)=\"nur\",\n\nIF(RIGHT(INDIRECT(\"A\"&MAX(IF($B$1:B141=\"N\",ROW($A$1:A141)))-1),4)=\"PTF!\",\nINDEX('PFB-Konstrukte'!$B$9:$J$40,SMALL(IF(NOT(ISERROR(FIND(IF(LEFT(A141,1)=\"0\",\" \" & MID(A141,2,1) & \",\",IF(MID(A141,3,1)=\".\",LEFT(A141,2),LEFT(A141,3))),'PFB-Konstrukte'!$J$9:$J$40))),ROW($1:$32)),3),1),\nINDEX('PFB-Konstrukte'!$B$9:$J$40,SMALL(IF(NOT(ISERROR(FIND(IF(LEFT(A141,1)=\"0\",\" \" & MID(A141,2,1) & \",\",IF(MID(A141,3,1)=\".\",LEFT(A141,2),LEFT(A141,3))),'PFB-Konstrukte'!$J$9:$J$40))),ROW($1:$32)),2),1)),\n\nIF(RIGHT(INDEX('PFB-Konstrukte'!$A$9:$J$40,SMALL(IF(NOT(ISERROR(FIND(IF(LEFT(A141,1)=\"0\",\" \" & MID(A141,2,1) & \",\",IF(MID(A141,3,1)=\".\",LEFT(A141,2),LEFT(A141,3))),'PFB-Konstrukte'!$J$9:$J$40))),ROW($1:$32)),1),1),7)=\"Führung\",\n\nINDEX('PFB-Konstrukte'!$A$9:$J$40,SMALL(IF(NOT(ISERROR(FIND(IF(LEFT(A141,1)=\"0\",\" \" & MID(A141,2,1) & \",\",IF(MID(A141,3,1)=\".\",LEFT(A141,2),LEFT(A141,3))),'PFB-Konstrukte'!$J$9:$J$40))),ROW($1:$32)),1),1) & \", \n\" & INDEX('PFB-Konstrukte'!$B$9:$J$40,SMALL(IF(NOT(ISERROR(FIND(IF(LEFT(A141,1)=\"0\",\" \" & MID(A141,2,1) & \",\",IF(MID(A141,3,1)=\".\",LEFT(A141,2),LEFT(A141,3))),'PFB-Konstrukte'!$J$9:$J$40))),ROW($1:$32)),2),1),\n\nINDEX('PFB-Konstrukte'!$A$9:$J$40,SMALL(IF(NOT(ISERROR(FIND(IF(LEFT(A141,1)=\"0\",\" \" & MID(A141,2,1) & \",\",IF(MID(A141,3,1)=\".\",LEFT(A141,2),LEFT(A141,3))),'PFB-Konstrukte'!$J$9:$J$40))),ROW($1:$32)),1),1))),\n\nINDEX('PFB-Konstrukte'!$A$9:$J$40,SMALL(IF(NOT(ISERROR(FIND(IF(LEFT(A141,1)=\"0\",\" \" & MID(A141,2,1) & \",\",IF(MID(A141,3,1)=\".\",LEFT(A141,2),LEFT(A141,3))),'PFB-Konstrukte'!$J$9:$J$40))),ROW($1:$32)),1),1))","v":"Mitarbeiterbindung"}]
["102. Ich bin der Meinung, dass meine Wertvorstellungen und die meiner Schule sehr ähnlich sind.",23,3.4347826086956523,0.13811387517514742,0.66237087637184999,0,8.6956521739130432E-2,0.39130434782608697,0.52173913043478259,{"$f":"IF(INDIRECT(\"'PFB-Konstrukte'!A\" & (SMALL(IF(NOT(ISERROR(FIND(IF(LEFT(A142,1)=\"0\",\" \" & MID(A142,2,1) & \",\",IF(MID(A142,3,1)=\".\",LEFT(A142,2),LEFT(A142,3))),'PFB-Konstrukte'!$J$9:$J$40))),ROW($9:$40)),1)+1))=\"\",\n\nIF(LEFT(INDIRECT(\"A\"&MAX(IF($B$1:B142=\"N\",ROW($A$1:A142)))-1),3)=\"nur\",\n\nIF(RIGHT(INDIRECT(\"A\"&MAX(IF($B$1:B142=\"N\",ROW($A$1:A142)))-1),4)=\"PTF!\",\nINDEX('PFB-Konstrukte'!$B$9:$J$40,SMALL(IF(NOT(ISERROR(FIND(IF(LEFT(A142,1)=\"0\",\" \" & MID(A142,2,1) & \",\",IF(MID(A142,3,1)=\".\",LEFT(A142,2),LEFT(A142,3))),'PFB-Konstrukte'!$J$9:$J$40))),ROW($1:$32)),3),1),\nINDEX('PFB-Konstrukte'!$B$9:$J$40,SMALL(IF(NOT(ISERROR(FIND(IF(LEFT(A142,1)=\"0\",\" \" & MID(A142,2,1) & \",\",IF(MID(A142,3,1)=\".\",LEFT(A142,2),LEFT(A142,3))),'PFB-Konstrukte'!$J$9:$J$40))),ROW($1:$32)),2),1)),\n\nIF(RIGHT(INDEX('PFB-Konstrukte'!$A$9:$J$40,SMALL(IF(NOT(ISERROR(FIND(IF(LEFT(A142,1)=\"0\",\" \" & MID(A142,2,1) & \",\",IF(MID(A142,3,1)=\".\",LEFT(A142,2),LEFT(A142,3))),'PFB-Konstrukte'!$J$9:$J$40))),ROW($1:$32)),1),1),7)=\"Führung\",\n\nINDEX('PFB-Konstrukte'!$A$9:$J$40,SMALL(IF(NOT(ISERROR(FIND(IF(LEFT(A142,1)=\"0\",\" \" & MID(A142,2,1) & \",\",IF(MID(A142,3,1)=\".\",LEFT(A142,2),LEFT(A142,3))),'PFB-Konstrukte'!$J$9:$J$40))),ROW($1:$32)),1),1) & \", \n\" & INDEX('PFB-Konstrukte'!$B$9:$J$40,SMALL(IF(NOT(ISERROR(FIND(IF(LEFT(A142,1)=\"0\",\" \" & MID(A142,2,1) & \",\",IF(MID(A142,3,1)=\".\",LEFT(A142,2),LEFT(A142,3))),'PFB-Konstrukte'!$J$9:$J$40))),ROW($1:$32)),2),1),\n\nINDEX('PFB-Konstrukte'!$A$9:$J$40,SMALL(IF(NOT(ISERROR(FIND(IF(LEFT(A142,1)=\"0\",\" \" & MID(A142,2,1) & \",\",IF(MID(A142,3,1)=\".\",LEFT(A142,2),LEFT(A142,3))),'PFB-Konstrukte'!$J$9:$J$40))),ROW($1:$32)),1),1))),\n\nINDEX('PFB-Konstrukte'!$A$9:$J$40,SMALL(IF(NOT(ISERROR(FIND(IF(LEFT(A142,1)=\"0\",\" \" & MID(A142,2,1) & \",\",IF(MID(A142,3,1)=\".\",LEFT(A142,2),LEFT(A142,3))),'PFB-Konstrukte'!$J$9:$J$40))),ROW($1:$32)),1),1))","v":"Mitarbeiterbindung"}]
["103. Ich arbeite gerne an dieser Schule.",23,3.6956521739130439,9.8100186924828886E-2,0.47047196889696458,0,0,0.30434782608695654,0.69565217391304346,{"$f":"IF(INDIRECT(\"'PFB-Konstrukte'!A\" & (SMALL(IF(NOT(ISERROR(FIND(IF(LEFT(A143,1)=\"0\",\" \" & MID(A143,2,1) & \",\",IF(MID(A143,3,1)=\".\",LEFT(A143,2),LEFT(A143,3))),'PFB-Konstrukte'!$J$9:$J$40))),ROW($9:$40)),1)+1))=\"\",\n\nIF(LEFT(INDIRECT(\"A\"&MAX(IF($B$1:B143=\"N\",ROW($A$1:A143)))-1),3)=\"nur\",\n\nIF(RIGHT(INDIRECT(\"A\"&MAX(IF($B$1:B143=\"N\",ROW($A$1:A143)))-1),4)=\"PTF!\",\nINDEX('PFB-Konstrukte'!$B$9:$J$40,SMALL(IF(NOT(ISERROR(FIND(IF(LEFT(A143,1)=\"0\",\" \" & MID(A143,2,1) & \",\",IF(MID(A143,3,1)=\".\",LEFT(A143,2),LEFT(A143,3))),'PFB-Konstrukte'!$J$9:$J$40))),ROW($1:$32)),3),1),\nINDEX('PFB-Konstrukte'!$B$9:$J$40,SMALL(IF(NOT(ISERROR(FIND(IF(LEFT(A143,1)=\"0\",\" \" & MID(A143,2,1) & \",\",IF(MID(A143,3,1)=\".\",LEFT(A143,2),LEFT(A143,3))),'PFB-Konstrukte'!$J$9:$J$40))),ROW($1:$32)),2),1)),\n\nIF(RIGHT(INDEX('PFB-Konstrukte'!$A$9:$J$40,SMALL(IF(NOT(ISERROR(FIND(IF(LEFT(A143,1)=\"0\",\" \" & MID(A143,2,1) & \",\",IF(MID(A143,3,1)=\".\",LEFT(A143,2),LEFT(A143,3))),'PFB-Konstrukte'!$J$9:$J$40))),ROW($1:$32)),1),1),7)=\"Führung\",\n\nINDEX('PFB-Konstrukte'!$A$9:$J$40,SMALL(IF(NOT(ISERROR(FIND(IF(LEFT(A143,1)=\"0\",\" \" & MID(A143,2,1) & \",\",IF(MID(A143,3,1)=\".\",LEFT(A143,2),LEFT(A143,3))),'PFB-Konstrukte'!$J$9:$J$40))),ROW($1:$32)),1),1) & \", \n\" & INDEX('PFB-Konstrukte'!$B$9:$J$40,SMALL(IF(NOT(ISERROR(FIND(IF(LEFT(A143,1)=\"0\",\" \" & MID(A143,2,1) & \",\",IF(MID(A143,3,1)=\".\",LEFT(A143,2),LEFT(A143,3))),'PFB-Konstrukte'!$J$9:$J$40))),ROW($1:$32)),2),1),\n\nINDEX('PFB-Konstrukte'!$A$9:$J$40,SMALL(IF(NOT(ISERROR(FIND(IF(LEFT(A143,1)=\"0\",\" \" & MID(A143,2,1) & \",\",IF(MID(A143,3,1)=\".\",LEFT(A143,2),LEFT(A143,3))),'PFB-Konstrukte'!$J$9:$J$40))),ROW($1:$32)),1),1))),\n\nINDEX('PFB-Konstrukte'!$A$9:$J$40,SMALL(IF(NOT(ISERROR(FIND(IF(LEFT(A143,1)=\"0\",\" \" & MID(A143,2,1) & \",\",IF(MID(A143,3,1)=\".\",LEFT(A143,2),LEFT(A143,3))),'PFB-Konstrukte'!$J$9:$J$40))),ROW($1:$32)),1),1))","v":"Mitarbeiterbindung"}]
[]
["nur Lehrpersonen!"]
[null,"N","MW","SE","SD","trifft\nnicht zu","trifft eher\nnicht zu","trifft\neher zu","trifft\nvoll zu","Zuordnung zum Konstrukt"]
["100. Ich bin ausgesprochen froh, dass ich gerade an dieser Schule arbeite.",16,null,null,null,null,null,null,null,{"$f":"IF(INDIRECT(\"'PFB-Konstrukte'!A\" & (SMALL(IF(NOT(ISERROR(FIND(IF(LEFT(A147,1)=\"0\",\" \" & MID(A147,2,1) & \",\",IF(MID(A147,3,1)=\".\",LEFT(A147,2),LEFT(A147,3))),'PFB-Konstrukte'!$J$9:$J$40))),ROW($9:$40)),1)+1))=\"\",\n\nIF(LEFT(INDIRECT(\"A\"&MAX(IF($B$1:B147=\"N\",ROW($A$1:A147)))-1),3)=\"nur\",\n\nIF(RIGHT(INDIRECT(\"A\"&MAX(IF($B$1:B147=\"N\",ROW($A$1:A147)))-1),4)=\"PTF!\",\nINDEX('PFB-Konstrukte'!$B$9:$J$40,SMALL(IF(NOT(ISERROR(FIND(IF(LEFT(A147,1)=\"0\",\" \" & MID(A147,2,1) & \",\",IF(MID(A147,3,1)=\".\",LEFT(A147,2),LEFT(A147,3))),'PFB-Konstrukte'!$J$9:$J$40))),ROW($1:$32)),3),1),\nINDEX('PFB-Konstrukte'!$B$9:$J$40,SMALL(IF(NOT(ISERROR(FIND(IF(LEFT(A147,1)=\"0\",\" \" & MID(A147,2,1) & \",\",IF(MID(A147,3,1)=\".\",LEFT(A147,2),LEFT(A147,3))),'PFB-Konstrukte'!$J$9:$J$40))),ROW($1:$32)),2),1)),\n\nIF(RIGHT(INDEX('PFB-Konstrukte'!$A$9:$J$40,SMALL(IF(NOT(ISERROR(FIND(IF(LEFT(A147,1)=\"0\",\" \" & MID(A147,2,1) & \",\",IF(MID(A147,3,1)=\".\",LEFT(A147,2),LEFT(A147,3))),'PFB-Konstrukte'!$J$9:$J$40))),ROW($1:$32)),1),1),7)=\"Führung\",\n\nINDEX('PFB-Konstrukte'!$A$9:$J$40,SMALL(IF(NOT(ISERROR(FIND(IF(LEFT(A147,1)=\"0\",\" \" & MID(A147,2,1) & \",\",IF(MID(A147,3,1)=\".\",LEFT(A147,2),LEFT(A147,3))),'PFB-Konstrukte'!$J$9:$J$40))),ROW($1:$32)),1),1) & \", \n\" & INDEX('PFB-Konstrukte'!$B$9:$J$40,SMALL(IF(NOT(ISERROR(FIND(IF(LEFT(A147,1)=\"0\",\" \" & MID(A147,2,1) & \",\",IF(MID(A147,3,1)=\".\",LEFT(A147,2),LEFT(A147,3))),'PFB-Konstrukte'!$J$9:$J$40))),ROW($1:$32)),2),1),\n\nINDEX('PFB-Konstrukte'!$A$9:$J$40,SMALL(IF(NOT(ISERROR(FIND(IF(LEFT(A147,1)=\"0\",\" \" & MID(A147,2,1) & \",\",IF(MID(A147,3,1)=\".\",LEFT(A147,2),LEFT(A147,3))),'PFB-Konstrukte'!$J$9:$J$40))),ROW($1:$32)),1),1))),\n\nINDEX('PFB-Konstrukte'!$A$9:$J$40,SMALL(IF(NOT(ISERROR(FIND(IF(LEFT(A147,1)=\"0\",\" \" & MID(A147,2,1) & \",\",IF(MID(A147,3,1)=\".\",LEFT(A147,2),LEFT(A147,3))),'PFB-Konstrukte'!$J$9:$J$40))),ROW($1:$32)),1),1))","v":"Mitarbeiterbindung (Nur Lehrpersonen)"}]
["101. Ich stehe voll und ganz hinter dem Konzept meiner Schule.",16,null,null,null,null,null,null,null,{"$f":"IF(INDIRECT(\"'PFB-Konstrukte'!A\" & (SMALL(IF(NOT(ISERROR(FIND(IF(LEFT(A148,1)=\"0\",\" \" & MID(A148,2,1) & \",\",IF(MID(A148,3,1)=\".\",LEFT(A148,2),LEFT(A148,3))),'PFB-Konstrukte'!$J$9:$J$40))),ROW($9:$40)),1)+1))=\"\",\n\nIF(LEFT(INDIRECT(\"A\"&MAX(IF($B$1:B148=\"N\",ROW($A$1:A148)))-1),3)=\"nur\",\n\nIF(RIGHT(INDIRECT(\"A\"&MAX(IF($B$1:B148=\"N\",ROW($A$1:A148)))-1),4)=\"PTF!\",\nINDEX('PFB-Konstrukte'!$B$9:$J$40,SMALL(IF(NOT(ISERROR(FIND(IF(LEFT(A148,1)=\"0\",\" \" & MID(A148,2,1) & \",\",IF(MID(A148,3,1)=\".\",LEFT(A148,2),LEFT(A148,3))),'PFB-Konstrukte'!$J$9:$J$40))),ROW($1:$32)),3),1),\nINDEX('PFB-Konstrukte'!$B$9:$J$40,SMALL(IF(NOT(ISERROR(FIND(IF(LEFT(A148,1)=\"0\",\" \" & MID(A148,2,1) & \",\",IF(MID(A148,3,1)=\".\",LEFT(A148,2),LEFT(A148,3))),'PFB-Konstrukte'!$J$9:$J$40))),ROW($1:$32)),2),1)),\n\nIF(RIGHT(INDEX('PFB-Konstrukte'!$A$9:$J$40,SMALL(IF(NOT(ISERROR(FIND(IF(LEFT(A148,1)=\"0\",\" \" & MID(A148,2,1) & \",\",IF(MID(A148,3,1)=\".\",LEFT(A148,2),LEFT(A148,3))),'PFB-Konstrukte'!$J$9:$J$40))),ROW($1:$32)),1),1),7)=\"Führung\",\n\nINDEX('PFB-Konstrukte'!$A$9:$J$40,SMALL(IF(NOT(ISERROR(FIND(IF(LEFT(A148,1)=\"0\",\" \" & MID(A148,2,1) & \",\",IF(MID(A148,3,1)=\".\",LEFT(A148,2),LEFT(A148,3))),'PFB-Konstrukte'!$J$9:$J$40))),ROW($1:$32)),1),1) & \", \n\" & INDEX('PFB-Konstrukte'!$B$9:$J$40,SMALL(IF(NOT(ISERROR(FIND(IF(LEFT(A148,1)=\"0\",\" \" & MID(A148,2,1) & \",\",IF(MID(A148,3,1)=\".\",LEFT(A148,2),LEFT(A148,3))),'PFB-Konstrukte'!$J$9:$J$40))),ROW($1:$32)),2),1),\n\nINDEX('PFB-Konstrukte'!$A$9:$J$40,SMALL(IF(NOT(ISERROR(FIND(IF(LEFT(A148,1)=\"0\",\" \" & MID(A148,2,1) & \",\",IF(MID(A148,3,1)=\".\",LEFT(A148,2),LEFT(A148,3))),'PFB-Konstrukte'!$J$9:$J$40))),ROW($1:$32)),1),1))),\n\nINDEX('PFB-Konstrukte'!$A$9:$J$40,SMALL(IF(NOT(ISERROR(FIND(IF(LEFT(A148,1)=\"0\",\" \" & MID(A148,2,1) & \",\",IF(MID(A148,3,1)=\".\",LEFT(A148,2),LEFT(A148,3))),'PFB-Konstrukte'!$J$9:$J$40))),ROW($1:$32)),1),1))","v":"Mitarbeiterbindung (Nur Lehrpersonen)"}]
["102. Ich bin der Meinung, dass meine Wertvorstellungen und die meiner Schule sehr ähnlich sind.",16,null,null,null,null,null,null,null,{"$f":"IF(INDIRECT(\"'PFB-Konstrukte'!A\" & (SMALL(IF(NOT(ISERROR(FIND(IF(LEFT(A149,1)=\"0\",\" \" & MID(A149,2,1) & \",\",IF(MID(A149,3,1)=\".\",LEFT(A149,2),LEFT(A149,3))),'PFB-Konstrukte'!$J$9:$J$40))),ROW($9:$40)),1)+1))=\"\",\n\nIF(LEFT(INDIRECT(\"A\"&MAX(IF($B$1:B149=\"N\",ROW($A$1:A149)))-1),3)=\"nur\",\n\nIF(RIGHT(INDIRECT(\"A\"&MAX(IF($B$1:B149=\"N\",ROW($A$1:A149)))-1),4)=\"PTF!\",\nINDEX('PFB-Konstrukte'!$B$9:$J$40,SMALL(IF(NOT(ISERROR(FIND(IF(LEFT(A149,1)=\"0\",\" \" & MID(A149,2,1) & \",\",IF(MID(A149,3,1)=\".\",LEFT(A149,2),LEFT(A149,3))),'PFB-Konstrukte'!$J$9:$J$40))),ROW($1:$32)),3),1),\nINDEX('PFB-Konstrukte'!$B$9:$J$40,SMALL(IF(NOT(ISERROR(FIND(IF(LEFT(A149,1)=\"0\",\" \" & MID(A149,2,1) & \",\",IF(MID(A149,3,1)=\".\",LEFT(A149,2),LEFT(A149,3))),'PFB-Konstrukte'!$J$9:$J$40))),ROW($1:$32)),2),1)),\n\nIF(RIGHT(INDEX('PFB-Konstrukte'!$A$9:$J$40,SMALL(IF(NOT(ISERROR(FIND(IF(LEFT(A149,1)=\"0\",\" \" & MID(A149,2,1) & \",\",IF(MID(A149,3,1)=\".\",LEFT(A149,2),LEFT(A149,3))),'PFB-Konstrukte'!$J$9:$J$40))),ROW($1:$32)),1),1),7)=\"Führung\",\n\nINDEX('PFB-Konstrukte'!$A$9:$J$40,SMALL(IF(NOT(ISERROR(FIND(IF(LEFT(A149,1)=\"0\",\" \" & MID(A149,2,1) & \",\",IF(MID(A149,3,1)=\".\",LEFT(A149,2),LEFT(A149,3))),'PFB-Konstrukte'!$J$9:$J$40))),ROW($1:$32)),1),1) & \", \n\" & INDEX('PFB-Konstrukte'!$B$9:$J$40,SMALL(IF(NOT(ISERROR(FIND(IF(LEFT(A149,1)=\"0\",\" \" & MID(A149,2,1) & \",\",IF(MID(A149,3,1)=\".\",LEFT(A149,2),LEFT(A149,3))),'PFB-Konstrukte'!$J$9:$J$40))),ROW($1:$32)),2),1),\n\nINDEX('PFB-Konstrukte'!$A$9:$J$40,SMALL(IF(NOT(ISERROR(FIND(IF(LEFT(A149,1)=\"0\",\" \" & MID(A149,2,1) & \",\",IF(MID(A149,3,1)=\".\",LEFT(A149,2),LEFT(A149,3))),'PFB-Konstrukte'!$J$9:$J$40))),ROW($1:$32)),1),1))),\n\nINDEX('PFB-Konstrukte'!$A$9:$J$40,SMALL(IF(NOT(ISERROR(FIND(IF(LEFT(A149,1)=\"0\",\" \" & MID(A149,2,1) & \",\",IF(MID(A149,3,1)=\".\",LEFT(A149,2),LEFT(A149,3))),'PFB-Konstrukte'!$J$9:$J$40))),ROW($1:$32)),1),1))","v":"Mitarbeiterbindung (Nur Lehrpersonen)"}]
["103. Ich arbeite gerne an dieser Schule.",16,null,null,null,null,null,null,null,{"$f":"IF(INDIRECT(\"'PFB-Konstrukte'!A\" & (SMALL(IF(NOT(ISERROR(FIND(IF(LEFT(A150,1)=\"0\",\" \" & MID(A150,2,1) & \",\",IF(MID(A150,3,1)=\".\",LEFT(A150,2),LEFT(A150,3))),'PFB-Konstrukte'!$J$9:$J$40))),ROW($9:$40)),1)+1))=\"\",\n\nIF(LEFT(INDIRECT(\"A\"&MAX(IF($B$1:B150=\"N\",ROW($A$1:A150)))-1),3)=\"nur\",\n\nIF(RIGHT(INDIRECT(\"A\"&MAX(IF($B$1:B150=\"N\",ROW($A$1:A150)))-1),4)=\"PTF!\",\nINDEX('PFB-Konstrukte'!$B$9:$J$40,SMALL(IF(NOT(ISERROR(FIND(IF(LEFT(A150,1)=\"0\",\" \" & MID(A150,2,1) & \",\",IF(MID(A150,3,1)=\".\",LEFT(A150,2),LEFT(A150,3))),'PFB-Konstrukte'!$J$9:$J$40))),ROW($1:$32)),3),1),\nINDEX('PFB-Konstrukte'!$B$9:$J$40,SMALL(IF(NOT(ISERROR(FIND(IF(LEFT(A150,1)=\"0\",\" \" & MID(A150,2,1) & \",\",IF(MID(A150,3,1)=\".\",LEFT(A150,2),LEFT(A150,3))),'PFB-Konstrukte'!$J$9:$J$40))),ROW($1:$32)),2),1)),\n\nIF(RIGHT(INDEX('PFB-Konstrukte'!$A$9:$J$40,SMALL(IF(NOT(ISERROR(FIND(IF(LEFT(A150,1)=\"0\",\" \" & MID(A150,2,1) & \",\",IF(MID(A150,3,1)=\".\",LEFT(A150,2),LEFT(A150,3))),'PFB-Konstrukte'!$J$9:$J$40))),ROW($1:$32)),1),1),7)=\"Führung\",\n\nINDEX('PFB-Konstrukte'!$A$9:$J$40,SMALL(IF(NOT(ISERROR(FIND(IF(LEFT(A150,1)=\"0\",\" \" & MID(A150,2,1) & \",\",IF(MID(A150,3,1)=\".\",LEFT(A150,2),LEFT(A150,3))),'PFB-Konstrukte'!$J$9:$J$40))),ROW($1:$32)),1),1) & \", \n\" & INDEX('PFB-Konstrukte'!$B$9:$J$40,SMALL(IF(NOT(ISERROR(FIND(IF(LEFT(A150,1)=\"0\",\" \" & MID(A150,2,1) & \",\",IF(MID(A150,3,1)=\".\",LEFT(A150,2),LEFT(A150,3))),'PFB-Konstrukte'!$J$9:$J$40))),ROW($1:$32)),2),1),\n\nINDEX('PFB-Konstrukte'!$A$9:$J$40,SMALL(IF(NOT(ISERROR(FIND(IF(LEFT(A150,1)=\"0\",\" \" & MID(A150,2,1) & \",\",IF(MID(A150,3,1)=\".\",LEFT(A150,2),LEFT(A150,3))),'PFB-Konstrukte'!$J$9:$J$40))),ROW($1:$32)),1),1))),\n\nINDEX('PFB-Konstrukte'!$A$9:$J$40,SMALL(IF(NOT(ISERROR(FIND(IF(LEFT(A150,1)=\"0\",\" \" & MID(A150,2,1) & \",\",IF(MID(A150,3,1)=\".\",LEFT(A150,2),LEFT(A150,3))),'PFB-Konstrukte'!$J$9:$J$40))),ROW($1:$32)),1),1))","v":"Mitarbeiterbindung (Nur Lehrpersonen)"}]
[]
["nur PTF!"]
[null,"N","MW","SE","SD","trifft\nnicht zu","trifft eher\nnicht zu","trifft\neher zu","trifft\nvoll zu","Zuordnung zum Konstrukt"]
["100. Ich bin ausgesprochen froh, dass ich gerade an dieser Schule arbeite.",7,null,null,null,null,null,null,null,{"$f":"IF(INDIRECT(\"'PFB-Konstrukte'!A\" & (SMALL(IF(NOT(ISERROR(FIND(IF(LEFT(A154,1)=\"0\",\" \" & MID(A154,2,1) & \",\",IF(MID(A154,3,1)=\".\",LEFT(A154,2),LEFT(A154,3))),'PFB-Konstrukte'!$J$9:$J$40))),ROW($9:$40)),1)+1))=\"\",\n\nIF(LEFT(INDIRECT(\"A\"&MAX(IF($B$1:B154=\"N\",ROW($A$1:A154)))-1),3)=\"nur\",\n\nIF(RIGHT(INDIRECT(\"A\"&MAX(IF($B$1:B154=\"N\",ROW($A$1:A154)))-1),4)=\"PTF!\",\nINDEX('PFB-Konstrukte'!$B$9:$J$40,SMALL(IF(NOT(ISERROR(FIND(IF(LEFT(A154,1)=\"0\",\" \" & MID(A154,2,1) & \",\",IF(MID(A154,3,1)=\".\",LEFT(A154,2),LEFT(A154,3))),'PFB-Konstrukte'!$J$9:$J$40))),ROW($1:$32)),3),1),\nINDEX('PFB-Konstrukte'!$B$9:$J$40,SMALL(IF(NOT(ISERROR(FIND(IF(LEFT(A154,1)=\"0\",\" \" & MID(A154,2,1) & \",\",IF(MID(A154,3,1)=\".\",LEFT(A154,2),LEFT(A154,3))),'PFB-Konstrukte'!$J$9:$J$40))),ROW($1:$32)),2),1)),\n\nIF(RIGHT(INDEX('PFB-Konstrukte'!$A$9:$J$40,SMALL(IF(NOT(ISERROR(FIND(IF(LEFT(A154,1)=\"0\",\" \" & MID(A154,2,1) & \",\",IF(MID(A154,3,1)=\".\",LEFT(A154,2),LEFT(A154,3))),'PFB-Konstrukte'!$J$9:$J$40))),ROW($1:$32)),1),1),7)=\"Führung\",\n\nINDEX('PFB-Konstrukte'!$A$9:$J$40,SMALL(IF(NOT(ISERROR(FIND(IF(LEFT(A154,1)=\"0\",\" \" & MID(A154,2,1) & \",\",IF(MID(A154,3,1)=\".\",LEFT(A154,2),LEFT(A154,3))),'PFB-Konstrukte'!$J$9:$J$40))),ROW($1:$32)),1),1) & \", \n\" & INDEX('PFB-Konstrukte'!$B$9:$J$40,SMALL(IF(NOT(ISERROR(FIND(IF(LEFT(A154,1)=\"0\",\" \" & MID(A154,2,1) & \",\",IF(MID(A154,3,1)=\".\",LEFT(A154,2),LEFT(A154,3))),'PFB-Konstrukte'!$J$9:$J$40))),ROW($1:$32)),2),1),\n\nINDEX('PFB-Konstrukte'!$A$9:$J$40,SMALL(IF(NOT(ISERROR(FIND(IF(LEFT(A154,1)=\"0\",\" \" & MID(A154,2,1) & \",\",IF(MID(A154,3,1)=\".\",LEFT(A154,2),LEFT(A154,3))),'PFB-Konstrukte'!$J$9:$J$40))),ROW($1:$32)),1),1))),\n\nINDEX('PFB-Konstrukte'!$A$9:$J$40,SMALL(IF(NOT(ISERROR(FIND(IF(LEFT(A154,1)=\"0\",\" \" & MID(A154,2,1) & \",\",IF(MID(A154,3,1)=\".\",LEFT(A154,2),LEFT(A154,3))),'PFB-Konstrukte'!$J$9:$J$40))),ROW($1:$32)),1),1))","v":"Mitarbeiterbindung (Nur PTF)"}]
["101. Ich stehe voll und ganz hinter dem Konzept meiner Schule.",7,null,null,null,null,null,null,null,{"$f":"IF(INDIRECT(\"'PFB-Konstrukte'!A\" & (SMALL(IF(NOT(ISERROR(FIND(IF(LEFT(A155,1)=\"0\",\" \" & MID(A155,2,1) & \",\",IF(MID(A155,3,1)=\".\",LEFT(A155,2),LEFT(A155,3))),'PFB-Konstrukte'!$J$9:$J$40))),ROW($9:$40)),1)+1))=\"\",\n\nIF(LEFT(INDIRECT(\"A\"&MAX(IF($B$1:B155=\"N\",ROW($A$1:A155)))-1),3)=\"nur\",\n\nIF(RIGHT(INDIRECT(\"A\"&MAX(IF($B$1:B155=\"N\",ROW($A$1:A155)))-1),4)=\"PTF!\",\nINDEX('PFB-Konstrukte'!$B$9:$J$40,SMALL(IF(NOT(ISERROR(FIND(IF(LEFT(A155,1)=\"0\",\" \" & MID(A155,2,1) & \",\",IF(MID(A155,3,1)=\".\",LEFT(A155,2),LEFT(A155,3))),'PFB-Konstrukte'!$J$9:$J$40))),ROW($1:$32)),3),1),\nINDEX('PFB-Konstrukte'!$B$9:$J$40,SMALL(IF(NOT(ISERROR(FIND(IF(LEFT(A155,1)=\"0\",\" \" & MID(A155,2,1) & \",\",IF(MID(A155,3,1)=\".\",LEFT(A155,2),LEFT(A155,3))),'PFB-Konstrukte'!$J$9:$J$40))),ROW($1:$32)),2),1)),\n\nIF(RIGHT(INDEX('PFB-Konstrukte'!$A$9:$J$40,SMALL(IF(NOT(ISERROR(FIND(IF(LEFT(A155,1)=\"0\",\" \" & MID(A155,2,1) & \",\",IF(MID(A155,3,1)=\".\",LEFT(A155,2),LEFT(A155,3))),'PFB-Konstrukte'!$J$9:$J$40))),ROW($1:$32)),1),1),7)=\"Führung\",\n\nINDEX('PFB-Konstrukte'!$A$9:$J$40,SMALL(IF(NOT(ISERROR(FIND(IF(LEFT(A155,1)=\"0\",\" \" & MID(A155,2,1) & \",\",IF(MID(A155,3,1)=\".\",LEFT(A155,2),LEFT(A155,3))),'PFB-Konstrukte'!$J$9:$J$40))),ROW($1:$32)),1),1) & \", \n\" & INDEX('PFB-Konstrukte'!$B$9:$J$40,SMALL(IF(NOT(ISERROR(FIND(IF(LEFT(A155,1)=\"0\",\" \" & MID(A155,2,1) & \",\",IF(MID(A155,3,1)=\".\",LEFT(A155,2),LEFT(A155,3))),'PFB-Konstrukte'!$J$9:$J$40))),ROW($1:$32)),2),1),\n\nINDEX('PFB-Konstrukte'!$A$9:$J$40,SMALL(IF(NOT(ISERROR(FIND(IF(LEFT(A155,1)=\"0\",\" \" & MID(A155,2,1) & \",\",IF(MID(A155,3,1)=\".\",LEFT(A155,2),LEFT(A155,3))),'PFB-Konstrukte'!$J$9:$J$40))),ROW($1:$32)),1),1))),\n\nINDEX('PFB-Konstrukte'!$A$9:$J$40,SMALL(IF(NOT(ISERROR(FIND(IF(LEFT(A155,1)=\"0\",\" \" & MID(A155,2,1) & \",\",IF(MID(A155,3,1)=\".\",LEFT(A155,2),LEFT(A155,3))),'PFB-Konstrukte'!$J$9:$J$40))),ROW($1:$32)),1),1))","v":"Mitarbeiterbindung (Nur PTF)"}]
["102. Ich bin der Meinung, dass meine Wertvorstellungen und die meiner Schule sehr ähnlich sind.",7,null,null,null,null,null,null,null,{"$f":"IF(INDIRECT(\"'PFB-Konstrukte'!A\" & (SMALL(IF(NOT(ISERROR(FIND(IF(LEFT(A156,1)=\"0\",\" \" & MID(A156,2,1) & \",\",IF(MID(A156,3,1)=\".\",LEFT(A156,2),LEFT(A156,3))),'PFB-Konstrukte'!$J$9:$J$40))),ROW($9:$40)),1)+1))=\"\",\n\nIF(LEFT(INDIRECT(\"A\"&MAX(IF($B$1:B156=\"N\",ROW($A$1:A156)))-1),3)=\"nur\",\n\nIF(RIGHT(INDIRECT(\"A\"&MAX(IF($B$1:B156=\"N\",ROW($A$1:A156)))-1),4)=\"PTF!\",\nINDEX('PFB-Konstrukte'!$B$9:$J$40,SMALL(IF(NOT(ISERROR(FIND(IF(LEFT(A156,1)=\"0\",\" \" & MID(A156,2,1) & \",\",IF(MID(A156,3,1)=\".\",LEFT(A156,2),LEFT(A156,3))),'PFB-Konstrukte'!$J$9:$J$40))),ROW($1:$32)),3),1),\nINDEX('PFB-Konstrukte'!$B$9:$J$40,SMALL(IF(NOT(ISERROR(FIND(IF(LEFT(A156,1)=\"0\",\" \" & MID(A156,2,1) & \",\",IF(MID(A156,3,1)=\".\",LEFT(A156,2),LEFT(A156,3))),'PFB-Konstrukte'!$J$9:$J$40))),ROW($1:$32)),2),1)),\n\nIF(RIGHT(INDEX('PFB-Konstrukte'!$A$9:$J$40,SMALL(IF(NOT(ISERROR(FIND(IF(LEFT(A156,1)=\"0\",\" \" & MID(A156,2,1) & \",\",IF(MID(A156,3,1)=\".\",LEFT(A156,2),LEFT(A156,3))),'PFB-Konstrukte'!$J$9:$J$40))),ROW($1:$32)),1),1),7)=\"Führung\",\n\nINDEX('PFB-Konstrukte'!$A$9:$J$40,SMALL(IF(NOT(ISERROR(FIND(IF(LEFT(A156,1)=\"0\",\" \" & MID(A156,2,1) & \",\",IF(MID(A156,3,1)=\".\",LEFT(A156,2),LEFT(A156,3))),'PFB-Konstrukte'!$J$9:$J$40))),ROW($1:$32)),1),1) & \", \n\" & INDEX('PFB-Konstrukte'!$B$9:$J$40,SMALL(IF(NOT(ISERROR(FIND(IF(LEFT(A156,1)=\"0\",\" \" & MID(A156,2,1) & \",\",IF(MID(A156,3,1)=\".\",LEFT(A156,2),LEFT(A156,3))),'PFB-Konstrukte'!$J$9:$J$40))),ROW($1:$32)),2),1),\n\nINDEX('PFB-Konstrukte'!$A$9:$J$40,SMALL(IF(NOT(ISERROR(FIND(IF(LEFT(A156,1)=\"0\",\" \" & MID(A156,2,1) & \",\",IF(MID(A156,3,1)=\".\",LEFT(A156,2),LEFT(A156,3))),'PFB-Konstrukte'!$J$9:$J$40))),ROW($1:$32)),1),1))),\n\nINDEX('PFB-Konstrukte'!$A$9:$J$40,SMALL(IF(NOT(ISERROR(FIND(IF(LEFT(A156,1)=\"0\",\" \" & MID(A156,2,1) & \",\",IF(MID(A156,3,1)=\".\",LEFT(A156,2),LEFT(A156,3))),'PFB-Konstrukte'!$J$9:$J$40))),ROW($1:$32)),1),1))","v":"Mitarbeiterbindung (Nur PTF)"}]
["103. Ich arbeite gerne an dieser Schule.",7,null,null,null,null,null,null,null,{"$f":"IF(INDIRECT(\"'PFB-Konstrukte'!A\" & (SMALL(IF(NOT(ISERROR(FIND(IF(LEFT(A157,1)=\"0\",\" \" & MID(A157,2,1) & \",\",IF(MID(A157,3,1)=\".\",LEFT(A157,2),LEFT(A157,3))),'PFB-Konstrukte'!$J$9:$J$40))),ROW($9:$40)),1)+1))=\"\",\n\nIF(LEFT(INDIRECT(\"A\"&MAX(IF($B$1:B157=\"N\",ROW($A$1:A157)))-1),3)=\"nur\",\n\nIF(RIGHT(INDIRECT(\"A\"&MAX(IF($B$1:B157=\"N\",ROW($A$1:A157)))-1),4)=\"PTF!\",\nINDEX('PFB-Konstrukte'!$B$9:$J$40,SMALL(IF(NOT(ISERROR(FIND(IF(LEFT(A157,1)=\"0\",\" \" & MID(A157,2,1) & \",\",IF(MID(A157,3,1)=\".\",LEFT(A157,2),LEFT(A157,3))),'PFB-Konstrukte'!$J$9:$J$40))),ROW($1:$32)),3),1),\nINDEX('PFB-Konstrukte'!$B$9:$J$40,SMALL(IF(NOT(ISERROR(FIND(IF(LEFT(A157,1)=\"0\",\" \" & MID(A157,2,1) & \",\",IF(MID(A157,3,1)=\".\",LEFT(A157,2),LEFT(A157,3))),'PFB-Konstrukte'!$J$9:$J$40))),ROW($1:$32)),2),1)),\n\nIF(RIGHT(INDEX('PFB-Konstrukte'!$A$9:$J$40,SMALL(IF(NOT(ISERROR(FIND(IF(LEFT(A157,1)=\"0\",\" \" & MID(A157,2,1) & \",\",IF(MID(A157,3,1)=\".\",LEFT(A157,2),LEFT(A157,3))),'PFB-Konstrukte'!$J$9:$J$40))),ROW($1:$32)),1),1),7)=\"Führung\",\n\nINDEX('PFB-Konstrukte'!$A$9:$J$40,SMALL(IF(NOT(ISERROR(FIND(IF(LEFT(A157,1)=\"0\",\" \" & MID(A157,2,1) & \",\",IF(MID(A157,3,1)=\".\",LEFT(A157,2),LEFT(A157,3))),'PFB-Konstrukte'!$J$9:$J$40))),ROW($1:$32)),1),1) & \", \n\" & INDEX('PFB-Konstrukte'!$B$9:$J$40,SMALL(IF(NOT(ISERROR(FIND(IF(LEFT(A157,1)=\"0\",\" \" & MID(A157,2,1) & \",\",IF(MID(A157,3,1)=\".\",LEFT(A157,2),LEFT(A157,3))),'PFB-Konstrukte'!$J$9:$J$40))),ROW($1:$32)),2),1),\n\nINDEX('PFB-Konstrukte'!$A$9:$J$40,SMALL(IF(NOT(ISERROR(FIND(IF(LEFT(A157,1)=\"0\",\" \" & MID(A157,2,1) & \",\",IF(MID(A157,3,1)=\".\",LEFT(A157,2),LEFT(A157,3))),'PFB-Konstrukte'!$J$9:$J$40))),ROW($1:$32)),1),1))),\n\nINDEX('PFB-Konstrukte'!$A$9:$J$40,SMALL(IF(NOT(ISERROR(FIND(IF(LEFT(A157,1)=\"0\",\" \" & MID(A157,2,1) & \",\",IF(MID(A157,3,1)=\".\",LEFT(A157,2),LEFT(A157,3))),'PFB-Konstrukte'!$J$9:$J$40))),ROW($1:$32)),1),1))","v":"Mitarbeiterbindung (Nur PTF)"}]
[]
["Ich bin zufrieden mit...","N","MW","SE","SD","trifft\nnicht zu","trifft eher\nnicht zu","trifft\neher zu","trifft\nvoll zu","Zuordnung zum Konstrukt"]
["104. ...den allgemeinen Arbeitsbedingungen an der Schule.",23,2.9565217391304346,0.13304373659847302,0.63805534595827096,0,0.21739130434782608,0.60869565217391308,0.17391304347826086,{"$f":"IF(INDIRECT(\"'PFB-Konstrukte'!A\" & (SMALL(IF(NOT(ISERROR(FIND(IF(LEFT(A160,1)=\"0\",\" \" & MID(A160,2,1) & \",\",IF(MID(A160,3,1)=\".\",LEFT(A160,2),LEFT(A160,3))),'PFB-Konstrukte'!$J$9:$J$40))),ROW($9:$40)),1)+1))=\"\",\n\nIF(LEFT(INDIRECT(\"A\"&MAX(IF($B$1:B160=\"N\",ROW($A$1:A160)))-1),3)=\"nur\",\n\nIF(RIGHT(INDIRECT(\"A\"&MAX(IF($B$1:B160=\"N\",ROW($A$1:A160)))-1),4)=\"PTF!\",\nINDEX('PFB-Konstrukte'!$B$9:$J$40,SMALL(IF(NOT(ISERROR(FIND(IF(LEFT(A160,1)=\"0\",\" \" & MID(A160,2,1) & \",\",IF(MID(A160,3,1)=\".\",LEFT(A160,2),LEFT(A160,3))),'PFB-Konstrukte'!$J$9:$J$40))),ROW($1:$32)),3),1),\nINDEX('PFB-Konstrukte'!$B$9:$J$40,SMALL(IF(NOT(ISERROR(FIND(IF(LEFT(A160,1)=\"0\",\" \" & MID(A160,2,1) & \",\",IF(MID(A160,3,1)=\".\",LEFT(A160,2),LEFT(A160,3))),'PFB-Konstrukte'!$J$9:$J$40))),ROW($1:$32)),2),1)),\n\nIF(RIGHT(INDEX('PFB-Konstrukte'!$A$9:$J$40,SMALL(IF(NOT(ISERROR(FIND(IF(LEFT(A160,1)=\"0\",\" \" & MID(A160,2,1) & \",\",IF(MID(A160,3,1)=\".\",LEFT(A160,2),LEFT(A160,3))),'PFB-Konstrukte'!$J$9:$J$40))),ROW($1:$32)),1),1),7)=\"Führung\",\n\nINDEX('PFB-Konstrukte'!$A$9:$J$40,SMALL(IF(NOT(ISERROR(FIND(IF(LEFT(A160,1)=\"0\",\" \" & MID(A160,2,1) & \",\",IF(MID(A160,3,1)=\".\",LEFT(A160,2),LEFT(A160,3))),'PFB-Konstrukte'!$J$9:$J$40))),ROW($1:$32)),1),1) & \", \n\" & INDEX('PFB-Konstrukte'!$B$9:$J$40,SMALL(IF(NOT(ISERROR(FIND(IF(LEFT(A160,1)=\"0\",\" \" & MID(A160,2,1) & \",\",IF(MID(A160,3,1)=\".\",LEFT(A160,2),LEFT(A160,3))),'PFB-Konstrukte'!$J$9:$J$40))),ROW($1:$32)),2),1),\n\nINDEX('PFB-Konstrukte'!$A$9:$J$40,SMALL(IF(NOT(ISERROR(FIND(IF(LEFT(A160,1)=\"0\",\" \" & MID(A160,2,1) & \",\",IF(MID(A160,3,1)=\".\",LEFT(A160,2),LEFT(A160,3))),'PFB-Konstrukte'!$J$9:$J$40))),ROW($1:$32)),1),1))),\n\nINDEX('PFB-Konstrukte'!$A$9:$J$40,SMALL(IF(NOT(ISERROR(FIND(IF(LEFT(A160,1)=\"0\",\" \" & MID(A160,2,1) & \",\",IF(MID(A160,3,1)=\".\",LEFT(A160,2),LEFT(A160,3))),'PFB-Konstrukte'!$J$9:$J$40))),ROW($1:$32)),1),1))","v":"Arbeitszufriedenheit"}]
["105. ...dem Arbeitsklima an der Schule.",23,3.3913043478260874,0.10405096111532161,0.49901087934784533,0,0,0.60869565217391308,0.39130434782608697,{"$f":"IF(INDIRECT(\"'PFB-Konstrukte'!A\" & (SMALL(IF(NOT(ISERROR(FIND(IF(LEFT(A161,1)=\"0\",\" \" & MID(A161,2,1) & \",\",IF(MID(A161,3,1)=\".\",LEFT(A161,2),LEFT(A161,3))),'PFB-Konstrukte'!$J$9:$J$40))),ROW($9:$40)),1)+1))=\"\",\n\nIF(LEFT(INDIRECT(\"A\"&MAX(IF($B$1:B161=\"N\",ROW($A$1:A161)))-1),3)=\"nur\",\n\nIF(RIGHT(INDIRECT(\"A\"&MAX(IF($B$1:B161=\"N\",ROW($A$1:A161)))-1),4)=\"PTF!\",\nINDEX('PFB-Konstrukte'!$B$9:$J$40,SMALL(IF(NOT(ISERROR(FIND(IF(LEFT(A161,1)=\"0\",\" \" & MID(A161,2,1) & \",\",IF(MID(A161,3,1)=\".\",LEFT(A161,2),LEFT(A161,3))),'PFB-Konstrukte'!$J$9:$J$40))),ROW($1:$32)),3),1),\nINDEX('PFB-Konstrukte'!$B$9:$J$40,SMALL(IF(NOT(ISERROR(FIND(IF(LEFT(A161,1)=\"0\",\" \" & MID(A161,2,1) & \",\",IF(MID(A161,3,1)=\".\",LEFT(A161,2),LEFT(A161,3))),'PFB-Konstrukte'!$J$9:$J$40))),ROW($1:$32)),2),1)),\n\nIF(RIGHT(INDEX('PFB-Konstrukte'!$A$9:$J$40,SMALL(IF(NOT(ISERROR(FIND(IF(LEFT(A161,1)=\"0\",\" \" & MID(A161,2,1) & \",\",IF(MID(A161,3,1)=\".\",LEFT(A161,2),LEFT(A161,3))),'PFB-Konstrukte'!$J$9:$J$40))),ROW($1:$32)),1),1),7)=\"Führung\",\n\nINDEX('PFB-Konstrukte'!$A$9:$J$40,SMALL(IF(NOT(ISERROR(FIND(IF(LEFT(A161,1)=\"0\",\" \" & MID(A161,2,1) & \",\",IF(MID(A161,3,1)=\".\",LEFT(A161,2),LEFT(A161,3))),'PFB-Konstrukte'!$J$9:$J$40))),ROW($1:$32)),1),1) & \", \n\" & INDEX('PFB-Konstrukte'!$B$9:$J$40,SMALL(IF(NOT(ISERROR(FIND(IF(LEFT(A161,1)=\"0\",\" \" & MID(A161,2,1) & \",\",IF(MID(A161,3,1)=\".\",LEFT(A161,2),LEFT(A161,3))),'PFB-Konstrukte'!$J$9:$J$40))),ROW($1:$32)),2),1),\n\nINDEX('PFB-Konstrukte'!$A$9:$J$40,SMALL(IF(NOT(ISERROR(FIND(IF(LEFT(A161,1)=\"0\",\" \" & MID(A161,2,1) & \",\",IF(MID(A161,3,1)=\".\",LEFT(A161,2),LEFT(A161,3))),'PFB-Konstrukte'!$J$9:$J$40))),ROW($1:$32)),1),1))),\n\nINDEX('PFB-Konstrukte'!$A$9:$J$40,SMALL(IF(NOT(ISERROR(FIND(IF(LEFT(A161,1)=\"0\",\" \" & MID(A161,2,1) & \",\",IF(MID(A161,3,1)=\".\",LEFT(A161,2),LEFT(A161,3))),'PFB-Konstrukte'!$J$9:$J$40))),ROW($1:$32)),1),1))","v":"Arbeitszufriedenheit"}]
["106. ...den Kommunikationsstrukturen an der Schule.",23,2.739130434782608,0.11276950685918662,0.54082355586371711,0,0.30434782608695654,0.65217391304347827,4.3478260869565216E-2,{"$f":"IF(INDIRECT(\"'PFB-Konstrukte'!A\" & (SMALL(IF(NOT(ISERROR(FIND(IF(LEFT(A162,1)=\"0\",\" \" & MID(A162,2,1) & \",\",IF(MID(A162,3,1)=\".\",LEFT(A162,2),LEFT(A162,3))),'PFB-Konstrukte'!$J$9:$J$40))),ROW($9:$40)),1)+1))=\"\",\n\nIF(LEFT(INDIRECT(\"A\"&MAX(IF($B$1:B162=\"N\",ROW($A$1:A162)))-1),3)=\"nur\",\n\nIF(RIGHT(INDIRECT(\"A\"&MAX(IF($B$1:B162=\"N\",ROW($A$1:A162)))-1),4)=\"PTF!\",\nINDEX('PFB-Konstrukte'!$B$9:$J$40,SMALL(IF(NOT(ISERROR(FIND(IF(LEFT(A162,1)=\"0\",\" \" & MID(A162,2,1) & \",\",IF(MID(A162,3,1)=\".\",LEFT(A162,2),LEFT(A162,3))),'PFB-Konstrukte'!$J$9:$J$40))),ROW($1:$32)),3),1),\nINDEX('PFB-Konstrukte'!$B$9:$J$40,SMALL(IF(NOT(ISERROR(FIND(IF(LEFT(A162,1)=\"0\",\" \" & MID(A162,2,1) & \",\",IF(MID(A162,3,1)=\".\",LEFT(A162,2),LEFT(A162,3))),'PFB-Konstrukte'!$J$9:$J$40))),ROW($1:$32)),2),1)),\n\nIF(RIGHT(INDEX('PFB-Konstrukte'!$A$9:$J$40,SMALL(IF(NOT(ISERROR(FIND(IF(LEFT(A162,1)=\"0\",\" \" & MID(A162,2,1) & \",\",IF(MID(A162,3,1)=\".\",LEFT(A162,2),LEFT(A162,3))),'PFB-Konstrukte'!$J$9:$J$40))),ROW($1:$32)),1),1),7)=\"Führung\",\n\nINDEX('PFB-Konstrukte'!$A$9:$J$40,SMALL(IF(NOT(ISERROR(FIND(IF(LEFT(A162,1)=\"0\",\" \" & MID(A162,2,1) & \",\",IF(MID(A162,3,1)=\".\",LEFT(A162,2),LEFT(A162,3))),'PFB-Konstrukte'!$J$9:$J$40))),ROW($1:$32)),1),1) & \", \n\" & INDEX('PFB-Konstrukte'!$B$9:$J$40,SMALL(IF(NOT(ISERROR(FIND(IF(LEFT(A162,1)=\"0\",\" \" & MID(A162,2,1) & \",\",IF(MID(A162,3,1)=\".\",LEFT(A162,2),LEFT(A162,3))),'PFB-Konstrukte'!$J$9:$J$40))),ROW($1:$32)),2),1),\n\nINDEX('PFB-Konstrukte'!$A$9:$J$40,SMALL(IF(NOT(ISERROR(FIND(IF(LEFT(A162,1)=\"0\",\" \" & MID(A162,2,1) & \",\",IF(MID(A162,3,1)=\".\",LEFT(A162,2),LEFT(A162,3))),'PFB-Konstrukte'!$J$9:$J$40))),ROW($1:$32)),1),1))),\n\nINDEX('PFB-Konstrukte'!$A$9:$J$40,SMALL(IF(NOT(ISERROR(FIND(IF(LEFT(A162,1)=\"0\",\" \" & MID(A162,2,1) & \",\",IF(MID(A162,3,1)=\".\",LEFT(A162,2),LEFT(A162,3))),'PFB-Konstrukte'!$J$9:$J$40))),ROW($1:$32)),1),1))","v":"Arbeitszufriedenheit"}]
["107. ...meinen Möglichkeiten, Ideen zur Entwicklung der Schule einzubringen.",23,3.4347826086956523,0.10568965974008646,0.50686980186970176,0,0,0.56521739130434778,0.43478260869565216,{"$f":"IF(INDIRECT(\"'PFB-Konstrukte'!A\" & (SMALL(IF(NOT(ISERROR(FIND(IF(LEFT(A163,1)=\"0\",\" \" & MID(A163,2,1) & \",\",IF(MID(A163,3,1)=\".\",LEFT(A163,2),LEFT(A163,3))),'PFB-Konstrukte'!$J$9:$J$40))),ROW($9:$40)),1)+1))=\"\",\n\nIF(LEFT(INDIRECT(\"A\"&MAX(IF($B$1:B163=\"N\",ROW($A$1:A163)))-1),3)=\"nur\",\n\nIF(RIGHT(INDIRECT(\"A\"&MAX(IF($B$1:B163=\"N\",ROW($A$1:A163)))-1),4)=\"PTF!\",\nINDEX('PFB-Konstrukte'!$B$9:$J$40,SMALL(IF(NOT(ISERROR(FIND(IF(LEFT(A163,1)=\"0\",\" \" & MID(A163,2,1) & \",\",IF(MID(A163,3,1)=\".\",LEFT(A163,2),LEFT(A163,3))),'PFB-Konstrukte'!$J$9:$J$40))),ROW($1:$32)),3),1),\nINDEX('PFB-Konstrukte'!$B$9:$J$40,SMALL(IF(NOT(ISERROR(FIND(IF(LEFT(A163,1)=\"0\",\" \" & MID(A163,2,1) & \",\",IF(MID(A163,3,1)=\".\",LEFT(A163,2),LEFT(A163,3))),'PFB-Konstrukte'!$J$9:$J$40))),ROW($1:$32)),2),1)),\n\nIF(RIGHT(INDEX('PFB-Konstrukte'!$A$9:$J$40,SMALL(IF(NOT(ISERROR(FIND(IF(LEFT(A163,1)=\"0\",\" \" & MID(A163,2,1) & \",\",IF(MID(A163,3,1)=\".\",LEFT(A163,2),LEFT(A163,3))),'PFB-Konstrukte'!$J$9:$J$40))),ROW($1:$32)),1),1),7)=\"Führung\",\n\nINDEX('PFB-Konstrukte'!$A$9:$J$40,SMALL(IF(NOT(ISERROR(FIND(IF(LEFT(A163,1)=\"0\",\" \" & MID(A163,2,1) & \",\",IF(MID(A163,3,1)=\".\",LEFT(A163,2),LEFT(A163,3))),'PFB-Konstrukte'!$J$9:$J$40))),ROW($1:$32)),1),1) & \", \n\" & INDEX('PFB-Konstrukte'!$B$9:$J$40,SMALL(IF(NOT(ISERROR(FIND(IF(LEFT(A163,1)=\"0\",\" \" & MID(A163,2,1) & \",\",IF(MID(A163,3,1)=\".\",LEFT(A163,2),LEFT(A163,3))),'PFB-Konstrukte'!$J$9:$J$40))),ROW($1:$32)),2),1),\n\nINDEX('PFB-Konstrukte'!$A$9:$J$40,SMALL(IF(NOT(ISERROR(FIND(IF(LEFT(A163,1)=\"0\",\" \" & MID(A163,2,1) & \",\",IF(MID(A163,3,1)=\".\",LEFT(A163,2),LEFT(A163,3))),'PFB-Konstrukte'!$J$9:$J$40))),ROW($1:$32)),1),1))),\n\nINDEX('PFB-Konstrukte'!$A$9:$J$40,SMALL(IF(NOT(ISERROR(FIND(IF(LEFT(A163,1)=\"0\",\" \" & MID(A163,2,1) & \",\",IF(MID(A163,3,1)=\".\",LEFT(A163,2),LEFT(A163,3))),'PFB-Konstrukte'!$J$9:$J$40))),ROW($1:$32)),1),1))","v":"Arbeitszufriedenheit"}]
["108. ...meinen Möglichkeiten, berufliche Ziele im Kontext von Schule verwirklichen zu können.",21,3.3809523809523809,0.10858813572372741,0.4976133515281192,0,0,0.61904761904761907,0.38095238095238093,{"$f":"IF(INDIRECT(\"'PFB-Konstrukte'!A\" & (SMALL(IF(NOT(ISERROR(FIND(IF(LEFT(A164,1)=\"0\",\" \" & MID(A164,2,1) & \",\",IF(MID(A164,3,1)=\".\",LEFT(A164,2),LEFT(A164,3))),'PFB-Konstrukte'!$J$9:$J$40))),ROW($9:$40)),1)+1))=\"\",\n\nIF(LEFT(INDIRECT(\"A\"&MAX(IF($B$1:B164=\"N\",ROW($A$1:A164)))-1),3)=\"nur\",\n\nIF(RIGHT(INDIRECT(\"A\"&MAX(IF($B$1:B164=\"N\",ROW($A$1:A164)))-1),4)=\"PTF!\",\nINDEX('PFB-Konstrukte'!$B$9:$J$40,SMALL(IF(NOT(ISERROR(FIND(IF(LEFT(A164,1)=\"0\",\" \" & MID(A164,2,1) & \",\",IF(MID(A164,3,1)=\".\",LEFT(A164,2),LEFT(A164,3))),'PFB-Konstrukte'!$J$9:$J$40))),ROW($1:$32)),3),1),\nINDEX('PFB-Konstrukte'!$B$9:$J$40,SMALL(IF(NOT(ISERROR(FIND(IF(LEFT(A164,1)=\"0\",\" \" & MID(A164,2,1) & \",\",IF(MID(A164,3,1)=\".\",LEFT(A164,2),LEFT(A164,3))),'PFB-Konstrukte'!$J$9:$J$40))),ROW($1:$32)),2),1)),\n\nIF(RIGHT(INDEX('PFB-Konstrukte'!$A$9:$J$40,SMALL(IF(NOT(ISERROR(FIND(IF(LEFT(A164,1)=\"0\",\" \" & MID(A164,2,1) & \",\",IF(MID(A164,3,1)=\".\",LEFT(A164,2),LEFT(A164,3))),'PFB-Konstrukte'!$J$9:$J$40))),ROW($1:$32)),1),1),7)=\"Führung\",\n\nINDEX('PFB-Konstrukte'!$A$9:$J$40,SMALL(IF(NOT(ISERROR(FIND(IF(LEFT(A164,1)=\"0\",\" \" & MID(A164,2,1) & \",\",IF(MID(A164,3,1)=\".\",LEFT(A164,2),LEFT(A164,3))),'PFB-Konstrukte'!$J$9:$J$40))),ROW($1:$32)),1),1) & \", \n\" & INDEX('PFB-Konstrukte'!$B$9:$J$40,SMALL(IF(NOT(ISERROR(FIND(IF(LEFT(A164,1)=\"0\",\" \" & MID(A164,2,1) & \",\",IF(MID(A164,3,1)=\".\",LEFT(A164,2),LEFT(A164,3))),'PFB-Konstrukte'!$J$9:$J$40))),ROW($1:$32)),2),1),\n\nINDEX('PFB-Konstrukte'!$A$9:$J$40,SMALL(IF(NOT(ISERROR(FIND(IF(LEFT(A164,1)=\"0\",\" \" & MID(A164,2,1) & \",\",IF(MID(A164,3,1)=\".\",LEFT(A164,2),LEFT(A164,3))),'PFB-Konstrukte'!$J$9:$J$40))),ROW($1:$32)),1),1))),\n\nINDEX('PFB-Konstrukte'!$A$9:$J$40,SMALL(IF(NOT(ISERROR(FIND(IF(LEFT(A164,1)=\"0\",\" \" & MID(A164,2,1) & \",\",IF(MID(A164,3,1)=\".\",LEFT(A164,2),LEFT(A164,3))),'PFB-Konstrukte'!$J$9:$J$40))),ROW($1:$32)),1),1))","v":"Arbeitszufriedenheit"}]
["109. ...der Anerkennung meiner Profession innerhalb der Schulgemeinschaft.",23,3.3913043478260865,0.13686395014372163,0.65637644650436056,0,8.6956521739130432E-2,0.43478260869565216,0.47826086956521741,{"$f":"IF(INDIRECT(\"'PFB-Konstrukte'!A\" & (SMALL(IF(NOT(ISERROR(FIND(IF(LEFT(A165,1)=\"0\",\" \" & MID(A165,2,1) & \",\",IF(MID(A165,3,1)=\".\",LEFT(A165,2),LEFT(A165,3))),'PFB-Konstrukte'!$J$9:$J$40))),ROW($9:$40)),1)+1))=\"\",\n\nIF(LEFT(INDIRECT(\"A\"&MAX(IF($B$1:B165=\"N\",ROW($A$1:A165)))-1),3)=\"nur\",\n\nIF(RIGHT(INDIRECT(\"A\"&MAX(IF($B$1:B165=\"N\",ROW($A$1:A165)))-1),4)=\"PTF!\",\nINDEX('PFB-Konstrukte'!$B$9:$J$40,SMALL(IF(NOT(ISERROR(FIND(IF(LEFT(A165,1)=\"0\",\" \" & MID(A165,2,1) & \",\",IF(MID(A165,3,1)=\".\",LEFT(A165,2),LEFT(A165,3))),'PFB-Konstrukte'!$J$9:$J$40))),ROW($1:$32)),3),1),\nINDEX('PFB-Konstrukte'!$B$9:$J$40,SMALL(IF(NOT(ISERROR(FIND(IF(LEFT(A165,1)=\"0\",\" \" & MID(A165,2,1) & \",\",IF(MID(A165,3,1)=\".\",LEFT(A165,2),LEFT(A165,3))),'PFB-Konstrukte'!$J$9:$J$40))),ROW($1:$32)),2),1)),\n\nIF(RIGHT(INDEX('PFB-Konstrukte'!$A$9:$J$40,SMALL(IF(NOT(ISERROR(FIND(IF(LEFT(A165,1)=\"0\",\" \" & MID(A165,2,1) & \",\",IF(MID(A165,3,1)=\".\",LEFT(A165,2),LEFT(A165,3))),'PFB-Konstrukte'!$J$9:$J$40))),ROW($1:$32)),1),1),7)=\"Führung\",\n\nINDEX('PFB-Konstrukte'!$A$9:$J$40,SMALL(IF(NOT(ISERROR(FIND(IF(LEFT(A165,1)=\"0\",\" \" & MID(A165,2,1) & \",\",IF(MID(A165,3,1)=\".\",LEFT(A165,2),LEFT(A165,3))),'PFB-Konstrukte'!$J$9:$J$40))),ROW($1:$32)),1),1) & \", \n\" & INDEX('PFB-Konstrukte'!$B$9:$J$40,SMALL(IF(NOT(ISERROR(FIND(IF(LEFT(A165,1)=\"0\",\" \" & MID(A165,2,1) & \",\",IF(MID(A165,3,1)=\".\",LEFT(A165,2),LEFT(A165,3))),'PFB-Konstrukte'!$J$9:$J$40))),ROW($1:$32)),2),1),\n\nINDEX('PFB-Konstrukte'!$A$9:$J$40,SMALL(IF(NOT(ISERROR(FIND(IF(LEFT(A165,1)=\"0\",\" \" & MID(A165,2,1) & \",\",IF(MID(A165,3,1)=\".\",LEFT(A165,2),LEFT(A165,3))),'PFB-Konstrukte'!$J$9:$J$40))),ROW($1:$32)),1),1))),\n\nINDEX('PFB-Konstrukte'!$A$9:$J$40,SMALL(IF(NOT(ISERROR(FIND(IF(LEFT(A165,1)=\"0\",\" \" & MID(A165,2,1) & \",\",IF(MID(A165,3,1)=\".\",LEFT(A165,2),LEFT(A165,3))),'PFB-Konstrukte'!$J$9:$J$40))),ROW($1:$32)),1),1))","v":"Arbeitszufriedenheit"}]
[]
["nur Lehrpersonen!"]
["Ich bin zufrieden mit...","N","MW","SE","SD","trifft\nnicht zu","trifft eher\nnicht zu","trifft\neher zu","trifft\nvoll zu","Zuordnung zum Konstrukt"]
["104. ...den allgemeinen Arbeitsbedingungen an der Schule.",16,null,null,null,null,null,null,null,{"$f":"IF(INDIRECT(\"'PFB-Konstrukte'!A\" & (SMALL(IF(NOT(ISERROR(FIND(IF(LEFT(A169,1)=\"0\",\" \" & MID(A169,2,1) & \",\",IF(MID(A169,3,1)=\".\",LEFT(A169,2),LEFT(A169,3))),'PFB-Konstrukte'!$J$9:$J$40))),ROW($9:$40)),1)+1))=\"\",\n\nIF(LEFT(INDIRECT(\"A\"&MAX(IF($B$1:B169=\"N\",ROW($A$1:A169)))-1),3)=\"nur\",\n\nIF(RIGHT(INDIRECT(\"A\"&MAX(IF($B$1:B169=\"N\",ROW($A$1:A169)))-1),4)=\"PTF!\",\nINDEX('PFB-Konstrukte'!$B$9:$J$40,SMALL(IF(NOT(ISERROR(FIND(IF(LEFT(A169,1)=\"0\",\" \" & MID(A169,2,1) & \",\",IF(MID(A169,3,1)=\".\",LEFT(A169,2),LEFT(A169,3))),'PFB-Konstrukte'!$J$9:$J$40))),ROW($1:$32)),3),1),\nINDEX('PFB-Konstrukte'!$B$9:$J$40,SMALL(IF(NOT(ISERROR(FIND(IF(LEFT(A169,1)=\"0\",\" \" & MID(A169,2,1) & \",\",IF(MID(A169,3,1)=\".\",LEFT(A169,2),LEFT(A169,3))),'PFB-Konstrukte'!$J$9:$J$40))),ROW($1:$32)),2),1)),\n\nIF(RIGHT(INDEX('PFB-Konstrukte'!$A$9:$J$40,SMALL(IF(NOT(ISERROR(FIND(IF(LEFT(A169,1)=\"0\",\" \" & MID(A169,2,1) & \",\",IF(MID(A169,3,1)=\".\",LEFT(A169,2),LEFT(A169,3))),'PFB-Konstrukte'!$J$9:$J$40))),ROW($1:$32)),1),1),7)=\"Führung\",\n\nINDEX('PFB-Konstrukte'!$A$9:$J$40,SMALL(IF(NOT(ISERROR(FIND(IF(LEFT(A169,1)=\"0\",\" \" & MID(A169,2,1) & \",\",IF(MID(A169,3,1)=\".\",LEFT(A169,2),LEFT(A169,3))),'PFB-Konstrukte'!$J$9:$J$40))),ROW($1:$32)),1),1) & \", \n\" & INDEX('PFB-Konstrukte'!$B$9:$J$40,SMALL(IF(NOT(ISERROR(FIND(IF(LEFT(A169,1)=\"0\",\" \" & MID(A169,2,1) & \",\",IF(MID(A169,3,1)=\".\",LEFT(A169,2),LEFT(A169,3))),'PFB-Konstrukte'!$J$9:$J$40))),ROW($1:$32)),2),1),\n\nINDEX('PFB-Konstrukte'!$A$9:$J$40,SMALL(IF(NOT(ISERROR(FIND(IF(LEFT(A169,1)=\"0\",\" \" & MID(A169,2,1) & \",\",IF(MID(A169,3,1)=\".\",LEFT(A169,2),LEFT(A169,3))),'PFB-Konstrukte'!$J$9:$J$40))),ROW($1:$32)),1),1))),\n\nINDEX('PFB-Konstrukte'!$A$9:$J$40,SMALL(IF(NOT(ISERROR(FIND(IF(LEFT(A169,1)=\"0\",\" \" & MID(A169,2,1) & \",\",IF(MID(A169,3,1)=\".\",LEFT(A169,2),LEFT(A169,3))),'PFB-Konstrukte'!$J$9:$J$40))),ROW($1:$32)),1),1))","v":"Arbeitszufriedenheit (Nur Lehrpersonen)"}]
["105. ...dem Arbeitsklima an der Schule.",16,null,null,null,null,null,null,null,{"$f":"IF(INDIRECT(\"'PFB-Konstrukte'!A\" & (SMALL(IF(NOT(ISERROR(FIND(IF(LEFT(A170,1)=\"0\",\" \" & MID(A170,2,1) & \",\",IF(MID(A170,3,1)=\".\",LEFT(A170,2),LEFT(A170,3))),'PFB-Konstrukte'!$J$9:$J$40))),ROW($9:$40)),1)+1))=\"\",\n\nIF(LEFT(INDIRECT(\"A\"&MAX(IF($B$1:B170=\"N\",ROW($A$1:A170)))-1),3)=\"nur\",\n\nIF(RIGHT(INDIRECT(\"A\"&MAX(IF($B$1:B170=\"N\",ROW($A$1:A170)))-1),4)=\"PTF!\",\nINDEX('PFB-Konstrukte'!$B$9:$J$40,SMALL(IF(NOT(ISERROR(FIND(IF(LEFT(A170,1)=\"0\",\" \" & MID(A170,2,1) & \",\",IF(MID(A170,3,1)=\".\",LEFT(A170,2),LEFT(A170,3))),'PFB-Konstrukte'!$J$9:$J$40))),ROW($1:$32)),3),1),\nINDEX('PFB-Konstrukte'!$B$9:$J$40,SMALL(IF(NOT(ISERROR(FIND(IF(LEFT(A170,1)=\"0\",\" \" & MID(A170,2,1) & \",\",IF(MID(A170,3,1)=\".\",LEFT(A170,2),LEFT(A170,3))),'PFB-Konstrukte'!$J$9:$J$40))),ROW($1:$32)),2),1)),\n\nIF(RIGHT(INDEX('PFB-Konstrukte'!$A$9:$J$40,SMALL(IF(NOT(ISERROR(FIND(IF(LEFT(A170,1)=\"0\",\" \" & MID(A170,2,1) & \",\",IF(MID(A170,3,1)=\".\",LEFT(A170,2),LEFT(A170,3))),'PFB-Konstrukte'!$J$9:$J$40))),ROW($1:$32)),1),1),7)=\"Führung\",\n\nINDEX('PFB-Konstrukte'!$A$9:$J$40,SMALL(IF(NOT(ISERROR(FIND(IF(LEFT(A170,1)=\"0\",\" \" & MID(A170,2,1) & \",\",IF(MID(A170,3,1)=\".\",LEFT(A170,2),LEFT(A170,3))),'PFB-Konstrukte'!$J$9:$J$40))),ROW($1:$32)),1),1) & \", \n\" & INDEX('PFB-Konstrukte'!$B$9:$J$40,SMALL(IF(NOT(ISERROR(FIND(IF(LEFT(A170,1)=\"0\",\" \" & MID(A170,2,1) & \",\",IF(MID(A170,3,1)=\".\",LEFT(A170,2),LEFT(A170,3))),'PFB-Konstrukte'!$J$9:$J$40))),ROW($1:$32)),2),1),\n\nINDEX('PFB-Konstrukte'!$A$9:$J$40,SMALL(IF(NOT(ISERROR(FIND(IF(LEFT(A170,1)=\"0\",\" \" & MID(A170,2,1) & \",\",IF(MID(A170,3,1)=\".\",LEFT(A170,2),LEFT(A170,3))),'PFB-Konstrukte'!$J$9:$J$40))),ROW($1:$32)),1),1))),\n\nINDEX('PFB-Konstrukte'!$A$9:$J$40,SMALL(IF(NOT(ISERROR(FIND(IF(LEFT(A170,1)=\"0\",\" \" & MID(A170,2,1) & \",\",IF(MID(A170,3,1)=\".\",LEFT(A170,2),LEFT(A170,3))),'PFB-Konstrukte'!$J$9:$J$40))),ROW($1:$32)),1),1))","v":"Arbeitszufriedenheit (Nur Lehrpersonen)"}]
["106. ...den Kommunikationsstrukturen an der Schule.",16,null,null,null,null,null,null,null,{"$f":"IF(INDIRECT(\"'PFB-Konstrukte'!A\" & (SMALL(IF(NOT(ISERROR(FIND(IF(LEFT(A171,1)=\"0\",\" \" & MID(A171,2,1) & \",\",IF(MID(A171,3,1)=\".\",LEFT(A171,2),LEFT(A171,3))),'PFB-Konstrukte'!$J$9:$J$40))),ROW($9:$40)),1)+1))=\"\",\n\nIF(LEFT(INDIRECT(\"A\"&MAX(IF($B$1:B171=\"N\",ROW($A$1:A171)))-1),3)=\"nur\",\n\nIF(RIGHT(INDIRECT(\"A\"&MAX(IF($B$1:B171=\"N\",ROW($A$1:A171)))-1),4)=\"PTF!\",\nINDEX('PFB-Konstrukte'!$B$9:$J$40,SMALL(IF(NOT(ISERROR(FIND(IF(LEFT(A171,1)=\"0\",\" \" & MID(A171,2,1) & \",\",IF(MID(A171,3,1)=\".\",LEFT(A171,2),LEFT(A171,3))),'PFB-Konstrukte'!$J$9:$J$40))),ROW($1:$32)),3),1),\nINDEX('PFB-Konstrukte'!$B$9:$J$40,SMALL(IF(NOT(ISERROR(FIND(IF(LEFT(A171,1)=\"0\",\" \" & MID(A171,2,1) & \",\",IF(MID(A171,3,1)=\".\",LEFT(A171,2),LEFT(A171,3))),'PFB-Konstrukte'!$J$9:$J$40))),ROW($1:$32)),2),1)),\n\nIF(RIGHT(INDEX('PFB-Konstrukte'!$A$9:$J$40,SMALL(IF(NOT(ISERROR(FIND(IF(LEFT(A171,1)=\"0\",\" \" & MID(A171,2,1) & \",\",IF(MID(A171,3,1)=\".\",LEFT(A171,2),LEFT(A171,3))),'PFB-Konstrukte'!$J$9:$J$40))),ROW($1:$32)),1),1),7)=\"Führung\",\n\nINDEX('PFB-Konstrukte'!$A$9:$J$40,SMALL(IF(NOT(ISERROR(FIND(IF(LEFT(A171,1)=\"0\",\" \" & MID(A171,2,1) & \",\",IF(MID(A171,3,1)=\".\",LEFT(A171,2),LEFT(A171,3))),'PFB-Konstrukte'!$J$9:$J$40))),ROW($1:$32)),1),1) & \", \n\" & INDEX('PFB-Konstrukte'!$B$9:$J$40,SMALL(IF(NOT(ISERROR(FIND(IF(LEFT(A171,1)=\"0\",\" \" & MID(A171,2,1) & \",\",IF(MID(A171,3,1)=\".\",LEFT(A171,2),LEFT(A171,3))),'PFB-Konstrukte'!$J$9:$J$40))),ROW($1:$32)),2),1),\n\nINDEX('PFB-Konstrukte'!$A$9:$J$40,SMALL(IF(NOT(ISERROR(FIND(IF(LEFT(A171,1)=\"0\",\" \" & MID(A171,2,1) & \",\",IF(MID(A171,3,1)=\".\",LEFT(A171,2),LEFT(A171,3))),'PFB-Konstrukte'!$J$9:$J$40))),ROW($1:$32)),1),1))),\n\nINDEX('PFB-Konstrukte'!$A$9:$J$40,SMALL(IF(NOT(ISERROR(FIND(IF(LEFT(A171,1)=\"0\",\" \" & MID(A171,2,1) & \",\",IF(MID(A171,3,1)=\".\",LEFT(A171,2),LEFT(A171,3))),'PFB-Konstrukte'!$J$9:$J$40))),ROW($1:$32)),1),1))","v":"Arbeitszufriedenheit (Nur Lehrpersonen)"}]
["107. ...meinen Möglichkeiten, Ideen zur Entwicklung der Schule einzubringen.",16,null,null,null,null,null,null,null,{"$f":"IF(INDIRECT(\"'PFB-Konstrukte'!A\" & (SMALL(IF(NOT(ISERROR(FIND(IF(LEFT(A172,1)=\"0\",\" \" & MID(A172,2,1) & \",\",IF(MID(A172,3,1)=\".\",LEFT(A172,2),LEFT(A172,3))),'PFB-Konstrukte'!$J$9:$J$40))),ROW($9:$40)),1)+1))=\"\",\n\nIF(LEFT(INDIRECT(\"A\"&MAX(IF($B$1:B172=\"N\",ROW($A$1:A172)))-1),3)=\"nur\",\n\nIF(RIGHT(INDIRECT(\"A\"&MAX(IF($B$1:B172=\"N\",ROW($A$1:A172)))-1),4)=\"PTF!\",\nINDEX('PFB-Konstrukte'!$B$9:$J$40,SMALL(IF(NOT(ISERROR(FIND(IF(LEFT(A172,1)=\"0\",\" \" & MID(A172,2,1) & \",\",IF(MID(A172,3,1)=\".\",LEFT(A172,2),LEFT(A172,3))),'PFB-Konstrukte'!$J$9:$J$40))),ROW($1:$32)),3),1),\nINDEX('PFB-Konstrukte'!$B$9:$J$40,SMALL(IF(NOT(ISERROR(FIND(IF(LEFT(A172,1)=\"0\",\" \" & MID(A172,2,1) & \",\",IF(MID(A172,3,1)=\".\",LEFT(A172,2),LEFT(A172,3))),'PFB-Konstrukte'!$J$9:$J$40))),ROW($1:$32)),2),1)),\n\nIF(RIGHT(INDEX('PFB-Konstrukte'!$A$9:$J$40,SMALL(IF(NOT(ISERROR(FIND(IF(LEFT(A172,1)=\"0\",\" \" & MID(A172,2,1) & \",\",IF(MID(A172,3,1)=\".\",LEFT(A172,2),LEFT(A172,3))),'PFB-Konstrukte'!$J$9:$J$40))),ROW($1:$32)),1),1),7)=\"Führung\",\n\nINDEX('PFB-Konstrukte'!$A$9:$J$40,SMALL(IF(NOT(ISERROR(FIND(IF(LEFT(A172,1)=\"0\",\" \" & MID(A172,2,1) & \",\",IF(MID(A172,3,1)=\".\",LEFT(A172,2),LEFT(A172,3))),'PFB-Konstrukte'!$J$9:$J$40))),ROW($1:$32)),1),1) & \", \n\" & INDEX('PFB-Konstrukte'!$B$9:$J$40,SMALL(IF(NOT(ISERROR(FIND(IF(LEFT(A172,1)=\"0\",\" \" & MID(A172,2,1) & \",\",IF(MID(A172,3,1)=\".\",LEFT(A172,2),LEFT(A172,3))),'PFB-Konstrukte'!$J$9:$J$40))),ROW($1:$32)),2),1),\n\nINDEX('PFB-Konstrukte'!$A$9:$J$40,SMALL(IF(NOT(ISERROR(FIND(IF(LEFT(A172,1)=\"0\",\" \" & MID(A172,2,1) & \",\",IF(MID(A172,3,1)=\".\",LEFT(A172,2),LEFT(A172,3))),'PFB-Konstrukte'!$J$9:$J$40))),ROW($1:$32)),1),1))),\n\nINDEX('PFB-Konstrukte'!$A$9:$J$40,SMALL(IF(NOT(ISERROR(FIND(IF(LEFT(A172,1)=\"0\",\" \" & MID(A172,2,1) & \",\",IF(MID(A172,3,1)=\".\",LEFT(A172,2),LEFT(A172,3))),'PFB-Konstrukte'!$J$9:$J$40))),ROW($1:$32)),1),1))","v":"Arbeitszufriedenheit (Nur Lehrpersonen)"}]
["108. ...meinen Möglichkeiten, berufliche Ziele im Kontext von Schule verwirklichen zu können.",14,null,null,null,null,null,null,null,{"$f":"IF(INDIRECT(\"'PFB-Konstrukte'!A\" & (SMALL(IF(NOT(ISERROR(FIND(IF(LEFT(A173,1)=\"0\",\" \" & MID(A173,2,1) & \",\",IF(MID(A173,3,1)=\".\",LEFT(A173,2),LEFT(A173,3))),'PFB-Konstrukte'!$J$9:$J$40))),ROW($9:$40)),1)+1))=\"\",\n\nIF(LEFT(INDIRECT(\"A\"&MAX(IF($B$1:B173=\"N\",ROW($A$1:A173)))-1),3)=\"nur\",\n\nIF(RIGHT(INDIRECT(\"A\"&MAX(IF($B$1:B173=\"N\",ROW($A$1:A173)))-1),4)=\"PTF!\",\nINDEX('PFB-Konstrukte'!$B$9:$J$40,SMALL(IF(NOT(ISERROR(FIND(IF(LEFT(A173,1)=\"0\",\" \" & MID(A173,2,1) & \",\",IF(MID(A173,3,1)=\".\",LEFT(A173,2),LEFT(A173,3))),'PFB-Konstrukte'!$J$9:$J$40))),ROW($1:$32)),3),1),\nINDEX('PFB-Konstrukte'!$B$9:$J$40,SMALL(IF(NOT(ISERROR(FIND(IF(LEFT(A173,1)=\"0\",\" \" & MID(A173,2,1) & \",\",IF(MID(A173,3,1)=\".\",LEFT(A173,2),LEFT(A173,3))),'PFB-Konstrukte'!$J$9:$J$40))),ROW($1:$32)),2),1)),\n\nIF(RIGHT(INDEX('PFB-Konstrukte'!$A$9:$J$40,SMALL(IF(NOT(ISERROR(FIND(IF(LEFT(A173,1)=\"0\",\" \" & MID(A173,2,1) & \",\",IF(MID(A173,3,1)=\".\",LEFT(A173,2),LEFT(A173,3))),'PFB-Konstrukte'!$J$9:$J$40))),ROW($1:$32)),1),1),7)=\"Führung\",\n\nINDEX('PFB-Konstrukte'!$A$9:$J$40,SMALL(IF(NOT(ISERROR(FIND(IF(LEFT(A173,1)=\"0\",\" \" & MID(A173,2,1) & \",\",IF(MID(A173,3,1)=\".\",LEFT(A173,2),LEFT(A173,3))),'PFB-Konstrukte'!$J$9:$J$40))),ROW($1:$32)),1),1) & \", \n\" & INDEX('PFB-Konstrukte'!$B$9:$J$40,SMALL(IF(NOT(ISERROR(FIND(IF(LEFT(A173,1)=\"0\",\" \" & MID(A173,2,1) & \",\",IF(MID(A173,3,1)=\".\",LEFT(A173,2),LEFT(A173,3))),'PFB-Konstrukte'!$J$9:$J$40))),ROW($1:$32)),2),1),\n\nINDEX('PFB-Konstrukte'!$A$9:$J$40,SMALL(IF(NOT(ISERROR(FIND(IF(LEFT(A173,1)=\"0\",\" \" & MID(A173,2,1) & \",\",IF(MID(A173,3,1)=\".\",LEFT(A173,2),LEFT(A173,3))),'PFB-Konstrukte'!$J$9:$J$40))),ROW($1:$32)),1),1))),\n\nINDEX('PFB-Konstrukte'!$A$9:$J$40,SMALL(IF(NOT(ISERROR(FIND(IF(LEFT(A173,1)=\"0\",\" \" & MID(A173,2,1) & \",\",IF(MID(A173,3,1)=\".\",LEFT(A173,2),LEFT(A173,3))),'PFB-Konstrukte'!$J$9:$J$40))),ROW($1:$32)),1),1))","v":"Arbeitszufriedenheit (Nur Lehrpersonen)"}]
["109. ...der Anerkennung meiner Profession innerhalb der Schulgemeinschaft.",16,null,null,null,null,null,null,null,{"$f":"IF(INDIRECT(\"'PFB-Konstrukte'!A\" & (SMALL(IF(NOT(ISERROR(FIND(IF(LEFT(A174,1)=\"0\",\" \" & MID(A174,2,1) & \",\",IF(MID(A174,3,1)=\".\",LEFT(A174,2),LEFT(A174,3))),'PFB-Konstrukte'!$J$9:$J$40))),ROW($9:$40)),1)+1))=\"\",\n\nIF(LEFT(INDIRECT(\"A\"&MAX(IF($B$1:B174=\"N\",ROW($A$1:A174)))-1),3)=\"nur\",\n\nIF(RIGHT(INDIRECT(\"A\"&MAX(IF($B$1:B174=\"N\",ROW($A$1:A174)))-1),4)=\"PTF!\",\nINDEX('PFB-Konstrukte'!$B$9:$J$40,SMALL(IF(NOT(ISERROR(FIND(IF(LEFT(A174,1)=\"0\",\" \" & MID(A174,2,1) & \",\",IF(MID(A174,3,1)=\".\",LEFT(A174,2),LEFT(A174,3))),'PFB-Konstrukte'!$J$9:$J$40))),ROW($1:$32)),3),1),\nINDEX('PFB-Konstrukte'!$B$9:$J$40,SMALL(IF(NOT(ISERROR(FIND(IF(LEFT(A174,1)=\"0\",\" \" & MID(A174,2,1) & \",\",IF(MID(A174,3,1)=\".\",LEFT(A174,2),LEFT(A174,3))),'PFB-Konstrukte'!$J$9:$J$40))),ROW($1:$32)),2),1)),\n\nIF(RIGHT(INDEX('PFB-Konstrukte'!$A$9:$J$40,SMALL(IF(NOT(ISERROR(FIND(IF(LEFT(A174,1)=\"0\",\" \" & MID(A174,2,1) & \",\",IF(MID(A174,3,1)=\".\",LEFT(A174,2),LEFT(A174,3))),'PFB-Konstrukte'!$J$9:$J$40))),ROW($1:$32)),1),1),7)=\"Führung\",\n\nINDEX('PFB-Konstrukte'!$A$9:$J$40,SMALL(IF(NOT(ISERROR(FIND(IF(LEFT(A174,1)=\"0\",\" \" & MID(A174,2,1) & \",\",IF(MID(A174,3,1)=\".\",LEFT(A174,2),LEFT(A174,3))),'PFB-Konstrukte'!$J$9:$J$40))),ROW($1:$32)),1),1) & \", \n\" & INDEX('PFB-Konstrukte'!$B$9:$J$40,SMALL(IF(NOT(ISERROR(FIND(IF(LEFT(A174,1)=\"0\",\" \" & MID(A174,2,1) & \",\",IF(MID(A174,3,1)=\".\",LEFT(A174,2),LEFT(A174,3))),'PFB-Konstrukte'!$J$9:$J$40))),ROW($1:$32)),2),1),\n\nINDEX('PFB-Konstrukte'!$A$9:$J$40,SMALL(IF(NOT(ISERROR(FIND(IF(LEFT(A174,1)=\"0\",\" \" & MID(A174,2,1) & \",\",IF(MID(A174,3,1)=\".\",LEFT(A174,2),LEFT(A174,3))),'PFB-Konstrukte'!$J$9:$J$40))),ROW($1:$32)),1),1))),\n\nINDEX('PFB-Konstrukte'!$A$9:$J$40,SMALL(IF(NOT(ISERROR(FIND(IF(LEFT(A174,1)=\"0\",\" \" & MID(A174,2,1) & \",\",IF(MID(A174,3,1)=\".\",LEFT(A174,2),LEFT(A174,3))),'PFB-Konstrukte'!$J$9:$J$40))),ROW($1:$32)),1),1))","v":"Arbeitszufriedenheit (Nur Lehrpersonen)"}]
[]
["nur PTF!"]
["Ich bin zufrieden mit...","N","MW","SE","SD","trifft\nnicht zu","trifft eher\nnicht zu","trifft\neher zu","trifft\nvoll zu","Zuordnung zum Konstrukt"]
["104. ...den allgemeinen Arbeitsbedingungen an der Schule.",0,null,null,null,null,null,null,null,{"$f":"IF(INDIRECT(\"'PFB-Konstrukte'!A\" & (SMALL(IF(NOT(ISERROR(FIND(IF(LEFT(A178,1)=\"0\",\" \" & MID(A178,2,1) & \",\",IF(MID(A178,3,1)=\".\",LEFT(A178,2),LEFT(A178,3))),'PFB-Konstrukte'!$J$9:$J$40))),ROW($9:$40)),1)+1))=\"\",\n\nIF(LEFT(INDIRECT(\"A\"&MAX(IF($B$1:B178=\"N\",ROW($A$1:A178)))-1),3)=\"nur\",\n\nIF(RIGHT(INDIRECT(\"A\"&MAX(IF($B$1:B178=\"N\",ROW($A$1:A178)))-1),4)=\"PTF!\",\nINDEX('PFB-Konstrukte'!$B$9:$J$40,SMALL(IF(NOT(ISERROR(FIND(IF(LEFT(A178,1)=\"0\",\" \" & MID(A178,2,1) & \",\",IF(MID(A178,3,1)=\".\",LEFT(A178,2),LEFT(A178,3))),'PFB-Konstrukte'!$J$9:$J$40))),ROW($1:$32)),3),1),\nINDEX('PFB-Konstrukte'!$B$9:$J$40,SMALL(IF(NOT(ISERROR(FIND(IF(LEFT(A178,1)=\"0\",\" \" & MID(A178,2,1) & \",\",IF(MID(A178,3,1)=\".\",LEFT(A178,2),LEFT(A178,3))),'PFB-Konstrukte'!$J$9:$J$40))),ROW($1:$32)),2),1)),\n\nIF(RIGHT(INDEX('PFB-Konstrukte'!$A$9:$J$40,SMALL(IF(NOT(ISERROR(FIND(IF(LEFT(A178,1)=\"0\",\" \" & MID(A178,2,1) & \",\",IF(MID(A178,3,1)=\".\",LEFT(A178,2),LEFT(A178,3))),'PFB-Konstrukte'!$J$9:$J$40))),ROW($1:$32)),1),1),7)=\"Führung\",\n\nINDEX('PFB-Konstrukte'!$A$9:$J$40,SMALL(IF(NOT(ISERROR(FIND(IF(LEFT(A178,1)=\"0\",\" \" & MID(A178,2,1) & \",\",IF(MID(A178,3,1)=\".\",LEFT(A178,2),LEFT(A178,3))),'PFB-Konstrukte'!$J$9:$J$40))),ROW($1:$32)),1),1) & \", \n\" & INDEX('PFB-Konstrukte'!$B$9:$J$40,SMALL(IF(NOT(ISERROR(FIND(IF(LEFT(A178,1)=\"0\",\" \" & MID(A178,2,1) & \",\",IF(MID(A178,3,1)=\".\",LEFT(A178,2),LEFT(A178,3))),'PFB-Konstrukte'!$J$9:$J$40))),ROW($1:$32)),2),1),\n\nINDEX('PFB-Konstrukte'!$A$9:$J$40,SMALL(IF(NOT(ISERROR(FIND(IF(LEFT(A178,1)=\"0\",\" \" & MID(A178,2,1) & \",\",IF(MID(A178,3,1)=\".\",LEFT(A178,2),LEFT(A178,3))),'PFB-Konstrukte'!$J$9:$J$40))),ROW($1:$32)),1),1))),\n\nINDEX('PFB-Konstrukte'!$A$9:$J$40,SMALL(IF(NOT(ISERROR(FIND(IF(LEFT(A178,1)=\"0\",\" \" & MID(A178,2,1) & \",\",IF(MID(A178,3,1)=\".\",LEFT(A178,2),LEFT(A178,3))),'PFB-Konstrukte'!$J$9:$J$40))),ROW($1:$32)),1),1))","v":"Arbeitszufriedenheit (Nur PTF)"}]
["105. ...dem Arbeitsklima an der Schule.",0,null,null,null,null,null,null,null,{"$f":"IF(INDIRECT(\"'PFB-Konstrukte'!A\" & (SMALL(IF(NOT(ISERROR(FIND(IF(LEFT(A179,1)=\"0\",\" \" & MID(A179,2,1) & \",\",IF(MID(A179,3,1)=\".\",LEFT(A179,2),LEFT(A179,3))),'PFB-Konstrukte'!$J$9:$J$40))),ROW($9:$40)),1)+1))=\"\",\n\nIF(LEFT(INDIRECT(\"A\"&MAX(IF($B$1:B179=\"N\",ROW($A$1:A179)))-1),3)=\"nur\",\n\nIF(RIGHT(INDIRECT(\"A\"&MAX(IF($B$1:B179=\"N\",ROW($A$1:A179)))-1),4)=\"PTF!\",\nINDEX('PFB-Konstrukte'!$B$9:$J$40,SMALL(IF(NOT(ISERROR(FIND(IF(LEFT(A179,1)=\"0\",\" \" & MID(A179,2,1) & \",\",IF(MID(A179,3,1)=\".\",LEFT(A179,2),LEFT(A179,3))),'PFB-Konstrukte'!$J$9:$J$40))),ROW($1:$32)),3),1),\nINDEX('PFB-Konstrukte'!$B$9:$J$40,SMALL(IF(NOT(ISERROR(FIND(IF(LEFT(A179,1)=\"0\",\" \" & MID(A179,2,1) & \",\",IF(MID(A179,3,1)=\".\",LEFT(A179,2),LEFT(A179,3))),'PFB-Konstrukte'!$J$9:$J$40))),ROW($1:$32)),2),1)),\n\nIF(RIGHT(INDEX('PFB-Konstrukte'!$A$9:$J$40,SMALL(IF(NOT(ISERROR(FIND(IF(LEFT(A179,1)=\"0\",\" \" & MID(A179,2,1) & \",\",IF(MID(A179,3,1)=\".\",LEFT(A179,2),LEFT(A179,3))),'PFB-Konstrukte'!$J$9:$J$40))),ROW($1:$32)),1),1),7)=\"Führung\",\n\nINDEX('PFB-Konstrukte'!$A$9:$J$40,SMALL(IF(NOT(ISERROR(FIND(IF(LEFT(A179,1)=\"0\",\" \" & MID(A179,2,1) & \",\",IF(MID(A179,3,1)=\".\",LEFT(A179,2),LEFT(A179,3))),'PFB-Konstrukte'!$J$9:$J$40))),ROW($1:$32)),1),1) & \", \n\" & INDEX('PFB-Konstrukte'!$B$9:$J$40,SMALL(IF(NOT(ISERROR(FIND(IF(LEFT(A179,1)=\"0\",\" \" & MID(A179,2,1) & \",\",IF(MID(A179,3,1)=\".\",LEFT(A179,2),LEFT(A179,3))),'PFB-Konstrukte'!$J$9:$J$40))),ROW($1:$32)),2),1),\n\nINDEX('PFB-Konstrukte'!$A$9:$J$40,SMALL(IF(NOT(ISERROR(FIND(IF(LEFT(A179,1)=\"0\",\" \" & MID(A179,2,1) & \",\",IF(MID(A179,3,1)=\".\",LEFT(A179,2),LEFT(A179,3))),'PFB-Konstrukte'!$J$9:$J$40))),ROW($1:$32)),1),1))),\n\nINDEX('PFB-Konstrukte'!$A$9:$J$40,SMALL(IF(NOT(ISERROR(FIND(IF(LEFT(A179,1)=\"0\",\" \" & MID(A179,2,1) & \",\",IF(MID(A179,3,1)=\".\",LEFT(A179,2),LEFT(A179,3))),'PFB-Konstrukte'!$J$9:$J$40))),ROW($1:$32)),1),1))","v":"Arbeitszufriedenheit (Nur PTF)"}]
["106. ...den Kommunikationsstrukturen an der Schule.",0,null,null,null,null,null,null,null,{"$f":"IF(INDIRECT(\"'PFB-Konstrukte'!A\" & (SMALL(IF(NOT(ISERROR(FIND(IF(LEFT(A180,1)=\"0\",\" \" & MID(A180,2,1) & \",\",IF(MID(A180,3,1)=\".\",LEFT(A180,2),LEFT(A180,3))),'PFB-Konstrukte'!$J$9:$J$40))),ROW($9:$40)),1)+1))=\"\",\n\nIF(LEFT(INDIRECT(\"A\"&MAX(IF($B$1:B180=\"N\",ROW($A$1:A180)))-1),3)=\"nur\",\n\nIF(RIGHT(INDIRECT(\"A\"&MAX(IF($B$1:B180=\"N\",ROW($A$1:A180)))-1),4)=\"PTF!\",\nINDEX('PFB-Konstrukte'!$B$9:$J$40,SMALL(IF(NOT(ISERROR(FIND(IF(LEFT(A180,1)=\"0\",\" \" & MID(A180,2,1) & \",\",IF(MID(A180,3,1)=\".\",LEFT(A180,2),LEFT(A180,3))),'PFB-Konstrukte'!$J$9:$J$40))),ROW($1:$32)),3),1),\nINDEX('PFB-Konstrukte'!$B$9:$J$40,SMALL(IF(NOT(ISERROR(FIND(IF(LEFT(A180,1)=\"0\",\" \" & MID(A180,2,1) & \",\",IF(MID(A180,3,1)=\".\",LEFT(A180,2),LEFT(A180,3))),'PFB-Konstrukte'!$J$9:$J$40))),ROW($1:$32)),2),1)),\n\nIF(RIGHT(INDEX('PFB-Konstrukte'!$A$9:$J$40,SMALL(IF(NOT(ISERROR(FIND(IF(LEFT(A180,1)=\"0\",\" \" & MID(A180,2,1) & \",\",IF(MID(A180,3,1)=\".\",LEFT(A180,2),LEFT(A180,3))),'PFB-Konstrukte'!$J$9:$J$40))),ROW($1:$32)),1),1),7)=\"Führung\",\n\nINDEX('PFB-Konstrukte'!$A$9:$J$40,SMALL(IF(NOT(ISERROR(FIND(IF(LEFT(A180,1)=\"0\",\" \" & MID(A180,2,1) & \",\",IF(MID(A180,3,1)=\".\",LEFT(A180,2),LEFT(A180,3))),'PFB-Konstrukte'!$J$9:$J$40))),ROW($1:$32)),1),1) & \", \n\" & INDEX('PFB-Konstrukte'!$B$9:$J$40,SMALL(IF(NOT(ISERROR(FIND(IF(LEFT(A180,1)=\"0\",\" \" & MID(A180,2,1) & \",\",IF(MID(A180,3,1)=\".\",LEFT(A180,2),LEFT(A180,3))),'PFB-Konstrukte'!$J$9:$J$40))),ROW($1:$32)),2),1),\n\nINDEX('PFB-Konstrukte'!$A$9:$J$40,SMALL(IF(NOT(ISERROR(FIND(IF(LEFT(A180,1)=\"0\",\" \" & MID(A180,2,1) & \",\",IF(MID(A180,3,1)=\".\",LEFT(A180,2),LEFT(A180,3))),'PFB-Konstrukte'!$J$9:$J$40))),ROW($1:$32)),1),1))),\n\nINDEX('PFB-Konstrukte'!$A$9:$J$40,SMALL(IF(NOT(ISERROR(FIND(IF(LEFT(A180,1)=\"0\",\" \" & MID(A180,2,1) & \",\",IF(MID(A180,3,1)=\".\",LEFT(A180,2),LEFT(A180,3))),'PFB-Konstrukte'!$J$9:$J$40))),ROW($1:$32)),1),1))","v":"Arbeitszufriedenheit (Nur PTF)"}]
["107. ...meinen Möglichkeiten, Ideen zur Entwicklung der Schule einzubringen.",0,null,null,null,null,null,null,null,{"$f":"IF(INDIRECT(\"'PFB-Konstrukte'!A\" & (SMALL(IF(NOT(ISERROR(FIND(IF(LEFT(A181,1)=\"0\",\" \" & MID(A181,2,1) & \",\",IF(MID(A181,3,1)=\".\",LEFT(A181,2),LEFT(A181,3))),'PFB-Konstrukte'!$J$9:$J$40))),ROW($9:$40)),1)+1))=\"\",\n\nIF(LEFT(INDIRECT(\"A\"&MAX(IF($B$1:B181=\"N\",ROW($A$1:A181)))-1),3)=\"nur\",\n\nIF(RIGHT(INDIRECT(\"A\"&MAX(IF($B$1:B181=\"N\",ROW($A$1:A181)))-1),4)=\"PTF!\",\nINDEX('PFB-Konstrukte'!$B$9:$J$40,SMALL(IF(NOT(ISERROR(FIND(IF(LEFT(A181,1)=\"0\",\" \" & MID(A181,2,1) & \",\",IF(MID(A181,3,1)=\".\",LEFT(A181,2),LEFT(A181,3))),'PFB-Konstrukte'!$J$9:$J$40))),ROW($1:$32)),3),1),\nINDEX('PFB-Konstrukte'!$B$9:$J$40,SMALL(IF(NOT(ISERROR(FIND(IF(LEFT(A181,1)=\"0\",\" \" & MID(A181,2,1) & \",\",IF(MID(A181,3,1)=\".\",LEFT(A181,2),LEFT(A181,3))),'PFB-Konstrukte'!$J$9:$J$40))),ROW($1:$32)),2),1)),\n\nIF(RIGHT(INDEX('PFB-Konstrukte'!$A$9:$J$40,SMALL(IF(NOT(ISERROR(FIND(IF(LEFT(A181,1)=\"0\",\" \" & MID(A181,2,1) & \",\",IF(MID(A181,3,1)=\".\",LEFT(A181,2),LEFT(A181,3))),'PFB-Konstrukte'!$J$9:$J$40))),ROW($1:$32)),1),1),7)=\"Führung\",\n\nINDEX('PFB-Konstrukte'!$A$9:$J$40,SMALL(IF(NOT(ISERROR(FIND(IF(LEFT(A181,1)=\"0\",\" \" & MID(A181,2,1) & \",\",IF(MID(A181,3,1)=\".\",LEFT(A181,2),LEFT(A181,3))),'PFB-Konstrukte'!$J$9:$J$40))),ROW($1:$32)),1),1) & \", \n\" & INDEX('PFB-Konstrukte'!$B$9:$J$40,SMALL(IF(NOT(ISERROR(FIND(IF(LEFT(A181,1)=\"0\",\" \" & MID(A181,2,1) & \",\",IF(MID(A181,3,1)=\".\",LEFT(A181,2),LEFT(A181,3))),'PFB-Konstrukte'!$J$9:$J$40))),ROW($1:$32)),2),1),\n\nINDEX('PFB-Konstrukte'!$A$9:$J$40,SMALL(IF(NOT(ISERROR(FIND(IF(LEFT(A181,1)=\"0\",\" \" & MID(A181,2,1) & \",\",IF(MID(A181,3,1)=\".\",LEFT(A181,2),LEFT(A181,3))),'PFB-Konstrukte'!$J$9:$J$40))),ROW($1:$32)),1),1))),\n\nINDEX('PFB-Konstrukte'!$A$9:$J$40,SMALL(IF(NOT(ISERROR(FIND(IF(LEFT(A181,1)=\"0\",\" \" & MID(A181,2,1) & \",\",IF(MID(A181,3,1)=\".\",LEFT(A181,2),LEFT(A181,3))),'PFB-Konstrukte'!$J$9:$J$40))),ROW($1:$32)),1),1))","v":"Arbeitszufriedenheit (Nur PTF)"}]
["108. ...meinen Möglichkeiten, berufliche Ziele im Kontext von Schule verwirklichen zu können.",0,null,null,null,null,null,null,null,{"$f":"IF(INDIRECT(\"'PFB-Konstrukte'!A\" & (SMALL(IF(NOT(ISERROR(FIND(IF(LEFT(A182,1)=\"0\",\" \" & MID(A182,2,1) & \",\",IF(MID(A182,3,1)=\".\",LEFT(A182,2),LEFT(A182,3))),'PFB-Konstrukte'!$J$9:$J$40))),ROW($9:$40)),1)+1))=\"\",\n\nIF(LEFT(INDIRECT(\"A\"&MAX(IF($B$1:B182=\"N\",ROW($A$1:A182)))-1),3)=\"nur\",\n\nIF(RIGHT(INDIRECT(\"A\"&MAX(IF($B$1:B182=\"N\",ROW($A$1:A182)))-1),4)=\"PTF!\",\nINDEX('PFB-Konstrukte'!$B$9:$J$40,SMALL(IF(NOT(ISERROR(FIND(IF(LEFT(A182,1)=\"0\",\" \" & MID(A182,2,1) & \",\",IF(MID(A182,3,1)=\".\",LEFT(A182,2),LEFT(A182,3))),'PFB-Konstrukte'!$J$9:$J$40))),ROW($1:$32)),3),1),\nINDEX('PFB-Konstrukte'!$B$9:$J$40,SMALL(IF(NOT(ISERROR(FIND(IF(LEFT(A182,1)=\"0\",\" \" & MID(A182,2,1) & \",\",IF(MID(A182,3,1)=\".\",LEFT(A182,2),LEFT(A182,3))),'PFB-Konstrukte'!$J$9:$J$40))),ROW($1:$32)),2),1)),\n\nIF(RIGHT(INDEX('PFB-Konstrukte'!$A$9:$J$40,SMALL(IF(NOT(ISERROR(FIND(IF(LEFT(A182,1)=\"0\",\" \" & MID(A182,2,1) & \",\",IF(MID(A182,3,1)=\".\",LEFT(A182,2),LEFT(A182,3))),'PFB-Konstrukte'!$J$9:$J$40))),ROW($1:$32)),1),1),7)=\"Führung\",\n\nINDEX('PFB-Konstrukte'!$A$9:$J$40,SMALL(IF(NOT(ISERROR(FIND(IF(LEFT(A182,1)=\"0\",\" \" & MID(A182,2,1) & \",\",IF(MID(A182,3,1)=\".\",LEFT(A182,2),LEFT(A182,3))),'PFB-Konstrukte'!$J$9:$J$40))),ROW($1:$32)),1),1) & \", \n\" & INDEX('PFB-Konstrukte'!$B$9:$J$40,SMALL(IF(NOT(ISERROR(FIND(IF(LEFT(A182,1)=\"0\",\" \" & MID(A182,2,1) & \",\",IF(MID(A182,3,1)=\".\",LEFT(A182,2),LEFT(A182,3))),'PFB-Konstrukte'!$J$9:$J$40))),ROW($1:$32)),2),1),\n\nINDEX('PFB-Konstrukte'!$A$9:$J$40,SMALL(IF(NOT(ISERROR(FIND(IF(LEFT(A182,1)=\"0\",\" \" & MID(A182,2,1) & \",\",IF(MID(A182,3,1)=\".\",LEFT(A182,2),LEFT(A182,3))),'PFB-Konstrukte'!$J$9:$J$40))),ROW($1:$32)),1),1))),\n\nINDEX('PFB-Konstrukte'!$A$9:$J$40,SMALL(IF(NOT(ISERROR(FIND(IF(LEFT(A182,1)=\"0\",\" \" & MID(A182,2,1) & \",\",IF(MID(A182,3,1)=\".\",LEFT(A182,2),LEFT(A182,3))),'PFB-Konstrukte'!$J$9:$J$40))),ROW($1:$32)),1),1))","v":"Arbeitszufriedenheit (Nur PTF)"}]
["109. ...der Anerkennung meiner Profession innerhalb der Schulgemeinschaft.",0,null,null,null,null,null,null,null,{"$f":"IF(INDIRECT(\"'PFB-Konstrukte'!A\" & (SMALL(IF(NOT(ISERROR(FIND(IF(LEFT(A183,1)=\"0\",\" \" & MID(A183,2,1) & \",\",IF(MID(A183,3,1)=\".\",LEFT(A183,2),LEFT(A183,3))),'PFB-Konstrukte'!$J$9:$J$40))),ROW($9:$40)),1)+1))=\"\",\n\nIF(LEFT(INDIRECT(\"A\"&MAX(IF($B$1:B183=\"N\",ROW($A$1:A183)))-1),3)=\"nur\",\n\nIF(RIGHT(INDIRECT(\"A\"&MAX(IF($B$1:B183=\"N\",ROW($A$1:A183)))-1),4)=\"PTF!\",\nINDEX('PFB-Konstrukte'!$B$9:$J$40,SMALL(IF(NOT(ISERROR(FIND(IF(LEFT(A183,1)=\"0\",\" \" & MID(A183,2,1) & \",\",IF(MID(A183,3,1)=\".\",LEFT(A183,2),LEFT(A183,3))),'PFB-Konstrukte'!$J$9:$J$40))),ROW($1:$32)),3),1),\nINDEX('PFB-Konstrukte'!$B$9:$J$40,SMALL(IF(NOT(ISERROR(FIND(IF(LEFT(A183,1)=\"0\",\" \" & MID(A183,2,1) & \",\",IF(MID(A183,3,1)=\".\",LEFT(A183,2),LEFT(A183,3))),'PFB-Konstrukte'!$J$9:$J$40))),ROW($1:$32)),2),1)),\n\nIF(RIGHT(INDEX('PFB-Konstrukte'!$A$9:$J$40,SMALL(IF(NOT(ISERROR(FIND(IF(LEFT(A183,1)=\"0\",\" \" & MID(A183,2,1) & \",\",IF(MID(A183,3,1)=\".\",LEFT(A183,2),LEFT(A183,3))),'PFB-Konstrukte'!$J$9:$J$40))),ROW($1:$32)),1),1),7)=\"Führung\",\n\nINDEX('PFB-Konstrukte'!$A$9:$J$40,SMALL(IF(NOT(ISERROR(FIND(IF(LEFT(A183,1)=\"0\",\" \" & MID(A183,2,1) & \",\",IF(MID(A183,3,1)=\".\",LEFT(A183,2),LEFT(A183,3))),'PFB-Konstrukte'!$J$9:$J$40))),ROW($1:$32)),1),1) & \", \n\" & INDEX('PFB-Konstrukte'!$B$9:$J$40,SMALL(IF(NOT(ISERROR(FIND(IF(LEFT(A183,1)=\"0\",\" \" & MID(A183,2,1) & \",\",IF(MID(A183,3,1)=\".\",LEFT(A183,2),LEFT(A183,3))),'PFB-Konstrukte'!$J$9:$J$40))),ROW($1:$32)),2),1),\n\nINDEX('PFB-Konstrukte'!$A$9:$J$40,SMALL(IF(NOT(ISERROR(FIND(IF(LEFT(A183,1)=\"0\",\" \" & MID(A183,2,1) & \",\",IF(MID(A183,3,1)=\".\",LEFT(A183,2),LEFT(A183,3))),'PFB-Konstrukte'!$J$9:$J$40))),ROW($1:$32)),1),1))),\n\nINDEX('PFB-Konstrukte'!$A$9:$J$40,SMALL(IF(NOT(ISERROR(FIND(IF(LEFT(A183,1)=\"0\",\" \" & MID(A183,2,1) & \",\",IF(MID(A183,3,1)=\".\",LEFT(A183,2),LEFT(A183,3))),'PFB-Konstrukte'!$J$9:$J$40))),ROW($1:$32)),1),1))","v":"Arbeitszufriedenheit (Nur PTF)"}]

{"sheet":"Effektstärken PuP","index":5,"n_rows":73,"n_cols":10,"rows_kept":73,"cut":false,"hidden":true,"merged":[[61,0,61,8],[44,0,44,9],[47,1,47,9],[48,1,48,9],[49,1,49,9],[45,1,45,9],[46,1,46,9],[50,1,50,9],[56,0,56,2],[57,0,57,2],[51,1,51,9],[58,0,58,2],[59,0,59,2],[52,1,52,9],[3,0,3,1],[1,0,1,9],[37,0,37,1],[31,0,31,1],[32,0,32,1],[33,0,33,1],[34,0,34,1],[26,0,26,1],[27,0,27,1],[28,0,28,1],[29,0,29,1],[30,0,30,1],[7,2,7,4],[7,5,7,7],[7,8,7,9],[62,0,62,8],[69,0,69,8],[70,0,70,8],[71,0,71,8],[72,0,72,8],[63,0,63,8],[64,0,64,8],[65,0,65,8],[66,0,66,8],[68,0,68,8],[43,0,43,9],[5,0,5,9],[9,0,9,1],[13,0,13,1],[14,0,14,1],[15,0,15,1],[19,0,19,1],[22,0,22,1],[23,0,23,1],[24,0,24,1],[25,0,25,1],[40,0,40,1],[8,0,8,1]]}
[]
["Fragebogen für Pädagoginnen und Pädagogen - Effektstärken"]
[]
[{"$f":"'FB nach BerT'!A1","v":"Schule Rungwisch (5274)"}]
[]
[{"$f":"'PFB-Konstrukte'!A6","v":"Der Rücklauf der Befragung des pädagogisch therapeutischen Fachpersonals betrug an Ihrer Schule 10 oder weniger Fragebögen.\nUm die Anonymität der Befragten zu gewährleisten, werden die entsprechenden Ergebnisse weder in grafischer, noch in tabellarischer Form zurückgemeldet. In die Berechnungen zu Items und Konstrukten, die sich an alle Pädagoginnen und Pädagogen der Schule richten, fließen die Daten der PTF jedoch mit ein."}]
[]
[null,null,{"$f":"CONCATENATE(\"Inspizierte Schule \",'FB nach BerT'!I1,\"\")","v":"Inspizierte Schule (5274)"},null,null,"Referenzwert",null,null,"Effektstärke"]
["Konstrukt",null,"N","MW","SD","N","MW","SD","D","Effekt"]
[{"$f":"'PFB-Konstrukte'!A9","v":"Transformationale Führung"},null,{"$f":"'PFB-Konstrukte'!C9","v":23},{"$f":"'PFB-Konstrukte'!D9","v":3.3064182194616976},{"$f":"'PFB-Konstrukte'!F9","v":0.57785457647721639},349,3.3172269999999999,0.59992380000000001,{"$f":"IF(OR(Rücklaufquoten!$I$4=0,C10=0),\"k.A.\",IF(G10=\"-\",\"o.R.\",((D10-G10)/(SQRT(((POWER(E10,2))+(POWER(H10,2)))/2)))))","v":-1.835130225144551E-2},{"$f":"IF(OR(I10=\"o.R.\",I10=\"k.A.\"),I10,IF(I10>=0.5,\"++\",IF(AND(I10>=0.209999999999999,I10<=0.499999999999999),\"+\",IF(AND(I10>=-0.209999999999999,I10<0.209999999999999),\"Ø\",IF(AND(I10>=-0.499999999999999,I10<=-0.205),\"-\",IF(I10<=-0.5,\"--\",\"Fehler\"))))))","v":"Ø"}]
[null,{"$f":"'PFB-Konstrukte'!B10","v":"Motivation durch begeisternde Visionen"},{"$f":"'PFB-Konstrukte'!C10","v":20},{"$f":"'PFB-Konstrukte'!D10","v":3.1333333333333337},{"$f":"'PFB-Konstrukte'!F10","v":0.74457099386981274},349,3.306467,0.65831720000000005,{"$f":"IF(OR(Rücklaufquoten!$I$4=0,C11=0),\"k.A.\",IF(G11=\"-\",\"o.R.\",((D11-G11)/(SQRT(((POWER(E11,2))+(POWER(H11,2)))/2)))))","v":-0.24635941153452096},{"$f":"IF(OR(I11=\"o.R.\",I11=\"k.A.\"),I11,IF(I11>=0.5,\"++\",IF(AND(I11>=0.209999999999999,I11<=0.499999999999999),\"+\",IF(AND(I11>=-0.209999999999999,I11<0.209999999999999),\"Ø\",IF(AND(I11>=-0.499999999999999,I11<=-0.205),\"-\",IF(I11<=-0.5,\"--\",\"Fehler\"))))))","v":"-"}]
[null,{"$f":"'PFB-Konstrukte'!B11","v":"Einfluss durch Vorbildlichkeit und Glaubwürdigkeit"},{"$f":"'PFB-Konstrukte'!C11","v":23},{"$f":"'PFB-Konstrukte'!D11","v":3.4637681159420293},{"$f":"'PFB-Konstrukte'!F11","v":0.56621310221418952},349,3.3717009999999998,0.6393527,{"$f":"IF(OR(Rücklaufquoten!$I$4=0,C12=0),\"k.A.\",IF(G12=\"-\",\"o.R.\",((D12-G12)/(SQRT(((POWER(E12,2))+(POWER(H12,2)))/2)))))","v":0.15245646338454397},"Ø"]
[null,{"$f":"'PFB-Konstrukte'!B12","v":"Individuelle Unterstützung und Förderung"},{"$f":"'PFB-Konstrukte'!C12","v":23},{"$f":"'PFB-Konstrukte'!D12","v":3.2536231884057973},{"$f":"'PFB-Konstrukte'!F12","v":0.67395554288194048},349,3.2820990000000001,0.71576139999999999,{"$f":"IF(OR(Rücklaufquoten!$I$4=0,C13=0),\"k.A.\",IF(G13=\"-\",\"o.R.\",((D13-G13)/(SQRT(((POWER(E13,2))+(POWER(H13,2)))/2)))))","v":-4.0962205973107388E-2},"Ø"]
[{"$f":"'PFB-Konstrukte'!A13","v":"Transaktionale Führung"},null,{"$f":"'PFB-Konstrukte'!C13","v":21},{"$f":"'PFB-Konstrukte'!D13","v":3.1507936507936507},{"$f":"'PFB-Konstrukte'!F13","v":0.67475255115561095},349,3.2255699999999998,0.61931930000000002,{"$f":"IF(OR(Rücklaufquoten!$I$4=0,C14=0),\"k.A.\",IF(G14=\"-\",\"o.R.\",((D14-G14)/(SQRT(((POWER(E14,2))+(POWER(H14,2)))/2)))))","v":-0.11546165389453864},"Ø"]
[{"$f":"'PFB-Konstrukte'!A14","v":"Aktive Führung"},null,{"$f":"'PFB-Konstrukte'!C14","v":23},{"$f":"'PFB-Konstrukte'!D14","v":3.2681159420289854},{"$f":"'PFB-Konstrukte'!F14","v":0.40432988093027139},349,3.4104380000000001,0.53040290000000001,{"$f":"IF(OR(Rücklaufquoten!$I$4=0,C15=0),\"k.A.\",IF(G15=\"-\",\"o.R.\",((D15-G15)/(SQRT(((POWER(E15,2))+(POWER(H15,2)))/2)))))","v":-0.30178663035900433},"-"]
[{"$f":"'PFB-Konstrukte'!A15","v":"Instruktionale Führung"},null,{"$f":"'PFB-Konstrukte'!C15","v":23},{"$f":"'PFB-Konstrukte'!D15","v":2.8119047619047617},{"$f":"'PFB-Konstrukte'!F15","v":0.5933923764859601},349,2.989465,0.60023859999999996,{"$f":"IF(OR(Rücklaufquoten!$I$4=0,C16=0),\"k.A.\",IF(G16=\"-\",\"o.R.\",((D16-G16)/(SQRT(((POWER(E16,2))+(POWER(H16,2)))/2)))))","v":-0.29750789151296397},"-"]
[null,{"$f":"'PFB-Konstrukte'!B16","v":"Supervision"},{"$f":"'PFB-Konstrukte'!C16","v":21},{"$f":"'PFB-Konstrukte'!D16","v":2.0238095238095242},{"$f":"'PFB-Konstrukte'!F16","v":0.53563491475515479},349,2.4606219999999999,0.75785599999999997,{"$f":"IF(OR(Rücklaufquoten!$I$4=0,C17=0),\"k.A.\",IF(G17=\"-\",\"o.R.\",((D17-G17)/(SQRT(((POWER(E17,2))+(POWER(H17,2)))/2)))))","v":-0.66564901522717257},"--"]
[null,{"$f":"'PFB-Konstrukte'!B17","v":"Schulziel-Management"},{"$f":"'PFB-Konstrukte'!C17","v":19},{"$f":"'PFB-Konstrukte'!D17","v":3.0263157894736845},{"$f":"'PFB-Konstrukte'!F17","v":0.69890381077237707},349,3.1663800000000002,0.61789590000000005,{"$f":"IF(OR(Rücklaufquoten!$I$4=0,C18=0),\"k.A.\",IF(G18=\"-\",\"o.R.\",((D18-G18)/(SQRT(((POWER(E18,2))+(POWER(H18,2)))/2)))))","v":-0.21233285304690511},"-"]
[null,{"$f":"'PFB-Konstrukte'!B18","v":"Anleitungsmanagement"},{"$f":"'PFB-Konstrukte'!C18","v":23},{"$f":"'PFB-Konstrukte'!D18","v":3.1666666666666665},{"$f":"'PFB-Konstrukte'!F18","v":0.55277079839256671},349,3.1526399999999999,0.66393449999999998,{"$f":"IF(OR(Rücklaufquoten!$I$4=0,C19=0),\"k.A.\",IF(G19=\"-\",\"o.R.\",((D19-G19)/(SQRT(((POWER(E19,2))+(POWER(H19,2)))/2)))))","v":2.2961167405263529E-2},"Ø"]
[{"$f":"'PFB-Konstrukte'!A19","v":"Partizipative Führung"},null,{"$f":"'PFB-Konstrukte'!C19","v":23},{"$f":"'PFB-Konstrukte'!D19","v":3.2921842650103526},{"$f":"'PFB-Konstrukte'!F19","v":0.5622599153328417},349,3.4595940000000001,0.55046289999999998,{"$f":"IF(OR(Rücklaufquoten!$I$4=0,C20=0),\"k.A.\",IF(G20=\"-\",\"o.R.\",((D20-G20)/(SQRT(((POWER(E20,2))+(POWER(H20,2)))/2)))))","v":-0.30088414646029482},"-"]
[null,{"$f":"'PFB-Konstrukte'!B20","v":"Delegation von Führung"},{"$f":"'PFB-Konstrukte'!C20","v":23},{"$f":"'PFB-Konstrukte'!D20","v":3.2717391304347827},{"$f":"'PFB-Konstrukte'!F20","v":0.57746911200375151},349,3.4369900000000002,0.5914277,{"$f":"IF(OR(Rücklaufquoten!$I$4=0,C21=0),\"k.A.\",IF(G21=\"-\",\"o.R.\",((D21-G21)/(SQRT(((POWER(E21,2))+(POWER(H21,2)))/2)))))","v":-0.28272656138698221},"-"]
[null,{"$f":"'PFB-Konstrukte'!B21","v":"Distribution von Führung"},{"$f":"'PFB-Konstrukte'!C21","v":23},{"$f":"'PFB-Konstrukte'!D21","v":3.3188405797101446},{"$f":"'PFB-Konstrukte'!F21","v":0.57000585562795214},349,3.47851,0.56330769999999997,{"$f":"IF(OR(Rücklaufquoten!$I$4=0,C22=0),\"k.A.\",IF(G22=\"-\",\"o.R.\",((D22-G22)/(SQRT(((POWER(E22,2))+(POWER(H22,2)))/2)))))","v":-0.28176956124519686},"-"]
[{"$f":"'PFB-Konstrukte'!A22","v":"Positives Innovationsklima"},null,{"$f":"'PFB-Konstrukte'!C22","v":22},{"$f":"'PFB-Konstrukte'!D22","v":3.0946969696969697},{"$f":"'PFB-Konstrukte'!F22","v":0.36031241454470603},349,3.1541960000000002,0.57107079999999999,{"$f":"IF(OR(Rücklaufquoten!$I$4=0,C23=0),\"k.A.\",IF(G23=\"-\",\"o.R.\",((D23-G23)/(SQRT(((POWER(E23,2))+(POWER(H23,2)))/2)))))","v":-0.12461426334861235},"Ø"]
[{"$f":"'PFB-Konstrukte'!A23","v":"Schülerbezogener Austausch"},null,{"$f":"'PFB-Konstrukte'!C23","v":22},{"$f":"'PFB-Konstrukte'!D23","v":3.6212121212121215},{"$f":"'PFB-Konstrukte'!F23","v":0.4965005000125845},349,3.6106020000000001,0.47832209999999997,{"$f":"IF(OR(Rücklaufquoten!$I$4=0,C24=0),\"k.A.\",IF(G24=\"-\",\"o.R.\",((D24-G24)/(SQRT(((POWER(E24,2))+(POWER(H24,2)))/2)))))","v":2.1764528003183785E-2},"Ø"]
[{"$f":"'PFB-Konstrukte'!A24","v":"Synchronisation"},null,{"$f":"'PFB-Konstrukte'!C24","v":16},{"$f":"'PFB-Konstrukte'!D24","v":2.9010416666666665},{"$f":"'PFB-Konstrukte'!F24","v":0.6778361199844366},349,3.272227,0.70812439999999999,{"$f":"IF(OR(Rücklaufquoten!$I$4=0,C25=0),\"k.A.\",IF(G25=\"-\",\"o.R.\",((D25-G25)/(SQRT(((POWER(E25,2))+(POWER(H25,2)))/2)))))","v":-0.53550836995967543},"--"]
[{"$f":"'PFB-Konstrukte'!A25","v":"Ko-Konstruktion"},null,{"$f":"'PFB-Konstrukte'!C25","v":15},{"$f":"'PFB-Konstrukte'!D25","v":1.966666666666667},{"$f":"'PFB-Konstrukte'!F25","v":0.47459255708248871},349,2.4470730000000001,0.75081310000000001,{"$f":"IF(OR(Rücklaufquoten!$I$4=0,C26=0),\"k.A.\",IF(G26=\"-\",\"o.R.\",((D26-G26)/(SQRT(((POWER(E26,2))+(POWER(H26,2)))/2)))))","v":-0.76488592271093014},"--"]
[{"$f":"'PFB-Konstrukte'!A26","v":"Kooperationsklima"},null,{"$f":"'PFB-Konstrukte'!C26","v":23},{"$f":"'PFB-Konstrukte'!D26","v":3.3115942028985503},{"$f":"'PFB-Konstrukte'!F26","v":0.3428724025192324},349,3.476245,0.48040509999999997,{"$f":"IF(OR(Rücklaufquoten!$I$4=0,C27=0),\"k.A.\",IF(G27=\"-\",\"o.R.\",((D27-G27)/(SQRT(((POWER(E27,2))+(POWER(H27,2)))/2)))))","v":-0.39452142081977271},"-"]
[{"$f":"'PFB-Konstrukte'!A27","v":"Rahmenbedingungen der Kooperation"},null,{"$f":"'PFB-Konstrukte'!C27","v":23},{"$f":"'PFB-Konstrukte'!D27","v":2.865217391304347},{"$f":"'PFB-Konstrukte'!F27","v":0.62534663202806573},349,3.3481239999999999,0.68357699999999999,{"$f":"IF(OR(Rücklaufquoten!$I$4=0,C28=0),\"k.A.\",IF(G28=\"-\",\"o.R.\",((D28-G28)/(SQRT(((POWER(E28,2))+(POWER(H28,2)))/2)))))","v":-0.73713919103075831},"--"]
[{"$f":"'PFB-Konstrukte'!A28","v":"Fachliche und jahrgangsspezifische Kooperation unter Lehrpersonen"},null,{"$f":"'PFB-Konstrukte'!C28","v":16},{"$f":"'PFB-Konstrukte'!D28","v":2.4843750000000004},{"$f":"'PFB-Konstrukte'!F28","v":0.53161071631759227},"-","-","-",{"$f":"IF(OR(Rücklaufquoten!$I$4=0,C29=0),\"k.A.\",IF(G29=\"-\",\"o.R.\",((D29-G29)/(SQRT(((POWER(E29,2))+(POWER(H29,2)))/2)))))","v":"o.R."},"o.R."]
[{"$f":"'PFB-Konstrukte'!A29","v":"Kollektive Selbstwirksamkeit"},null,{"$f":"'PFB-Konstrukte'!C29","v":23},{"$f":"'PFB-Konstrukte'!D29","v":3.0144927536231885},{"$f":"'PFB-Konstrukte'!F29","v":0.41716044523218559},349,3.337151,0.52904079999999998,{"$f":"IF(OR(Rücklaufquoten!$I$4=0,C30=0),\"k.A.\",IF(G30=\"-\",\"o.R.\",((D30-G30)/(SQRT(((POWER(E30,2))+(POWER(H30,2)))/2)))))","v":-0.67728947118595439},"--"]
[{"$f":"'PFB-Konstrukte'!A30","v":"Systematische Schul- und Unterrichtsentwicklung"},null,{"$f":"'PFB-Konstrukte'!C30","v":23},{"$f":"'PFB-Konstrukte'!D30","v":2.8393374741200823},{"$f":"'PFB-Konstrukte'!F30","v":0.65542936053617862},349,3.1619929999999998,0.54768559999999999,{"$f":"IF(OR(Rücklaufquoten!$I$4=0,C31=0),\"k.A.\",IF(G31=\"-\",\"o.R.\",((D31-G31)/(SQRT(((POWER(E31,2))+(POWER(H31,2)))/2)))))","v":-0.53422894977966573},"--"]
[{"$f":"'PFB-Konstrukte'!A31","v":"Klassenführung"},null,{"$f":"'PFB-Konstrukte'!C31","v":23},{"$f":"'PFB-Konstrukte'!D31","v":3.1858178053830231},{"$f":"'PFB-Konstrukte'!F31","v":0.33429840834180885},349,3.3885049999999999,0.32007999999999998,{"$f":"IF(OR(Rücklaufquoten!$I$4=0,C32=0),\"k.A.\",IF(G32=\"-\",\"o.R.\",((D32-G32)/(SQRT(((POWER(E32,2))+(POWER(H32,2)))/2)))))","v":-0.61933390084304973},"--"]
[{"$f":"'PFB-Konstrukte'!A32","v":"Konstruktive Unterstützung"},null,{"$f":"'PFB-Konstrukte'!C32","v":21},{"$f":"'PFB-Konstrukte'!D32","v":3.646258503401361},{"$f":"'PFB-Konstrukte'!F32","v":0.35748283138180253},349,3.6071140000000002,0.29969129999999999,{"$f":"IF(OR(Rücklaufquoten!$I$4=0,C33=0),\"k.A.\",IF(G33=\"-\",\"o.R.\",((D33-G33)/(SQRT(((POWER(E33,2))+(POWER(H33,2)))/2)))))","v":0.11867179425895141},"Ø"]
[{"$f":"'PFB-Konstrukte'!A33","v":"Potenzial zur kognitiven Aktivierung"},null,{"$f":"'PFB-Konstrukte'!C33","v":21},{"$f":"'PFB-Konstrukte'!D33","v":3.6539682539682539},{"$f":"'PFB-Konstrukte'!F33","v":0.30884663408598673},349,3.6152829999999998,0.2911242,{"$f":"IF(OR(Rücklaufquoten!$I$4=0,C34=0),\"k.A.\",IF(G34=\"-\",\"o.R.\",((D34-G34)/(SQRT(((POWER(E34,2))+(POWER(H34,2)))/2)))))","v":0.12890089167284369},"Ø"]
[{"$f":"'PFB-Konstrukte'!A34","v":"Arbeitszufriedenheit"},null,{"$f":"'PFB-Konstrukte'!C34","v":23},{"$f":"'PFB-Konstrukte'!D34","v":3.2115942028985507},{"$f":"'PFB-Konstrukte'!F34","v":0.40770467322674458},349,3.3515510000000002,0.55277019999999999,{"$f":"IF(OR(Rücklaufquoten!$I$4=0,C35=0),\"k.A.\",IF(G35=\"-\",\"o.R.\",((D35-G35)/(SQRT(((POWER(E35,2))+(POWER(H35,2)))/2)))))","v":-0.28816428467193067},"-"]
[null,{"$f":"'PFB-Konstrukte'!B35","v":"Arbeitszufriedenheit (Nur Lehrpersonen)"},{"$f":"'PFB-Konstrukte'!C35","v":0},{"$f":"'PFB-Konstrukte'!D35","v":0},{"$f":"'PFB-Konstrukte'!F35","v":0.36797116432918731},"-","-","-",{"$f":"IF(OR(Rücklaufquoten!$I$4=0,C36=0),\"k.A.\",IF(G36=\"-\",\"o.R.\",((D36-G36)/(SQRT(((POWER(E36,2))+(POWER(H36,2)))/2)))))","v":"k.A."},"k.A."]
[null,{"$f":"'PFB-Konstrukte'!B36","v":"Arbeitszufriedenheit (Nur PTF)"},{"$f":"'PFB-Konstrukte'!C36","v":0},{"$f":"'PFB-Konstrukte'!D36","v":0},{"$f":"'PFB-Konstrukte'!F36","v":0.50657058403914113},"-","-","-",{"$f":"IF(OR(Rücklaufquoten!$I$4=0,C37=0),\"k.A.\",IF(G37=\"-\",\"o.R.\",((D37-G37)/(SQRT(((POWER(E37,2))+(POWER(H37,2)))/2)))))","v":"k.A."},"k.A."]
[{"$f":"'PFB-Konstrukte'!A37","v":"Mitarbeiterbindung"},null,{"$f":"'PFB-Konstrukte'!C37","v":23},{"$f":"'PFB-Konstrukte'!D37","v":3.5652173913043472},{"$f":"'PFB-Konstrukte'!F37","v":0.51244396203804476},349,3.5576750000000001,0.53212280000000001,{"$f":"IF(OR(Rücklaufquoten!$I$4=0,C38=0),\"k.A.\",IF(G38=\"-\",\"o.R.\",((D38-G38)/(SQRT(((POWER(E38,2))+(POWER(H38,2)))/2)))))","v":1.443862369373235E-2},"Ø"]
[null,{"$f":"'PFB-Konstrukte'!B38","v":"Mitarbeiterbindung (Nur Lehrpersonen)"},{"$f":"'PFB-Konstrukte'!C38","v":0},{"$f":"'PFB-Konstrukte'!D38","v":0},{"$f":"'PFB-Konstrukte'!F38","v":0.46519485164820984},"-","-","-",{"$f":"IF(OR(Rücklaufquoten!$I$4=0,C39=0),\"k.A.\",IF(G39=\"-\",\"o.R.\",((D39-G39)/(SQRT(((POWER(E39,2))+(POWER(H39,2)))/2)))))","v":"k.A."},"k.A."]
[null,{"$f":"'PFB-Konstrukte'!B39","v":"Mitarbeiterbindung (Nur PTF)"},{"$f":"'PFB-Konstrukte'!C39","v":0},{"$f":"'PFB-Konstrukte'!D39","v":0},{"$f":"'PFB-Konstrukte'!F39","v":0.63620901028035182},"-","-","-",{"$f":"IF(OR(Rücklaufquoten!$I$4=0,C40=0),\"k.A.\",IF(G40=\"-\",\"o.R.\",((D40-G40)/(SQRT(((POWER(E40,2))+(POWER(H40,2)))/2)))))","v":"k.A."},"k.A."]
[{"$f":"'PFB-Konstrukte'!A40","v":"Eingebundenheit in die Schulgemeinschaft - PTF der Schule"},null,{"$f":"'PFB-Konstrukte'!C40","v":0},{"$f":"'PFB-Konstrukte'!D40","v":0},{"$f":"'PFB-Konstrukte'!F40","v":0.38188130791298669},"-","-","-",{"$f":"IF(OR(Rücklaufquoten!$I$4=0,C41=0),\"k.A.\",IF(G41=\"-\",\"o.R.\",((D41-G41)/(SQRT(((POWER(E41,2))+(POWER(H41,2)))/2)))))","v":"k.A."},"k.A."]
[]
[]
["Legende"]
["Referenzwerte der Grundschulen des 3. Zyklus ab 2019/20*"]
["++ ","Der Mittelwert der inspizierten Schule liegt im Vergleich zur Referenzstichprobe stark über dem Durchschnitt. "]
["+ ","Der Mittelwert der inspizierten Schule liegt im Vergleich zur Referenzstichprobe über dem Durchschnitt. "]
["Ø ","Der Mittelwert der inspizierten Schule liegt im Vergleich zur Referenzstichprobe im Durchschnitt.  "]
["- ","Der Mittelwert der inspizierten Schule liegt im Vergleich zur Referenzsstichprobe unter dem Durchschnitt. "]
["- -  ","Der Mittelwert der inspizierten Schule liegt im Vergleich zur Referenzstichprobe stark unter dem Durchschnitt. "]
["o.R.","Ohne Referenz - Für den Mittelwert dieser Skala liegen noch keine Referenzwerte vor, weshalb kein Vergleich möglich ist."]
["k.A.","keine Angabe - Für diese Skala wird keine Effektstärke angegeben. (Rücklauf oder Rücklaufquote zu niedrig)"]
["*","Referenzwerte stammen aus Befragungen, an denen ausschließlich Lehrpersonen teilgenommen haben."]
[]
[]
[null,null,null,"D = größer als +0,2","D = größer als +0,5"]
["a) Prozentualer Anteil aus Vergleichsgruppe unter dem Durchschnitt der inspizierten Schule",null,null,0.57999999999999996,0.69]
["b) Chance der Umsetzung an der inspizierten Schule",null,null,2.4700000000000002,4.25]
["c) Prozentuale Risikoreduktion",null,null,0.54,0.6]
["d) Wahrscheinlichkeit, dass zufällig ausgewählte Person aus der inspizierten Schule einen höheren Wert aufweist als eine Person aus der Vergleichtsgruppe",null,null,0.56000000000000005,0.64]
[]
["Beispiel:"]
["D = 0,7 bei Lehrmethoden, die die Eigenaktivität fördern"]
["a) Rund 70% der Lehrkräfte aus der Vergleichsgruppe verwenden seltener Lehrmethoden, die die Eigenaktivität der Schülerinnen und Schüler fördern als eine durchschnittliche Lehrkraft an der inspizierten Schule "]
["b) Die Chance, dass in einer Unterrichtsstunde an der inspizierten Schule diese Lehrform eingesetzt wird, ist rund 4-mal so hoch wie in der Vergleichsgruppe "]
["c) Der Schulbesuch eines Kindes an der inspizierten Schule verringert das Risiko, nur selten an einem Unterricht teilzunehmen, in dem Lehrmethoden, eingesetzt werden, die die Eigenaktivität fördern, um mehr als 60% im Vergleich zur Vergleichsgruppe "]
["d) Eine zufällig ausgewählte Lehrkraft der inspizierten Schule setzt mit einer 64-prozentigen Wahrscheinlichkeit häufiger diese Lehrform ein als eine zufällig ausgewählte Lehrkraft aus der Referenzstichprobe "]
[]
["Bei negativem D, muss die Interpretation umgekehrt werden, also z.B. D = 0-,7 bei Lehrmethoden, die die Eigenaktivität fördern"]
["a) Rund 70% der Lehrkräfte aus der Vergleichsgruppe verwenden häufiger Lehrmethoden, die die Eigenaktivität der Schülerinnen und Schüler fördern als eine durchschnittliche Lehrkraft an der inspizierten Schule "]
["b) Die Chance, dass in einer Unterrichtsstunde an der inspizierten Schule diese Lehrform eingesetzt wird, ist rund 4-mal so niedrig wie in der Vergleichsgruppe "]
["c) Der Schulbesuch eines Kindes an der inspizierten Schule erhöht das Risiko, nur selten an einem Unterricht teilzunehmen, in dem Lehrmethoden, eingesetzt werden, die die Eigenaktivität fördern, um mehr als 60% im Vergleich zur Vergleichsgruppe "]
["d) Eine zufällig ausgewählte Lehrkraft der inspizierten Schule setzt mit einer 64-prozentigen Wahrscheinlichkeit seltener diese Lehrform ein als eine zufällig ausgewählte Lehrkraft aus der Referenzstichprobe "]

{"sheet":"SFB-Konstrukte","index":6,"n_rows":24,"n_cols":9,"rows_kept":24,"cut":false,"hidden":true,"merged":[[5,0,5,6],[1,0,1,6]]}
[]
["Fragebogen für Schülerinnen und Schüler - Konstrukte"]
[]
[{"$f":"'FB nach BerT'!A1","v":"Schule Rungwisch (5274)"}]
[]
[{"$f":"\nIF(Rücklaufquoten!$I$5=0.5, \"Die Rücklaufquote der Befragung der Schülerinnen und Schüler an Ihrer Schule lag zwischen 20 und 50 Prozent.\" & \" Die Daten sind bei einer solchen Rücklaufquote in der Regel systematisch verzerrt und können nicht als repräsentativ für die Meinung aller Befragten der Gruppe betrachtet werden.\" & \"\nAus diesem Grund werden die Ergebnisse grafisch nicht dargestellt. Zu Ihrer Information sind die Daten dennoch in den Tabellen einsehbar, jedoch sind sie mit einer gelben Markierung hinterlegt.\",\n\nIF(Rücklaufquoten!$I$5=0,\nIF(Rücklaufquoten!G5<=10,\n\"Der Rücklauf der Befragung der Schülerinnen und Schüler betrug an Ihrer Schule 10 oder weniger Fragebögen.\" & \"\nUm die Anonymität der Befragten zu gewährleisten, werden die entsprechenden Ergebnisse weder in grafischer, noch in tabellarischer Form zurückgemeldet.\",\n\"Die Rücklaufquote der Befragung der Schülerinnen und Schüler an Ihrer Schule lag unter 20 Prozent.\" & \" Die Daten sind bei einer solchen Rücklaufquote in der Regel nicht aussagekräftig.\" &\"\nAus diesem Grund werden die Ergebnisse weder in grafischer, noch in tabellarischer Form zurückgemeldet.\"),\n\n\"Alle Rücklaufquoten sind ausreichend hoch, sodass alle Daten dargestellt werden.\"))","v":"Die Rücklaufquote der Befragung der Schülerinnen und Schüler an Ihrer Schule lag zwischen 20 und 50 Prozent. Die Daten sind bei einer solchen Rücklaufquote in der Regel systematisch verzerrt und können nicht als repräsentativ für die Meinung aller Befragten der Gruppe betrachtet werden.\nAus diesem Grund werden die Ergebnisse grafisch nicht dargestellt. Zu Ihrer Information sind die Daten dennoch in den Tabellen einsehbar, jedoch sind sie mit einer gelben Markierung hinterlegt."}]
[]
["Konstrukt","N","Mittelwert","SE","SD","Anzahl Items","Items"]
["Gelungene Gestaltung des Ganztags",39,3.4337606837606831,7.1544679521952773E-2,0.44679638041064995,4,"46, 47, 48, 49",null,{"$f":"\" \"&G9&\", \"","v":" 46, 47, 48, 49, "}]
["Klassenführung",51,3.0522875816993467,6.3168032661249013E-2,0.45110998422216697,5,"20, 21, 22, 23, 24",null,{"$f":"\" \"&G10&\", \"","v":" 20, 21, 22, 23, 24, "}]
["Klassenführung im digital gestützten Unterricht",3,3.5833333333333335,0.41666666666666674,0.72168783648703227,4,"40, 41, 42, 43",null," 40, 41, 42, 43, "]
["Konstruktive Unterstützung",52,3.7435897435897432,4.0606558920935613E-2,0.29281806061916604,4,"16, 17, 18, 19",null," 16, 17, 18, 19, "]
["Konstruktive Unterstützung im digital gestützten Unterricht",2,3.4,0.6,0.84852813742385713,5,"35, 36, 37, 38, 39",null," 35, 36, 37, 38, 39, "]
["Potenzial zu kognitiver Aktivierung",52,3.1602564102564106,7.6032849387429657E-2,0.54828067417201676,3,"13, 14, 15",null," 13, 14, 15, "]
["Potenzial zu kognitiver Aktivierung im digital gestützten Unterricht",3,2.8888888888888888,0.4843221048378526,0.83887049280786097,4,"31, 32, 33, 34",null," 31, 32, 33, 34, "]
["Individuelle Förderung",51,3.013071895424837,7.3333799353079862E-2,0.5237080794731418,3,"27, 28, 29",null," 27, 28, 29, "]
["Individuelle Begleitung",52,3.2339743589743586,8.042428956550457E-2,0.57994779964238041,4,"11, 12, 25, 26",null," 11, 12, 25, 26, "]
["Konsequenter Umgang mit Regeln",53,3.4905660377358485,6.3083287612587136E-2,0.45925326599672284,3,"4, 5, 6",null," 4, 5, 6, "]
["Soziales Miteinander an der Schule",53,3.2735849056603779,7.6733624294544167E-2,0.55862921706704682,3,"1, 2, 3",null," 1, 2, 3, "]
[]
["Feedbackmöglichkeit im Unterricht\n(Einzelitems)",null,null,null,null,null,null,null," 7, 10, "]
["Beteiligungsmöglichkeit an der Schule\n(Einzelitems)",null,null,null,null,null,null,null," 8, 9, "]
["Zufriedenheit\n(Einzelitem)",null,null,null,null,null,null,null," 44, "]
["-",null,null,null,null,null,null,null," 30, 45, "]

{"sheet":"SFB-Items","index":7,"n_rows":87,"n_cols":10,"rows_kept":87,"cut":false,"hidden":true,"merged":[[79,0,79,3],[79,5,79,6],[79,7,79,8],[80,0,80,3],[1,0,1,9],[54,0,54,3],[55,0,55,3],[54,7,54,8],[54,5,54,6],[5,0,5,9]]}
[]
["Fragebogen für Schülerinnen und Schüler - Items"]
[]
[{"$f":"'FB nach BerT'!A1","v":"Schule Rungwisch (5274)"}]
[]
[{"$f":"'SFB-Konstrukte'!A6","v":"Die Rücklaufquote der Befragung der Schülerinnen und Schüler an Ihrer Schule lag zwischen 20 und 50 Prozent. Die Daten sind bei einer solchen Rücklaufquote in der Regel systematisch verzerrt und können nicht als repräsentativ für die Meinung aller Befragten der Gruppe betrachtet werden.\nAus diesem Grund werden die Ergebnisse grafisch nicht dargestellt. Zu Ihrer Information sind die Daten dennoch in den Tabellen einsehbar, jedoch sind sie mit einer gelben Markierung hinterlegt."}]
[]
[null,"N","MW","SE","SD","stimmt\ngar nicht","stimmt\neher nicht","stimmt\neher","stimmt\ngenau","Zuordnung zum Konstrukt"]
["01. Lehrer/Lehrerinnen und Kinder gehen freundlich miteinander um.",52,3.634615384615385,8.2517177487949692E-2,0.59503982907873076,0,5.7692307692307689E-2,0.25,0.69230769230769229,{"$f":"INDEX('SFB-Konstrukte'!$A$9:$I$24,\n\nSMALL(IF(NOT(ISERROR(FIND(\nIF(LEFT(A9,1)=\"0\",\" \" & MID(A9,2,1) & \",\",\nIF(MID(A9,3,1)=\".\",LEFT(A9,2),\nLEFT(A9,3))),'SFB-Konstrukte'!$I$9:$I$24))),ROW($1:$16)),1),\n\n1)","v":"Soziales Miteinander an der Schule"}]
["02. In meiner Klasse gehen die Kinder freundlich miteinander um.",52,3.1730769230769229,9.7947079341596036E-2,0.70630643369612822,1.9230769230769232E-2,0.11538461538461538,0.53846153846153844,0.32692307692307693,{"$f":"INDEX('SFB-Konstrukte'!$A$9:$I$24,\n\nSMALL(IF(NOT(ISERROR(FIND(\nIF(LEFT(A10,1)=\"0\",\" \" & MID(A10,2,1) & \",\",\nIF(MID(A10,3,1)=\".\",LEFT(A10,2),\nLEFT(A10,3))),'SFB-Konstrukte'!$I$9:$I$24))),ROW($1:$16)),1),\n\n1)","v":"Soziales Miteinander an der Schule"}]
["03. Auf dem Schulhof gehen die Kinder freundlich miteinander um.",48,2.9791666666666665,0.10935652917321967,0.75764425866961838,4.1666666666666657E-2,0.16666666666666663,0.5625,0.22916666666666663,{"$f":"INDEX('SFB-Konstrukte'!$A$9:$I$24,\n\nSMALL(IF(NOT(ISERROR(FIND(\nIF(LEFT(A11,1)=\"0\",\" \" & MID(A11,2,1) & \",\",\nIF(MID(A11,3,1)=\".\",LEFT(A11,2),\nLEFT(A11,3))),'SFB-Konstrukte'!$I$9:$I$24))),ROW($1:$16)),1),\n\n1)","v":"Soziales Miteinander an der Schule"}]
[]
[null,"N","MW","SE","SD","stimmt\ngar nicht","stimmt\neher nicht","stimmt\neher","stimmt\ngenau","Zuordnung zum Konstrukt"]
["04. An unserer Schule halten sich die Kinder an die Regeln.",47,2.9787234042553186,9.8505773072027236E-2,0.67532155632730484,2.1276595744680851E-2,0.1702127659574468,0.61702127659574468,0.19148936170212769,{"$f":"INDEX('SFB-Konstrukte'!$A$9:$I$24,\n\nSMALL(IF(NOT(ISERROR(FIND(\nIF(LEFT(A14,1)=\"0\",\" \" & MID(A14,2,1) & \",\",\nIF(MID(A14,3,1)=\".\",LEFT(A14,2),\nLEFT(A14,3))),'SFB-Konstrukte'!$I$9:$I$24))),ROW($1:$16)),1),\n\n1)","v":"Konsequenter Umgang mit Regeln"}]
["05. Unsere Lehrer und Lehrerinnen behandeln uns gerecht.",51,3.7843137254901964,7.037003311735826E-2,0.50254255502180412,0,3.9215686274509803E-2,0.13725490196078433,0.82352941176470584,{"$f":"INDEX('SFB-Konstrukte'!$A$9:$I$24,\n\nSMALL(IF(NOT(ISERROR(FIND(\nIF(LEFT(A15,1)=\"0\",\" \" & MID(A15,2,1) & \",\",\nIF(MID(A15,3,1)=\".\",LEFT(A15,2),\nLEFT(A15,3))),'SFB-Konstrukte'!$I$9:$I$24))),ROW($1:$16)),1),\n\n1)","v":"Konsequenter Umgang mit Regeln"}]
["06. An unserer Schule ist klar, was passiert, wenn man sich nicht an die Regeln hält.",49,3.6326530612244894,9.5359495026368604E-2,0.66751646518458019,2.0408163265306124E-2,4.0816326530612249E-2,0.22448979591836735,0.7142857142857143,{"$f":"INDEX('SFB-Konstrukte'!$A$9:$I$24,\n\nSMALL(IF(NOT(ISERROR(FIND(\nIF(LEFT(A16,1)=\"0\",\" \" & MID(A16,2,1) & \",\",\nIF(MID(A16,3,1)=\".\",LEFT(A16,2),\nLEFT(A16,3))),'SFB-Konstrukte'!$I$9:$I$24))),ROW($1:$16)),1),\n\n1)","v":"Konsequenter Umgang mit Regeln"}]
[]
[null,"N","MW","SE","SD","stimmt\ngar nicht","stimmt\neher nicht","stimmt\neher","stimmt\ngenau","Zuordnung zum Konstrukt"]
["07. Mein Lehrer/Meine Lehrerin fragt mich, wie mir die Schule gefällt.",50,2.2800000000000002,0.16912741242227133,1.19591140208322,0.36,0.24,0.16,0.24,{"$f":"INDEX('SFB-Konstrukte'!$A$9:$I$24,\n\nSMALL(IF(NOT(ISERROR(FIND(\nIF(LEFT(A19,1)=\"0\",\" \" & MID(A19,2,1) & \",\",\nIF(MID(A19,3,1)=\".\",LEFT(A19,2),\nLEFT(A19,3))),'SFB-Konstrukte'!$I$9:$I$24))),ROW($1:$16)),1),\n\n1)","v":"Feedbackmöglichkeit im Unterricht\n(Einzelitems)"}]
["08. Ich werde nach meiner Meinung gefragt, wenn es etwas zu entscheiden gibt.",48,3.479166666666667,0.11136477398244365,0.77155778684406806,4.1666666666666657E-2,4.1666666666666657E-2,0.3125,0.60416666666666663,{"$f":"INDEX('SFB-Konstrukte'!$A$9:$I$24,\n\nSMALL(IF(NOT(ISERROR(FIND(\nIF(LEFT(A20,1)=\"0\",\" \" & MID(A20,2,1) & \",\",\nIF(MID(A20,3,1)=\".\",LEFT(A20,2),\nLEFT(A20,3))),'SFB-Konstrukte'!$I$9:$I$24))),ROW($1:$16)),1),\n\n1)","v":"Beteiligungsmöglichkeit an der Schule\n(Einzelitems)"}]
["09. An unserer Schule kann ich vorschlagen, was man besser machen könnte.",49,3.5714285714285716,0.10514001031342672,0.73598007219398709,2.0408163265306124E-2,8.1632653061224497E-2,0.20408163265306123,0.69387755102040816,{"$f":"INDEX('SFB-Konstrukte'!$A$9:$I$24,\n\nSMALL(IF(NOT(ISERROR(FIND(\nIF(LEFT(A21,1)=\"0\",\" \" & MID(A21,2,1) & \",\",\nIF(MID(A21,3,1)=\".\",LEFT(A21,2),\nLEFT(A21,3))),'SFB-Konstrukte'!$I$9:$I$24))),ROW($1:$16)),1),\n\n1)","v":"Beteiligungsmöglichkeit an der Schule\n(Einzelitems)"}]
["10. Meine Lehrer/Meine Lehrerinnen fragen mich, wie mir der Unterricht gefällt.",50,2.5399999999999996,0.16953718513310626,1.1988089327089857,0.26,0.26,0.16,0.32,{"$f":"INDEX('SFB-Konstrukte'!$A$9:$I$24,\n\nSMALL(IF(NOT(ISERROR(FIND(\nIF(LEFT(A22,1)=\"0\",\" \" & MID(A22,2,1) & \",\",\nIF(MID(A22,3,1)=\".\",LEFT(A22,2),\nLEFT(A22,3))),'SFB-Konstrukte'!$I$9:$I$24))),ROW($1:$16)),1),\n\n1)","v":"Feedbackmöglichkeit im Unterricht\n(Einzelitems)"}]
[]
[null,"N","MW","SE","SD","stimmt\ngar nicht","stimmt\neher nicht","stimmt\neher","stimmt\ngenau","Zuordnung zum Konstrukt"]
["11. Meine Lehrer/Meine Lehrerinnen fragen mich, ob ich etwas gelernt habe.",51,3.1764705882352939,0.14199111364887584,1.0140193756125406,9.8039215686274522E-2,0.13725490196078433,0.25490196078431371,0.50980392156862742,{"$f":"INDEX('SFB-Konstrukte'!$A$9:$I$24,\n\nSMALL(IF(NOT(ISERROR(FIND(\nIF(LEFT(A25,1)=\"0\",\" \" & MID(A25,2,1) & \",\",\nIF(MID(A25,3,1)=\".\",LEFT(A25,2),\nLEFT(A25,3))),'SFB-Konstrukte'!$I$9:$I$24))),ROW($1:$16)),1),\n\n1)","v":"Individuelle Begleitung"}]
["12. Meine Lehrer/Meine Lehrerinnen fragen mich, wie schwer ich die Aufgaben finde.",49,2.8571428571428577,0.15430334996209188,1.0801234497346432,0.12244897959183673,0.2857142857142857,0.20408163265306123,0.38775510204081631,{"$f":"INDEX('SFB-Konstrukte'!$A$9:$I$24,\n\nSMALL(IF(NOT(ISERROR(FIND(\nIF(LEFT(A26,1)=\"0\",\" \" & MID(A26,2,1) & \",\",\nIF(MID(A26,3,1)=\".\",LEFT(A26,2),\nLEFT(A26,3))),'SFB-Konstrukte'!$I$9:$I$24))),ROW($1:$16)),1),\n\n1)","v":"Individuelle Begleitung"}]
[]
[null,"N","MW","SE","SD","stimmt\ngar nicht","stimmt\neher nicht","stimmt\neher","stimmt\ngenau","Zuordnung zum Konstrukt"]
["13. Meine Lehrer/Meine Lehrerinnen stellen oft Fragen, bei denen ich sehr viel nachdenken muss.",50,2.9600000000000004,0.12108354343095479,0.8561899465012397,0.04,0.26,0.4,0.3,{"$f":"INDEX('SFB-Konstrukte'!$A$9:$I$24,\n\nSMALL(IF(NOT(ISERROR(FIND(\nIF(LEFT(A29,1)=\"0\",\" \" & MID(A29,2,1) & \",\",\nIF(MID(A29,3,1)=\".\",LEFT(A29,2),\nLEFT(A29,3))),'SFB-Konstrukte'!$I$9:$I$24))),ROW($1:$16)),1),\n\n1)","v":"Potenzial zu kognitiver Aktivierung"}]
["14. Meine Lehrer/Meine Lehrerinnen wiederholen mit uns das, was wir in der letzten Stunde gelernt haben.",48,3.104166666666667,0.13395108445251469,0.92804033600281977,6.25E-2,0.1875,0.33333333333333326,0.41666666666666674,{"$f":"INDEX('SFB-Konstrukte'!$A$9:$I$24,\n\nSMALL(IF(NOT(ISERROR(FIND(\nIF(LEFT(A30,1)=\"0\",\" \" & MID(A30,2,1) & \",\",\nIF(MID(A30,3,1)=\".\",LEFT(A30,2),\nLEFT(A30,3))),'SFB-Konstrukte'!$I$9:$I$24))),ROW($1:$16)),1),\n\n1)","v":"Potenzial zu kognitiver Aktivierung"}]
["15. Meine Lehrer/Meine Lehrerinnen besprechen mit mir meine Fehler, damit ich es besser machen kann.",51,3.4313725490196072,0.11633252528777509,0.83078040325429703,3.9215686274509803E-2,9.8039215686274522E-2,0.25490196078431371,0.60784313725490191,{"$f":"INDEX('SFB-Konstrukte'!$A$9:$I$24,\n\nSMALL(IF(NOT(ISERROR(FIND(\nIF(LEFT(A31,1)=\"0\",\" \" & MID(A31,2,1) & \",\",\nIF(MID(A31,3,1)=\".\",LEFT(A31,2),\nLEFT(A31,3))),'SFB-Konstrukte'!$I$9:$I$24))),ROW($1:$16)),1),\n\n1)","v":"Potenzial zu kognitiver Aktivierung"}]
[]
[null,"N","MW","SE","SD","stimmt\ngar nicht","stimmt\neher nicht","stimmt\neher","stimmt\ngenau","Zuordnung zum Konstrukt"]
["16. Meine Lehrer/Meine Lehrerinnen lassen mich ausreden, wenn ich dran bin.",52,3.8846153846153846,6.5298052894397343E-2,0.47087095579741872,1.9230769230769232E-2,0,5.7692307692307689E-2,0.92307692307692302,{"$f":"INDEX('SFB-Konstrukte'!$A$9:$I$24,\n\nSMALL(IF(NOT(ISERROR(FIND(\nIF(LEFT(A34,1)=\"0\",\" \" & MID(A34,2,1) & \",\",\nIF(MID(A34,3,1)=\".\",LEFT(A34,2),\nLEFT(A34,3))),'SFB-Konstrukte'!$I$9:$I$24))),ROW($1:$16)),1),\n\n1)","v":"Konstruktive Unterstützung"}]
["17. Meine Lehrer/Meine Lehrerinnen helfen mir so bei Fehlern, dass ich mich vor den anderen nicht schlecht fühle.",49,3.5918367346938775,9.6355207307587037E-2,0.67448645115310923,2.0408163265306124E-2,4.0816326530612249E-2,0.26530612244897961,0.67346938775510201,{"$f":"INDEX('SFB-Konstrukte'!$A$9:$I$24,\n\nSMALL(IF(NOT(ISERROR(FIND(\nIF(LEFT(A35,1)=\"0\",\" \" & MID(A35,2,1) & \",\",\nIF(MID(A35,3,1)=\".\",LEFT(A35,2),\nLEFT(A35,3))),'SFB-Konstrukte'!$I$9:$I$24))),ROW($1:$16)),1),\n\n1)","v":"Konstruktive Unterstützung"}]
["18. Meine Lehrer/Meine Lehrerinnen loben mich, wenn ich etwas gut gemacht habe.",51,3.6862745098039218,7.6646354061537497E-2,0.54736445183922466,0,3.9215686274509803E-2,0.23529411764705879,0.72549019607843135,{"$f":"INDEX('SFB-Konstrukte'!$A$9:$I$24,\n\nSMALL(IF(NOT(ISERROR(FIND(\nIF(LEFT(A36,1)=\"0\",\" \" & MID(A36,2,1) & \",\",\nIF(MID(A36,3,1)=\".\",LEFT(A36,2),\nLEFT(A36,3))),'SFB-Konstrukte'!$I$9:$I$24))),ROW($1:$16)),1),\n\n1)","v":"Konstruktive Unterstützung"}]
["19. Meine Lehrer/Meine Lehrerinnen möchten, dass ich mich anstrenge.",51,3.8039215686274503,6.2745098039215685E-2,0.44808962688896314,0,1.9607843137254902E-2,0.15686274509803921,0.82352941176470584,{"$f":"INDEX('SFB-Konstrukte'!$A$9:$I$24,\n\nSMALL(IF(NOT(ISERROR(FIND(\nIF(LEFT(A37,1)=\"0\",\" \" & MID(A37,2,1) & \",\",\nIF(MID(A37,3,1)=\".\",LEFT(A37,2),\nLEFT(A37,3))),'SFB-Konstrukte'!$I$9:$I$24))),ROW($1:$16)),1),\n\n1)","v":"Konstruktive Unterstützung"}]
[]
[null,"N","MW","SE","SD","stimmt\ngar nicht","stimmt\neher nicht","stimmt\neher","stimmt\ngenau","Zuordnung zum Konstrukt"]
["20. Meine Lehrer/Meine Lehrerinnen stellen die Aufgaben so, dass ich sie verstehe.",51,3.6274509803921569,7.3888014436928509E-2,0.52766596682846578,0,1.9607843137254902E-2,0.33333333333333326,0.64705882352941169,{"$f":"INDEX('SFB-Konstrukte'!$A$9:$I$24,\n\nSMALL(IF(NOT(ISERROR(FIND(\nIF(LEFT(A40,1)=\"0\",\" \" & MID(A40,2,1) & \",\",\nIF(MID(A40,3,1)=\".\",LEFT(A40,2),\nLEFT(A40,3))),'SFB-Konstrukte'!$I$9:$I$24))),ROW($1:$16)),1),\n\n1)","v":"Klassenführung"}]
["21. Meine Lehrer/Meine Lehrerinnen besprechen mit uns, was wir in der Stunde machen.",51,3.8039215686274512,5.6148317895201388E-2,0.40097919363165246,0,0,0.19607843137254904,0.80392156862745101,{"$f":"INDEX('SFB-Konstrukte'!$A$9:$I$24,\n\nSMALL(IF(NOT(ISERROR(FIND(\nIF(LEFT(A41,1)=\"0\",\" \" & MID(A41,2,1) & \",\",\nIF(MID(A41,3,1)=\".\",LEFT(A41,2),\nLEFT(A41,3))),'SFB-Konstrukte'!$I$9:$I$24))),ROW($1:$16)),1),\n\n1)","v":"Klassenführung"}]
["22. Ich kann mich im Unterricht gut konzentrieren.",51,2.9999999999999996,0.12524485821702988,0.89442719099991586,3.9215686274509803E-2,0.27450980392156865,0.33333333333333326,0.35294117647058826,{"$f":"INDEX('SFB-Konstrukte'!$A$9:$I$24,\n\nSMALL(IF(NOT(ISERROR(FIND(\nIF(LEFT(A42,1)=\"0\",\" \" & MID(A42,2,1) & \",\",\nIF(MID(A42,3,1)=\".\",LEFT(A42,2),\nLEFT(A42,3))),'SFB-Konstrukte'!$I$9:$I$24))),ROW($1:$16)),1),\n\n1)","v":"Klassenführung"}]
["23. Es dauert lange, bis alle Kinder anfangen zu arbeiten.",48,2.9375,0.14404937219997063,0.99800332579499562,0.125,0.14583333333333334,0.39583333333333326,0.33333333333333326,{"$f":"INDEX('SFB-Konstrukte'!$A$9:$I$24,\n\nSMALL(IF(NOT(ISERROR(FIND(\nIF(LEFT(A43,1)=\"0\",\" \" & MID(A43,2,1) & \",\",\nIF(MID(A43,3,1)=\".\",LEFT(A43,2),\nLEFT(A43,3))),'SFB-Konstrukte'!$I$9:$I$24))),ROW($1:$16)),1),\n\n1)","v":"Klassenführung"}]
["24. Die Kinder hören den Lehrern/Lehrerinnen nicht zu.",47,2.3404255319148932,0.1264201317732212,0.86669275797439005,0.1702127659574468,0.40425531914893609,0.34042553191489361,8.5106382978723402E-2,{"$f":"INDEX('SFB-Konstrukte'!$A$9:$I$24,\n\nSMALL(IF(NOT(ISERROR(FIND(\nIF(LEFT(A44,1)=\"0\",\" \" & MID(A44,2,1) & \",\",\nIF(MID(A44,3,1)=\".\",LEFT(A44,2),\nLEFT(A44,3))),'SFB-Konstrukte'!$I$9:$I$24))),ROW($1:$16)),1),\n\n1)","v":"Klassenführung"}]
[]
[null,"N","MW","SE","SD","stimmt\ngar nicht","stimmt\neher nicht","stimmt\neher","stimmt\ngenau","Zuordnung zum Konstrukt"]
["25. Meine Lehrer/Meine Lehrerinnen sprechen mit mir darüber, was ich gut kann und noch nicht so gut kann.",50,3.46,9.5660965958761182E-2,0.67642517724295514,0,0.1,0.34,0.56000000000000005,{"$f":"INDEX('SFB-Konstrukte'!$A$9:$I$24,\n\nSMALL(IF(NOT(ISERROR(FIND(\nIF(LEFT(A47,1)=\"0\",\" \" & MID(A47,2,1) & \",\",\nIF(MID(A47,3,1)=\".\",LEFT(A47,2),\nLEFT(A47,3))),'SFB-Konstrukte'!$I$9:$I$24))),ROW($1:$16)),1),\n\n1)","v":"Individuelle Begleitung"}]
["26. Meine Lehrer/Meine Lehrerinnen sagen mir, wie ich mich verbessern kann.",49,3.4897959183673462,0.10958505914004769,0.76709541398033387,4.0816326530612249E-2,4.0816326530612249E-2,0.30612244897959184,0.61224489795918369,{"$f":"INDEX('SFB-Konstrukte'!$A$9:$I$24,\n\nSMALL(IF(NOT(ISERROR(FIND(\nIF(LEFT(A48,1)=\"0\",\" \" & MID(A48,2,1) & \",\",\nIF(MID(A48,3,1)=\".\",LEFT(A48,2),\nLEFT(A48,3))),'SFB-Konstrukte'!$I$9:$I$24))),ROW($1:$16)),1),\n\n1)","v":"Individuelle Begleitung"}]
[]
[null,"N","MW","SE","SD","stimmt\ngar nicht","stimmt\neher nicht","stimmt\neher","stimmt\ngenau","Zuordnung zum Konstrukt"]
["27. Ich bekomme Hilfe, wenn ich etwas nicht gut kann.",50,3.88,5.4510811509539743E-2,0.38544964466377257,0,0.02,0.08,0.9,{"$f":"INDEX('SFB-Konstrukte'!$A$9:$I$24,\n\nSMALL(IF(NOT(ISERROR(FIND(\nIF(LEFT(A51,1)=\"0\",\" \" & MID(A51,2,1) & \",\",\nIF(MID(A51,3,1)=\".\",LEFT(A51,2),\nLEFT(A51,3))),'SFB-Konstrukte'!$I$9:$I$24))),ROW($1:$16)),1),\n\n1)","v":"Individuelle Förderung"}]
["28. Ich bekomme oft Aufgaben, die zu leicht sind.",49,2.6326530612244903,0.14490754016422305,1.0143527811495614,0.14285714285714285,0.32653061224489799,0.2857142857142857,0.24489795918367346,{"$f":"INDEX('SFB-Konstrukte'!$A$9:$I$24,\n\nSMALL(IF(NOT(ISERROR(FIND(\nIF(LEFT(A52,1)=\"0\",\" \" & MID(A52,2,1) & \",\",\nIF(MID(A52,3,1)=\".\",LEFT(A52,2),\nLEFT(A52,3))),'SFB-Konstrukte'!$I$9:$I$24))),ROW($1:$16)),1),\n\n1)","v":"Individuelle Förderung"}]
["29. Ich bekomme oft Aufgaben, die ich alleine nicht lösen kann.",48,2.2708333333333335,0.12540566561869182,0.86883593763427092,0.16666666666666663,0.5,0.22916666666666663,0.10416666666666669,{"$f":"INDEX('SFB-Konstrukte'!$A$9:$I$24,\n\nSMALL(IF(NOT(ISERROR(FIND(\nIF(LEFT(A53,1)=\"0\",\" \" & MID(A53,2,1) & \",\",\nIF(MID(A53,3,1)=\".\",LEFT(A53,2),\nLEFT(A53,3))),'SFB-Konstrukte'!$I$9:$I$24))),ROW($1:$16)),1),\n\n1)","v":"Individuelle Förderung"}]
[]
[null,null,null,null,"N","Ja",null,"Nein",null,"Zuordnung zum Konstrukt"]
["30. Gibt es Fächer, in denen du in den letzten Monaten Online-Unterricht via Notebook, Tablet, Smartphone etc. hattest? (z.B. über Moodle, LMS Hamburg, Iserv, Itslearning, Padlet, Lernapp, BigBlueButton,…)",null,null,null,51,5.8823529411764698E-2,3,0.94117647058823517,48,{"$f":"INDEX('SFB-Konstrukte'!$A$9:$I$24,\n\nSMALL(IF(NOT(ISERROR(FIND(\nIF(LEFT(A56,1)=\"0\",\" \" & MID(A56,2,1) & \",\",\nIF(MID(A56,3,1)=\".\",LEFT(A56,2),\nLEFT(A56,3))),'SFB-Konstrukte'!$I$9:$I$24))),ROW($1:$16)),1),\n\n1)","v":"-"}]
[]
["Im Online-Unterricht/auf der Lernplattform…","N","MW","SE","SD","stimmt\ngar nicht","stimmt\neher nicht","stimmt\neher","stimmt\ngenau","Zuordnung zum Konstrukt"]
["31. ...bekomme ich Aufgaben, die ich auf unterschiedliche Weise lösen kann.",1,4,0,0,0,0,0,1,{"$f":"INDEX('SFB-Konstrukte'!$A$9:$I$24,\n\nSMALL(IF(NOT(ISERROR(FIND(\nIF(LEFT(A59,1)=\"0\",\" \" & MID(A59,2,1) & \",\",\nIF(MID(A59,3,1)=\".\",LEFT(A59,2),\nLEFT(A59,3))),'SFB-Konstrukte'!$I$9:$I$24))),ROW($1:$16)),1),\n\n1)","v":"Potenzial zu kognitiver Aktivierung im digital gestützten Unterricht"}]
["32. ...bekomme ich Aufgaben, über die ich sehr genau nachdenken muss.",3,3,0.57735026918962584,1,0,0.33333333333333326,0.33333333333333326,0.33333333333333326,{"$f":"INDEX('SFB-Konstrukte'!$A$9:$I$24,\n\nSMALL(IF(NOT(ISERROR(FIND(\nIF(LEFT(A60,1)=\"0\",\" \" & MID(A60,2,1) & \",\",\nIF(MID(A60,3,1)=\".\",LEFT(A60,2),\nLEFT(A60,3))),'SFB-Konstrukte'!$I$9:$I$24))),ROW($1:$16)),1),\n\n1)","v":"Potenzial zu kognitiver Aktivierung im digital gestützten Unterricht"}]
["33. ...kann ich selbst überprüfen, ob ich eine Aufgabe richtig gelöst habe.",2,2,1,1.4142135623730951,0.5,0,0.5,0,{"$f":"INDEX('SFB-Konstrukte'!$A$9:$I$24,\n\nSMALL(IF(NOT(ISERROR(FIND(\nIF(LEFT(A61,1)=\"0\",\" \" & MID(A61,2,1) & \",\",\nIF(MID(A61,3,1)=\".\",LEFT(A61,2),\nLEFT(A61,3))),'SFB-Konstrukte'!$I$9:$I$24))),ROW($1:$16)),1),\n\n1)","v":"Potenzial zu kognitiver Aktivierung im digital gestützten Unterricht"}]
["34. ...kann ich meine Lösungen mit den Lösungen meiner Mitschülerinnen und Mitschüler vergleichen.",3,3,1,1.7320508075688772,0.33333333333333326,0,0,0.66666666666666652,{"$f":"INDEX('SFB-Konstrukte'!$A$9:$I$24,\n\nSMALL(IF(NOT(ISERROR(FIND(\nIF(LEFT(A62,1)=\"0\",\" \" & MID(A62,2,1) & \",\",\nIF(MID(A62,3,1)=\".\",LEFT(A62,2),\nLEFT(A62,3))),'SFB-Konstrukte'!$I$9:$I$24))),ROW($1:$16)),1),\n\n1)","v":"Potenzial zu kognitiver Aktivierung im digital gestützten Unterricht"}]
[]
["Im Online-Unterricht/auf der Lernplattform…","N","MW","SE","SD","stimmt\ngar nicht","stimmt\neher nicht","stimmt\neher","stimmt\ngenau","Zuordnung zum Konstrukt"]
["35. ...gibt mir meine Lehrerin/mein Lehrer regelmäßig Rückmeldung zu meinen Aufgaben.",2,4,0,0,0,0,0,1,{"$f":"INDEX('SFB-Konstrukte'!$A$9:$I$24,\n\nSMALL(IF(NOT(ISERROR(FIND(\nIF(LEFT(A65,1)=\"0\",\" \" & MID(A65,2,1) & \",\",\nIF(MID(A65,3,1)=\".\",LEFT(A65,2),\nLEFT(A65,3))),'SFB-Konstrukte'!$I$9:$I$24))),ROW($1:$16)),1),\n\n1)","v":"Konstruktive Unterstützung im digital gestützten Unterricht"}]
["36. ...sagt mir meine Lehrerin/mein Lehrer regelmäßig, wie ich mich verbessern kann.",2,2.5,1.4999999999999998,2.1213203435596424,0.5,0,0,0.5,{"$f":"INDEX('SFB-Konstrukte'!$A$9:$I$24,\n\nSMALL(IF(NOT(ISERROR(FIND(\nIF(LEFT(A66,1)=\"0\",\" \" & MID(A66,2,1) & \",\",\nIF(MID(A66,3,1)=\".\",LEFT(A66,2),\nLEFT(A66,3))),'SFB-Konstrukte'!$I$9:$I$24))),ROW($1:$16)),1),\n\n1)","v":"Konstruktive Unterstützung im digital gestützten Unterricht"}]
["37. ...werde ich dazu ermutigt, Fragen zu stellen.",2,4,0,0,0,0,0,1,{"$f":"INDEX('SFB-Konstrukte'!$A$9:$I$24,\n\nSMALL(IF(NOT(ISERROR(FIND(\nIF(LEFT(A67,1)=\"0\",\" \" & MID(A67,2,1) & \",\",\nIF(MID(A67,3,1)=\".\",LEFT(A67,2),\nLEFT(A67,3))),'SFB-Konstrukte'!$I$9:$I$24))),ROW($1:$16)),1),\n\n1)","v":"Konstruktive Unterstützung im digital gestützten Unterricht"}]
["38. ...nimmt sich meine Lehrerin/mein Lehrer Zeit, wenn ich Fragen oder Probleme habe.",2,4,0,0,0,0,0,1,{"$f":"INDEX('SFB-Konstrukte'!$A$9:$I$24,\n\nSMALL(IF(NOT(ISERROR(FIND(\nIF(LEFT(A68,1)=\"0\",\" \" & MID(A68,2,1) & \",\",\nIF(MID(A68,3,1)=\".\",LEFT(A68,2),\nLEFT(A68,3))),'SFB-Konstrukte'!$I$9:$I$24))),ROW($1:$16)),1),\n\n1)","v":"Konstruktive Unterstützung im digital gestützten Unterricht"}]
["39. ...habe ich unterschiedlich schwere Aufgaben zur Auswahl.",2,2.5,1.4999999999999998,2.1213203435596424,0.5,0,0,0.5,{"$f":"INDEX('SFB-Konstrukte'!$A$9:$I$24,\n\nSMALL(IF(NOT(ISERROR(FIND(\nIF(LEFT(A69,1)=\"0\",\" \" & MID(A69,2,1) & \",\",\nIF(MID(A69,3,1)=\".\",LEFT(A69,2),\nLEFT(A69,3))),'SFB-Konstrukte'!$I$9:$I$24))),ROW($1:$16)),1),\n\n1)","v":"Konstruktive Unterstützung im digital gestützten Unterricht"}]
[]
["Im Online-Unterricht/auf der Lernplattform…","N","MW","SE","SD","stimmt\ngar nicht","stimmt\neher nicht","stimmt\neher","stimmt\ngenau","Zuordnung zum Konstrukt"]
["40. ...ist die Aufgabe so erklärt, dass ich weiß, was ich tun soll.",3,4,0,0,0,0,0,1,{"$f":"INDEX('SFB-Konstrukte'!$A$9:$I$24,\n\nSMALL(IF(NOT(ISERROR(FIND(\nIF(LEFT(A72,1)=\"0\",\" \" & MID(A72,2,1) & \",\",\nIF(MID(A72,3,1)=\".\",LEFT(A72,2),\nLEFT(A72,3))),'SFB-Konstrukte'!$I$9:$I$24))),ROW($1:$16)),1),\n\n1)","v":"Klassenführung im digital gestützten Unterricht"}]
["41. ...ist für mein Lernen alles gut vorbereitet und geplant.",3,3.3333333333333335,0.66666666666666663,1.1547005383792515,0,0.33333333333333326,0,0.66666666666666652,{"$f":"INDEX('SFB-Konstrukte'!$A$9:$I$24,\n\nSMALL(IF(NOT(ISERROR(FIND(\nIF(LEFT(A73,1)=\"0\",\" \" & MID(A73,2,1) & \",\",\nIF(MID(A73,3,1)=\".\",LEFT(A73,2),\nLEFT(A73,3))),'SFB-Konstrukte'!$I$9:$I$24))),ROW($1:$16)),1),\n\n1)","v":"Klassenführung im digital gestützten Unterricht"}]
["42. ...kennen wir die Regeln, die wir einhalten müssen (z.B. Abgabefrist von Aufgaben).",2,4,0,0,0,0,0,1,{"$f":"INDEX('SFB-Konstrukte'!$A$9:$I$24,\n\nSMALL(IF(NOT(ISERROR(FIND(\nIF(LEFT(A74,1)=\"0\",\" \" & MID(A74,2,1) & \",\",\nIF(MID(A74,3,1)=\".\",LEFT(A74,2),\nLEFT(A74,3))),'SFB-Konstrukte'!$I$9:$I$24))),ROW($1:$16)),1),\n\n1)","v":"Klassenführung im digital gestützten Unterricht"}]
["43. ...merkt meine Lehrerin/mein Lehrer, wenn ich Aufgaben nicht gemacht habe.",2,2.5,1.4999999999999998,2.1213203435596424,0.5,0,0,0.5,{"$f":"INDEX('SFB-Konstrukte'!$A$9:$I$24,\n\nSMALL(IF(NOT(ISERROR(FIND(\nIF(LEFT(A75,1)=\"0\",\" \" & MID(A75,2,1) & \",\",\nIF(MID(A75,3,1)=\".\",LEFT(A75,2),\nLEFT(A75,3))),'SFB-Konstrukte'!$I$9:$I$24))),ROW($1:$16)),1),\n\n1)","v":"Klassenführung im digital gestützten Unterricht"}]
[]
[null,"N","MW","SE","SD","stimmt\ngar nicht","stimmt\neher nicht","stimmt\neher","stimmt\ngenau","Zuordnung zum Konstrukt"]
["44. Ich gehe gerne in meine Schule.",51,3.5686274509803924,0.10938294651750077,0.78115048385786223,3.9215686274509803E-2,5.8823529411764698E-2,0.19607843137254904,0.70588235294117652,{"$f":"INDEX('SFB-Konstrukte'!$A$9:$I$24,\n\nSMALL(IF(NOT(ISERROR(FIND(\nIF(LEFT(A78,1)=\"0\",\" \" & MID(A78,2,1) & \",\",\nIF(MID(A78,3,1)=\".\",LEFT(A78,2),\nLEFT(A78,3))),'SFB-Konstrukte'!$I$9:$I$24))),ROW($1:$16)),1),\n\n1)","v":"Zufriedenheit\n(Einzelitem)"}]
[]
[null,null,null,null,"N","Ja",null,"Nein",null,"Zuordnung zum Konstrukt"]
["45. Ich gehe in den Ganztag.",null,null,null,50,0.78,39,0.22,11,{"$f":"INDEX('SFB-Konstrukte'!$A$9:$I$24,\n\nSMALL(IF(NOT(ISERROR(FIND(\nIF(LEFT(A81,1)=\"0\",\" \" & MID(A81,2,1) & \",\",\nIF(MID(A81,3,1)=\".\",LEFT(A81,2),\nLEFT(A81,3))),'SFB-Konstrukte'!$I$9:$I$24))),ROW($1:$16)),1),\n\n1)","v":"-"}]
[]
[null,"N","MW","SE","SD","stimmt\ngar nicht","stimmt\neher nicht","stimmt\neher","stimmt\ngenau","Zuordnung zum Konstrukt"]
["46. Der Ganztag macht mir Spaß.",39,3.8205128205128207,6.2254049094039386E-2,0.3887764119844716,0,0,0.17948717948717949,0.82051282051282048,{"$f":"INDEX('SFB-Konstrukte'!$A$9:$I$24,\n\nSMALL(IF(NOT(ISERROR(FIND(\nIF(LEFT(A84,1)=\"0\",\" \" & MID(A84,2,1) & \",\",\nIF(MID(A84,3,1)=\".\",LEFT(A84,2),\nLEFT(A84,3))),'SFB-Konstrukte'!$I$9:$I$24))),ROW($1:$16)),1),\n\n1)","v":"Gelungene Gestaltung des Ganztags"}]
["47. Ich lerne im Ganztag Dinge, die mir im Unterricht helfen.",38,2.5263157894736841,0.18375273332950517,1.1327279224202258,0.23684210526315788,0.26315789473684209,0.23684210526315788,0.26315789473684209,{"$f":"INDEX('SFB-Konstrukte'!$A$9:$I$24,\n\nSMALL(IF(NOT(ISERROR(FIND(\nIF(LEFT(A85,1)=\"0\",\" \" & MID(A85,2,1) & \",\",\nIF(MID(A85,3,1)=\".\",LEFT(A85,2),\nLEFT(A85,3))),'SFB-Konstrukte'!$I$9:$I$24))),ROW($1:$16)),1),\n\n1)","v":"Gelungene Gestaltung des Ganztags"}]
["48. Kinder und Erwachsene gehen im Ganztag freundlich miteinander um.",38,3.710526315789473,7.4557916968660667E-2,0.45960586739381004,0,0,0.28947368421052633,0.71052631578947367,{"$f":"INDEX('SFB-Konstrukte'!$A$9:$I$24,\n\nSMALL(IF(NOT(ISERROR(FIND(\nIF(LEFT(A86,1)=\"0\",\" \" & MID(A86,2,1) & \",\",\nIF(MID(A86,3,1)=\".\",LEFT(A86,2),\nLEFT(A86,3))),'SFB-Konstrukte'!$I$9:$I$24))),ROW($1:$16)),1),\n\n1)","v":"Gelungene Gestaltung des Ganztags"}]
["49. An unserer Schule haben wir am Vormittag und am Nachmittag dieselben Regeln.",37,3.6486486486486487,0.10409207214676885,0.63316735615546449,0,8.1081081081081086E-2,0.1891891891891892,0.72972972972972971,{"$f":"INDEX('SFB-Konstrukte'!$A$9:$I$24,\n\nSMALL(IF(NOT(ISERROR(FIND(\nIF(LEFT(A87,1)=\"0\",\" \" & MID(A87,2,1) & \",\",\nIF(MID(A87,3,1)=\".\",LEFT(A87,2),\nLEFT(A87,3))),'SFB-Konstrukte'!$I$9:$I$24))),ROW($1:$16)),1),\n\n1)","v":"Gelungene Gestaltung des Ganztags"}]

{"sheet":"Effektstärken SuS","index":8,"n_rows":51,"n_cols":10,"rows_kept":51,"cut":false,"hidden":true,"merged":[[49,0,49,8],[50,0,50,8],[8,0,8,1],[9,0,9,1],[10,0,10,1],[11,0,11,1],[12,0,12,1],[13,0,13,1],[14,0,14,1],[15,0,15,1],[16,0,16,1],[17,0,17,1],[37,0,37,2],[44,0,44,8],[46,0,46,8],[47,0,47,8],[1,0,1,9],[5,0,5,9],[24,1,24,9],[25,1,25,9],[26,1,26,9],[18,0,18,1],[19,0,19,1],[7,2,7,4],[7,5,7,7],[7,8,7,9],[22,0,22,9],[3,0,3,1],[23,0,23,9],[48,0,48,8],[27,1,27,9],[28,1,28,9],[29,1,29,9],[30,1,30,9],[43,0,43,8],[39,0,39,8],[40,0,40,8],[41,0,41,8],[42,0,42,8],[34,0,34,2],[35,0,35,2],[36,0,36,2]]}
[]
["Fragebogen für Schülerinnen und Schüler - Effektstärken"]
[]
[{"$f":"'FB nach BerT'!A1","v":"Schule Rungwisch (5274)"}]
[]
[{"$f":"'SFB-Konstrukte'!A6","v":"Die Rücklaufquote der Befragung der Schülerinnen und Schüler an Ihrer Schule lag zwischen 20 und 50 Prozent. Die Daten sind bei einer solchen Rücklaufquote in der Regel systematisch verzerrt und können nicht als repräsentativ für die Meinung aller Befragten der Gruppe betrachtet werden.\nAus diesem Grund werden die Ergebnisse grafisch nicht dargestellt. Zu Ihrer Information sind die Daten dennoch in den Tabellen einsehbar, jedoch sind sie mit einer gelben Markierung hinterlegt."}]
[]
[null,null,{"$f":"CONCATENATE(\"Inspizierte Schule \",'FB nach BerT'!I1,\"\")","v":"Inspizierte Schule (5274)"},null,null,"Referenzwert",null,null,"Effektstärke"]
["Konstrukt",null,"N","MW","SD","N","MW","SD","D","Effekt"]
[{"$f":"'SFB-Konstrukte'!A9","v":"Gelungene Gestaltung des Ganztags"},null,{"$f":"'SFB-Konstrukte'!B9","v":39},{"$f":"'SFB-Konstrukte'!C9","v":3.4337606837606831},{"$f":"'SFB-Konstrukte'!E9","v":0.44679638041064995},1719,3.1220379999999999,0.60519389999999995,{"$f":"IF(OR(Rücklaufquoten!$I$5=0,C10=0),\"k.A.\",IF(G10=\"-\",\"o.R.\",((D10-G10)/(SQRT(((POWER(E10,2))+(POWER(H10,2)))/2)))))","v":0.58602841662581795},{"$f":"IF(OR(I10=\"o.R.\",I10=\"k.A.\"),I10,IF(I10>=0.5,\"++\",IF(AND(I10>=0.209999999999999,I10<=0.499999999999999),\"+\",IF(AND(I10>=-0.209999999999999,I10<0.209999999999999),\"Ø\",IF(AND(I10>=-0.499999999999999,I10<=-0.205),\"-\",IF(I10<=-0.5,\"--\",\"Fehler\"))))))","v":"++"}]
[{"$f":"'SFB-Konstrukte'!A10","v":"Klassenführung"},null,{"$f":"'SFB-Konstrukte'!B10","v":51},{"$f":"'SFB-Konstrukte'!C10","v":3.0522875816993467},{"$f":"'SFB-Konstrukte'!E10","v":0.45110998422216697},1719,3.062201,0.45105410000000001,{"$f":"IF(OR(Rücklaufquoten!$I$5=0,C11=0),\"k.A.\",IF(G11=\"-\",\"o.R.\",((D11-G11)/(SQRT(((POWER(E11,2))+(POWER(H11,2)))/2)))))","v":-2.1976973934139533E-2},{"$f":"IF(OR(I11=\"o.R.\",I11=\"k.A.\"),I11,IF(I11>=0.5,\"++\",IF(AND(I11>=0.209999999999999,I11<=0.499999999999999),\"+\",IF(AND(I11>=-0.209999999999999,I11<0.209999999999999),\"Ø\",IF(AND(I11>=-0.499999999999999,I11<=-0.205),\"-\",IF(I11<=-0.5,\"--\",\"Fehler\"))))))","v":"Ø"}]
[{"$f":"'SFB-Konstrukte'!A11","v":"Klassenführung im digital gestützten Unterricht"},null,{"$f":"'SFB-Konstrukte'!B11","v":3},{"$f":"'SFB-Konstrukte'!C11","v":3.5833333333333335},{"$f":"'SFB-Konstrukte'!E11","v":0.72168783648703227},"-","-","-",{"$f":"IF(OR(Rücklaufquoten!$I$5=0,C12=0),\"k.A.\",IF(G12=\"-\",\"o.R.\",((D12-G12)/(SQRT(((POWER(E12,2))+(POWER(H12,2)))/2)))))","v":"o.R."},{"$f":"IF(I12=\"o.R.\", \"o.R.\", IF(I12>=0.5,\"++\",IF(AND(I12>=0.209999999999999,I12<=0.499999999999999),\"+\",IF(AND(I12>=-0.209999999999999,I12<0.209999999999999),\"Ø\",IF(AND(I12>=-0.499999999999999,I12<=-0.205),\"-\",IF(I12<=-0.5,\"--\",\"Fehler\"))))))","v":"o.R."}]
[{"$f":"'SFB-Konstrukte'!A12","v":"Konstruktive Unterstützung"},null,{"$f":"'SFB-Konstrukte'!B12","v":52},{"$f":"'SFB-Konstrukte'!C12","v":3.7435897435897432},{"$f":"'SFB-Konstrukte'!E12","v":0.29281806061916604},1719,3.5357150000000002,0.50114159999999996,{"$f":"IF(OR(Rücklaufquoten!$I$5=0,C13=0),\"k.A.\",IF(G13=\"-\",\"o.R.\",((D13-G13)/(SQRT(((POWER(E13,2))+(POWER(H13,2)))/2)))))","v":0.50649560483775602},"++"]
[{"$f":"'SFB-Konstrukte'!A13","v":"Konstruktive Unterstützung im digital gestützten Unterricht"},null,{"$f":"'SFB-Konstrukte'!B13","v":2},{"$f":"'SFB-Konstrukte'!C13","v":3.4},{"$f":"'SFB-Konstrukte'!E13","v":0.84852813742385713},"-","-","-",{"$f":"IF(OR(Rücklaufquoten!$I$5=0,C14=0),\"k.A.\",IF(G14=\"-\",\"o.R.\",((D14-G14)/(SQRT(((POWER(E14,2))+(POWER(H14,2)))/2)))))","v":"o.R."},"o.R."]
[{"$f":"'SFB-Konstrukte'!A14","v":"Potenzial zu kognitiver Aktivierung"},null,{"$f":"'SFB-Konstrukte'!B14","v":52},{"$f":"'SFB-Konstrukte'!C14","v":3.1602564102564106},{"$f":"'SFB-Konstrukte'!E14","v":0.54828067417201676},1719,3.079059,0.62216780000000005,{"$f":"IF(OR(Rücklaufquoten!$I$5=0,C15=0),\"k.A.\",IF(G15=\"-\",\"o.R.\",((D15-G15)/(SQRT(((POWER(E15,2))+(POWER(H15,2)))/2)))))","v":0.13847017862096928},"Ø"]
[{"$f":"'SFB-Konstrukte'!A15","v":"Potenzial zu kognitiver Aktivierung im digital gestützten Unterricht"},null,{"$f":"'SFB-Konstrukte'!B15","v":3},{"$f":"'SFB-Konstrukte'!C15","v":2.8888888888888888},{"$f":"'SFB-Konstrukte'!E15","v":0.83887049280786097},"-","-","-",{"$f":"IF(OR(Rücklaufquoten!$I$5=0,C16=0),\"k.A.\",IF(G16=\"-\",\"o.R.\",((D16-G16)/(SQRT(((POWER(E16,2))+(POWER(H16,2)))/2)))))","v":"o.R."},"o.R."]
[{"$f":"'SFB-Konstrukte'!A16","v":"Individuelle Förderung"},null,{"$f":"'SFB-Konstrukte'!B16","v":51},{"$f":"'SFB-Konstrukte'!C16","v":3.013071895424837},{"$f":"'SFB-Konstrukte'!E16","v":0.5237080794731418},1719,2.9829279999999998,0.49120950000000002,{"$f":"IF(OR(Rücklaufquoten!$I$5=0,C17=0),\"k.A.\",IF(G17=\"-\",\"o.R.\",((D17-G17)/(SQRT(((POWER(E17,2))+(POWER(H17,2)))/2)))))","v":5.9371231835829208E-2},"Ø"]
[{"$f":"'SFB-Konstrukte'!A17","v":"Individuelle Begleitung"},null,{"$f":"'SFB-Konstrukte'!B17","v":52},{"$f":"'SFB-Konstrukte'!C17","v":3.2339743589743586},{"$f":"'SFB-Konstrukte'!E17","v":0.57994779964238041},1719,3.215522,0.66237199999999996,{"$f":"IF(OR(Rücklaufquoten!$I$5=0,C18=0),\"k.A.\",IF(G18=\"-\",\"o.R.\",((D18-G18)/(SQRT(((POWER(E18,2))+(POWER(H18,2)))/2)))))","v":2.964112721686837E-2},"Ø"]
[{"$f":"'SFB-Konstrukte'!A18","v":"Konsequenter Umgang mit Regeln"},null,{"$f":"'SFB-Konstrukte'!B18","v":53},{"$f":"'SFB-Konstrukte'!C18","v":3.4905660377358485},{"$f":"'SFB-Konstrukte'!E18","v":0.45925326599672284},1719,3.2853370000000002,0.49854340000000003,{"$f":"IF(OR(Rücklaufquoten!$I$5=0,C19=0),\"k.A.\",IF(G19=\"-\",\"o.R.\",((D19-G19)/(SQRT(((POWER(E19,2))+(POWER(H19,2)))/2)))))","v":0.42818395124167596},"+"]
[{"$f":"'SFB-Konstrukte'!A19","v":"Soziales Miteinander an der Schule"},null,{"$f":"'SFB-Konstrukte'!B19","v":53},{"$f":"'SFB-Konstrukte'!C19","v":3.2735849056603779},{"$f":"'SFB-Konstrukte'!E19","v":0.55862921706704682},1719,3.0421719999999999,0.50042140000000002,{"$f":"IF(OR(Rücklaufquoten!$I$5=0,C20=0),\"k.A.\",IF(G20=\"-\",\"o.R.\",((D20-G20)/(SQRT(((POWER(E20,2))+(POWER(H20,2)))/2)))))","v":0.43636094441511231},"+"]
[]
[]
["Legende"]
["Referenzwerte der Grundschulen des 3. Zyklus ab 2019/20"]
["++ ","Der Mittelwert der inspizierten Schule liegt im Vergleich zur Referenzstichprobe stark über dem Durchschnitt. "]
["+ ","Der Mittelwert der inspizierten Schule liegt im Vergleich zur Referenzstichprobe über dem Durchschnitt. "]
["Ø ","Der Mittelwert der inspizierten Schule liegt im Vergleich zur Referenzstichprobe im Durchschnitt.  "]
["- ","Der Mittelwert der inspizierten Schule liegt im Vergleich zur Referenzsstichprobe unter dem Durchschnitt. "]
["- -  ","Der Mittelwert der inspizierten Schule liegt im Vergleich zur Referenzstichprobe stark unter dem Durchschnitt. "]
["o.R.","Ohne Referenz - Für den Mittelwert dieser Skala liegen noch keine Referenzwerte vor, weshalb kein Vergleich möglich ist."]
["k.A.","keine Angabe - Für diese Skala wird keine Effektstärke angegeben. (Rücklauf oder Rücklaufquote zu niedrig)"]
[]
[]
[null,null,null,"D = größer als +0,2","D = größer als +0,5"]
["a) Prozentualer Anteil aus Vergleichsgruppe unter dem Durchschnitt der inspizierten Schule",null,null,0.57999999999999996,0.69]
["b) Chance der Umsetzung an der inspizierten Schule",null,null,2.4700000000000002,4.25]
["c) Prozentuale Risikoreduktion",null,null,0.54,0.6]
["d) Wahrscheinlichkeit, dass zufällig ausgewählte Person aus der inspizierten Schule einen höheren Wert aufweist als eine Person aus der Vergleichtsgruppe",null,null,0.56000000000000005,0.64]
[]
["Beispiel:"]
["D = 0,7 bei Lehrmethoden, die die Eigenaktivität fördern"]
["a) Rund 70% der Lehrkräfte aus der Vergleichsgruppe verwenden seltener Lehrmethoden, die die Eigenaktivität der Schülerinnen und Schüler fördern als eine durchschnittliche Lehrkraft an der inspizierten Schule "]
["b) Die Chance, dass in einer Unterrichtsstunde an der inspizierten Schule diese Lehrform eingesetzt wird, ist rund 4-mal so hoch wie in der Vergleichsgruppe "]
["c) Der Schulbesuch eines Kindes an der inspizierten Schule verringert das Risiko, nur selten an einem Unterricht teilzunehmen, in dem Lehrmethoden, eingesetzt werden, die die Eigenaktivität fördern, um mehr als 60% im Vergleich zur Vergleichsgruppe "]
["d) Eine zufällig ausgewählte Lehrkraft der inspizierten Schule setzt mit einer 64-prozentigen Wahrscheinlichkeit häufiger diese Lehrform ein als eine zufällig ausgewählte Lehrkraft aus der Referenzstichprobe "]
[]
["Bei negativem D, muss die Interpretation umgekehrt werden, also z.B. D = 0-,7 bei Lehrmethoden, die die Eigenaktivität fördern"]
["a) Rund 70% der Lehrkräfte aus der Vergleichsgruppe verwenden häufiger Lehrmethoden, die die Eigenaktivität der Schülerinnen und Schüler fördern als eine durchschnittliche Lehrkraft an der inspizierten Schule "]
["b) Die Chance, dass in einer Unterrichtsstunde an der inspizierten Schule diese Lehrform eingesetzt wird, ist rund 4-mal so niedrig wie in der Vergleichsgruppe "]
["c) Der Schulbesuch eines Kindes an der inspizierten Schule erhöht das Risiko, nur selten an einem Unterricht teilzunehmen, in dem Lehrmethoden, eingesetzt werden, die die Eigenaktivität fördern, um mehr als 60% im Vergleich zur Vergleichsgruppe "]
["d) Eine zufällig ausgewählte Lehrkraft der inspizierten Schule setzt mit einer 64-prozentigen Wahrscheinlichkeit seltener diese Lehrform ein als eine zufällig ausgewählte Lehrkraft aus der Referenzstichprobe "]

{"sheet":"EFB-Konstrukte","index":9,"n_rows":17,"n_cols":9,"rows_kept":17,"cut":false,"hidden":true,"merged":[[1,0,1,6],[5,0,5,6]]}
[]
["Fragebogen für Eltern und Erziehungsberechtigte - Konstrukte"]
[]
[{"$f":"'FB nach BerT'!A1","v":"Schule Rungwisch (5274)"}]
[]
[{"$f":"\nIF(Rücklaufquoten!$I$6=0.5, \"Die Rücklaufquote der Befragung der Eltern und Erziehungsberechtigten an Ihrer Schule lag zwischen 20 und 50 Prozent.\" & \" Die Daten sind bei einer solchen Rücklaufquote in der Regel systematisch verzerrt und können nicht als repräsentativ für die Meinung aller Befragten der Gruppe betrachtet werden.\" & \"\nAus diesem Grund werden die Ergebnisse grafisch nicht dargestellt. Zu Ihrer Information sind die Daten dennoch in den Tabellen einsehbar, jedoch sind sie mit einer gelben Markierung hinterlegt.\",\n\nIF(Rücklaufquoten!$I$6=0,\nIF(Rücklaufquoten!G6<=10,\n\"Der Rücklauf der Befragung der Eltern und Erziehungsberechtigten betrug an Ihrer Schule 10 oder weniger Fragebögen.\" & \"\nUm die Anonymität der Befragten zu gewährleisten, werden die entsprechenden Ergebnisse weder in grafischer, noch in tabellarischer Form zurückgemeldet.\",\n\"Die Rücklaufquote der Befragung der Eltern und Erziehungsberechtigten an Ihrer Schule lag unter 20 Prozent.\" & \" Die Daten sind bei einer solchen Rücklaufquote in der Regel nicht aussagekräftig.\" &\"\nAus diesem Grund werden die Ergebnisse weder in grafischer, noch in tabellarischer Form zurückgemeldet.\"),\n\n\"Alle Rücklaufquoten sind ausreichend hoch, sodass alle Daten dargestellt werden.\"))","v":"Die Rücklaufquote der Befragung der Eltern und Erziehungsberechtigten an Ihrer Schule lag zwischen 20 und 50 Prozent. Die Daten sind bei einer solchen Rücklaufquote in der Regel systematisch verzerrt und können nicht als repräsentativ für die Meinung aller Befragten der Gruppe betrachtet werden.\nAus diesem Grund werden die Ergebnisse grafisch nicht dargestellt. Zu Ihrer Information sind die Daten dennoch in den Tabellen einsehbar, jedoch sind sie mit einer gelben Markierung hinterlegt."}]
[]
["Konstrukt","N","Mittelwert","SE","SD","Anzahl Items","Items"]
["Gelungene Konzeption des Ganztags",75,3.0857777777777775,8.4069239144312691E-2,0.72806096775803941,6,"16, 17, 18, 19, 20, 21",null,{"$f":"\" \"&G9&\", \"","v":" 16, 17, 18, 19, 20, 21, "}]
["Beteiligungsmöglichkeit an der Schule",88,3.3178841991341987,5.6059084927379599E-2,0.52588083084932269,8,"22, 23, 24, 25, 26, 27, 28, 29",null,{"$f":"\" \"&G10&\", \"","v":" 22, 23, 24, 25, 26, 27, 28, 29, "}]
["Informationen über die Schulentwicklung",87,3.2624521072796937,8.003274708770064E-2,0.74649576874697388,3,"30, 31, 32",null," 30, 31, 32, "]
["Unterstützung und Förderung des Kindes",84,3.1954365079365084,6.5785762426404881E-2,0.60293647193876421,7,"8, 9, 10, 11, 12, 13, 14",null," 8, 9, 10, 11, 12, 13, 14, "]
["Informationen über den Lernstand des Kindes",89,2.9906367041198512,7.9203038549123583E-2,0.74719997127398374,3,"1, 2, 3",null," 1, 2, 3, "]
["Soziales Miteinander an der Schule",88,3.208333333333333,5.9477142476632563E-2,0.55794505284332185,4,"4, 5, 6, 7",null," 4, 5, 6, 7, "]
["Zufriedenheit mit der Schule",88,3.2159090909090926,7.9997183119612514E-2,0.75044009689142277,4,"33, 34, 35, 36",null," 33, 34, 35, 36, "]
[]
["-",null,null,null,null,null,null,null,"  15, "]

{"sheet":"EFB-Items","index":10,"n_rows":58,"n_cols":10,"rows_kept":58,"cut":false,"hidden":true,"merged":[[1,0,1,9],[27,0,27,3],[27,5,27,6],[27,7,27,8],[28,0,28,3],[5,0,5,9]]}
[]
["Fragebogen für Eltern und Erziehungsberechtigte - Konstrukte"]
[]
[{"$f":"'FB nach BerT'!A1","v":"Schule Rungwisch (5274)"}]
[]
[{"$f":"'EFB-Konstrukte'!A6","v":"Die Rücklaufquote der Befragung der Eltern und Erziehungsberechtigten an Ihrer Schule lag zwischen 20 und 50 Prozent. Die Daten sind bei einer solchen Rücklaufquote in der Regel systematisch verzerrt und können nicht als repräsentativ für die Meinung aller Befragten der Gruppe betrachtet werden.\nAus diesem Grund werden die Ergebnisse grafisch nicht dargestellt. Zu Ihrer Information sind die Daten dennoch in den Tabellen einsehbar, jedoch sind sie mit einer gelben Markierung hinterlegt."}]
[]
["Ich fühle mich durch die Schule gut informiert…","N","MW","SE","SD","trifft nicht zu","trifft eher\n nicht zu","trifft eher zu","trifft voll zu","Zuordnung zum Konstrukt"]
["01. ...über Ziele und Inhalte des Unterrichts meines Kindes.",89,3.1235955056179772,8.120049323689793E-2,0.76604392111058484,2.2471910112359553E-2,0.16853932584269665,0.47191011235955055,0.3370786516853933,{"$f":"INDEX('EFB-Konstrukte'!$A$9:$I$17,\n\nSMALL(IF(NOT(ISERROR(FIND(\nIF(LEFT(A9,1)=\"0\",\" \" & MID(A9,2,1) & \",\",\nIF(MID(A9,3,1)=\".\",LEFT(A9,2),\nLEFT(A9,3))),'EFB-Konstrukte'!$I$9:$I$17))),ROW($1:$9)),1),\n\n1)","v":"Informationen über den Lernstand des Kindes"}]
["02. ...über den Leistungsstand meines Kindes.",87,2.9885057471264371,8.8792205928321988E-2,0.82819856165337913,3.4482758620689655E-2,0.24137931034482757,0.42528735632183901,0.2988505747126437,{"$f":"INDEX('EFB-Konstrukte'!$A$9:$I$17,\n\nSMALL(IF(NOT(ISERROR(FIND(\nIF(LEFT(A10,1)=\"0\",\" \" & MID(A10,2,1) & \",\",\nIF(MID(A10,3,1)=\".\",LEFT(A10,2),\nLEFT(A10,3))),'EFB-Konstrukte'!$I$9:$I$17))),ROW($1:$9)),1),\n\n1)","v":"Informationen über den Lernstand des Kindes"}]
["03. ...darüber, was mein Kind tun muss, um sich in einzelnen Fächern zu verbessern.",82,2.8170731707317063,0.1057344779127339,0.9574664198796895,8.5365853658536592E-2,0.3048780487804878,0.31707317073170732,0.29268292682926828,{"$f":"INDEX('EFB-Konstrukte'!$A$9:$I$17,\n\nSMALL(IF(NOT(ISERROR(FIND(\nIF(LEFT(A11,1)=\"0\",\" \" & MID(A11,2,1) & \",\",\nIF(MID(A11,3,1)=\".\",LEFT(A11,2),\nLEFT(A11,3))),'EFB-Konstrukte'!$I$9:$I$17))),ROW($1:$9)),1),\n\n1)","v":"Informationen über den Lernstand des Kindes"}]
[]
[null,"N","MW","SE","SD","trifft nicht zu","trifft eher\n nicht zu","trifft eher zu","trifft voll zu","Zuordnung zum Konstrukt"]
["04. Die Pädagoginnen und Pädagogen gehen respektvoll mit den Schülerinnen und Schülern um.",84,3.4880952380952381,7.8522733915416074E-2,0.71967274388454061,2.3809523809523808E-2,5.9523809523809514E-2,0.32142857142857145,0.59523809523809523,{"$f":"INDEX('EFB-Konstrukte'!$A$9:$I$17,\n\nSMALL(IF(NOT(ISERROR(FIND(\nIF(LEFT(A14,1)=\"0\",\" \" & MID(A14,2,1) & \",\",\nIF(MID(A14,3,1)=\".\",LEFT(A14,2),\nLEFT(A14,3))),'EFB-Konstrukte'!$I$9:$I$17))),ROW($1:$9)),1),\n\n1)","v":"Soziales Miteinander an der Schule"}]
["05. Die Schülerinnen und Schüler gehen respektvoll miteinander um.",81,2.8888888888888888,7.2435582280029442E-2,0.65192024052026498,1.2345679012345678E-2,0.23456790123456789,0.60493827160493829,0.14814814814814814,{"$f":"INDEX('EFB-Konstrukte'!$A$9:$I$17,\n\nSMALL(IF(NOT(ISERROR(FIND(\nIF(LEFT(A15,1)=\"0\",\" \" & MID(A15,2,1) & \",\",\nIF(MID(A15,3,1)=\".\",LEFT(A15,2),\nLEFT(A15,3))),'EFB-Konstrukte'!$I$9:$I$17))),ROW($1:$9)),1),\n\n1)","v":"Soziales Miteinander an der Schule"}]
["06. Es werden Regeln für das soziale Miteinander vermittelt.",84,3.4523809523809526,6.4281995600142569E-2,0.58915422132094308,0,4.7619047619047616E-2,0.45238095238095238,0.5,{"$f":"INDEX('EFB-Konstrukte'!$A$9:$I$17,\n\nSMALL(IF(NOT(ISERROR(FIND(\nIF(LEFT(A16,1)=\"0\",\" \" & MID(A16,2,1) & \",\",\nIF(MID(A16,3,1)=\".\",LEFT(A16,2),\nLEFT(A16,3))),'EFB-Konstrukte'!$I$9:$I$17))),ROW($1:$9)),1),\n\n1)","v":"Soziales Miteinander an der Schule"}]
["07. Es gibt Angebote, um Gewalt zu verhindern.",73,2.9589041095890423,0.11280017650260844,0.96376513051076507,0.12328767123287671,0.1095890410958904,0.45205479452054786,0.31506849315068491,{"$f":"INDEX('EFB-Konstrukte'!$A$9:$I$17,\n\nSMALL(IF(NOT(ISERROR(FIND(\nIF(LEFT(A17,1)=\"0\",\" \" & MID(A17,2,1) & \",\",\nIF(MID(A17,3,1)=\".\",LEFT(A17,2),\nLEFT(A17,3))),'EFB-Konstrukte'!$I$9:$I$17))),ROW($1:$9)),1),\n\n1)","v":"Soziales Miteinander an der Schule"}]
[]
[null,"N","MW","SE","SD","trifft nicht zu","trifft eher\n nicht zu","trifft eher zu","trifft voll zu","Zuordnung zum Konstrukt"]
["08. Mein Kind erhält im Unterricht Aufgaben, die gut zu seinem Lernstand passen.",77,3.5064935064935061,7.0694670036896279E-2,0.62034321195220177,1.2987012987012986E-2,2.5974025974025972E-2,0.40259740259740262,0.55844155844155841,{"$f":"INDEX('EFB-Konstrukte'!$A$9:$I$17,\n\nSMALL(IF(NOT(ISERROR(FIND(\nIF(LEFT(A20,1)=\"0\",\" \" & MID(A20,2,1) & \",\",\nIF(MID(A20,3,1)=\".\",LEFT(A20,2),\nLEFT(A20,3))),'EFB-Konstrukte'!$I$9:$I$17))),ROW($1:$9)),1),\n\n1)","v":"Unterstützung und Förderung des Kindes"}]
["09. Mein Kind bekommt die notwendige Förderung, um die jeweiligen Lerninhalte verstehen und bearbeiten zu können.",78,3.333333333333333,7.884165279854434E-2,0.6963106238227913,1.282051282051282E-2,8.9743589743589744E-2,0.44871794871794873,0.44871794871794873,{"$f":"INDEX('EFB-Konstrukte'!$A$9:$I$17,\n\nSMALL(IF(NOT(ISERROR(FIND(\nIF(LEFT(A21,1)=\"0\",\" \" & MID(A21,2,1) & \",\",\nIF(MID(A21,3,1)=\".\",LEFT(A21,2),\nLEFT(A21,3))),'EFB-Konstrukte'!$I$9:$I$17))),ROW($1:$9)),1),\n\n1)","v":"Unterstützung und Förderung des Kindes"}]
["10. Meinem Kind werden seine Stärken und Schwächen zurückgemeldet.",75,3.16,8.7074577127781563E-2,0.75408795816446283,2.6666666666666668E-2,0.13333333333333333,0.49333333333333335,0.34666666666666673,{"$f":"INDEX('EFB-Konstrukte'!$A$9:$I$17,\n\nSMALL(IF(NOT(ISERROR(FIND(\nIF(LEFT(A22,1)=\"0\",\" \" & MID(A22,2,1) & \",\",\nIF(MID(A22,3,1)=\".\",LEFT(A22,2),\nLEFT(A22,3))),'EFB-Konstrukte'!$I$9:$I$17))),ROW($1:$9)),1),\n\n1)","v":"Unterstützung und Förderung des Kindes"}]
["11. Mein Kind erhält in den unterschiedlichen Fächern konkrete Hinweise, wie es sich weiterentwickeln kann.",70,2.8285714285714301,9.9629600919975234E-2,0.83356104549285837,8.5714285714285715E-2,0.18571428571428572,0.54285714285714282,0.18571428571428572,{"$f":"INDEX('EFB-Konstrukte'!$A$9:$I$17,\n\nSMALL(IF(NOT(ISERROR(FIND(\nIF(LEFT(A23,1)=\"0\",\" \" & MID(A23,2,1) & \",\",\nIF(MID(A23,3,1)=\".\",LEFT(A23,2),\nLEFT(A23,3))),'EFB-Konstrukte'!$I$9:$I$17))),ROW($1:$9)),1),\n\n1)","v":"Unterstützung und Förderung des Kindes"}]
["12. Lernschwierigkeiten werden mit meinem Kind besprochen.",61,2.9508196721311468,0.10564977069636701,0.82515108734091269,6.5573770491803282E-2,0.16393442622950818,0.52459016393442626,0.24590163934426229,{"$f":"INDEX('EFB-Konstrukte'!$A$9:$I$17,\n\nSMALL(IF(NOT(ISERROR(FIND(\nIF(LEFT(A24,1)=\"0\",\" \" & MID(A24,2,1) & \",\",\nIF(MID(A24,3,1)=\".\",LEFT(A24,2),\nLEFT(A24,3))),'EFB-Konstrukte'!$I$9:$I$17))),ROW($1:$9)),1),\n\n1)","v":"Unterstützung und Förderung des Kindes"}]
["13. Die mit meinem Kind verabredeten Lernziele passen zu seinem Leistungs- und Entwicklungsstand.",71,3.352112676056338,9.2143252021386637E-2,0.77641284211973904,1.4084507042253523E-2,0.14084507042253522,0.32394366197183105,0.52112676056338025,{"$f":"INDEX('EFB-Konstrukte'!$A$9:$I$17,\n\nSMALL(IF(NOT(ISERROR(FIND(\nIF(LEFT(A25,1)=\"0\",\" \" & MID(A25,2,1) & \",\",\nIF(MID(A25,3,1)=\".\",LEFT(A25,2),\nLEFT(A25,3))),'EFB-Konstrukte'!$I$9:$I$17))),ROW($1:$9)),1),\n\n1)","v":"Unterstützung und Förderung des Kindes"}]
["14. Mein Kind wird bei der Umsetzung der verabredeten Lernziele unterstützt.",70,3.1285714285714272,9.0824218939295903E-2,0.75988993427688001,4.2857142857142858E-2,0.1,0.54285714285714282,0.31428571428571428,{"$f":"INDEX('EFB-Konstrukte'!$A$9:$I$17,\n\nSMALL(IF(NOT(ISERROR(FIND(\nIF(LEFT(A26,1)=\"0\",\" \" & MID(A26,2,1) & \",\",\nIF(MID(A26,3,1)=\".\",LEFT(A26,2),\nLEFT(A26,3))),'EFB-Konstrukte'!$I$9:$I$17))),ROW($1:$9)),1),\n\n1)","v":"Unterstützung und Förderung des Kindes"}]
[]
[null,null,null,null,"N","Ja",null,"Nein",null,"Zuordnung zum Konstrukt"]
["15. Nimmt ihr Kind am Ganztagsangebot der Schule teil?",null,null,null,87,0.86206896551724133,75,0.13793103448275862,12,{"$f":"INDEX('EFB-Konstrukte'!$A$9:$I$17,\n\nSMALL(IF(NOT(ISERROR(FIND(\nIF(LEFT(A29,1)=\"0\",\" \" & MID(A29,2,1) & \",\",\nIF(MID(A29,3,1)=\".\",LEFT(A29,2),\nLEFT(A29,3))),'EFB-Konstrukte'!$I$9:$I$17))),ROW($1:$9)),1),\n\n1)","v":"-"}]
[]
[null,"N","MW","SE","SD","trifft nicht zu","trifft eher\n nicht zu","trifft eher zu","trifft voll zu","Zuordnung zum Konstrukt"]
["16. Der Ganztagsbetrieb an der Schule ist gut organisiert.",74,3.0675675675675675,0.10596968732622632,0.91158571882700346,9.45945945945946E-2,9.45945945945946E-2,0.45945945945945948,0.35135135135135137,{"$f":"INDEX('EFB-Konstrukte'!$A$9:$I$17,\n\nSMALL(IF(NOT(ISERROR(FIND(\nIF(LEFT(A32,1)=\"0\",\" \" & MID(A32,2,1) & \",\",\nIF(MID(A32,3,1)=\".\",LEFT(A32,2),\nLEFT(A32,3))),'EFB-Konstrukte'!$I$9:$I$17))),ROW($1:$9)),1),\n\n1)","v":"Gelungene Konzeption des Ganztags"}]
["17. Der Tagesablauf im Ganztagsbetrieb ist abwechslungsreich.",73,3.0410958904109591,0.10583860261643159,0.90428541715396527,6.8493150684931503E-2,0.17808219178082191,0.39726027397260277,0.35616438356164382,{"$f":"INDEX('EFB-Konstrukte'!$A$9:$I$17,\n\nSMALL(IF(NOT(ISERROR(FIND(\nIF(LEFT(A33,1)=\"0\",\" \" & MID(A33,2,1) & \",\",\nIF(MID(A33,3,1)=\".\",LEFT(A33,2),\nLEFT(A33,3))),'EFB-Konstrukte'!$I$9:$I$17))),ROW($1:$9)),1),\n\n1)","v":"Gelungene Konzeption des Ganztags"}]
["18. Der Tagesablauf im Ganztagsbetrieb ist zeitlich sinnvoll gestaltet.",70,3.1142857142857143,0.1048371647606645,0.87713065050414807,5.7142857142857141E-2,0.15714285714285714,0.4,0.38571428571428579,{"$f":"INDEX('EFB-Konstrukte'!$A$9:$I$17,\n\nSMALL(IF(NOT(ISERROR(FIND(\nIF(LEFT(A34,1)=\"0\",\" \" & MID(A34,2,1) & \",\",\nIF(MID(A34,3,1)=\".\",LEFT(A34,2),\nLEFT(A34,3))),'EFB-Konstrukte'!$I$9:$I$17))),ROW($1:$9)),1),\n\n1)","v":"Gelungene Konzeption des Ganztags"}]
["19. Über das Angebot des Ganztags wurden wir als Eltern vorab gut informiert.",71,2.8732394366197176,0.12190568882427852,1.0271955922356022,8.4507042253521125E-2,0.3380281690140845,0.19718309859154928,0.38028169014084506,{"$f":"INDEX('EFB-Konstrukte'!$A$9:$I$17,\n\nSMALL(IF(NOT(ISERROR(FIND(\nIF(LEFT(A35,1)=\"0\",\" \" & MID(A35,2,1) & \",\",\nIF(MID(A35,3,1)=\".\",LEFT(A35,2),\nLEFT(A35,3))),'EFB-Konstrukte'!$I$9:$I$17))),ROW($1:$9)),1),\n\n1)","v":"Gelungene Konzeption des Ganztags"}]
["20. Es gibt einheitliche Regeln für das soziale Miteinander am Vormittag und Nachmittag.",65,3.2615384615384611,8.8461538461538466E-2,0.71319972388794861,3.0769230769230771E-2,6.1538461538461542E-2,0.52307692307692311,0.38461538461538469,{"$f":"INDEX('EFB-Konstrukte'!$A$9:$I$17,\n\nSMALL(IF(NOT(ISERROR(FIND(\nIF(LEFT(A36,1)=\"0\",\" \" & MID(A36,2,1) & \",\",\nIF(MID(A36,3,1)=\".\",LEFT(A36,2),\nLEFT(A36,3))),'EFB-Konstrukte'!$I$9:$I$17))),ROW($1:$9)),1),\n\n1)","v":"Gelungene Konzeption des Ganztags"}]
["21. Es findet ein Austausch zwischen den Pädagoginnen und Pädagogen des Ganztagsangebots und des Unterrichts statt.",51,3.3725490196078427,9.6855600276301704E-2,0.69168733727676379,1.9607843137254902E-2,5.8823529411764698E-2,0.45098039215686275,0.47058823529411759,{"$f":"INDEX('EFB-Konstrukte'!$A$9:$I$17,\n\nSMALL(IF(NOT(ISERROR(FIND(\nIF(LEFT(A37,1)=\"0\",\" \" & MID(A37,2,1) & \",\",\nIF(MID(A37,3,1)=\".\",LEFT(A37,2),\nLEFT(A37,3))),'EFB-Konstrukte'!$I$9:$I$17))),ROW($1:$9)),1),\n\n1)","v":"Gelungene Konzeption des Ganztags"}]
[]
[null,"N","MW","SE","SD","trifft nicht zu","trifft eher\n nicht zu","trifft eher zu","trifft voll zu","Zuordnung zum Konstrukt"]
["22. An der Schule meines Kindes fühle ich mich willkommen.",86,3.476744186046512,7.3465597606975686E-2,0.68129192475069467,2.3255813953488372E-2,3.4883720930232558E-2,0.38372093023255816,0.55813953488372092,{"$f":"INDEX('EFB-Konstrukte'!$A$9:$I$17,\n\nSMALL(IF(NOT(ISERROR(FIND(\nIF(LEFT(A40,1)=\"0\",\" \" & MID(A40,2,1) & \",\",\nIF(MID(A40,3,1)=\".\",LEFT(A40,2),\nLEFT(A40,3))),'EFB-Konstrukte'!$I$9:$I$17))),ROW($1:$9)),1),\n\n1)","v":"Beteiligungsmöglichkeit an der Schule"}]
["23. Es gibt an der Schule viele Bereiche, in denen sich Eltern aktiv beteiligen können.",82,3.1951219512195119,8.4010840108401069E-2,0.76075051296005392,2.4390243902439025E-2,0.13414634146341464,0.46341463414634149,0.37804878048780488,{"$f":"INDEX('EFB-Konstrukte'!$A$9:$I$17,\n\nSMALL(IF(NOT(ISERROR(FIND(\nIF(LEFT(A41,1)=\"0\",\" \" & MID(A41,2,1) & \",\",\nIF(MID(A41,3,1)=\".\",LEFT(A41,2),\nLEFT(A41,3))),'EFB-Konstrukte'!$I$9:$I$17))),ROW($1:$9)),1),\n\n1)","v":"Beteiligungsmöglichkeit an der Schule"}]
["24. Wir Eltern werden regelmäßig nach Verbesserungsvorschlägen für die Schule gefragt.",78,2.7307692307692304,0.10106505246389298,0.89258237530398088,0.10256410256410256,0.25641025641025639,0.44871794871794873,0.19230769230769235,{"$f":"INDEX('EFB-Konstrukte'!$A$9:$I$17,\n\nSMALL(IF(NOT(ISERROR(FIND(\nIF(LEFT(A42,1)=\"0\",\" \" & MID(A42,2,1) & \",\",\nIF(MID(A42,3,1)=\".\",LEFT(A42,2),\nLEFT(A42,3))),'EFB-Konstrukte'!$I$9:$I$17))),ROW($1:$9)),1),\n\n1)","v":"Beteiligungsmöglichkeit an der Schule"}]
["25. Ich habe den Eindruck, dass Eltern gewürdigt werden, wenn sie sich engagieren.",77,3.2337662337662341,9.4076262123055004E-2,0.82551584982877413,5.1948051948051945E-2,9.0909090909090912E-2,0.42857142857142855,0.42857142857142855,{"$f":"INDEX('EFB-Konstrukte'!$A$9:$I$17,\n\nSMALL(IF(NOT(ISERROR(FIND(\nIF(LEFT(A43,1)=\"0\",\" \" & MID(A43,2,1) & \",\",\nIF(MID(A43,3,1)=\".\",LEFT(A43,2),\nLEFT(A43,3))),'EFB-Konstrukte'!$I$9:$I$17))),ROW($1:$9)),1),\n\n1)","v":"Beteiligungsmöglichkeit an der Schule"}]
["26. Die Schule bemüht sich, möglichst viele organisatorische Fragen mit den Eltern abzustimmen.",83,2.9036144578313263,9.4848902887060382E-2,0.86411462980727161,3.614457831325301E-2,0.31325301204819278,0.36144578313253012,0.28915662650602408,{"$f":"INDEX('EFB-Konstrukte'!$A$9:$I$17,\n\nSMALL(IF(NOT(ISERROR(FIND(\nIF(LEFT(A44,1)=\"0\",\" \" & MID(A44,2,1) & \",\",\nIF(MID(A44,3,1)=\".\",LEFT(A44,2),\nLEFT(A44,3))),'EFB-Konstrukte'!$I$9:$I$17))),ROW($1:$9)),1),\n\n1)","v":"Beteiligungsmöglichkeit an der Schule"}]
["27. Ich kann mit der Klassenleitung sprechen, wenn ich ein Anliegen oder Fragen habe.",88,3.8409090909090908,4.2413978456848918E-2,0.39787838598163122,0,1.1363636363636364E-2,0.13636363636363635,0.85227272727272729,{"$f":"INDEX('EFB-Konstrukte'!$A$9:$I$17,\n\nSMALL(IF(NOT(ISERROR(FIND(\nIF(LEFT(A45,1)=\"0\",\" \" & MID(A45,2,1) & \",\",\nIF(MID(A45,3,1)=\".\",LEFT(A45,2),\nLEFT(A45,3))),'EFB-Konstrukte'!$I$9:$I$17))),ROW($1:$9)),1),\n\n1)","v":"Beteiligungsmöglichkeit an der Schule"}]
["28. Ich kann mich an die Schulleitung wenden, wenn ich ein Anliegen oder Fragen habe.",75,3.4,0.10397504898200724,0.90045033778149619,6.6666666666666666E-2,0.08,0.24,0.61333333333333329,{"$f":"INDEX('EFB-Konstrukte'!$A$9:$I$17,\n\nSMALL(IF(NOT(ISERROR(FIND(\nIF(LEFT(A46,1)=\"0\",\" \" & MID(A46,2,1) & \",\",\nIF(MID(A46,3,1)=\".\",LEFT(A46,2),\nLEFT(A46,3))),'EFB-Konstrukte'!$I$9:$I$17))),ROW($1:$9)),1),\n\n1)","v":"Beteiligungsmöglichkeit an der Schule"}]
["29. An der Schule weiß ich, an wen ich mich wenden kann, wenn ich ein Anliegen oder Fragen habe.",86,3.6627906976744184,6.741355130178768E-2,0.62516755619930675,1.1627906976744186E-2,4.6511627906976744E-2,0.20930232558139536,0.73255813953488369,{"$f":"INDEX('EFB-Konstrukte'!$A$9:$I$17,\n\nSMALL(IF(NOT(ISERROR(FIND(\nIF(LEFT(A47,1)=\"0\",\" \" & MID(A47,2,1) & \",\",\nIF(MID(A47,3,1)=\".\",LEFT(A47,2),\nLEFT(A47,3))),'EFB-Konstrukte'!$I$9:$I$17))),ROW($1:$9)),1),\n\n1)","v":"Beteiligungsmöglichkeit an der Schule"}]
[]
["Die Schule informiert mich regelmäßig…","N","MW","SE","SD","trifft nicht zu","trifft eher\n nicht zu","trifft eher zu","trifft voll zu","Zuordnung zum Konstrukt"]
["30. ...über die schulische Arbeit (bspw. Projekte, Schwerpunkte der schulischen Arbeit, besondere Bildungsangebote).",86,3.3023255813953494,9.0702935762369749E-2,0.84114442268167078,4.6511627906976744E-2,0.10465116279069768,0.34883720930232553,0.5,{"$f":"INDEX('EFB-Konstrukte'!$A$9:$I$17,\n\nSMALL(IF(NOT(ISERROR(FIND(\nIF(LEFT(A50,1)=\"0\",\" \" & MID(A50,2,1) & \",\",\nIF(MID(A50,3,1)=\".\",LEFT(A50,2),\nLEFT(A50,3))),'EFB-Konstrukte'!$I$9:$I$17))),ROW($1:$9)),1),\n\n1)","v":"Informationen über die Schulentwicklung"}]
["31. ...über aktuelle Entwicklungen und Pläne der Schule.",85,3.4000000000000004,8.5667587652680482E-2,0.78981613291292285,4.7058823529411764E-2,4.7058823529411764E-2,0.36470588235294116,0.54117647058823526,{"$f":"INDEX('EFB-Konstrukte'!$A$9:$I$17,\n\nSMALL(IF(NOT(ISERROR(FIND(\nIF(LEFT(A51,1)=\"0\",\" \" & MID(A51,2,1) & \",\",\nIF(MID(A51,3,1)=\".\",LEFT(A51,2),\nLEFT(A51,3))),'EFB-Konstrukte'!$I$9:$I$17))),ROW($1:$9)),1),\n\n1)","v":"Informationen über die Schulentwicklung"}]
["32. ...über meine Möglichkeiten, mich an der Schulentwicklung zu beteiligen.",81,3.1728395061728403,8.9218353757270399E-2,0.80296518381543358,2.4691358024691357E-2,0.1728395061728395,0.40740740740740738,0.39506172839506171,{"$f":"INDEX('EFB-Konstrukte'!$A$9:$I$17,\n\nSMALL(IF(NOT(ISERROR(FIND(\nIF(LEFT(A52,1)=\"0\",\" \" & MID(A52,2,1) & \",\",\nIF(MID(A52,3,1)=\".\",LEFT(A52,2),\nLEFT(A52,3))),'EFB-Konstrukte'!$I$9:$I$17))),ROW($1:$9)),1),\n\n1)","v":"Informationen über die Schulentwicklung"}]
[]
[null,"N","MW","SE","SD","trifft nicht zu","trifft eher\n nicht zu","trifft eher zu","trifft voll zu","Zuordnung zum Konstrukt"]
["33. Ich stehe voll und ganz hinter dem Konzept der Schule, die mein Kind besucht.",81,3.1358024691358022,9.2551431180204008E-2,0.8329628806218361,6.1728395061728392E-2,9.8765432098765427E-2,0.48148148148148145,0.35802469135802467,{"$f":"INDEX('EFB-Konstrukte'!$A$9:$I$17,\n\nSMALL(IF(NOT(ISERROR(FIND(\nIF(LEFT(A55,1)=\"0\",\" \" & MID(A55,2,1) & \",\",\nIF(MID(A55,3,1)=\".\",LEFT(A55,2),\nLEFT(A55,3))),'EFB-Konstrukte'!$I$9:$I$17))),ROW($1:$9)),1),\n\n1)","v":"Zufriedenheit mit der Schule"}]
["34. Freundinnen und Freunden gegenüber lobe ich die Schule meines Kindes als besonders gute Schule.",83,3.096385542168675,9.3286955243531575E-2,0.84988460954680145,6.0240963855421686E-2,0.13253012048192772,0.45783132530120485,0.3493975903614458,{"$f":"INDEX('EFB-Konstrukte'!$A$9:$I$17,\n\nSMALL(IF(NOT(ISERROR(FIND(\nIF(LEFT(A56,1)=\"0\",\" \" & MID(A56,2,1) & \",\",\nIF(MID(A56,3,1)=\".\",LEFT(A56,2),\nLEFT(A56,3))),'EFB-Konstrukte'!$I$9:$I$17))),ROW($1:$9)),1),\n\n1)","v":"Zufriedenheit mit der Schule"}]
["35. Ich bin ausgesprochen froh, dass mein Kind gerade diese Schule besucht.",84,3.285714285714286,8.7305933583286741E-2,0.80017209852839721,3.5714285714285712E-2,0.10714285714285714,0.39285714285714285,0.4642857142857143,{"$f":"INDEX('EFB-Konstrukte'!$A$9:$I$17,\n\nSMALL(IF(NOT(ISERROR(FIND(\nIF(LEFT(A57,1)=\"0\",\" \" & MID(A57,2,1) & \",\",\nIF(MID(A57,3,1)=\".\",LEFT(A57,2),\nLEFT(A57,3))),'EFB-Konstrukte'!$I$9:$I$17))),ROW($1:$9)),1),\n\n1)","v":"Zufriedenheit mit der Schule"}]
["36. Ich bin insgesamt mit der Schule meines Kindes zufrieden.",87,3.3793103448275863,8.049794794395447E-2,0.75083487346907485,2.2988505747126436E-2,9.1954022988505746E-2,0.36781609195402298,0.51724137931034486,{"$f":"INDEX('EFB-Konstrukte'!$A$9:$I$17,\n\nSMALL(IF(NOT(ISERROR(FIND(\nIF(LEFT(A58,1)=\"0\",\" \" & MID(A58,2,1) & \",\",\nIF(MID(A58,3,1)=\".\",LEFT(A58,2),\nLEFT(A58,3))),'EFB-Konstrukte'!$I$9:$I$17))),ROW($1:$9)),1),\n\n1)","v":"Zufriedenheit mit der Schule"}]

{"sheet":"Effektstärken Eltern","index":11,"n_rows":47,"n_cols":10,"rows_kept":47,"cut":false,"hidden":true,"merged":[[22,1,22,9],[43,0,43,8],[44,0,44,8],[39,0,39,8],[40,0,40,8],[42,0,42,8],[19,0,19,9],[45,0,45,8],[46,0,46,8],[23,1,23,9],[24,1,24,9],[25,1,25,9],[26,1,26,9],[31,0,31,2],[32,0,32,2],[33,0,33,2],[35,0,35,8],[36,0,36,8],[37,0,37,8],[38,0,38,8],[20,1,20,9],[21,1,21,9],[1,0,1,9],[7,2,7,4],[7,5,7,7],[7,8,7,9],[30,0,30,2],[14,0,14,1],[15,0,15,1],[5,0,5,9],[3,0,3,1],[8,0,8,1],[9,0,9,1],[10,0,10,1],[11,0,11,1],[12,0,12,1],[13,0,13,1],[18,0,18,9]]}
[]
["Fragebogen für Eltern und Erziehungsberechtigte - Effektstärken"]
[]
[{"$f":"'FB nach BerT'!A1","v":"Schule Rungwisch (5274)"}]
[]
[{"$f":"'EFB-Konstrukte'!A6","v":"Die Rücklaufquote der Befragung der Eltern und Erziehungsberechtigten an Ihrer Schule lag zwischen 20 und 50 Prozent. Die Daten sind bei einer solchen Rücklaufquote in der Regel systematisch verzerrt und können nicht als repräsentativ für die Meinung aller Befragten der Gruppe betrachtet werden.\nAus diesem Grund werden die Ergebnisse grafisch nicht dargestellt. Zu Ihrer Information sind die Daten dennoch in den Tabellen einsehbar, jedoch sind sie mit einer gelben Markierung hinterlegt."}]
[]
[null,null,{"$f":"CONCATENATE(\"Inspizierte Schule \",'FB nach BerT'!I1,\"\")","v":"Inspizierte Schule (5274)"},null,null,"Referenzwert",null,null,"Effektstärke"]
["Skala",null,"N","MW ","SD","N","MW","SD","D","Effekt"]
[{"$f":"'EFB-Konstrukte'!A9","v":"Gelungene Konzeption des Ganztags"},null,{"$f":"'EFB-Konstrukte'!B9","v":75},{"$f":"'EFB-Konstrukte'!C9","v":3.0857777777777775},{"$f":"'EFB-Konstrukte'!E9","v":0.72806096775803941},3347,3.180755,0.60157269999999996,{"$f":"IF(OR(Rücklaufquoten!$I$6=0,C10=0),\"k.A.\",IF(G10=\"-\",\"o.R.\",((D10-G10)/(SQRT(((POWER(E10,2))+(POWER(H10,2)))/2)))))","v":-0.1422201613026515},{"$f":"IF(OR(I10=\"o.R.\",I10=\"k.A.\"),I10,IF(I10>=0.5,\"++\",IF(AND(I10>=0.209999999999999,I10<=0.499999999999999),\"+\",IF(AND(I10>=-0.209999999999999,I10<0.209999999999999),\"Ø\",IF(AND(I10>=-0.499999999999999,I10<=-0.205),\"-\",IF(I10<=-0.5,\"--\",\"Fehler\"))))))","v":"Ø"}]
[{"$f":"'EFB-Konstrukte'!A10","v":"Beteiligungsmöglichkeit an der Schule"},null,{"$f":"'EFB-Konstrukte'!B10","v":88},{"$f":"'EFB-Konstrukte'!C10","v":3.3178841991341987},{"$f":"'EFB-Konstrukte'!E10","v":0.52588083084932269},3347,3.2695750000000001,0.52869259999999996,{"$f":"IF(OR(Rücklaufquoten!$I$6=0,C11=0),\"k.A.\",IF(G11=\"-\",\"o.R.\",((D11-G11)/(SQRT(((POWER(E11,2))+(POWER(H11,2)))/2)))))","v":9.1618138686241427E-2},{"$f":"IF(OR(I11=\"o.R.\",I11=\"k.A.\"),I11,IF(I11>=0.5,\"++\",IF(AND(I11>=0.209999999999999,I11<=0.499999999999999),\"+\",IF(AND(I11>=-0.209999999999999,I11<0.209999999999999),\"Ø\",IF(AND(I11>=-0.499999999999999,I11<=-0.205),\"-\",IF(I11<=-0.5,\"--\",\"Fehler\"))))))","v":"Ø"}]
[{"$f":"'EFB-Konstrukte'!A11","v":"Informationen über die Schulentwicklung"},null,{"$f":"'EFB-Konstrukte'!B11","v":87},{"$f":"'EFB-Konstrukte'!C11","v":3.2624521072796937},{"$f":"'EFB-Konstrukte'!E11","v":0.74649576874697388},3347,3.1151089999999999,0.70715340000000004,{"$f":"IF(OR(Rücklaufquoten!$I$6=0,C12=0),\"k.A.\",IF(G12=\"-\",\"o.R.\",((D12-G12)/(SQRT(((POWER(E12,2))+(POWER(H12,2)))/2)))))","v":0.20264748384322581},"Ø"]
[{"$f":"'EFB-Konstrukte'!A12","v":"Unterstützung und Förderung des Kindes"},null,{"$f":"'EFB-Konstrukte'!B12","v":84},{"$f":"'EFB-Konstrukte'!C12","v":3.1954365079365084},{"$f":"'EFB-Konstrukte'!E12","v":0.60293647193876421},3347,3.1285080000000001,0.59467020000000004,{"$f":"IF(OR(Rücklaufquoten!$I$6=0,C13=0),\"k.A.\",IF(G13=\"-\",\"o.R.\",((D13-G13)/(SQRT(((POWER(E13,2))+(POWER(H13,2)))/2)))))","v":0.11176777026057934},"Ø"]
[{"$f":"'EFB-Konstrukte'!A13","v":"Informationen über den Lernstand des Kindes"},null,{"$f":"'EFB-Konstrukte'!B13","v":89},{"$f":"'EFB-Konstrukte'!C13","v":2.9906367041198512},{"$f":"'EFB-Konstrukte'!E13","v":0.74719997127398374},3347,3.0010569999999999,0.69821829999999996,{"$f":"IF(OR(Rücklaufquoten!$I$6=0,C14=0),\"k.A.\",IF(G14=\"-\",\"o.R.\",((D14-G14)/(SQRT(((POWER(E14,2))+(POWER(H14,2)))/2)))))","v":-1.4410109629081598E-2},"Ø"]
[{"$f":"'EFB-Konstrukte'!A14","v":"Soziales Miteinander an der Schule"},null,{"$f":"'EFB-Konstrukte'!B14","v":88},{"$f":"'EFB-Konstrukte'!C14","v":3.208333333333333},{"$f":"'EFB-Konstrukte'!E14","v":0.55794505284332185},3347,3.1581100000000002,0.5443981,{"$f":"IF(OR(Rücklaufquoten!$I$6=0,C15=0),\"k.A.\",IF(G15=\"-\",\"o.R.\",((D15-G15)/(SQRT(((POWER(E15,2))+(POWER(H15,2)))/2)))))","v":9.1114171003979533E-2},"Ø"]
[{"$f":"'EFB-Konstrukte'!A15","v":"Zufriedenheit mit der Schule"},null,{"$f":"'EFB-Konstrukte'!B15","v":88},{"$f":"'EFB-Konstrukte'!C15","v":3.2159090909090926},{"$f":"'EFB-Konstrukte'!E15","v":0.75044009689142277},"-","-","-",{"$f":"IF(OR(Rücklaufquoten!$I$6=0,C16=0),\"k.A.\",IF(G16=\"-\",\"o.R.\",((D16-G16)/(SQRT(((POWER(E16,2))+(POWER(H16,2)))/2)))))","v":"o.R."},"o.R."]
[]
[]
["Legende"]
["Referenzwerte der Grundschulen des 3. Zyklus ab 2019/20"]
["++ ","Der Mittelwert der inspizierten Schule liegt im Vergleich zur Referenzstichprobe stark über dem Durchschnitt. "]
["+ ","Der Mittelwert der inspizierten Schule liegt im Vergleich zur Referenzstichprobe über dem Durchschnitt. "]
["Ø ","Der Mittelwert der inspizierten Schule liegt im Vergleich zur Referenzstichprobe im Durchschnitt.  "]
["- ","Der Mittelwert der inspizierten Schule liegt im Vergleich zur Referenzsstichprobe unter dem Durchschnitt. "]
["- -  ","Der Mittelwert der inspizierten Schule liegt im Vergleich zur Referenzstichprobe stark unter dem Durchschnitt. "]
["o.R.","Ohne Referenz - Für den Mittelwert dieser Skala liegen noch keine Referenzwerte vor, weshalb kein Vergleich möglich ist."]
["k.A.","keine Angabe - Für diese Skala wird keine Effektstärke angegeben. (Rücklauf oder Rücklaufquote zu niedrig)"]
[]
[]
[null,null,null,"D = größer als +0,2","D = größer als +0,5"]
["a) Prozentualer Anteil aus Vergleichsgruppe unter dem Durchschnitt der inspizierten Schule",null,null,0.57999999999999996,0.69]
["b) Chance der Umsetzung an der inspizierten Schule",null,null,2.4700000000000002,4.25]
["c) Prozentuale Risikoreduktion",null,null,0.54,0.6]
["d) Wahrscheinlichkeit, dass zufällig ausgewählte Person aus der inspizierten Schule einen höheren Wert aufweist als eine Person aus der Vergleichtsgruppe",null,null,0.56000000000000005,0.64]
[]
["Beispiel:"]
["D = 0,7 bei Lehrmethoden, die die Eigenaktivität fördern"]
["a) Rund 70% der Lehrkräfte aus der Vergleichsgruppe verwenden seltener Lehrmethoden, die die Eigenaktivität der Schülerinnen und Schüler fördern als eine durchschnittliche Lehrkraft an der inspizierten Schule "]
["b) Die Chance, dass in einer Unterrichtsstunde an der inspizierten Schule diese Lehrform eingesetzt wird, ist rund 4-mal so hoch wie in der Vergleichsgruppe "]
["c) Der Schulbesuch eines Kindes an der inspizierten Schule verringert das Risiko, nur selten an einem Unterricht teilzunehmen, in dem Lehrmethoden, eingesetzt werden, die die Eigenaktivität fördern, um mehr als 60% im Vergleich zur Vergleichsgruppe "]
["d) Eine zufällig ausgewählte Lehrkraft der inspizierten Schule setzt mit einer 64-prozentigen Wahrscheinlichkeit häufiger diese Lehrform ein als eine zufällig ausgewählte Lehrkraft aus der Referenzstichprobe "]
[]
["Bei negativem D, muss die Interpretation umgekehrt werden, also z.B. D = 0-,7 bei Lehrmethoden, die die Eigenaktivität fördern"]
["a) Rund 70% der Lehrkräfte aus der Vergleichsgruppe verwenden häufiger Lehrmethoden, die die Eigenaktivität der Schülerinnen und Schüler fördern als eine durchschnittliche Lehrkraft an der inspizierten Schule "]
["b) Die Chance, dass in einer Unterrichtsstunde an der inspizierten Schule diese Lehrform eingesetzt wird, ist rund 4-mal so niedrig wie in der Vergleichsgruppe "]
["c) Der Schulbesuch eines Kindes an der inspizierten Schule erhöht das Risiko, nur selten an einem Unterricht teilzunehmen, in dem Lehrmethoden, eingesetzt werden, die die Eigenaktivität fördern, um mehr als 60% im Vergleich zur Vergleichsgruppe "]
["d) Eine zufällig ausgewählte Lehrkraft der inspizierten Schule setzt mit einer 64-prozentigen Wahrscheinlichkeit seltener diese Lehrform ein als eine zufällig ausgewählte Lehrkraft aus der Referenzstichprobe "]

{"sheet":"Ber Führungshandeln","index":12,"n_rows":6,"n_cols":4,"rows_kept":6,"cut":false,"hidden":true,"merged":[]}
["Konstrukt",{"$f":"\"Eigene Schule\nN = \" & MAX('Effektstärken PuP'!C10,'Effektstärken PuP'!C14:C17,'Effektstärken PuP'!C20)","v":"Eigene Schule\nN = 23"},"Schulen gleicher\nSchulform","Effekt"]
[{"$f":"\"Transformationale Führung\" & D2","v":"Transformationale Führung"},{"$f":"IF(Rücklaufquoten!$I$4<>1,1,'Effektstärken PuP'!D10)","v":3.3064182194616976},{"$f":"IF(OR(Rücklaufquoten!$I$4<>1,'Effektstärken PuP'!G10=\"-\"),1,'Effektstärken PuP'!G10)","v":3.3172269999999999},{"$f":"IF(Rücklaufquoten!$I$4<>1,\"\",IF(OR('Effektstärken PuP'!J10=\"++\",'Effektstärken PuP'!J10=\"--\"),\" (*)\",\"\"))","v":""}]
[{"$f":"\"Transaktionale Führung\" & D3","v":"Transaktionale Führung"},{"$f":"IF(Rücklaufquoten!$I$4<>1,1,'Effektstärken PuP'!D14)","v":3.1507936507936507},{"$f":"IF(OR(Rücklaufquoten!$I$4<>1,'Effektstärken PuP'!G14=\"-\"),1,'Effektstärken PuP'!G14)","v":3.2255699999999998},{"$f":"IF(Rücklaufquoten!$I$4<>1,\"\",IF(OR('Effektstärken PuP'!J14=\"++\",'Effektstärken PuP'!J14=\"--\"),\" (*)\",\"\"))","v":""}]
[{"$f":"\"Aktive Führung\" & D4","v":"Aktive Führung"},{"$f":"IF(Rücklaufquoten!$I$4<>1,1,'Effektstärken PuP'!D15)","v":3.2681159420289854},{"$f":"IF(OR(Rücklaufquoten!$I$4<>1,'Effektstärken PuP'!G15=\"-\"),1,'Effektstärken PuP'!G15)","v":3.4104380000000001},{"$f":"IF(Rücklaufquoten!$I$4<>1,\"\",IF(OR('Effektstärken PuP'!J15=\"++\",'Effektstärken PuP'!J15=\"--\"),\" (*)\",\"\"))","v":""}]
[{"$f":"\"Instruktionale Führung\" & D5","v":"Instruktionale Führung"},{"$f":"IF(Rücklaufquoten!$I$4<>1,1,'Effektstärken PuP'!D16)","v":2.8119047619047617},{"$f":"IF(OR(Rücklaufquoten!$I$4<>1,'Effektstärken PuP'!G16=\"-\"),1,'Effektstärken PuP'!G16)","v":2.989465},{"$f":"IF(Rücklaufquoten!$I$4<>1,\"\",IF(OR('Effektstärken PuP'!J16=\"++\",'Effektstärken PuP'!J16=\"--\"),\" (*)\",\"\"))","v":""}]
[{"$f":"\"Partizipative Führung\" & D6","v":"Partizipative Führung"},{"$f":"IF(Rücklaufquoten!$I$4<>1,1,'Effektstärken PuP'!D20)","v":3.2921842650103526},{"$f":"IF(OR(Rücklaufquoten!$I$4<>1,'Effektstärken PuP'!G20=\"-\"),1,'Effektstärken PuP'!G20)","v":3.4595940000000001},{"$f":"IF(Rücklaufquoten!$I$4<>1,\"\",IF(OR('Effektstärken PuP'!J20=\"++\",'Effektstärken PuP'!J20=\"--\"),\" (*)\",\"\"))","v":""}]

{"sheet":"Gr Führungshandeln","index":13,"n_rows":10,"n_cols":5,"rows_kept":10,"cut":false,"hidden":true,"merged":[[1,0,1,9]]}
[]
["Führungshandeln"]
[]
[]
[null,null,{"$f":"\"Eigene Schule \nN = \" & 'PFB-Konstrukte'!C16","v":"Eigene Schule \nN = 21"},"Schulen gleicher Schulform"]
[null,{"$f":"'PFB-Konstrukte'!A16 & E6","v":""},{"$f":"'Effektstärken PuP'!D17","v":2.0238095238095242},{"$f":"'Effektstärken PuP'!F17","v":349},{"$f":"IF(OR('Effektstärken PuP'!J21=\"++\",'Effektstärken PuP'!J21=\"--\"),\" (*)\",\"\")","v":""}]
[null,{"$f":"'Effektstärken PuP'!A21 & E7","v":""},{"$f":"'Effektstärken PuP'!D21","v":3.2717391304347827},{"$f":"'Effektstärken PuP'!F21","v":349},{"$f":"IF(OR('Effektstärken PuP'!J22=\"++\",'Effektstärken PuP'!J22=\"--\"),\" (*)\",\"\")","v":""}]
[null,{"$f":"'PFB-Konstrukte'!A21 & E8","v":""},{"$f":"'Effektstärken PuP'!D22","v":3.3188405797101446},{"$f":"'Effektstärken PuP'!F22","v":349},{"$f":"IF(OR('Effektstärken PuP'!J23=\"++\",'Effektstärken PuP'!J23=\"--\"),\" (*)\",\"\")","v":""}]
[null,{"$f":"'PFB-Konstrukte'!A22 & E9","v":"Positives Innovationsklima"},{"$f":"'Effektstärken PuP'!D23","v":3.0946969696969697},{"$f":"'Effektstärken PuP'!F23","v":349},{"$f":"IF(OR('Effektstärken PuP'!J27=\"++\",'Effektstärken PuP'!J27=\"--\"),\" (*)\",\"\")","v":""}]
[null,{"$f":"'PFB-Konstrukte'!A26 & E10","v":"Kooperationsklima"},{"$f":"'Effektstärken PuP'!D27","v":3.3115942028985503},{"$f":"'Effektstärken PuP'!F27","v":349}]

{"sheet":"PP Führungshandeln","index":14,"n_rows":2,"n_cols":1,"rows_kept":2,"cut":false,"hidden":true,"merged":[[1,0,1,9]]}
[]
["Führungshandeln"]

{"sheet":"Ber Führung Subkonstrukte","index":15,"n_rows":14,"n_cols":4,"rows_kept":14,"cut":false,"hidden":true,"merged":[]}
["Konstrukt",{"$f":"\"Eigene Schule\nN = \" & MAX('Effektstärken PuP'!C11:C13,'Effektstärken PuP'!C17:C19,'Effektstärken PuP'!C21:C22)","v":"Eigene Schule\nN = 23"},"Schulen gleicher Schulform","Effekt"]
[{"$f":"\"Individuelle Unterstützung und Förderung\" & D2","v":"Individuelle Unterstützung und Förderung"},{"$f":"IF(Rücklaufquoten!$I$4<>1,1,'Effektstärken PuP'!D13)","v":3.2536231884057973},{"$f":"IF(OR(Rücklaufquoten!$I$4<>1,'Effektstärken PuP'!G13=\"-\"),1,'Effektstärken PuP'!G13)","v":3.2820990000000001},{"$f":"IF(Rücklaufquoten!$I$4<>1,\"\",IF(OR('Effektstärken PuP'!J13=\"++\",'Effektstärken PuP'!J13=\"--\"),\" (*)\",\"\"))","v":""}]
[{"$f":"\"Einfluss durch Vorbildlichkeit\nund Glaubwürdigkeit\" & D3","v":"Einfluss durch Vorbildlichkeit\nund Glaubwürdigkeit"},{"$f":"IF(Rücklaufquoten!$I$4<>1,1,'Effektstärken PuP'!D12)","v":3.4637681159420293},{"$f":"IF(OR(Rücklaufquoten!$I$4<>1,'Effektstärken PuP'!G12=\"-\"),1,'Effektstärken PuP'!G12)","v":3.3717009999999998},{"$f":"IF(Rücklaufquoten!$I$4<>1,\"\",IF(OR('Effektstärken PuP'!J12=\"++\",'Effektstärken PuP'!J12=\"--\"),\" (*)\",\"\"))","v":""}]
[{"$f":"\"Motivation durch begeisternde Vision\" & D4","v":"Motivation durch begeisternde Vision"},{"$f":"IF(Rücklaufquoten!$I$4<>1,1,'Effektstärken PuP'!D11)","v":3.1333333333333337},{"$f":"IF(OR(Rücklaufquoten!$I$4<>1,'Effektstärken PuP'!G11=\"-\"),1,'Effektstärken PuP'!G11)","v":3.306467},{"$f":"IF(Rücklaufquoten!$I$4<>1,\"\",IF(OR('Effektstärken PuP'!J11=\"++\",'Effektstärken PuP'!J11=\"--\"),\" (*)\",\"\"))","v":""}]
[{"$f":"\"Anleitungsmanagement\" & D5","v":"Anleitungsmanagement"},{"$f":"IF(Rücklaufquoten!$I$4<>1,1,'Effektstärken PuP'!D19)","v":3.1666666666666665},{"$f":"IF(OR(Rücklaufquoten!$I$4<>1,'Effektstärken PuP'!G19=\"-\"),1,'Effektstärken PuP'!G19)","v":3.1526399999999999},{"$f":"IF(Rücklaufquoten!$I$4<>1,\"\",IF(OR('Effektstärken PuP'!J19=\"++\",'Effektstärken PuP'!J19=\"--\"),\" (*)\",\"\"))","v":""}]
[{"$f":"\"Schulzielmanagement\" & D6","v":"Schulzielmanagement"},{"$f":"IF(Rücklaufquoten!$I$4<>1,1,'Effektstärken PuP'!D18)","v":3.0263157894736845},{"$f":"IF(OR(Rücklaufquoten!$I$4<>1,'Effektstärken PuP'!G18=\"-\"),1,'Effektstärken PuP'!G18)","v":3.1663800000000002},{"$f":"IF(Rücklaufquoten!$I$4<>1,\"\",IF(OR('Effektstärken PuP'!J18=\"++\",'Effektstärken PuP'!J18=\"--\"),\" (*)\",\"\"))","v":""}]
[{"$f":"\"Supervision\" & D7","v":"Supervision (*)"},{"$f":"IF(Rücklaufquoten!$I$4<>1,1,'Effektstärken PuP'!D17)","v":2.0238095238095242},{"$f":"IF(OR(Rücklaufquoten!$I$4<>1,'Effektstärken PuP'!G17=\"-\"),1,'Effektstärken PuP'!G17)","v":2.4606219999999999},{"$f":"IF(Rücklaufquoten!$I$4<>1,\"\",IF(OR('Effektstärken PuP'!J17=\"++\",'Effektstärken PuP'!J17=\"--\"),\" (*)\",\"\"))","v":" (*)"}]
[{"$f":"\"Distribution von Führung\" & D8","v":"Distribution von Führung"},{"$f":"IF(Rücklaufquoten!$I$4<>1,1,'Effektstärken PuP'!D22)","v":3.3188405797101446},{"$f":"IF(OR(Rücklaufquoten!$I$4<>1,'Effektstärken PuP'!G22=\"-\"),1,'Effektstärken PuP'!G22)","v":3.47851},{"$f":"IF(Rücklaufquoten!$I$4<>1,\"\",IF(OR('Effektstärken PuP'!J22=\"++\",'Effektstärken PuP'!J22=\"--\"),\" (*)\",\"\"))","v":""}]
[{"$f":"\"Delegation von Führung\" & D9","v":"Delegation von Führung"},{"$f":"IF(Rücklaufquoten!$I$4<>1,1,'Effektstärken PuP'!D21)","v":3.2717391304347827},{"$f":"IF(OR(Rücklaufquoten!$I$4<>1,'Effektstärken PuP'!G21=\"-\"),1,'Effektstärken PuP'!G21)","v":3.4369900000000002},{"$f":"IF(Rücklaufquoten!$I$4<>1,\"\",IF(OR('Effektstärken PuP'!J21=\"++\",'Effektstärken PuP'!J21=\"--\"),\" (*)\",\"\"))","v":""}]
[]
["1\ntrifft \nnicht zu",1,4]
["2\ntrifft eher\nnicht zu",2,4]
["3\ntrifft\neher zu",3,4]
["4\ntrifft\nvoll zu",4,4]

{"sheet":"Gr Führung Subkonstrukte","index":16,"n_rows":76,"n_cols":10,"rows_kept":76,"cut":false,"hidden":true,"merged":[[1,0,1,9],[75,0,75,9],[38,0,38,9]]}
[]
["Führung Subkonstrukte (Transformationale Führung)"]
[]
[]
[null,"Instruktionale Führung",{"$f":"\"Eigene Schule \nN = \" & 'PFB-Konstrukte'!C23","v":"Eigene Schule \nN = 22"},"Schulen gleicher Schulform",null,null,"Partizipative Führung",{"$f":"\"Eigene Schule \nN = \" & 'PFB-Konstrukte'!C27","v":"Eigene Schule \nN = 23"},"Schulen gleicher Schulform"]
[null,{"$f":"'PFB-Konstrukte'!A23 & E6","v":"Schülerbezogener Austausch"},{"$f":"'PFB-Konstrukte'!D23","v":3.6212121212121215},{"$f":"'Effektstärken PuP'!F24","v":349},{"$f":"IF(OR('Effektstärken PuP'!J24=\"++\",'Effektstärken PuP'!J24=\"--\"),\"(*)\",\"\")","v":""},null,{"$f":"'PFB-Konstrukte'!A27 & J6","v":"Rahmenbedingungen der Kooperation(*)"},{"$f":"'PFB-Konstrukte'!D27","v":2.865217391304347},{"$f":"'Effektstärken PuP'!F28","v":349},{"$f":"IF(OR('Effektstärken PuP'!J28=\"++\",'Effektstärken PuP'!J28=\"--\"),\"(*)\",\"\")","v":"(*)"}]
[null,{"$f":"'PFB-Konstrukte'!A24 & E7","v":"Synchronisation(*)"},{"$f":"'PFB-Konstrukte'!D24","v":2.9010416666666665},{"$f":"'Effektstärken PuP'!F25","v":349},{"$f":"IF(OR('Effektstärken PuP'!J25=\"++\",'Effektstärken PuP'!J25=\"--\"),\"(*)\",\"\")","v":"(*)"},null,{"$f":"'PFB-Konstrukte'!A28 & J7","v":"Fachliche und jahrgangsspezifische Kooperation unter Lehrpersonen"},{"$f":"'PFB-Konstrukte'!D28","v":2.4843750000000004},{"$f":"'Effektstärken PuP'!F29","v":"-"},{"$f":"IF(OR('Effektstärken PuP'!J29=\"++\",'Effektstärken PuP'!J29=\"--\"),\"(*)\",\"\")","v":""}]
[null,{"$f":"'PFB-Konstrukte'!A25 & E8","v":"Ko-Konstruktion(*)"},{"$f":"'PFB-Konstrukte'!D25","v":1.966666666666667},{"$f":"'Effektstärken PuP'!F26","v":349},{"$f":"IF(OR('Effektstärken PuP'!J26=\"++\",'Effektstärken PuP'!J26=\"--\"),\"(*)\",\"\")","v":"(*)"}]
[]
[]
[null,"Transformationale Führung",{"$f":"\"Eigene Schule \nN = \" & 'PFB-Konstrukte'!C17","v":"Eigene Schule \nN = 19"},"Schulen gleicher Schulform"]
[null,{"$f":"'PFB-Konstrukte'!A17 & E12","v":""},{"$f":"'PFB-Konstrukte'!D17","v":3.0263157894736845},{"$f":"'Effektstärken PuP'!F18","v":349},{"$f":"IF(OR('Effektstärken PuP'!J18=\"++\",'Effektstärken PuP'!J18=\"--\"),\" (*)\",\"\")","v":""}]
[null,{"$f":"'PFB-Konstrukte'!A18 & E13","v":""},{"$f":"'PFB-Konstrukte'!D18","v":3.1666666666666665},{"$f":"'Effektstärken PuP'!F19","v":349},{"$f":"IF(OR('Effektstärken PuP'!J19=\"++\",'Effektstärken PuP'!J19=\"--\"),\" (*)\",\"\")","v":""}]
[null,{"$f":"'PFB-Konstrukte'!A19 & E14","v":"Partizipative Führung"},{"$f":"'PFB-Konstrukte'!D19","v":3.2921842650103526},{"$f":"'Effektstärken PuP'!F20","v":349},{"$f":"IF(OR('Effektstärken PuP'!J20=\"++\",'Effektstärken PuP'!J20=\"--\"),\" (*)\",\"\")","v":""}]
[]
[]
[]
[]
[]
[]
[]
[]
[]
[]
[]
[]
[]
[]
[]
[]
[]
[]
[]
[]
[]
[]
[]
[]
["Führung Subkonstrukte (Instruktionale Führung)"]
[]
[]
[]
[]
[]
[]
[]
[]
[]
[]
[]
[]
[]
[]
[]
[]
[]
[]
[]
[]
[]
[]
[]
[]
[]
[]
[]
[]
[]
[]
[]
[]
[]
[]
[]
[]
["Führung Subkonstrukte (Partizipative Führung)"]

{"sheet":"PP Führung Subkonstrukte","index":17,"n_rows":6,"n_cols":1,"rows_kept":6,"cut":false,"hidden":true,"merged":[[1,0,1,9],[3,0,3,9],[5,0,5,9]]}
[]
["Führung Subkonstrukte (Transformationale Führung)"]
[]
["Führung Subkonstrukte (Instruktionale Führung)"]
[]
["Führung Subkonstrukte (Partizipative Führung)"]

{"sheet":"Ber Zufriedenheit Ganztag","index":18,"n_rows":8,"n_cols":5,"rows_kept":8,"cut":false,"hidden":true,"merged":[]}
["Gruppe","Konstrukt","Eigene Schule","Schulen gleicher Schulform","Effekt"]
[{"$f":"\"Eltern und Erziehungs-berechtigte\nN  = \" & 'Effektstärken Eltern'!C10","v":"Eltern und Erziehungs-berechtigte\nN  = 75"},{"$f":"\"     Gelungene\n     Konzeption\n     des Ganztags\" & E2","v":"     Gelungene\n     Konzeption\n     des Ganztags"},{"$f":"IF(Rücklaufquoten!$I$6<>1,1,'Effektstärken Eltern'!D10)","v":1},{"$f":"IF(OR(Rücklaufquoten!$I$6<>1,'Effektstärken Eltern'!G10=\"-\"),1,'Effektstärken Eltern'!G10)","v":1},{"$f":"IF(Rücklaufquoten!$I$6<>1,\"\",IF(OR('Effektstärken Eltern'!J10=\"++\",'Effektstärken Eltern'!J10=\"--\"),\" (*)\",\"\"))","v":""}]
[{"$f":"\"Schülerinnen und\nSchüler\nN  = \" & 'Effektstärken SuS'!C10","v":"Schülerinnen und\nSchüler\nN  = 39"},{"$f":"\"     Gelungene\n     Gestaltung\n     des Ganztags\" & E3","v":"     Gelungene\n     Gestaltung\n     des Ganztags"},{"$f":"IF(Rücklaufquoten!$I$5<>1,1,'Effektstärken SuS'!D10)","v":1},{"$f":"IF(OR(Rücklaufquoten!$I$5<>1,'Effektstärken SuS'!G10=\"-\"),1,'Effektstärken SuS'!G10)","v":1},{"$f":"IF(Rücklaufquoten!$I$5<>1,\"\",IF(OR('Effektstärken SuS'!J10=\"++\",'Effektstärken SuS'!J10=\"--\"),\" (*)\",\"\"))","v":""}]
[]
["1\ntrifft \nnicht zu",1,4]
["2\ntrifft eher\nnicht zu",2,4]
["3\ntrifft\neher zu",3,4]
["4\ntrifft\nvoll zu",4,4]

{"sheet":"Gr Zufriedenheit Ganztag","index":19,"n_rows":2,"n_cols":1,"rows_kept":2,"cut":false,"hidden":true,"merged":[[1,0,1,9]]}
[]
["Perspektiven zum Ganztag"]

{"sheet":"PP Zufriedenheit Ganztag","index":20,"n_rows":2,"n_cols":1,"rows_kept":2,"cut":false,"hidden":true,"merged":[[1,0,1,9]]}
[]
["Perspektiven zum Ganztag"]

{"sheet":"Ber Beteiligungsmöglichkeiten","index":21,"n_rows":8,"n_cols":4,"rows_kept":8,"cut":false,"hidden":true,"merged":[]}
["Konstrukt",{"$f":"\"Eigene Schule\nN = \" & MAX('Effektstärken Eltern'!C11:C12)","v":"Eigene Schule\nN = 88"},"Schulen gleicher Schulform","Effekt"]
[{"$f":"\"Informationen\nüber die \nSchulentwicklung\" & D2","v":"Informationen\nüber die \nSchulentwicklung"},{"$f":"IF(Rücklaufquoten!$I$6<>1,1,'Effektstärken Eltern'!D12)","v":1},{"$f":"IF(OR(Rücklaufquoten!$I$6<>1,'Effektstärken Eltern'!G12=\"-\"),1,'Effektstärken Eltern'!G12)","v":1},{"$f":"IF(Rücklaufquoten!$I$6<>1,\"\",IF(OR('Effektstärken Eltern'!J12=\"++\",'Effektstärken Eltern'!J12=\"--\"),\" (*)\",\"\"))","v":""}]
[{"$f":"\"Beteiligungs-\nmöglichkeit \nan der Schule\" & D3","v":"Beteiligungs-\nmöglichkeit \nan der Schule"},{"$f":"IF(Rücklaufquoten!$I$6<>1,1,'Effektstärken Eltern'!D11)","v":1},{"$f":"IF(OR(Rücklaufquoten!$I$6<>1,'Effektstärken Eltern'!G11=\"-\"),1,'Effektstärken Eltern'!G11)","v":1},{"$f":"IF(Rücklaufquoten!$I$6<>1,\"\",IF(OR('Effektstärken Eltern'!J11=\"++\",'Effektstärken Eltern'!J11=\"--\"),\" (*)\",\"\"))","v":""}]
[]
["1\ntrifft \nnicht zu",1,4]
["2\ntrifft eher\nnicht zu",2,4]
["3\ntrifft\neher zu",3,4]
["4\ntrifft\nvoll zu",4,4]

{"sheet":"Gr Beteiligungsmöglichkeiten","index":22,"n_rows":2,"n_cols":1,"rows_kept":2,"cut":false,"hidden":true,"merged":[[1,0,1,9]]}
[]
["Beteiligungsmöglichkeiten aus unterschiedlichen Perspektiven"]

{"sheet":"PP Beteiligungsmöglichkeiten","index":23,"n_rows":2,"n_cols":1,"rows_kept":2,"cut":false,"hidden":true,"merged":[[1,0,1,9]]}
[]
["Beteiligungsmöglichkeiten aus unterschiedlichen Perspektiven"]

{"sheet":"Ber Kooperation im Kollegium","index":24,"n_rows":7,"n_cols":4,"rows_kept":7,"cut":false,"hidden":true,"merged":[]}
["Konstrukt",{"$f":"\"Eigene Schule\nN = \" & MAX('Effektstärken PuP'!C24:C28,'Effektstärken PuP'!C30)","v":"Eigene Schule\nN = 23"},"Schulen gleicher\nSchulform","Effekt"]
[{"$f":"\"Schülerbezogener Austausch\" & D2","v":"Schülerbezogener Austausch"},{"$f":"IF(Rücklaufquoten!$I$4<>1,1,'Effektstärken PuP'!D24)","v":3.6212121212121215},{"$f":"IF(OR(Rücklaufquoten!$I$4<>1,'Effektstärken PuP'!G24=\"-\"),1,'Effektstärken PuP'!G24)","v":3.6106020000000001},{"$f":"IF(Rücklaufquoten!$I$4<>1,\"\",IF(OR('Effektstärken PuP'!J24=\"++\",'Effektstärken PuP'!J24=\"--\"),\" (*)\",\"\"))","v":""}]
[{"$f":"\"Synchronisation\" & D3","v":"Synchronisation (*)"},{"$f":"IF(Rücklaufquoten!$I$4<>1,1,'Effektstärken PuP'!D25)","v":2.9010416666666665},{"$f":"IF(OR(Rücklaufquoten!$I$4<>1,'Effektstärken PuP'!G25=\"-\"),1,'Effektstärken PuP'!G25)","v":3.272227},{"$f":"IF(Rücklaufquoten!$I$4<>1,\"\",IF(OR('Effektstärken PuP'!J25=\"++\",'Effektstärken PuP'!J25=\"--\"),\" (*)\",\"\"))","v":" (*)"}]
[{"$f":"\"Ko-Konstruktion\" & D4","v":"Ko-Konstruktion (*)"},{"$f":"IF(Rücklaufquoten!$I$4<>1,1,'Effektstärken PuP'!D26)","v":1.966666666666667},{"$f":"IF(OR(Rücklaufquoten!$I$4<>1,'Effektstärken PuP'!G26=\"-\"),1,'Effektstärken PuP'!G26)","v":2.4470730000000001},{"$f":"IF(Rücklaufquoten!$I$4<>1,\"\",IF(OR('Effektstärken PuP'!J26=\"++\",'Effektstärken PuP'!J26=\"--\"),\" (*)\",\"\"))","v":" (*)"}]
[{"$f":"\"Kooperationsklima\" & D5","v":"Kooperationsklima"},{"$f":"IF(Rücklaufquoten!$I$4<>1,1,'Effektstärken PuP'!D27)","v":3.3115942028985503},{"$f":"IF(OR(Rücklaufquoten!$I$4<>1,'Effektstärken PuP'!G27=\"-\"),1,'Effektstärken PuP'!G27)","v":3.476245},{"$f":"IF(Rücklaufquoten!$I$4<>1,\"\",IF(OR('Effektstärken PuP'!J27=\"++\",'Effektstärken PuP'!J27=\"--\"),\" (*)\",\"\"))","v":""}]
[{"$f":"\"Kollektive Selbstwirksamkeit\" & D6","v":"Kollektive Selbstwirksamkeit (*)"},{"$f":"IF(Rücklaufquoten!$I$4<>1,1,'Effektstärken PuP'!D30)","v":3.0144927536231885},{"$f":"IF(OR(Rücklaufquoten!$I$4<>1,'Effektstärken PuP'!G30=\"-\"),1,'Effektstärken PuP'!G30)","v":3.337151},{"$f":"IF(Rücklaufquoten!$I$4<>1,\"\",IF(OR('Effektstärken PuP'!J30=\"++\",'Effektstärken PuP'!J30=\"--\"),\" (*)\",\"\"))","v":" (*)"}]
[{"$f":"\"Rahmen-\nbedingungen der Kooperation\" & D7","v":"Rahmen-\nbedingungen der Kooperation (*)"},{"$f":"IF(Rücklaufquoten!$I$4<>1,1,'Effektstärken PuP'!D28)","v":2.865217391304347},{"$f":"IF(OR(Rücklaufquoten!$I$4<>1,'Effektstärken PuP'!G28=\"-\"),1,'Effektstärken PuP'!G28)","v":3.3481239999999999},{"$f":"IF(Rücklaufquoten!$I$4<>1,\"\",IF(OR('Effektstärken PuP'!J28=\"++\",'Effektstärken PuP'!J28=\"--\"),\" (*)\",\"\"))","v":" (*)"}]

{"sheet":"Gr Kooperation im Kollegium","index":25,"n_rows":11,"n_cols":5,"rows_kept":11,"cut":false,"hidden":true,"merged":[[1,0,1,9]]}
[]
["Kooperation innerhalb des Kollegiums"]
[]
[]
[null,null,{"$f":"\"Eigene Schule \nN = \" & 'PFB-Konstrukte'!C9","v":"Eigene Schule \nN = 23"},"Schulen gleicher Schulform"]
[null,{"$f":"'PFB-Konstrukte'!A9 & E6","v":"Transformationale Führung"},{"$f":"'Effektstärken PuP'!D10","v":3.3064182194616976},{"$f":"'Effektstärken PuP'!F10","v":349},{"$f":"IF(OR('Effektstärken PuP'!J10=\"++\",'Effektstärken PuP'!J10=\"--\"),\" (*)\",\"\")","v":""}]
[null,{"$f":"'PFB-Konstrukte'!A10 & E7","v":""},{"$f":"'Effektstärken PuP'!D11","v":3.1333333333333337},{"$f":"'Effektstärken PuP'!F11","v":349},{"$f":"IF(OR('Effektstärken PuP'!J11=\"++\",'Effektstärken PuP'!J11=\"--\"),\" (*)\",\"\")","v":""}]
[null,{"$f":"'PFB-Konstrukte'!A11 & E8","v":""},{"$f":"'Effektstärken PuP'!D12","v":3.4637681159420293},{"$f":"'Effektstärken PuP'!F12","v":349},{"$f":"IF(OR('Effektstärken PuP'!J12=\"++\",'Effektstärken PuP'!J12=\"--\"),\" (*)\",\"\")","v":""}]
[null,{"$f":"'PFB-Konstrukte'!A13 & E9","v":"Transaktionale Führung"},{"$f":"'Effektstärken PuP'!D14","v":3.1507936507936507},{"$f":"'Effektstärken PuP'!F14","v":349},{"$f":"IF(OR('Effektstärken PuP'!J14=\"++\",'Effektstärken PuP'!J14=\"--\"),\" (*)\",\"\")","v":""}]
[null,{"$f":"'PFB-Konstrukte'!A14 & E10","v":"Aktive Führung"},{"$f":"'Effektstärken PuP'!D15","v":3.2681159420289854},{"$f":"'Effektstärken PuP'!F15","v":349},{"$f":"IF(OR('Effektstärken PuP'!J15=\"++\",'Effektstärken PuP'!J15=\"--\"),\" (*)\",\"\")","v":""}]
[null,{"$f":"'PFB-Konstrukte'!A40 & E11","v":"Eingebundenheit in die Schulgemeinschaft - PTF der Schule (*)"},{"$f":"'Effektstärken PuP'!D37","v":0},{"$f":"'Effektstärken PuP'!F17","v":349},{"$f":"IF(OR('Effektstärken PuP'!J17=\"++\",'Effektstärken PuP'!J17=\"--\"),\" (*)\",\"\")","v":" (*)"}]

{"sheet":"PP Kooperation im Kollegium","index":26,"n_rows":2,"n_cols":1,"rows_kept":2,"cut":false,"hidden":true,"merged":[[1,0,1,9]]}
[]
["Kooperation innerhalb des Kollegiums"]

{"sheet":"Ber spezifische Kooperation","index":27,"n_rows":10,"n_cols":3,"rows_kept":10,"cut":false,"hidden":true,"merged":[]}
["Konstrukt",{"$f":"\"Eigene Schule\nN = \" & MAX('PFB-Items'!B27:B30)","v":"Eigene Schule\nN = 16"}]
["Die jahrgangsübergreifende Zusammenarbeit ist an unserer Schule fest etabliert.",{"$f":"IF(Rücklaufquoten!$I$4<>1,1,'PFB-Items'!C30)","v":1.9285714285714284}]
["Die jahrgangsspezifische Zusammenarbeit ist an unserer Schule fest etabliert.",{"$f":"IF(Rücklaufquoten!$I$4<>1,1,'PFB-Items'!C29)","v":2.8}]
["Die fachübergreifende Zusammenarbeit ist an unserer Schule fest etabliert.",{"$f":"IF(Rücklaufquoten!$I$4<>1,1,'PFB-Items'!C28)","v":2.333333333333333}]
["Die fachspezifische Zusammenarbeit ist an unserer Schule fest etabliert.",{"$f":"IF(Rücklaufquoten!$I$4<>1,1,'PFB-Items'!C27)","v":2.6875}]
[]
["1\ntrifft \nnicht zu",1,4]
["2\ntrifft eher\nnicht zu",2,4]
["3\ntrifft\neher zu",3,4]
["4\ntrifft\nvoll zu",4,4]

{"sheet":"Gr spezifische Kooperation","index":28,"n_rows":2,"n_cols":1,"rows_kept":2,"cut":false,"hidden":true,"merged":[[1,0,1,9]]}
[]
["spezifische/übergreifende Kooperation unter Lehrpersonen"]

{"sheet":"PP spezifische Kooperation","index":29,"n_rows":2,"n_cols":1,"rows_kept":2,"cut":false,"hidden":true,"merged":[[1,0,1,9]]}
[]
["spezifische/übergreifende Kooperation unter Lehrpersonen"]

{"sheet":"Ber Schul- u. Unterrichtsentw.","index":30,"n_rows":8,"n_cols":4,"rows_kept":8,"cut":false,"hidden":true,"merged":[]}
["Konstrukt",{"$f":"\"Eigene Schule\nN = \" & MAX('Effektstärken PuP'!C23,'Effektstärken PuP'!C31)","v":"Eigene Schule\nN = 23"},"Schulen gleicher Schulform","Effekt"]
[{"$f":"\"Systematische Schul- und Unterrichtsentwicklung\" & D2","v":"Systematische Schul- und Unterrichtsentwicklung (*)"},{"$f":"IF(Rücklaufquoten!$I$4<>1,1,'Effektstärken PuP'!D31)","v":2.8393374741200823},{"$f":"IF(OR(Rücklaufquoten!$I$4<>1,'Effektstärken PuP'!G31=\"-\"),1,'Effektstärken PuP'!G31)","v":3.1619929999999998},{"$f":"IF(Rücklaufquoten!$I$4<>1,\"\",IF(OR('Effektstärken PuP'!J31=\"++\",'Effektstärken PuP'!J31=\"--\"),\" (*)\",\"\"))","v":" (*)"}]
[{"$f":"\"Positives Innovationsklima\" & D3","v":"Positives Innovationsklima"},{"$f":"IF(Rücklaufquoten!$I$4<>1,1,'Effektstärken PuP'!D23)","v":3.0946969696969697},{"$f":"IF(OR(Rücklaufquoten!$I$4<>1,'Effektstärken PuP'!G23=\"-\"),1,'Effektstärken PuP'!G23)","v":3.1541960000000002},{"$f":"IF(Rücklaufquoten!$I$4<>1,\"\",IF(OR('Effektstärken PuP'!J23=\"++\",'Effektstärken PuP'!J23=\"--\"),\" (*)\",\"\"))","v":""}]
[]
["1\ntrifft \nnicht zu",1,4]
["2\ntrifft eher\nnicht zu",2,4]
["3\ntrifft \neher zu",3,4]
["4\ntrifft \nvoll zu",4,4]

{"sheet":"Gr Schul- u. Unterrichtsentw.","index":31,"n_rows":7,"n_cols":5,"rows_kept":7,"cut":false,"hidden":true,"merged":[[1,0,1,9]]}
[]
["Schul- und Unterrichtsentwicklung"]
[]
[]
[null,"Instruktionale Führung",{"$f":"\"Eigene Schule \nN = \" & 'PFB-Konstrukte'!C29","v":"Eigene Schule \nN = 23"},"Schulen gleicher Schulform"]
[null,{"$f":"'PFB-Konstrukte'!A29 & E6","v":"Kollektive Selbstwirksamkeit (*)"},{"$f":"'PFB-Konstrukte'!D29","v":3.0144927536231885},{"$f":"'Effektstärken PuP'!F30","v":349},{"$f":"IF(OR('Effektstärken PuP'!J30=\"++\",'Effektstärken PuP'!J30=\"--\"),\" (*)\",\"\")","v":" (*)"}]
[null,{"$f":"'PFB-Konstrukte'!A39 & E7","v":""},{"$f":"'PFB-Konstrukte'!D39","v":0},{"$f":"'Effektstärken PuP'!F36","v":"-"},{"$f":"IF(OR('Effektstärken PuP'!J36=\"++\",'Effektstärken PuP'!J36=\"--\"),\" (*)\",\"\")","v":""}]

{"sheet":"PP Schul- u. Unterrichtsentw.","index":32,"n_rows":2,"n_cols":1,"rows_kept":2,"cut":false,"hidden":true,"merged":[[1,0,1,9]]}
[]
["Schul- und Unterrichtsentwicklung"]

{"sheet":"Ber Qual. Lehr- u. Lernprozesse","index":33,"n_rows":6,"n_cols":5,"rows_kept":6,"cut":false,"hidden":true,"merged":[]}
["Konstrukt",{"$f":"\"Inspektorinnen und Inspektoren\nBeobachtungen = \" & B6","v":"Inspektorinnen und Inspektoren\nBeobachtungen = 42"},{"$f":"\"Pädagoginnen und Pädagogen\nN = \" & MAX('Effektstärken PuP'!C32:C34)","v":"Pädagoginnen und Pädagogen\nN = 23"},{"$f":"\"Schülerinnen und \nSchüler\nN = \" & MAX('Effektstärken SuS'!C11,'Effektstärken SuS'!C13,'Effektstärken SuS'!C15)","v":"Schülerinnen und \nSchüler\nN = 52"},{"$f":"\"Schülerinnen und \nSchüler - digital gestützer Unterricht\nN = \" & MAX('Effektstärken SuS'!C14,'Effektstärken SuS'!C16,'Effektstärken SuS'!C17)","v":"Schülerinnen und \nSchüler - digital gestützer Unterricht\nN = 51"}]
[{"$f":"\"Klassen-\nführung\"","v":"Klassen-\nführung"},3.2476190476190476,{"$f":"IF(Rücklaufquoten!$I$4<>1,1,'Effektstärken PuP'!D32)","v":3.1858178053830231},{"$f":"IF(Rücklaufquoten!$I$5<>1,1,'Effektstärken SuS'!D11)","v":1},{"$f":"IF(Rücklaufquoten!$I$5<>1,1,'Effektstärken SuS'!D12)","v":1}]
[{"$f":"\"Konstruktive Unterstützung\"","v":"Konstruktive Unterstützung"},2.9880952380952381,{"$f":"IF(Rücklaufquoten!$I$4<>1,1,'Effektstärken PuP'!D33)","v":3.646258503401361},{"$f":"IF(Rücklaufquoten!$I$5<>1,1,'Effektstärken SuS'!D13)","v":1},{"$f":"IF(Rücklaufquoten!$I$5<>1,1,'Effektstärken SuS'!D14)","v":1}]
[{"$f":"\"Potenzial zu kognitiver Aktivierung\"","v":"Potenzial zu kognitiver Aktivierung"},2.157142857142857,{"$f":"IF(Rücklaufquoten!$I$4<>1,1,'Effektstärken PuP'!D34)","v":3.6539682539682539},{"$f":"IF(Rücklaufquoten!$I$5<>1,1,'Effektstärken SuS'!D15)","v":1},{"$f":"IF(Rücklaufquoten!$I$5<>1,1,'Effektstärken SuS'!D16)","v":1}]
[]
["Beobachtungen:",42]

{"sheet":"Gr Qual. Lehr- u. Lernprozesse","index":34,"n_rows":8,"n_cols":5,"rows_kept":8,"cut":false,"hidden":true,"merged":[[1,0,1,9]]}
[]
["Lehr- und Lernsituation"]
[]
[]
[null,"Lehr-/Lernsituation",{"$f":"\"Eigene Schule \nN = \" & 'PFB-Konstrukte'!C34","v":"Eigene Schule \nN = 23"},"Schulen gleicher Schulform"]
[null,{"$f":"'PFB-Konstrukte'!A34 & E6","v":"Arbeitszufriedenheit"},{"$f":"'PFB-Konstrukte'!D34","v":3.2115942028985507},{"$f":"'Effektstärken PuP'!F34","v":349},{"$f":"IF(OR('Effektstärken PuP'!J34=\"++\",'Effektstärken PuP'!J34=\"--\"),\" (*)\",\"\")","v":""}]
[null,{"$f":"'PFB-Konstrukte'!A35 & E7","v":{"$error":"#REF!"}},{"$f":"'PFB-Konstrukte'!D35","v":0},{"$f":"'Effektstärken PuP'!#REF!","v":{"$error":"#REF!"}},{"$f":"IF(OR('Effektstärken PuP'!#REF!=\"++\",'Effektstärken PuP'!#REF!=\"--\"),\" (*)\",\"\")","v":{"$error":"#REF!"}}]
[null,{"$f":"'PFB-Konstrukte'!A36 & E8","v":""},{"$f":"'PFB-Konstrukte'!D36","v":0},{"$f":"'Effektstärken PuP'!F35","v":349},{"$f":"IF(OR('Effektstärken PuP'!J35=\"++\",'Effektstärken PuP'!J35=\"--\"),\" (*)\",\"\")","v":""}]

{"sheet":"PP Qual. Lehr- u. Lernprozesse","index":35,"n_rows":2,"n_cols":1,"rows_kept":2,"cut":false,"hidden":true,"merged":[[1,0,1,9]]}
[]
["Lehr- und Lernsituation"]

{"sheet":"Ber Lernbegleitung u. Förderung","index":36,"n_rows":10,"n_cols":5,"rows_kept":10,"cut":false,"hidden":true,"merged":[]}
["Gruppe","Konstrukt","Eigene Schule","Schulen gleicher Schulform","Effekt"]
[{"$f":"\"Eltern und Erziehungsberechtigte\nN  = \" & MAX('Effektstärken Eltern'!C13:C14)","v":"Eltern und Erziehungsberechtigte\nN  = 89"},{"$f":"\"  Informationen über\n  den Lernstand\n  des Kindes\" & E2","v":"  Informationen über\n  den Lernstand\n  des Kindes"},{"$f":"IF(Rücklaufquoten!$I$6<>1,1,'Effektstärken Eltern'!D14)","v":1},{"$f":"IF(OR(Rücklaufquoten!$I$6<>1,'Effektstärken Eltern'!G14=\"-\"),1,'Effektstärken Eltern'!G14)","v":1},{"$f":"IF(Rücklaufquoten!$I$6<>1,\"\",IF(OR('Effektstärken Eltern'!J14=\"++\",'Effektstärken Eltern'!J14=\"--\"),\" (*)\",\"\"))","v":""}]
[null,{"$f":"\"Unterstützung \nund Förderung \ndes Kindes\" & E3","v":"Unterstützung \nund Förderung \ndes Kindes"},{"$f":"IF(Rücklaufquoten!$I$6<>1,1,'Effektstärken Eltern'!D13)","v":1},{"$f":"IF(OR(Rücklaufquoten!$I$6<>1,'Effektstärken Eltern'!G13=\"-\"),1,'Effektstärken Eltern'!G13)","v":1},{"$f":"IF(Rücklaufquoten!$I$6<>1,\"\",IF(OR('Effektstärken Eltern'!J13=\"++\",'Effektstärken Eltern'!J13=\"--\"),\" (*)\",\"\"))","v":""}]
[{"$f":"\"Schülerinnen und Schüler\nN = \" & MAX('Effektstärken SuS'!C17:C18)","v":"Schülerinnen und Schüler\nN = 52"},{"$f":"\"Individuelle\nBegleitung\" & E4","v":"Individuelle\nBegleitung"},{"$f":"IF(Rücklaufquoten!$I$5<>1,1,'Effektstärken SuS'!D18)","v":1},{"$f":"IF(OR(Rücklaufquoten!$I$5<>1,'Effektstärken SuS'!G18=\"-\"),1,'Effektstärken SuS'!G18)","v":1},{"$f":"IF(Rücklaufquoten!$I$5<>1,\"\",IF(OR('Effektstärken SuS'!J18=\"++\",'Effektstärken SuS'!J18=\"--\"),\" (*)\",\"\"))","v":""}]
[null,{"$f":"\"Individuelle\nFörderung\" & E5","v":"Individuelle\nFörderung"},{"$f":"IF(Rücklaufquoten!$I$5<>1,1,'Effektstärken SuS'!D17)","v":1},{"$f":"IF(OR(Rücklaufquoten!$I$5<>1,'Effektstärken SuS'!G17=\"-\"),1,'Effektstärken SuS'!G17)","v":1},{"$f":"IF(Rücklaufquoten!$I$5<>1,\"\",IF(OR('Effektstärken SuS'!J17=\"++\",'Effektstärken SuS'!J17=\"--\"),\" (*)\",\"\"))","v":""}]
[]
["1\ntrifft \nnicht zu",1,4]
["2\ntrifft eher\nnicht zu",2,4]
["3\ntrifft\neher zu",3,4]
["4\ntrifft\nvoll zu",4,4]

{"sheet":"Gr Lernbegleitung u. Förderung","index":37,"n_rows":2,"n_cols":1,"rows_kept":2,"cut":false,"hidden":true,"merged":[[1,0,1,9]]}
[]
["Lernbegleitung und Förderung"]

{"sheet":"PP Lernbegleitung u. Förderung","index":38,"n_rows":2,"n_cols":1,"rows_kept":2,"cut":false,"hidden":true,"merged":[[1,0,1,9]]}
[]
["Lernbegleitung und Förderung"]

{"sheet":"Ber soziales Miteinander","index":39,"n_rows":8,"n_cols":4,"rows_kept":8,"cut":false,"hidden":true,"merged":[]}
["Konstrukt","Eigene Schule","Schulen gleicher Schulform","Effekt"]
[{"$f":"\"Eltern und\nErziehungsberechtigte\" & D2 & \"\nN = \" & 'Effektstärken Eltern'!C15","v":"Eltern und\nErziehungsberechtigte\nN = 88"},{"$f":"IF(Rücklaufquoten!$I$6<>1,1,'Effektstärken Eltern'!D15)","v":1},{"$f":"IF(OR(Rücklaufquoten!$I$6<>1,'Effektstärken Eltern'!G15=\"-\"),1,'Effektstärken Eltern'!G15)","v":1},{"$f":"IF(Rücklaufquoten!$I$6<>1,\"\",IF(OR('Effektstärken Eltern'!J15=\"++\",'Effektstärken Eltern'!J15=\"--\"),\" (*)\",\"\"))","v":""}]
[{"$f":"\"Schülerinnen und Schüler\" & D3 & \"\nN = \" & 'Effektstärken SuS'!C20","v":"Schülerinnen und Schüler\nN = 53"},{"$f":"IF(Rücklaufquoten!$I$5<>1,1,'Effektstärken SuS'!D20)","v":1},{"$f":"IF(OR(Rücklaufquoten!$I$5<>1,'Effektstärken SuS'!G20=\"-\"),1,'Effektstärken SuS'!G20)","v":1},{"$f":"IF(Rücklaufquoten!$I$5<>1,\"\",IF(OR('Effektstärken SuS'!J20=\"++\",'Effektstärken SuS'!J20=\"--\"),\" (*)\",\"\"))","v":""}]
[]
["1\ntrifft \nnicht zu",1,4]
["2\ntrifft eher\nnicht zu",2,4]
["3\ntrifft\neher zu",3,4]
["4\ntrifft\nvoll zu",4,4]

{"sheet":"Gr soziales Miteinander","index":40,"n_rows":2,"n_cols":1,"rows_kept":2,"cut":false,"hidden":true,"merged":[[1,0,1,9]]}
[]
["Soziales Miteinander"]

{"sheet":"PP soziales Miteinander","index":41,"n_rows":2,"n_cols":1,"rows_kept":2,"cut":false,"hidden":true,"merged":[[1,0,1,9]]}
[]
["Soziales Miteinander"]

{"sheet":"Ber Regeln an der Schule","index":42,"n_rows":7,"n_cols":4,"rows_kept":7,"cut":false,"hidden":true,"merged":[]}
["Konstrukt",{"$f":"\"Eigene Schule\nN = \" & MAX('Effektstärken SuS'!C19)","v":"Eigene Schule\nN = 53"},"Schulen gleicher Schulform","Effekt"]
[{"$f":"\"Konsequenter Umgang mit Regeln\" & D2","v":"Konsequenter Umgang mit Regeln"},{"$f":"IF(Rücklaufquoten!$I$5<>1,1,'Effektstärken SuS'!D19)","v":1},{"$f":"IF(OR(Rücklaufquoten!$I$5<>1,'Effektstärken SuS'!G19=\"-\"),1,'Effektstärken SuS'!G19)","v":1},{"$f":"IF(Rücklaufquoten!$I$5<>1,\"\",IF(OR('Effektstärken SuS'!J19=\"++\",'Effektstärken SuS'!J19=\"--\"),\" (*)\",\"\"))","v":""}]
[]
["1\nStimmt \ngar nicht",1,4]
["2\nStimmt \neher nicht",2,4]
["3\nStimmt\neher",3,4]
["4\nStimmt\ngenau",4,4]

{"sheet":"Gr Regeln an der Schule","index":43,"n_rows":2,"n_cols":1,"rows_kept":2,"cut":false,"hidden":true,"merged":[[1,0,1,9]]}
[]
["Regeln an der Schule"]

{"sheet":"PP Regeln an der Schule","index":44,"n_rows":2,"n_cols":1,"rows_kept":2,"cut":false,"hidden":true,"merged":[[1,0,1,9]]}
[]
["Regeln an der Schule"]

{"sheet":"Ber Zufriedenheit mit d. Schule","index":45,"n_rows":8,"n_cols":3,"rows_kept":8,"cut":false,"hidden":true,"merged":[]}
["Konstrukt","Eigene Schule"]
[{"$f":"\"Eltern und Erziehungsberechtigte\nN = \" & 'EFB-Items'!B58","v":"Eltern und Erziehungsberechtigte\nN = 87"},{"$f":"IF(Rücklaufquoten!$I$6<>1,1,'EFB-Items'!C58)","v":1}]
[{"$f":"\"Schülerinnen und Schüler\nN = \" & 'SFB-Items'!B78","v":"Schülerinnen und Schüler\nN = 51"},{"$f":"IF(Rücklaufquoten!$I$5<>1,1,'SFB-Items'!C78)","v":1}]
[]
["1\ntrifft \nnicht zu",1,4]
["2\ntrifft eher\nnicht zu",2,4]
["3\ntrifft\neher zu",3,4]
["4\ntrifft\nvoll zu",4,4]

{"sheet":"Gr Zufriedenheit mit d. Schule","index":46,"n_rows":2,"n_cols":1,"rows_kept":2,"cut":false,"hidden":true,"merged":[[1,0,1,9]]}
[]
["Zufriedenheit mit der Schule"]

{"sheet":"PP Zufriedenheit mit d. Schule","index":47,"n_rows":2,"n_cols":1,"rows_kept":2,"cut":false,"hidden":true,"merged":[[1,0,1,9]]}
[]
["Zufriedenheit mit der Schule"]

{"sheet":"Ber Arbeitszufriedenheit","index":48,"n_rows":8,"n_cols":4,"rows_kept":8,"cut":false,"hidden":true,"merged":[]}
["Konstrukt",{"$f":"\"Eigene Schule\nN = \" & MAX('Effektstärken PuP'!C35,'Effektstärken PuP'!C38)","v":"Eigene Schule\nN = 23"},"Schulen gleicher Schulform","Effekt"]
[{"$f":"\"Mitarbeiterbindung\" & D2","v":"Mitarbeiterbindung"},{"$f":"IF(Rücklaufquoten!$I$4<>1,1,'Effektstärken PuP'!D38)","v":3.5652173913043472},{"$f":"IF(OR(Rücklaufquoten!$I$4<>1,'Effektstärken PuP'!G38=\"-\"),1,'Effektstärken PuP'!G38)","v":3.5576750000000001},{"$f":"IF(Rücklaufquoten!$I$4<>1,\"\",IF(OR('Effektstärken PuP'!J38=\"++\",'Effektstärken PuP'!J38=\"--\"),\" (*)\",\"\"))","v":""}]
[{"$f":"\"Arbeitszufriedenheit\" & D3","v":"Arbeitszufriedenheit"},{"$f":"IF(Rücklaufquoten!$I$4<>1,1,'Effektstärken PuP'!D35)","v":3.2115942028985507},{"$f":"IF(OR(Rücklaufquoten!$I$4<>1,'Effektstärken PuP'!G35=\"-\"),1,'Effektstärken PuP'!G35)","v":3.3515510000000002},{"$f":"IF(Rücklaufquoten!$I$4<>1,\"\",IF(OR('Effektstärken PuP'!J35=\"++\",'Effektstärken PuP'!J35=\"--\"),\" (*)\",\"\"))","v":""}]
[]
["1\ntrifft \nnicht zu",1,4]
["2\ntrifft eher\nnicht zu",2,4]
["3\ntrifft\neher zu",3,4]
["4\ntrifft\nvoll zu",4,4]

{"sheet":"Gr Arbeitszufriedenheit","index":49,"n_rows":7,"n_cols":5,"rows_kept":7,"cut":false,"hidden":true,"merged":[[1,0,1,9]]}
[]
["Arbeitszufriedenheit"]
[]
[]
[null,"Arbeitszufriedenheit",{"$f":"\"Eigene Schule \nN = \" & 'PFB-Konstrukte'!C31","v":"Eigene Schule \nN = 23"},"Schulen gleicher Schulform"]
[null,{"$f":"'PFB-Konstrukte'!A30 & E6","v":"Systematische Schul- und Unterrichtsentwicklung (*)"},{"$f":"'PFB-Konstrukte'!D30","v":2.8393374741200823},{"$f":"'Effektstärken PuP'!F31","v":349},{"$f":"IF(OR('Effektstärken PuP'!J31=\"++\",'Effektstärken PuP'!J31=\"--\"),\" (*)\",\"\")","v":" (*)"}]
[null,{"$f":"'PFB-Konstrukte'!A31 & E7","v":"Klassenführung (*)"},{"$f":"'PFB-Konstrukte'!D31","v":3.1858178053830231},{"$f":"'Effektstärken PuP'!F32","v":349},{"$f":"IF(OR('Effektstärken PuP'!J32=\"++\",'Effektstärken PuP'!J32=\"--\"),\" (*)\",\"\")","v":" (*)"}]

{"sheet":"PP Arbeitszufriedenheit","index":50,"n_rows":2,"n_cols":1,"rows_kept":2,"cut":false,"hidden":true,"merged":[[1,0,1,9]]}
[]
["Arbeitszufriedenheit"]

{"sheet":"Ber Arbeitszufr. (mit PTF)","index":51,"n_rows":10,"n_cols":5,"rows_kept":10,"cut":false,"hidden":true,"merged":[]}
["Gruppe","Konstrukt","Eigene Schule","Schulen gleicher Schulform","Effekt"]
[{"$f":"\"Pädagosich therapeutisches\nFachpersonal der Schule\nN = \" & MAX('Effektstärken PuP'!C37,'Effektstärken PuP'!C40)","v":"Pädagosich therapeutisches\nFachpersonal der Schule\nN = 0"},{"$f":"\"Mitarbeiterbindung\" & E2","v":"Mitarbeiterbindung"},{"$f":"IF(Rücklaufquoten!$I$7<>1,1,'Effektstärken PuP'!D40)","v":1},{"$f":"IF(OR(Rücklaufquoten!$I$7<>1,'Effektstärken PuP'!G40=\"-\"),1,'Effektstärken PuP'!G40)","v":1},{"$f":"IF(Rücklaufquoten!$I$7<>1,\"\",IF(OR('Effektstärken PuP'!J40=\"++\",'Effektstärken PuP'!J40=\"--\"),\" (*)\",\"\"))","v":""}]
[null,{"$f":"\"Arbeitszufriedenheit\" & E3","v":"Arbeitszufriedenheit"},{"$f":"IF(Rücklaufquoten!$I$7<>1,1,'Effektstärken PuP'!D37)","v":1},{"$f":"IF(OR(Rücklaufquoten!$I$7<>1,'Effektstärken PuP'!G37=\"-\"),1,'Effektstärken PuP'!G37)","v":1},{"$f":"IF(Rücklaufquoten!$I$7<>1,\"\",IF(OR('Effektstärken PuP'!J37=\"++\",'Effektstärken PuP'!J37=\"--\"),\" (*)\",\"\"))","v":""}]
[{"$f":"\"Lehrpersonen an der Schule\nN  = \" & MAX('Effektstärken PuP'!C36,'Effektstärken PuP'!C39)","v":"Lehrpersonen an der Schule\nN  = 0"},{"$f":"\"Mitarbeiterbindung\" & E4","v":"Mitarbeiterbindung"},{"$f":"IF(Rücklaufquoten!$I$7<>1,1,'Effektstärken PuP'!D39)","v":1},{"$f":"IF(OR(Rücklaufquoten!$I$7<>1,'Effektstärken PuP'!G39=\"-\"),1,'Effektstärken PuP'!G39)","v":1},{"$f":"IF(Rücklaufquoten!$I$7<>1,\"\",IF(OR('Effektstärken PuP'!J39=\"++\",'Effektstärken PuP'!J39=\"--\"),\" (*)\",\"\"))","v":""}]
[null,{"$f":"\"Arbeitszufriedenheit\" & E5","v":"Arbeitszufriedenheit"},{"$f":"IF(Rücklaufquoten!$I$7<>1,1,'Effektstärken PuP'!D36)","v":1},{"$f":"IF(OR(Rücklaufquoten!$I$7<>1,'Effektstärken PuP'!G36=\"-\"),1,'Effektstärken PuP'!G36)","v":1},{"$f":"IF(Rücklaufquoten!$I$7<>1,\"\",IF(OR('Effektstärken PuP'!J36=\"++\",'Effektstärken PuP'!J36=\"--\"),\" (*)\",\"\"))","v":""}]
[]
["1\ntrifft \nnicht zu",1,4]
["2\ntrifft eher\nnicht zu",2,4]
["3\ntrifft\neher zu",3,4]
["4\ntrifft\nvoll zu",4,4]

{"sheet":"Gr Arbeitszufr. (mit PTF)","index":52,"n_rows":2,"n_cols":1,"rows_kept":2,"cut":false,"hidden":true,"merged":[[1,0,1,9]]}
[]
["Arbeitszufriedenheit"]

{"sheet":"PP Arbeitszufr. (mit PTF)","index":53,"n_rows":2,"n_cols":1,"rows_kept":2,"cut":false,"hidden":true,"merged":[[1,0,1,9]]}
[]
["Arbeitszufriedenheit"]

{"sheet":"Ber Eingebundenheit der PTF","index":54,"n_rows":7,"n_cols":4,"rows_kept":7,"cut":false,"hidden":true,"merged":[]}
["Konstrukt",{"$f":"\"Eigene Schule\nN = \" & MAX('Effektstärken PuP'!C41)","v":"Eigene Schule\nN = 0"},"Schulen gleicher Schulform","Effekt"]
[{"$f":"\"Eigene Eingebundenheit in die Schulgemeinschaft\"","v":"Eigene Eingebundenheit in die Schulgemeinschaft"},{"$f":"IF(Rücklaufquoten!$I$7<>1,1,'Effektstärken PuP'!D41)","v":1},{"$f":"IF(OR(Rücklaufquoten!$I$7<>1,'Effektstärken PuP'!G41=\"-\"),1,'Effektstärken PuP'!G41)","v":1},{"$f":"IF(Rücklaufquoten!$I$7<>1,\"\",IF(OR('Effektstärken PuP'!J41=\"++\",'Effektstärken PuP'!J41=\"--\"),\" (*)\",\"\"))","v":""}]
[]
["1\ntrifft \nnicht zu",1,4]
["2\ntrifft eher\nnicht zu",2,4]
["3\ntrifft\neher zu",3,4]
["4\ntrifft\nvoll zu",4,4]

{"sheet":"Gr Eingebundenheit der PTF","index":55,"n_rows":2,"n_cols":1,"rows_kept":2,"cut":false,"hidden":true,"merged":[[1,0,1,9]]}
[]
["Eingebundenheit der PTF"]

{"sheet":"PP Eingebundenheit der PTF","index":56,"n_rows":2,"n_cols":1,"rows_kept":2,"cut":false,"hidden":true,"merged":[[1,0,1,9]]}
[]
["Eingebundenheit der PTF"]